Workbook

Sheet calculations
A1: increase in rate | B1: 0.33 | C1: (from ITSA results, Appendix 5)
G2: Coverage
B3: Tamoxifen | C3: Raloxifene | D3: Total | E3: Ideal estimate (10% uptake) | F3: Ideal estimate (8% uptake)
A4: Total uptake (patients) | B4: =SUM('tamoxifen - all practices'!F34:F76) -> 6436.8683 | C4: =SUM('raloxifene - all practices'!G52:G137) -> 2012.4893 | D4: =SUM(B4:C4) -> 8449.3577 | E4: 50000 | F4: 40000 | G4: =D4/E4 -> 0.16898715
A5: cancers prevented (22 NTT) | B5: =B4/22 -> 292.58492 | C5: =C4/22 -> 91.476787 | D5: =SUM(B5:C5) -> 384.06171 | E5: =E4/22 -> 2272.7273 | F5: =F4/22 -> 1818.1818

Sheet tamoxifen - all practices
A1: month | B1: adq | C1: female_total | D1: adq_perthou | E1: ADQ_Ratio | F1: Approximate increase in population receiving tamoxifen each month @0.330 items/1000 population
A2: 40452 | B2: 1778529.5 | C2: 13003354 | D2: 136.77467 | E2: 0.94872896
A3: 40483 | B3: 1735665.5 | C3: 13003354 | D3: 133.47829 | E3: 0.92586383
A4: 40513 | B4: 1729799.5 | C4: 13003354 | D4: 133.02718 | E4: 0.9227347
A5: 40544 | B5: 1751919 | C5: 13034237 | D5: 134.40902 | E5: 0.93231974
A6: 40575 | B6: 1742739.5 | C6: 13034237 | D6: 133.70476 | E6: 0.92743468
A7: 40603 | B7: 1915612.5 | C7: 13034237 | D7: 146.96775 | E7: 1.0194326
A8: 40634 | B8: 1724292.5 | C8: 13070482 | D8: 131.92264 | E8: 0.91507314
A9: 40664 | B9: 1845738.5 | C9: 13070482 | D9: 141.21426 | E9: 0.97952391
A10: 40695 | B10: 1871884.5 | C10: 13070482 | D10: 143.21465 | E10: 0.99339945
A11: 40725 | B11: 1840980.5 | C11: 13118344 | D11: 140.33635 | E11: 0.9734343
A12: 40756 | B12: 1856946.5 | C12: 13118344 | D12: 141.55342 | E12: 0.98187646
A13: 40787 | B13: 1902268.5 | C13: 13118344 | D13: 145.00828 | E13: 1.0058409
... A33: 41395 | B33: 1926621 | C33: 13363886 | D33: 144.16623 | E33: 1
A34: 41426 | B34: 1817907.5 | C34: 13362988 | D34: 136.04049 | E34: 0.94363638 | F34: =calculations!$B$1*C34/(1000*30) -> 146.99287
A35: 41456 | B35: 1964984 | C35: 13385790 | D35: 146.79627 | E35: 1.0182431 | F35: =calculations!$B$1*C35/(1000*30) -> 147.24369
A36: 41487 | B36: 1911063.1 | C36: 13385596 | D36: 142.77012 | E36: 0.99031598 | F36: =calculations!$B$1*C36/(1000*30) -> 147.24156
A37: 41518 | B37: 1866072.5 | C37: 13384992 | D37: 139.41529 | E37: 0.96704541 | F37: =calculations!$B$1*C37/(1000*30) -> 147.23491
A38: 41548 | B38: 1972914 | C38: 13427289 | D38: 146.93316 | E38: 1.0191927 | F38: =calculations!$B$1*C38/(1000*30) -> 147.70018
A39: 41579 | B39: 1916578 | C39: 13427344 | D39: 142.73694 | E39: 0.99008585 | F39: =calculations!$B$1*C39/(1000*30) -> 147.70078
A40: 41609 | B40: 1991629.5 | C40: 13427274 | D40: 148.32717 | E40: 1.0288621 | F40: =calculations!$B$1*C40/(1000*30) -> 147.70001
A41: 41640 | B41: 1973183.5 | C41: 13457937 | D41: 146.61857 | E41: 1.0170105 | F41: =calculations!$B$1*C41/(1000*30) -> 148.03731
A42: 41671 | B42: 1784883.5 | C42: 13457413 | D42: 132.63199 | E42: 0.91999352 | F42: =calculations!$B$1*C42/(1000*30) -> 148.03154
A43: 41699 | B43: 1944157.5 | C43: 13457413 | D43: 144.4674 | E43: 1.0020891 | F43: =calculations!$B$1*C43/(1000*30) -> 148.03154
A44: 41730 | B44: 1932995.5 | C44: 13448479 | D44: 143.73339 | E44: 0.99699768 | F44: =calculations!$B$1*C44/(1000*30) -> 147.93327
A45: 41760 | B45: 2039193 | C45: 13446994 | D45: 151.64675 | E45: 1.0518882 | F45: =calculations!$B$1*C45/(1000*30) -> 147.91693
... A76: 42705 | B76: 2275433.2 | C76: 13823488 | D76: 164.6063 | E76: 1.1417813 | F76: =calculations!$B$1*C76/(1000*30) -> 152.05837
A77: 42736 | B77: 2116092 | C77: 13940650 | D77: 151.79292 | E77: 1.0529021
A78: 42767 | B78: 1989965 | C78: 13939594 | D78: 142.75631 | E78: 0.99022021
A79: 42795 | B79: 2258517.5 | C79: 13938859 | D79: 162.0303 | E79: 1.123913
A80: 42826 | B80: 2043036.5 | C80: 13983791 | D80: 146.10033 | E80: 1.0134158
A81: 42856 | B81: 2211557.5 | C81: 14001151 | D81: 157.95541 | E81: 1.0956478
A82: 42887 | B82: 2221121 | C82: 14021858 | D82: 158.40419 | E82: 1.0987607
A83: 42917 | B83: 2212255 | C83: 14035796 | D83: 157.61521 | E83: 1.0932881
A84: 42948 | B84: 2164097 | C84: 14050778 | D84: 154.01973 | E84: 1.0683482
A85: 42979 | B85: 2135916.5 | C85: 14066431 | D85: 151.84495 | E85: 1.053263
A86: 43009 | B86: 2171813.5 | C86: 14080068 | D86: 154.24737 | E86: 1.0699273

Sheet tamoxifen - Greater Manchester
A1: manc_flag | B1: month | C1: adq | D1: female_total | E1: adq_perthou | F1: ADQ_Ratio | G1: Rolling Average ADQ/day | H1: Average ADQ/month prior to recruitment start
A2: 0 | B2: 40513 | C2: 1661702.5 | D2: 12433668 | E2: 133.6454 | F2: 0.92530715
A3: 1 | B3: 40513 | C3: 68097 | D3: 569686 | E3: 119.53427 | F3: 0.86414665
A4: 0 | B4: 40544 | C4: 1680608.5 | D4: 12462282 | E4: 134.8556 | F4: 0.9336861
A5: 1 | B5: 40544 | C5: 71310.5 | D5: 571955 | E5: 124.67851 | F5: 0.90133584
A6: 0 | B6: 40575 | C6: 1672926 | D6: 12462282 | E6: 134.23914 | F6: 0.92941798
A7: 1 | B7: 40575 | C7: 69813.5 | D7: 571955 | E7: 122.06118 | F7: 0.88241437
A8: 0 | B8: 40603 | C8: 1836601.5 | D8: 12462282 | E8: 147.37281 | F8: 1.0203502
A9: 1 | B9: 40603 | C9: 79011 | D9: 571955 | E9: 138.14199 | F9: 0.99866704
A10: 0 | B10: 40634 | C10: 1654417.5 | D10: 12498445 | E10: 132.36987 | F10: 0.91647589 | I10: expected increase in ADQ/month due to uptake during study (136 women)
A11: 1 | B11: 40634 | C11: 69875 | D11: 572037 | E11: 122.15119 | F11: 0.8830651 | H11: =AVERAGEIF('tamoxifen - Greater Manchester'!A2:A11,A11,'tamoxifen - Greater Manchester'!C2:C11) -> 71621.4 | I11: =136*30 -> 4080 | J11: =I11/H11 -> 0.056966214
A12: 0 | B12: 40664 | C12: 1771121 | D12: 12498445 | E12: 141.70731 | F12: 0.98112459 | G12: =AVERAGEIF('tamoxifen - Greater Manchester'!A1:A12,A12,'tamoxifen - Greater Manchester'!C1:C12)/30 -> 57096.539
A13: 1 | B13: 40664 | C13: 74617.5 | D13: 572037 | E13: 130.44174 | F13: 0.94299979 | G13: =AVERAGEIF('tamoxifen - Greater Manchester'!A2:A13,A13,'tamoxifen - Greater Manchester'!C2:C13)/30 -> 2404.025 | I13: observed increase in ADQs per day between recruitment start and guideline change
A14: 0 | B14: 40695 | C14: 1793627.5 | D14: 12498445 | E14: 143.50805 | F14: 0.99359222 | G14: =AVERAGEIF('tamoxifen - Greater Manchester'!A3:A14,A14,'tamoxifen - Greater Manchester'!C3:C14)/30 -> 57829.456 | I14: =G61-G13 -> 238.95
A15: 1 | B15: 40695 | C15: 78257 | D15: 572037 | E15: 136.80409 | F15: 0.988995 | G15: =AVERAGEIF('tamoxifen - Greater Manchester'!A4:A15,A15,'tamoxifen - Greater Manchester'!C4:C15)/30 -> 2460.4694
A16: 0 | B16: 40725 | C16: 1763054.5 | D16: 12544777 | E16: 140.54092 | F16: 0.97304899 | G16: =AVERAGEIF('tamoxifen - Greater Manchester'!A5:A16,A16,'tamoxifen - Greater Manchester'!C5:C16)/30 -> 58287.489
A17: 1 | B17: 40725 | C17: 77926 | D17: 573567 | E17: 135.86207 | F17: 0.98218489 | G17: =AVERAGEIF('tamoxifen - Greater Manchester'!A6:A17,A17,'tamoxifen - Greater Manchester'!C6:C17)/30 -> 2497.2222
A18: 0 | B18: 40756 | C18: 1780485.5 | D18: 12544777 | E18: 141.93042 | F18: 0.98266934 | G18: =AVERAGEIF('tamoxifen - Greater Manchester'!A7:A18,A18,'tamoxifen - Greater Manchester'!C7:C18)/30 -> 58885.042
A19: 1 | B19: 40756 | C19: 76461 | D19: 573567 | E19: 133.30788 | F19: 0.96371992 | G19: =AVERAGEIF('tamoxifen - Greater Manchester'!A8:A19,A19,'tamoxifen - Greater Manchester'!C8:C19)/30 -> 2534.1528
A20: 0 | B20: 40787 | C20: 1823416.5 | D20: 12544777 | E20: 145.35264 | F20: 1.0063634 | G20: =AVERAGEIF('tamoxifen - Greater Manchester'!A9:A20,A20,'tamoxifen - Greater Manchester'!C9:C20)/30 -> 58811.792
A21: 1 | B21: 40787 | C21: 78852 | D21: 573567 | E21: 137.47653 | F21: 0.99385626 | G21: =AVERAGEIF('tamoxifen - Greater Manchester'!A10:A21,A21,'tamoxifen - Greater Manchester'!C10:C21)/30 -> 2533.2694
A22: 0 | B22: 40817 | C22: 1723245 | D22: 12591327 | E22: 136.85968 | F22: 0.94756156 | G22: =AVERAGEIF('tamoxifen - Greater Manchester'!A11:A22,A22,'tamoxifen - Greater Manchester'!C11:C22)/30 -> 59194.167
A23: 1 | B23: 40817 | C23: 73815 | D23: 574589 | E23: 128.46574 | F23: 0.92871474 | G23: =AVERAGEIF('tamoxifen - Greater Manchester'!A12:A23,A23,'tamoxifen - Greater Manchester'!C12:C23)/30 -> 2555.1583
A24: 0 | B24: 40848 | C24: 1778093.5 | D24: 12591327 | E24: 141.21574 | F24: 0.97772114 | G24: =AVERAGEIF('tamoxifen - Greater Manchester'!A13:A24,A24,'tamoxifen - Greater Manchester'!C13:C24)/30 -> 59232.903
A25: 1 | B25: 40848 | C25: 75916 | D25: 574589 | E25: 132.12226 | F25: 0.95514879 | G25: =AVERAGEIF('tamoxifen - Greater Manchester'!A14:A25,A25,'tamoxifen - Greater Manchester'!C14:C25)/30 -> 2562.3722
A26: 0 | B26: 40878 | C26: 1868083 | D26: 12591327 | E26: 148.36268 | F26: 1.0272037 | G26: =AVERAGEIF('tamoxifen - Greater Manchester'!A15:A26,A26,'tamoxifen - Greater Manchester'!C15:C26)/30 -> 59646.544
... A147: 1 | B147: 42705 | C147: 88833 | D147: 600661 | E147: 147.89207 | F147: 1.0691531 | G147: =AVERAGEIF('tamoxifen - Greater Manchester'!A136:A147,A147,'tamoxifen - Greater Manchester'!C136:C147)/30 -> 2793.2389
A148: 0 | B148: 42736 | C148: 2035918 | D148: 13337282 | E148: 152.64864 | F148: 1.056878
A149: 1 | B149: 42736 | C149: 80174 | D149: 603368 | E149: 132.87745 | F149: 0.96060822
A150: 0 | B150: 42767 | C150: 1914791 | D150: 13336226 | E150: 143.57818 | F150: 0.99407773
A151: 1 | B151: 42767 | C151: 75174 | D151: 603368 | E151: 124.59063 | F151: 0.9007005
A152: 0 | B152: 42795 | C152: 2172884.5 | D152: 13335491 | E152: 162.93997 | F152: 1.128131
A153: 1 | B153: 42795 | C153: 85633 | D153: 603368 | E153: 141.92499 | F153: 1.0260155
A154: 0 | B154: 42826 | C154: 1969315.5 | D154: 13378919 | E154: 147.19541 | F154: 1.019122
A155: 1 | B155: 42826 | C155: 73721 | D155: 604872 | E155: 121.87868 | F155: 0.88109504
A156: 0 | B156: 42856 | C156: 2124650.5 | D156: 13396040 | E156: 158.60288 | F156: 1.0981027
A157: 1 | B157: 42856 | C157: 86907 | D157: 605111 | E157: 143.62158 | F157: 1.0382806
A158: 0 | B158: 42887 | C158: 2138613.5 | D158: 13416095 | E158: 159.40656 | F158: 1.1036671
A159: 1 | B159: 42887 | C159: 82507.5 | D159: 605763 | E159: 136.20426 | F159: 0.98465866
... A171: 1 | B171: 43009 | C171: 82441.5 | D171: 607595 | E171: 135.68495 | F171: 0.98090447

Sheet raloxifene - all practices
A1: manc_flag | B1: month | C1: adq | D1: female_total | E1: adq_perthou | F1: ADQ_Ratio | G1: Approximate increase in population receiving raloxifene each month @0.111 or 0.157 items/1000 population | H1: 0.111 | I1: 0.15653 | J1: (from ITSA results, Appendix 5)
A2: 0 | B2: 40664 | C2: 321221 | D2: 11169271 | E2: 28.759352 | F2: 1.3164885
A3: 1 | B3: 40664 | C3: 20796 | D3: 502959 | E3: 41.347307 | F3: 1.3443978 | H3: =SUMIF(A2:A317,$A$4,G2:G137) -> 1892.666 | I3: =SUMIF(A2:A137,$A$3,G2:G137) -> 119.82327
A4: 0 | B4: 40695 | C4: 317147 | D4: 11169271 | E4: 28.394602 | F4: 1.2997917
A5: 1 | B5: 40695 | C5: 19348 | D5: 502959 | E5: 38.468344 | F5: 1.250789
A6: 0 | B6: 40725 | C6: 308070 | D6: 11238602 | E6: 27.411772 | F6: 1.2548017
A7: 1 | B7: 40725 | C7: 19442 | D7: 505297 | E7: 38.476381 | F7: 1.2510504
A8: 0 | B8: 40756 | C8: 303994 | D8: 11238602 | E8: 27.049094 | F8: 1.2381997
A9: 1 | B9: 40756 | C9: 20135 | D9: 505297 | E9: 39.847852 | F9: 1.2956434
A10: 0 | B10: 40787 | C10: 310412 | D10: 11238602 | E10: 27.620161 | F10: 1.2643409
A11: 1 | B11: 40787 | C11: 20038 | D11: 505297 | E11: 39.655886 | F11: 1.2894017
A12: 0 | B12: 40817 | C12: 284658 | D12: 11304330 | E12: 25.181324 | F12: 1.1527006
A13: 1 | B13: 40817 | C13: 17250 | D13: 507689 | E13: 33.977494 | F13: 1.1047701
A14: 0 | B14: 40848 | C14: 298221 | D14: 11304330 | E14: 26.38113 | F14: 1.207623
A15: 1 | B15: 40848 | C15: 18601 | D15: 507689 | E15: 36.638572 | F15: 1.1912944
... A51: 1 | B51: 41395 | C51: 16089 | D51: 523130 | E51: 30.755262 | F51: 1
A52: 0 | B52: 41426 | C52: 235616 | D52: 11593374 | E52: 20.323333 | F52: 0.93032116 | G52: =IF(A52=0,$H$1,$I$1)*D52/(1000*30) -> 42.895484
A53: 1 | B53: 41426 | C53: 15211 | D53: 523130 | E53: 29.076902 | F53: 0.94542855 | G53: =IF(A53=0,$H$1,$I$1)*D53/(1000*30) -> 2.729518
A54: 0 | B54: 41456 | C54: 257290 | D54: 11637197 | E54: 22.109276 | F54: 1.0120745 | G54: =IF(A54=0,$H$1,$I$1)*D54/(1000*30) -> 43.057629
A55: 1 | B55: 41456 | C55: 15279 | D55: 524041 | E55: 29.156116 | F55: 0.94800415 | G55: =IF(A55=0,$H$1,$I$1)*D55/(1000*30) -> 2.7342713
A56: 0 | B56: 41487 | C56: 244604 | D56: 11637043 | E56: 21.019429 | F56: 0.96218567 | G56: =IF(A56=0,$H$1,$I$1)*D56/(1000*30) -> 43.057059
A57: 1 | B57: 41487 | C57: 16336 | D57: 524041 | E57: 31.173133 | F57: 1.013587 | G57: =IF(A57=0,$H$1,$I$1)*D57/(1000*30) -> 2.7342713
A58: 0 | B58: 41518 | C58: 228532 | D58: 11636688 | E58: 19.638921 | F58: 0.89899153 | G58: =IF(A58=0,$H$1,$I$1)*D58/(1000*30) -> 43.055746
A59: 1 | B59: 41518 | C59: 14932 | D59: 524041 | E59: 28.493954 | F59: 0.92647411 | G59: =IF(A59=0,$H$1,$I$1)*D59/(1000*30) -> 2.7342713
A60: 0 | B60: 41548 | C60: 245972 | D60: 11691353 | E60: 21.038797 | F60: 0.96307224 | G60: =IF(A60=0,$H$1,$I$1)*D60/(1000*30) -> 43.258006
A61: 1 | B61: 41548 | C61: 15875 | D61: 525736 | E61: 30.195764 | F61: 0.98180806 | G61: =IF(A61=0,$H$1,$I$1)*D61/(1000*30) -> 2.7431152
A62: 0 | B62: 41579 | C62: 235957 | D62: 11691411 | E62: 20.182081 | F62: 0.9238552 | G62: =IF(A62=0,$H$1,$I$1)*D62/(1000*30) -> 43.258221
A63: 1 | B63: 41579 | C63: 15098 | D63: 525736 | E63: 28.717836 | F63: 0.93375358 | G63: =IF(A63=0,$H$1,$I$1)*D63/(1000*30) -> 2.7431152
... A137: 1 | B137: 42705 | C137: 11377 | D137: 542819 | E137: 20.959104 | F137: 0.68148028 | G137: =IF(A137=0,$H$1,$I$1)*D137/(1000*30) -> 2.8322486
A138: 0 | B138: 42736 | C138: 163707 | D138: 12214411 | E138: 13.402775 | F138: 0.6135256
A139: 1 | B139: 42736 | C139: 10948 | D139: 545299 | E139: 20.077059 | F139: 0.65280078
A140: 0 | B140: 42767 | C140: 150596 | D140: 12213609 | E140: 12.33018 | F140: 0.56442649
A141: 1 | B141: 42767 | C141: 10078 | D141: 545299 | E141: 18.481604 | F141: 0.60092494
A142: 0 | B142: 42795 | C142: 175184 | D142: 12212949 | E142: 14.34412 | F142: 0.65661661
A143: 1 | B143: 42795 | C143: 12460 | D143: 545299 | E143: 22.849849 | F143: 0.7429574
A144: 0 | B144: 42826 | C144: 152605 | D144: 12243704 | E144: 12.463957 | F144: 0.57055026
A145: 1 | B145: 42826 | C145: 10500 | D145: 546341 | E145: 19.218766 | F145: 0.62489361
A146: 0 | B146: 42856 | C146: 165617 | D146: 12265313 | E146: 13.502876 | F146: 0.61810783
A147: 1 | B147: 42856 | C147: 11998 | D147: 546713 | E147: 21.945701 | F147: 0.71355924
A148: 0 | B148: 42887 | C148: 163371 | D148: 12286734 | E148: 13.296536 | F148: 0.60866241
...
