Workbook
Name Uninfected_and_wAlb_over_10_not_wMel_gene_names: 'wMel exclusively absent >10'!$A$3:$A$37
Name wMel_less: 'wMel < wAlb and U'!#REF!
Name wMel_less: 'wMel exclusively absent >10'!$N$3:$AA$4145
Name wMel_less_than_wAlb_and_uninfected_gene_names: 'wMel < wAlb and U'!$A$3:$A$1383
Name wMel_less_than_wAlb_and_uninfected_GO_annotations: 'wMel < wAlb and U'!#REF!
Name wMel_less_than_wAlb_and_uninfected_GO_annotations: 'wMel exclusively absent >10'!$J$3:$M$623
Name wMel_more: 'wMel < wAlb and U'!#REF!
Name wMel_more: 'wMel > wAlb and U'!#REF!
Name wMel_more: 'wMel exclusively present >10'!$N$3:$AA$4751
Name wMel_more_than_wAlb_and_uninfected_gene_names: 'wMel > wAlb and U'!$A$3:$A$1585
Name wMel_more_than_wAlb_and_uninfected_GO_annotations: 'wMel < wAlb and U'!#REF!
Name wMel_more_than_wAlb_and_uninfected_GO_annotations: 'wMel > wAlb and U'!#REF!
Name wMel_more_than_wAlb_and_uninfected_GO_annotations: 'wMel exclusively present >10'!$J$3:$M$742
Name wMel_over_10_not_uninfected_and_wAlb_gene_names: 'wMel exclusively present >10'!$A$3:$A$21

Sheet wMel > wAlb and U
C1: GO annotations | F1: KEGG annotation | G1: Expression (FPKM) | J1: Log2 fold change
A2: Gene ID | B2: Gene annotation | C2: Biological process | D2: Cellular component | E2: Molecular function | F2: Pathway | G2: wMel | H2: wAlb | I2: Uninfected | J2: wMel vs wAlb | K2: wMel vs Uninfected | L2: Mean | M2: Maximum magnitude
A3: XLOC_011761 | B3: - | C3: - | D3: - | E3: - | F3: - | G3: 682.998 | H3: 0 | I3: 0 | J3: =IFERROR(LOG($H3/G3,2),"(-inf)") -> (-inf) | K3: =IFERROR(LOG($I3/G3,2),"(-inf)") -> (-inf) | L3: - | M3: (-inf)
A4: XLOC_022272 | B4: - | C4: - | D4: - | E4: - | F4: - | G4: 452.609 | H4: 0 | I4: 0 | J4: =IFERROR(LOG($H4/G4,2),"(-inf)") -> (-inf) | K4: =IFERROR(LOG($I4/G4,2),"(-inf)") -> (-inf) | L4: - | M4: (-inf)
A5: XLOC_032277 | B5: - | C5: - | D5: - | E5: - | F5: - | G5: 190.504 | H5: 0 | I5: 0 | J5: =IFERROR(LOG($H5/G5,2),"(-inf)") -> (-inf) | K5: =IFERROR(LOG($I5/G5,2),"(-inf)") -> (-inf) | L5: - | M5: (-inf)
A6: XLOC_005056 | B6: - | C6: - | D6: - | E6: - | F6: - | G6: 152.401 | H6: 0 | I6: 0 | J6: =IFERROR(LOG($H6/G6,2),"(-inf)") -> (-inf) | K6: =IFERROR(LOG($I6/G6,2),"(-inf)") -> (-inf) | L6: - | M6: (-inf)
A7: XLOC_013480 | B7: - | C7: - | D7: - | E7: - | F7: - | G7: 136.001 | H7: 0 | I7: 0 | J7: =IFERROR(LOG($H7/G7,2),"(-inf)") -> (-inf) | K7: =IFERROR(LOG($I7/G7,2),"(-inf)") -> (-inf) | L7: - | M7: (-inf)
A8: XLOC_035749 | B8: - | C8: - | D8: - | E8: - | F8: - | G8: 107.614 | H8: 0 | I8: 0 | J8: =IFERROR(LOG($H8/G8,2),"(-inf)") -> (-inf) | K8: =IFERROR(LOG($I8/G8,2),"(-inf)") -> (-inf) | L8: - | M8: (-inf)
A9: XLOC_035144 | B9: - | C9: - | D9: - | E9: - | F9: - | G9: 98.5104 | H9: 0 | I9: 0 | J9: =IFERROR(LOG($H9/G9,2),"(-inf)") -> (-inf) | K9: =IFERROR(LOG($I9/G9,2),"(-inf)") -> (-inf) | L9: - | M9: (-inf)
A10: XLOC_027194 | B10: - | C10: - | D10: - | E10: - | F10: - | G10: 96.3116 | H10: 0 | I10: 0 | J10: =IFERROR(LOG($H10/G10,2),"(-inf)") -> (-inf) | K10: =IFERROR(LOG($I10/G10,2),"(-inf)") -> (-inf) | L10: - | M10: (-inf)
A11: XLOC_036799 | B11: - | C11: - | D11: - | E11: - | F11: - | G11: 70.1696 | H11: 0 | I11: 0 | J11: =IFERROR(LOG($H11/G11,2),"(-inf)") -> (-inf) | K11: =IFERROR(LOG($I11/G11,2),"(-inf)") -> (-inf) | L11: - | M11: (-inf)
A12: XLOC_025324 | B12: - | C12: microtubule cytoskeleton organization | D12: microtubule cytoskeleton | E12: - | F12: - | G12: 52.963 | H12: 0 | I12: 0 | J12: =IFERROR(LOG($H12/G12,2),"(-inf)") -> (-inf) | K12: =IFERROR(LOG($I12/G12,2),"(-inf)") -> (-inf) | L12: - | M12: (-inf)
A13: XLOC_026362 | B13: - | C13: - | D13: - | E13: odorant binding | F13: - | G13: 50.2125 | H13: 0 | I13: 0 | J13: =IFERROR(LOG($H13/G13,2),"(-inf)") -> (-inf) | K13: =IFERROR(LOG($I13/G13,2),"(-inf)") -> (-inf) | L13: - | M13: (-inf)
A14: XLOC_035587 | B14: - | C14: - | D14: - | E14: - | F14: - | G14: 36.1044 | H14: 0 | I14: 0 | J14: =IFERROR(LOG($H14/G14,2),"(-inf)") -> (-inf) | K14: =IFERROR(LOG($I14/G14,2),"(-inf)") -> (-inf) | L14: - | M14: (-inf)
... A102: XLOC_002608 | B102: - | C102: - | D102: - | E102: - | F102: - | G102: 49.0588 | H102: 0.583406 | I102: 0 | J102: =IFERROR(LOG($H102/G102,2),"(-inf)") -> -6.3938679 | K102: =IFERROR(LOG($I102/G102,2),"(-inf)") -> (-inf) | L102: - | M102: (-inf)
A103: XLOC_030305 | B103: - | C103: aerobic respiration; hydrogen ion transmembrane transport; mitochondrial electron transport, cytochrome c to oxygen | D103: mitochondrial inner membrane; integral component of membrane; respiratory chain complex IV | E103: cytochrome-c oxidase activity; iron ion binding; heme binding | F103: Oxidative phosphorylation | G103: 758.497 | H103: 589.378 | I103: 596.286 | J103: =IFERROR(LOG($H103/G103,2),"(-inf)") -> -0.36395027 | K103: =IFERROR(LOG($I103/G103,2),"(-inf)") -> -0.34713901 | L103: =IFERROR(LOG(AVERAGE(H103/G103,I103/G103),2),"-") -> -0.35552015 | M103: =IF(OR(J103="(-inf)",K103="(-inf)"),"-",MIN(J103:K103)) -> -0.36395027
A104: XLOC_040262 | B104: CCG028395.1 | C104: - | D104: - | E104: - | F104: - | G104: 219.041 | H104: 169.126 | I104: 167.316 | J104: =IFERROR(LOG($H104/G104,2),"(-inf)") -> -0.37310247 | K104: =IFERROR(LOG($I104/G104,2),"(-inf)") -> -0.38862552 | L104: =IFERROR(LOG(AVERAGE(H104/G104,I104/G104),2),"-") -> -0.38084312 | M104: =IF(OR(J104="(-inf)",K104="(-inf)"),"-",MIN(J104:K104)) -> -0.38862552
A105: XLOC_011857 | B105: CCG008422.1 | C105: ATP synthesis coupled proton transport; ATP hydrolysis coupled proton transport | D105: integral component of membrane; proton-transporting ATP synthase complex, coupling factor F(o) | E105: hydrogen ion transmembrane transporter activity | F105: - | G105: 1665.94 | H105: 1286.51 | I105: 1267.55 | J105: =IFERROR(LOG($H105/G105,2),"(-inf)") -> -0.37287377 | K105: =IFERROR(LOG($I105/G105,2),"(-inf)") -> -0.39429378 | L105: =IFERROR(LOG(AVERAGE(H105/G105,I105/G105),2),"-") -> -0.38354402 | M105: =IF(OR(J105="(-inf)",K105="(-inf)"),"-",MIN(J105:K105)) -> -0.39429378
A106: XLOC_011358 | B106: - | C106: RNA-dependent DNA replication | D106: - | E106: RNA-directed DNA polymerase activity | F106: - | G106: 44.3339 | H106: 33.6858 | I106: 33.9113 | J106: =IFERROR(LOG($H106/G106,2),"(-inf)") -> -0.39626972 | K106: =IFERROR(LOG($I106/G106,2),"(-inf)") -> -0.38664419 | L106: =IFERROR(LOG(AVERAGE(H106/G106,I106/G106),2),"-") -> -0.39144893 | M106: =IF(OR(J106="(-inf)",K106="(-inf)"),"-",MIN(J106:K106)) -> -0.39626972
A107: XLOC_025187 | B107: NNT | C107: - | D107: nucleus; cytoplasm | E107: - | F107: - | G107: 58.9661 | H107: 44.3992 | I107: 45.8144 | J107: =IFERROR(LOG($H107/G107,2),"(-inf)") -> -0.4093521 | K107: =IFERROR(LOG($I107/G107,2),"(-inf)") -> -0.36408465 | L107: =IFERROR(LOG(AVERAGE(H107/G107,I107/G107),2),"-") -> -0.38654084 | M107: =IF(OR(J107="(-inf)",K107="(-inf)"),"-",MIN(J107:K107)) -> -0.4093521
A108: XLOC_015290 | B108: CG12163 | C108: - | D108: - | E108: - | F108: - | G108: 69.6251 | H108: 52.1207 | I108: 52.816 | J108: =IFERROR(LOG($H108/G108,2),"(-inf)") -> -0.41775103 | K108: =IFERROR(LOG($I108/G108,2),"(-inf)") -> -0.39863245 | L108: =IFERROR(LOG(AVERAGE(H108/G108,I108/G108),2),"-") -> -0.40816007 | M108: =IF(OR(J108="(-inf)",K108="(-inf)"),"-",MIN(J108:K108)) -> -0.41775103
A109: XLOC_025084 | B109: ABCA3 | C109: transport; metabolic process | D109: integral component of membrane | E109: transporter activity; ATP binding; ATPase activity | F109: Purine metabolism; Thiamine metabolism | G109: 41.722 | H109: 32.5067 | I109: 30.9255 | J109: =IFERROR(LOG($H109/G109,2),"(-inf)") -> -0.36007121 | K109: =IFERROR(LOG($I109/G109,2),"(-inf)") -> -0.4320114 | L109: =IFERROR(LOG(AVERAGE(H109/G109,I109/G109),2),"-") -> -0.39559294 | M109: =IF(OR(J109="(-inf)",K109="(-inf)"),"-",MIN(J109:K109)) -> -0.4320114
A110: XLOC_032663 | B110: - | C110: - | D110: - | E110: - | F110: - | G110: 32.5597 | H110: 24.1156 | I110: 24.6461 | J110: =IFERROR(LOG($H110/G110,2),"(-inf)") -> -0.4331207 | K110: =IFERROR(LOG($I110/G110,2),"(-inf)") -> -0.40172803 | L110: =IFERROR(LOG(AVERAGE(H110/G110,I110/G110),2),"-") -> -0.41733898 | M110: =IF(OR(J110="(-inf)",K110="(-inf)"),"-",MIN(J110:K110)) -> -0.4331207
A111: XLOC_033096 | B111: CCG022816.1 | C111: - | D111: - | E111: - | F111: - | G111: 44.4123 | H111: 34.2564 | I111: 32.8094 | J111: =IFERROR(LOG($H111/G111,2),"(-inf)") -> -0.37458574 | K111: =IFERROR(LOG($I111/G111,2),"(-inf)") -> -0.43685008 | L111: =IFERROR(LOG(AVERAGE(H111/G111,I111/G111),2),"-") -> -0.40538203 | M111: =IF(OR(J111="(-inf)",K111="(-inf)"),"-",MIN(J111:K111)) -> -0.43685008
A112: XLOC_018783 | B112: mif4gd | C112: - | D112: - | E112: RNA binding | F112: - | G112: 43.4867 | H112: 32.3143 | I112: 32.1086 | J112: =IFERROR(LOG($H112/G112,2),"(-inf)") -> -0.42840149 | K112: =IFERROR(LOG($I112/G112,2),"(-inf)") -> -0.43761447 | L112: =IFERROR(LOG(AVERAGE(H112/G112,I112/G112),2),"-") -> -0.43300063 | M112: =IF(OR(J112="(-inf)",K112="(-inf)"),"-",MIN(J112:K112)) -> -0.43761447
A113: XLOC_024992 | B113: Cpn2 | C113: - | D113: - | E113: - | F113: - | G113: 62.6725 | H113: 46.1149 | I113: 46.3306 | J113: =IFERROR(LOG($H113/G113,2),"(-inf)") -> -0.44259957 | K113: =IFERROR(LOG($I113/G113,2),"(-inf)") -> -0.43586718 | L113: =IFERROR(LOG(AVERAGE(H113/G113,I113/G113),2),"-") -> -0.43922945 | M113: =IF(OR(J113="(-inf)",K113="(-inf)"),"-",MIN(J113:K113)) -> -0.44259957
A114: XLOC_014472 | B114: CCG009995.1,Tbcel | C114: acyl-carrier-protein biosynthetic process | D114: - | E114: N-acetyltransferase activity | F114: - | G114: 61.0005 | H114: 44.8742 | I114: 44.8664 | J114: =IFERROR(LOG($H114/G114,2),"(-inf)") -> -0.44293485 | K114: =IFERROR(LOG($I114/G114,2),"(-inf)") -> -0.44318564 | L114: =IFERROR(LOG(AVERAGE(H114/G114,I114/G114),2),"-") -> -0.44306024 | M114: =IF(OR(J114="(-inf)",K114="(-inf)"),"-",MIN(J114:K114)) -> -0.44318564
... A366: XLOC_018559 | B366: Zasp52 | C366: - | D366: - | E366: - | F366: - | G366: 34.1229 | H366: 19.5058 | I366: 25.3297 | J366: =IFERROR(LOG($H366/G366,2),"(-inf)") -> -0.80683709 | K366: =IFERROR(LOG($I366/G366,2),"(-inf)") -> -0.42991027 | L366: =IFERROR(LOG(AVERAGE(H366/G366,I366/G366),2),"-") -> -0.60609878 | M366: =IF(OR(J366="(-inf)",K366="(-inf)"),"-",MIN(J366:K366)) -> -0.80683709
A367: XLOC_035369 | B367: - | C367: ion transport; peptidyl-tyrosine dephosphorylation; tyrosine metabolic process | D367: membrane | E367: protein tyrosine phosphatase activity | G367: 11.326 | H367: 7.84658 | I367: 6.47105 | J367: =IFERROR(LOG($H367/G367,2),"(-inf)") -> -0.52950255 | K367: =IFERROR(LOG($I367/G367,2),"(-inf)") -> -0.80756671 | L367: =IFERROR(LOG(AVERAGE(H367/G367,I367/G367),2),"-") -> -0.66184573 | M367: =IF(OR(J367="(-inf)",K367="(-inf)"),"-",MIN(J367:K367)) -> -0.80756671
A368: XLOC_014130 | B368: AMY1 | C368: carbohydrate metabolic process | D368: - | E368: hydrolase activity, acting on glycosyl bonds; cation binding | F368: - | G368: 173.208 | H368: 98.9359 | I368: 120.812 | J368: =IFERROR(LOG($H368/G368,2),"(-inf)") -> -0.80793955 | K368: =IFERROR(LOG($I368/G368,2),"(-inf)") -> -0.5197418 | L368: =IFERROR(LOG(AVERAGE(H368/G368,I368/G368),2),"-") -> -0.65665619 | M368: =IF(OR(J368="(-inf)",K368="(-inf)"),"-",MIN(J368:K368)) -> -0.80793955
A369: XLOC_027031 | B369: SPON1 | C369: negative regulation of endopeptidase activity | D369: - | E369: serine-type endopeptidase inhibitor activity | F369: - | G369: 36.4366 | H369: 20.8063 | I369: 20.8129 | J369: =IFERROR(LOG($H369/G369,2),"(-inf)") -> -0.80836791 | K369: =IFERROR(LOG($I369/G369,2),"(-inf)") -> -0.80791034 | L369: =IFERROR(LOG(AVERAGE(H369/G369,I369/G369),2),"-") -> -0.80813911 | M369: =IF(OR(J369="(-inf)",K369="(-inf)"),"-",MIN(J369:K369)) -> -0.80836791
A370: XLOC_029058 | B370: tutl | C370: - | D370: - | E370: - | F370: - | G370: 14.8437 | H370: 8.93643 | I370: 8.45294 | J370: =IFERROR(LOG($H370/G370,2),"(-inf)") -> -0.73208024 | K370: =IFERROR(LOG($I370/G370,2),"(-inf)") -> -0.81232563 | L370: =IFERROR(LOG(AVERAGE(H370/G370,I370/G370),2),"-") -> -0.77164508 | M370: =IF(OR(J370="(-inf)",K370="(-inf)"),"-",MIN(J370:K370)) -> -0.81232563
A371: XLOC_036783 | B371: - | C371: - | D371: - | E371: - | F371: - | G371: 20.6311 | H371: 13.0795 | I371: 11.7358 | J371: =IFERROR(LOG($H371/G371,2),"(-inf)") -> -0.65751335 | K371: =IFERROR(LOG($I371/G371,2),"(-inf)") -> -0.81390455 | L371: =IFERROR(LOG(AVERAGE(H371/G371,I371/G371),2),"-") -> -0.73359085 | M371: =IF(OR(J371="(-inf)",K371="(-inf)"),"-",MIN(J371:K371)) -> -0.81390455
A372: XLOC_034712 | B372: Cyp6a14 | C372: oxidation-reduction process | D372: - | E372: monooxygenase activity; iron ion binding; oxidoreductase activity, acting on paired donors, with incorporation or reduction of molecular oxygen; heme binding | F372: - | G372: 15.8192 | H372: 9.77102 | I372: 8.99847 | J372: =IFERROR(LOG($H372/G372,2),"(-inf)") -> -0.69509556 | K372: =IFERROR(LOG($I372/G372,2),"(-inf)") -> -0.81392501 | L372: =IFERROR(LOG(AVERAGE(H372/G372,I372/G372),2),"-") -> -0.75328719 | M372: =IF(OR(J372="(-inf)",K372="(-inf)"),"-",MIN(J372:K372)) -> -0.81392501
A373: XLOC_023746 | B373: - | C373: proteolysis | D373: - | E373: metallopeptidase activity; zinc ion binding | F373: - | G373: 20.7788 | H373: 11.8039 | I373: 12.9816 | J373: =IFERROR(LOG($H373/G373,2),"(-inf)") -> -0.81584874 | K373: =IFERROR(LOG($I373/G373,2),"(-inf)") -> -0.67864413 | L373: =IFERROR(LOG(AVERAGE(H373/G373,I373/G373),2),"-") -> -0.74561598 | M373: =IF(OR(J373="(-inf)",K373="(-inf)"),"-",MIN(J373:K373)) -> -0.81584874
A374: XLOC_028489 | B374: CCG019412.1 | C374: - | D374: - | E374: - | F374: - | G374: 38.7287 | H374: 21.9896 | I374: 23.8465 | J374: =IFERROR(LOG($H374/G374,2),"(-inf)") -> -0.81658171 | K374: =IFERROR(LOG($I374/G374,2),"(-inf)") -> -0.69962554 | L374: =IFERROR(LOG(AVERAGE(H374/G374,I374/G374),2),"-") -> -0.75691878 | M374: =IF(OR(J374="(-inf)",K374="(-inf)"),"-",MIN(J374:K374)) -> -0.81658171
A375: XLOC_023755 | B375: CCG016025.1 | C375: - | D375: - | E375: - | F375: - | G375: 152.31 | H375: 86.4292 | I375: 96.1105 | J375: =IFERROR(LOG($H375/G375,2),"(-inf)") -> -0.81741995 | K375: =IFERROR(LOG($I375/G375,2),"(-inf)") -> -0.66424471 | L375: =IFERROR(LOG(AVERAGE(H375/G375,I375/G375),2),"-") -> -0.7388004 | M375: =IF(OR(J375="(-inf)",K375="(-inf)"),"-",MIN(J375:K375)) -> -0.81741995
A376: XLOC_006469 | B376: CCG004935.1,SLC26A11 | C376: sulfate transmembrane transport | D376: integral component of membrane | E376: secondary active sulfate transmembrane transporter activity | F376: - | G376: 6.94278 | H376: 3.9388 | I376: 4.30192 | J376: =IFERROR(LOG($H376/G376,2),"(-inf)") -> -0.81775729 | K376: =IFERROR(LOG($I376/G376,2),"(-inf)") -> -0.69053276 | L376: =IFERROR(LOG(AVERAGE(H376/G376,I376/G376),2),"-") -> -0.75274306 | M376: =IF(OR(J376="(-inf)",K376="(-inf)"),"-",MIN(J376:K376)) -> -0.81775729
A377: XLOC_009781 | B377: APOD | C377: transport | D377: - | E377: transporter activity; retinoid binding | F377: - | G377: 13.9859 | H377: 7.92908 | I377: 8.21766 | J377: =IFERROR(LOG($H377/G377,2),"(-inf)") -> -0.81874771 | K377: =IFERROR(LOG($I377/G377,2),"(-inf)") -> -0.76717355 | L377: =IFERROR(LOG(AVERAGE(H377/G377,I377/G377),2),"-") -> -0.79273018 | M377: =IF(OR(J377="(-inf)",K377="(-inf)"),"-",MIN(J377:K377)) -> -0.81874771
A378: XLOC_013688 | B378: CCG009532.1 | C378: G-protein coupled receptor signaling pathway; visual perception; phototransduction; protein-chromophore linkage | D378: integral component of membrane | E378: G-protein coupled receptor activity; photoreceptor activity | F378: - | G378: 24.7835 | H378: 14.4116 | I378: 14.0319 | J378: =IFERROR(LOG($H378/G378,2),"(-inf)") -> -0.78214943 | K378: =IFERROR(LOG($I378/G378,2),"(-inf)") -> -0.82066957 | L378: =IFERROR(LOG(AVERAGE(H378/G378,I378/G378),2),"-") -> -0.80128094 | M378: =IF(OR(J378="(-inf)",K378="(-inf)"),"-",MIN(J378:K378)) -> -0.82066957
...

Sheet wMel < wAlb and U
C1: GO annotations | F1: KEGG annotation | G1: Expression (FPKM) | J1: Log2 fold change
A2: Gene ID | B2: Gene annotation | C2: Biological process | D2: Cellular component | E2: Molecular function | F2: Pathway | G2: wMel | H2: wAlb | I2: Uninfected | J2: wMel vs wAlb | K2: wMel vs Uninfected | L2: Mean | M2: Maximum magnitude
A3: XLOC_032509 | B3: - | C3: - | D3: - | E3: - | F3: - | G3: 0 | H3: 5775.05 | I3: 811.978 | J3: =IFERROR(LOG($H3/G3,2),"(+inf)") -> (+inf) | K3: =IFERROR(LOG($I3/G3,2),"(+inf)") -> (+inf) | L3: (+inf) | M3: (+inf)
A4: XLOC_007314 | B4: - | C4: - | D4: - | E4: nucleic acid binding; protein binding | F4: - | G4: 0 | H4: 1266.33 | I4: 537.477 | J4: =IFERROR(LOG($H4/G4,2),"(+inf)") -> (+inf) | K4: =IFERROR(LOG($I4/G4,2),"(+inf)") -> (+inf) | L4: (+inf) | M4: (+inf)
A5: XLOC_020440 | B5: - | C5: - | D5: - | E5: - | F5: - | G5: 0 | H5: 968.137 | I5: 315.114 | J5: =IFERROR(LOG($H5/G5,2),"(+inf)") -> (+inf) | K5: =IFERROR(LOG($I5/G5,2),"(+inf)") -> (+inf) | L5: (+inf) | M5: (+inf)
A6: XLOC_028164 | B6: - | C6: - | D6: - | E6: - | F6: - | G6: 0 | H6: 966.116 | I6: 191.108 | J6: =IFERROR(LOG($H6/G6,2),"(+inf)") -> (+inf) | K6: =IFERROR(LOG($I6/G6,2),"(+inf)") -> (+inf) | L6: (+inf) | M6: (+inf)
A7: XLOC_004778 | B7: - | C7: DNA integration | D7: - | E7: nucleic acid binding | F7: - | G7: 0 | H7: 703.719 | I7: 181.612 | J7: =IFERROR(LOG($H7/G7,2),"(+inf)") -> (+inf) | K7: =IFERROR(LOG($I7/G7,2),"(+inf)") -> (+inf) | L7: (+inf) | M7: (+inf)
A8: XLOC_008256 | B8: - | C8: metabolic process | D8: membrane | E8: ATP binding; ATPase activity | F8: - | G8: 0 | H8: 352.308 | I8: 346.295 | J8: =IFERROR(LOG($H8/G8,2),"(+inf)") -> (+inf) | K8: =IFERROR(LOG($I8/G8,2),"(+inf)") -> (+inf) | L8: (+inf) | M8: (+inf)
A9: XLOC_001003 | B9: - | C9: mRNA splicing, via spliceosome | D9: spliceosomal complex | E9: - | F9: - | G9: 0 | H9: 305.624 | I9: 64.6493 | J9: =IFERROR(LOG($H9/G9,2),"(+inf)") -> (+inf) | K9: =IFERROR(LOG($I9/G9,2),"(+inf)") -> (+inf) | L9: (+inf) | M9: (+inf)
A10: XLOC_018584 | B10: - | C10: - | D10: - | E10: - | F10: - | G10: 0 | H10: 256.201 | I10: 102.527 | J10: =IFERROR(LOG($H10/G10,2),"(+inf)") -> (+inf) | K10: =IFERROR(LOG($I10/G10,2),"(+inf)") -> (+inf) | L10: (+inf) | M10: (+inf)
A11: XLOC_024443 | B11: - | C11: - | D11: - | E11: - | F11: - | G11: 0 | H11: 221.436 | I11: 38.2153 | J11: =IFERROR(LOG($H11/G11,2),"(+inf)") -> (+inf) | K11: =IFERROR(LOG($I11/G11,2),"(+inf)") -> (+inf) | L11: (+inf) | M11: (+inf)
A12: XLOC_031510 | B12: - | C12: - | D12: - | E12: - | F12: - | G12: 0 | H12: 194.176 | I12: 49.7484 | J12: =IFERROR(LOG($H12/G12,2),"(+inf)") -> (+inf) | K12: =IFERROR(LOG($I12/G12,2),"(+inf)") -> (+inf) | L12: (+inf) | M12: (+inf)
A13: XLOC_019232 | B13: - | C13: - | D13: - | E13: metal ion binding | F13: - | G13: 0 | H13: 191.138 | I13: 223.028 | J13: =IFERROR(LOG($H13/G13,2),"(+inf)") -> (+inf) | K13: =IFERROR(LOG($I13/G13,2),"(+inf)") -> (+inf) | L13: (+inf) | M13: (+inf)
A14: XLOC_018017 | B14: - | C14: response to oxidative stress; eggshell chorion assembly; hydrogen peroxide metabolic process; oxidation-reduction process; peroxidase reaction | D14: extracellular region | E14: peroxidase activity; heme binding; metal ion binding | F14: - | G14: 0 | H14: 188.549 | I14: 403.847 | J14: =IFERROR(LOG($H14/G14,2),"(+inf)") -> (+inf) | K14: =IFERROR(LOG($I14/G14,2),"(+inf)") -> (+inf) | L14: (+inf) | M14: (+inf)
... A166: XLOC_039294 | B166: - | C166: double-strand break repair via homologous recombination | D166: Smc5-Smc6 complex | E166: - | F166: - | G166: 0 | H166: 0.373771 | I166: 0.463333 | J166: =IFERROR(LOG($H166/G166,2),"(+inf)") -> (+inf) | K166: =IFERROR(LOG($I166/G166,2),"(+inf)") -> (+inf) | L166: (+inf) | M166: (+inf)
A167: XLOC_013647 | B167: - | C167: - | D167: - | E167: - | F167: - | G167: 0.0102928 | H167: 0.621289 | I167: 6.14952 | J167: =IFERROR(LOG($H167/G167,2),"(+inf)") -> 5.9155571 | K167: =IFERROR(LOG($I167/G167,2),"(+inf)") -> 9.2226945 | L167: =IFERROR(LOG(AVERAGE(H167/G167,I167/G167),2),"-") -> 8.3615489 | M167: =IF(OR(J167="(+inf)",K167="(+inf)"),"-",MAX(J167:K167)) -> 9.2226945
A168: XLOC_029497 | B168: - | C168: proteolysis | D168: cytoplasm | E168: aminopeptidase activity; metalloexopeptidase activity; manganese ion binding | F168: - | G168: 0.312191 | H168: 134.159 | I168: 4.30811 | J168: =IFERROR(LOG($H168/G168,2),"(+inf)") -> 8.7472992 | K168: =IFERROR(LOG($I168/G168,2),"(+inf)") -> 3.7865542 | L168: =IFERROR(LOG(AVERAGE(H168/G168,I168/G168),2),"-") -> 7.7928987 | M168: =IF(OR(J168="(+inf)",K168="(+inf)"),"-",MAX(J168:K168)) -> 8.7472992
A169: XLOC_006688 | B169: - | C169: - | D169: - | E169: - | F169: - | G169: 0.0464552 | H169: 9.5179 | I169: 0.840404 | J169: =IFERROR(LOG($H169/G169,2),"(+inf)") -> 7.6786594 | K169: =IFERROR(LOG($I169/G169,2),"(+inf)") -> 4.177171 | L169: =IFERROR(LOG(AVERAGE(H169/G169,I169/G169),2),"-") -> 6.800732 | M169: =IF(OR(J169="(+inf)",K169="(+inf)"),"-",MAX(J169:K169)) -> 7.6786594
A170: XLOC_006591 | B170: - | C170: intracellular protein transport; vesicle-mediated transport | D170: Golgi apparatus; membrane coat | E170: protein transporter activity | F170: - | G170: 0.872141 | H170: 154.029 | I170: 4.21546 | J170: =IFERROR(LOG($H170/G170,2),"(+inf)") -> 7.4644249 | K170: =IFERROR(LOG($I170/G170,2),"(+inf)") -> 2.2730568 | L170: =IFERROR(LOG(AVERAGE(H170/G170,I170/G170),2),"-") -> 6.5033779 | M170: =IF(OR(J170="(+inf)",K170="(+inf)"),"-",MAX(J170:K170)) -> 7.4644249
A171: XLOC_037736 | B171: - | C171: - | D171: - | E171: - | F171: - | G171: 0.166557 | H171: 28.3945 | I171: 0.987605 | J171: =IFERROR(LOG($H171/G171,2),"(+inf)") -> 7.4134517 | K171: =IFERROR(LOG($I171/G171,2),"(+inf)") -> 2.5679182 | L171: =IFERROR(LOG(AVERAGE(H171/G171,I171/G171),2),"-") -> 6.462778 | M171: =IF(OR(J171="(+inf)",K171="(+inf)"),"-",MAX(J171:K171)) -> 7.4134517
A172: XLOC_019125 | B172: - | C172: - | D172: - | E172: - | F172: - | G172: 0.0502816 | H172: 7.19546 | I172: 1.2888 | J172: =IFERROR(LOG($H172/G172,2),"(+inf)") -> 7.1609126 | K172: =IFERROR(LOG($I172/G172,2),"(+inf)") -> 4.679854 | L172: =IFERROR(LOG(AVERAGE(H172/G172,I172/G172),2),"-") -> 6.3986145 | M172: =IF(OR(J172="(+inf)",K172="(+inf)"),"-",MAX(J172:K172)) -> 7.1609126
A173: XLOC_001518 | B173: - | C173: - | D173: - | E173: - | F173: - | G173: 0.365759 | H173: 39.2046 | I173: 4.02374 | J173: =IFERROR(LOG($H173/G173,2),"(+inf)") -> 6.7439858 | K173: =IFERROR(LOG($I173/G173,2),"(+inf)") -> 3.4595718 | L173: =IFERROR(LOG(AVERAGE(H173/G173,I173/G173),2),"-") -> 5.8849403 | M173: =IF(OR(J173="(+inf)",K173="(+inf)"),"-",MAX(J173:K173)) -> 6.7439858
A174: XLOC_008759 | B174: Prps1 | C174: microtubule-based process; metabolic process; protein polymerization | D174: cytoplasm; microtubule | E174: GTPase activity; structural constituent of cytoskeleton; GTP binding | F174: Purine metabolism; Biosynthesis of antibiotics; Pentose phosphate pathway | G174: 0.236639 | H174: 24.8128 | I174: 9.64108 | J174: =IFERROR(LOG($H174/G174,2),"(+inf)") -> 6.7122529 | K174: =IFERROR(LOG($I174/G174,2),"(+inf)") -> 5.348435 | L174: =IFERROR(LOG(AVERAGE(H174/G174,I174/G174),2),"-") -> 6.1858348 | M174: =IF(OR(J174="(+inf)",K174="(+inf)"),"-",MAX(J174:K174)) -> 6.7122529
A175: XLOC_036386 | B175: - | C175: - | D175: - | E175: - | F175: - | G175: 0.552632 | H175: 56.3742 | I175: 26.1071 | J175: =IFERROR(LOG($H175/G175,2),"(+inf)") -> 6.6725721 | K175: =IFERROR(LOG($I175/G175,2),"(+inf)") -> 5.5619793 | L175: =IFERROR(LOG(AVERAGE(H175/G175,I175/G175),2),"-") -> 6.2216042 | M175: =IF(OR(J175="(+inf)",K175="(+inf)"),"-",MAX(J175:K175)) -> 6.6725721
A176: XLOC_011795 | B176: - | C176: - | D176: - | E176: - | F176: - | G176: 0.0417768 | H176: 3.85637 | I176: 0.685284 | J176: =IFERROR(LOG($H176/G176,2),"(+inf)") -> 6.5283977 | K176: =IFERROR(LOG($I176/G176,2),"(+inf)") -> 4.0359281 | L176: =IFERROR(LOG(AVERAGE(H176/G176,I176/G176),2),"-") -> 5.764372 | M176: =IF(OR(J176="(+inf)",K176="(+inf)"),"-",MAX(J176:K176)) -> 6.5283977
A177: XLOC_015781 | B177: - | C177: DNA replication; DNA repair; DNA recombination; negative regulation of endopeptidase activity; DNA duplex unwinding | D177: extracellular space; replication fork | E177: nucleic acid binding; endopeptidase inhibitor activity; ATP binding; ATP-dependent 3'-5' DNA helicase activity | F177: - | G177: 0.153063 | H177: 12.8104 | I177: 6.42377 | J177: =IFERROR(LOG($H177/G177,2),"(+inf)") -> 6.3870461 | K177: =IFERROR(LOG($I177/G177,2),"(+inf)") -> 5.3912228 | L177: =IFERROR(LOG(AVERAGE(H177/G177,I177/G177),2),"-") -> 5.9734022 | M177: =IF(OR(J177="(+inf)",K177="(+inf)"),"-",MAX(J177:K177)) -> 6.3870461
A178: XLOC_004440 | B178: - | C178: - | D178: - | E178: - | F178: - | G178: 0.104187 | H178: 7.44795 | I178: 4.92112 | J178: =IFERROR(LOG($H178/G178,2),"(+inf)") -> 6.1595962 | K178: =IFERROR(LOG($I178/G178,2),"(+inf)") -> 5.5617395 | L178: =IFERROR(LOG(AVERAGE(H178/G178,I178/G178),2),"-") -> 5.8914179 | M178: =IF(OR(J178="(+inf)",K178="(+inf)"),"-",MAX(J178:K178)) -> 6.1595962
... A482: XLOC_036443 | B482: gtf3a | C482: - | D482: - | E482: - | F482: - | G482: 1.85715 | H482: 4.78655 | I482: 6.75562 | J482: =IFERROR(LOG($H482/G482,2),"(+inf)") -> 1.3658958 | K482: =IFERROR(LOG($I482/G482,2),"(+inf)") -> 1.8629978 | L482: =IFERROR(LOG(AVERAGE(H482/G482,I482/G482),2),"-") -> 1.6357522 | M482: =IF(OR(J482="(+inf)",K482="(+inf)"),"-",MAX(J482:K482)) -> 1.8629978
A483: XLOC_024397 | B483: DUSP18 | C483: - | D483: - | E483: - | G483: 2.27948 | H483: 8.28961 | I483: 5.0205 | J483: =IFERROR(LOG($H483/G483,2),"(+inf)") -> 1.8625995 | K483: =IFERROR(LOG($I483/G483,2),"(+inf)") -> 1.1391263 | L483: =IFERROR(LOG(AVERAGE(H483/G483,I483/G483),2),"-") -> 1.5457458 | M483: =IF(OR(J483="(+inf)",K483="(+inf)"),"-",MAX(J483:K483)) -> 1.8625995
A484: XLOC_025930 | B484: - | C484: regulation of transcription, DNA-templated; regulation of transcription, DNA-templated | D484: nucleus; transcription factor complex | E484: sequence-specific DNA binding transcription factor activity; sequence-specific DNA binding | F484: - | G484: 4.2745 | H484: 15.5001 | I484: 9.74101 | J484: =IFERROR(LOG($H484/G484,2),"(+inf)") -> 1.8584499 | K484: =IFERROR(LOG($I484/G484,2),"(+inf)") -> 1.1883157 | L484: =IFERROR(LOG(AVERAGE(H484/G484,I484/G484),2),"-") -> 1.5619478 | M484: =IF(OR(J484="(+inf)",K484="(+inf)"),"-",MAX(J484:K484)) -> 1.8584499
A485: XLOC_040264 | B485: ABCG1 | C485: DNA integration | D485: - | E485: nucleic acid binding; zinc ion binding | F485: Purine metabolism; Thiamine metabolism | G485: 0.665067 | H485: 1.89747 | I485: 2.41134 | J485: =IFERROR(LOG($H485/G485,2),"(+inf)") -> 1.5125055 | K485: =IFERROR(LOG($I485/G485,2),"(+inf)") -> 1.8582635 | L485: =IFERROR(LOG(AVERAGE(H485/G485,I485/G485),2),"-") -> 1.6957179 | M485: =IF(OR(J485="(+inf)",K485="(+inf)"),"-",MAX(J485:K485)) -> 1.8582635
A486: XLOC_036859 | B486: CCG025735.1,CCG025737.1 | C486: regulation of transcription, DNA-templated | D486: H4/H2A histone acetyltransferase complex | E486: - | F486: - | G486: 16.6824 | H486: 24.2091 | I486: 60.4146 | J486: =IFERROR(LOG($H486/G486,2),"(+inf)") -> 0.53722259 | K486: =IFERROR(LOG($I486/G486,2),"(+inf)") -> 1.8565704 | L486: =IFERROR(LOG(AVERAGE(H486/G486,I486/G486),2),"-") -> 1.3427349 | M486: =IF(OR(J486="(+inf)",K486="(+inf)"),"-",MAX(J486:K486)) -> 1.8565704
A487: XLOC_029555 | B487: - | C487: - | D487: - | E487: nucleic acid binding; metal ion binding | F487: - | G487: 15.6425 | H487: 34.9417 | I487: 56.4616 | J487: =IFERROR(LOG($H487/G487,2),"(+inf)") -> 1.1594787 | K487: =IFERROR(LOG($I487/G487,2),"(+inf)") -> 1.8517989 | L487: =IFERROR(LOG(AVERAGE(H487/G487,I487/G487),2),"-") -> 1.5467751 | M487: =IF(OR(J487="(+inf)",K487="(+inf)"),"-",MAX(J487:K487)) -> 1.8517989
A488: XLOC_023546 | B488: - | C488: - | D488: - | E488: nucleic acid binding; metal ion binding | F488: - | G488: 1.48334 | H488: 4.65072 | I488: 5.34405 | J488: =IFERROR(LOG($H488/G488,2),"(+inf)") -> 1.6486048 | K488: =IFERROR(LOG($I488/G488,2),"(+inf)") -> 1.8490842 | L488: =IFERROR(LOG(AVERAGE(H488/G488,I488/G488),2),"-") -> 1.752324 | M488: =IF(OR(J488="(+inf)",K488="(+inf)"),"-",MAX(J488:K488)) -> 1.8490842
A489: XLOC_032328 | B489: gfod1 | C489: regulation of transcription, DNA-templated; allantoin biosynthetic process; steroid hormone mediated signaling pathway; regulation of transcription, DNA-templated | D489: nucleus; transcription factor complex | E489: sequence-specific DNA binding transcription factor activity; steroid hormone receptor activity; zinc ion binding; sequence-specific DNA binding | F489: - | G489: 1.20983 | H489: 4.34398 | I489: 2.40813 | J489: =IFERROR(LOG($H489/G489,2),"(+inf)") -> 1.8442131 | K489: =IFERROR(LOG($I489/G489,2),"(+inf)") -> 0.99310894 | L489: =IFERROR(LOG(AVERAGE(H489/G489,I489/G489),2),"-") -> 1.4805341 | M489: =IF(OR(J489="(+inf)",K489="(+inf)"),"-",MAX(J489:K489)) -> 1.8442131
A490: XLOC_026264 | B490: SAMHD1 | C490: protein insertion into membrane | D490: integral component of membrane | E490: - | F490: - | G490: 12.0741 | H490: 43.299 | I490: 28.2147 | J490: =IFERROR(LOG($H490/G490,2),"(+inf)") -> 1.8424181 | K490: =IFERROR(LOG($I490/G490,2),"(+inf)") -> 1.2245314 | L490: =IFERROR(LOG(AVERAGE(H490/G490,I490/G490),2),"-") -> 1.566304 | M490: =IF(OR(J490="(+inf)",K490="(+inf)"),"-",MAX(J490:K490)) -> 1.8424181
A491: XLOC_020093 | B491: - | C491: - | D491: - | E491: catalytic activity; binding | F491: - | G491: 0.286115 | H491: 1.02244 | I491: 0.641475 | J491: =IFERROR(LOG($H491/G491,2),"(+inf)") -> 1.8373491 | K491: =IFERROR(LOG($I491/G491,2),"(+inf)") -> 1.1647979 | L491: =IFERROR(LOG(AVERAGE(H491/G491,I491/G491),2),"-") -> 1.5399147 | M491: =IF(OR(J491="(+inf)",K491="(+inf)"),"-",MAX(J491:K491)) -> 1.8373491
A492: XLOC_037396 | B492: - | C492: - | D492: - | E492: - | F492: - | G492: 3.26898 | H492: 11.6472 | I492: 7.98001 | J492: =IFERROR(LOG($H492/G492,2),"(+inf)") -> 1.8330707 | K492: =IFERROR(LOG($I492/G492,2),"(+inf)") -> 1.28755 | L492: =IFERROR(LOG(AVERAGE(H492/G492,I492/G492),2),"-") -> 1.5859427 | M492: =IF(OR(J492="(+inf)",K492="(+inf)"),"-",MAX(J492:K492)) -> 1.8330707
A493: XLOC_037676 | B493: - | C493: - | D493: - | E493: - | F493: - | G493: 17.0807 | H493: 60.8075 | I493: 48.9636 | J493: =IFERROR(LOG($H493/G493,2),"(+inf)") -> 1.8318822 | K493: =IFERROR(LOG($I493/G493,2),"(+inf)") -> 1.5193425 | L493: =IFERROR(LOG(AVERAGE(H493/G493,I493/G493),2),"-") -> 1.6840593 | M493: =IF(OR(J493="(+inf)",K493="(+inf)"),"-",MAX(J493:K493)) -> 1.8318822
A494: XLOC_002668 | B494: NGDN | C494: - | D494: - | E494: - | F494: - | G494: 2.3535 | H494: 8.3729 | I494: 6.35302 | J494: =IFERROR(LOG($H494/G494,2),"(+inf)") -> 1.8309195 | K494: =IFERROR(LOG($I494/G494,2),"(+inf)") -> 1.4326347 | L494: =IFERROR(LOG(AVERAGE(H494/G494,I494/G494),2),"-") -> 1.645478 | M494: =IF(OR(J494="(+inf)",K494="(+inf)"),"-",MAX(J494:K494)) -> 1.8309195
...

Sheet wMel exclusively present >10
C1: GO annotations | F1: KEGG annotation | G1: Expression (FPKM)
A2: Gene ID | B2: Gene annotation | C2: Biological process | D2: Cellular component | E2: Molecular function | F2: Pathway | G2: wMel | H2: wAlb | I2: Uninfected
A3: XLOC_011761 | B3: =VLOOKUP(A3,'wMel > wAlb and U'!A$3:F$1585,2,FALSE) -> - | C3: =VLOOKUP(A3,'wMel > wAlb and U'!A$3:F$1585,3,FALSE) -> - | D3: =VLOOKUP(A3,'wMel > wAlb and U'!A$3:F$1585,4,FALSE) -> - | E3: =VLOOKUP(A3,'wMel > wAlb and U'!A$3:F$1585,5,FALSE) -> - | F3: =VLOOKUP(A3,'wMel > wAlb and U'!A$3:F$1585,6,FALSE) -> - | G3: 682.998 | H3: 0 | I3: 0
A4: XLOC_022272 | B4: =VLOOKUP(A4,'wMel > wAlb and U'!A$3:F$1585,2,FALSE) -> - | C4: =VLOOKUP(A4,'wMel > wAlb and U'!A$3:F$1585,3,FALSE) -> - | D4: =VLOOKUP(A4,'wMel > wAlb and U'!A$3:F$1585,4,FALSE) -> - | E4: =VLOOKUP(A4,'wMel > wAlb and U'!A$3:F$1585,5,FALSE) -> - | F4: =VLOOKUP(A4,'wMel > wAlb and U'!A$3:F$1585,6,FALSE) -> - | G4: 452.609 | H4: 0 | I4: 0
A5: XLOC_032277 | B5: =VLOOKUP(A5,'wMel > wAlb and U'!A$3:F$1585,2,FALSE) -> - | C5: =VLOOKUP(A5,'wMel > wAlb and U'!A$3:F$1585,3,FALSE) -> - | D5: =VLOOKUP(A5,'wMel > wAlb and U'!A$3:F$1585,4,FALSE) -> - | E5: =VLOOKUP(A5,'wMel > wAlb and U'!A$3:F$1585,5,FALSE) -> - | F5: =VLOOKUP(A5,'wMel > wAlb and U'!A$3:F$1585,6,FALSE) -> - | G5: 190.504 | H5: 0 | I5: 0
A6: XLOC_005056 | B6: =VLOOKUP(A6,'wMel > wAlb and U'!A$3:F$1585,2,FALSE) -> - | C6: =VLOOKUP(A6,'wMel > wAlb and U'!A$3:F$1585,3,FALSE) -> - | D6: =VLOOKUP(A6,'wMel > wAlb and U'!A$3:F$1585,4,FALSE) -> - | E6: =VLOOKUP(A6,'wMel > wAlb and U'!A$3:F$1585,5,FALSE) -> - | F6: =VLOOKUP(A6,'wMel > wAlb and U'!A$3:F$1585,6,FALSE) -> - | G6: 152.401 | H6: 0 | I6: 0
A7: XLOC_013480 | B7: =VLOOKUP(A7,'wMel > wAlb and U'!A$3:F$1585,2,FALSE) -> - | C7: =VLOOKUP(A7,'wMel > wAlb and U'!A$3:F$1585,3,FALSE) -> - | D7: =VLOOKUP(A7,'wMel > wAlb and U'!A$3:F$1585,4,FALSE) -> - | E7: =VLOOKUP(A7,'wMel > wAlb and U'!A$3:F$1585,5,FALSE) -> - | F7: =VLOOKUP(A7,'wMel > wAlb and U'!A$3:F$1585,6,FALSE) -> - | G7: 136.001 | H7: 0 | I7: 0
A8: XLOC_035749 | B8: =VLOOKUP(A8,'wMel > wAlb and U'!A$3:F$1585,2,FALSE) -> - | C8: =VLOOKUP(A8,'wMel > wAlb and U'!A$3:F$1585,3,FALSE) -> - | D8: =VLOOKUP(A8,'wMel > wAlb and U'!A$3:F$1585,4,FALSE) -> - | E8: =VLOOKUP(A8,'wMel > wAlb and U'!A$3:F$1585,5,FALSE) -> - | F8: =VLOOKUP(A8,'wMel > wAlb and U'!A$3:F$1585,6,FALSE) -> - | G8: 107.614 | H8: 0 | I8: 0
A9: XLOC_035144 | B9: =VLOOKUP(A9,'wMel > wAlb and U'!A$3:F$1585,2,FALSE) -> - | C9: =VLOOKUP(A9,'wMel > wAlb and U'!A$3:F$1585,3,FALSE) -> - | D9: =VLOOKUP(A9,'wMel > wAlb and U'!A$3:F$1585,4,FALSE) -> - | E9: =VLOOKUP(A9,'wMel > wAlb and U'!A$3:F$1585,5,FALSE) -> - | F9: =VLOOKUP(A9,'wMel > wAlb and U'!A$3:F$1585,6,FALSE) -> - | G9: 98.5104 | H9: 0 | I9: 0
A10: XLOC_027194 | B10: =VLOOKUP(A10,'wMel > wAlb and U'!A$3:F$1585,2,FALSE) -> - | C10: =VLOOKUP(A10,'wMel > wAlb and U'!A$3:F$1585,3,FALSE) -> - | D10: =VLOOKUP(A10,'wMel > wAlb and U'!A$3:F$1585,4,FALSE) -> - | E10: =VLOOKUP(A10,'wMel > wAlb and U'!A$3:F$1585,5,FALSE) -> - | F10: =VLOOKUP(A10,'wMel > wAlb and U'!A$3:F$1585,6,FALSE) -> - | G10: 96.3116 | H10: 0 | I10: 0
A11: XLOC_036799 | B11: =VLOOKUP(A11,'wMel > wAlb and U'!A$3:F$1585,2,FALSE) -> - | C11: =VLOOKUP(A11,'wMel > wAlb and U'!A$3:F$1585,3,FALSE) -> - | D11: =VLOOKUP(A11,'wMel > wAlb and U'!A$3:F$1585,4,FALSE) -> - | E11: =VLOOKUP(A11,'wMel > wAlb and U'!A$3:F$1585,5,FALSE) -> - | F11: =VLOOKUP(A11,'wMel > wAlb and U'!A$3:F$1585,6,FALSE) -> - | G11: 70.1696 | H11: 0 | I11: 0
A12: XLOC_025324 | B12: =VLOOKUP(A12,'wMel > wAlb and U'!A$3:F$1585,2,FALSE) -> - | C12: =VLOOKUP(A12,'wMel > wAlb and U'!A$3:F$1585,3,FALSE) -> microtubule cytoskeleton organization | D12: =VLOOKUP(A12,'wMel > wAlb and U'!A$3:F$1585,4,FALSE) -> microtubule cytoskeleton | E12: =VLOOKUP(A12,'wMel > wAlb and U'!A$3:F$1585,5,FALSE) -> - | F12: =VLOOKUP(A12,'wMel > wAlb and U'!A$3:F$1585,6,FALSE) -> - | G12: 52.963 | H12: 0 | I12: 0
A13: XLOC_026362 | B13: =VLOOKUP(A13,'wMel > wAlb and U'!A$3:F$1585,2,FALSE) -> - | C13: =VLOOKUP(A13,'wMel > wAlb and U'!A$3:F$1585,3,FALSE) -> - | D13: =VLOOKUP(A13,'wMel > wAlb and U'!A$3:F$1585,4,FALSE) -> - | E13: =VLOOKUP(A13,'wMel > wAlb and U'!A$3:F$1585,5,FALSE) -> odorant binding | F13: =VLOOKUP(A13,'wMel > wAlb and U'!A$3:F$1585,6,FALSE) -> - | G13: 50.2125 | H13: 0 | I13: 0
A14: XLOC_035587 | B14: =VLOOKUP(A14,'wMel > wAlb and U'!A$3:F$1585,2,FALSE) -> - | C14: =VLOOKUP(A14,'wMel > wAlb and U'!A$3:F$1585,3,FALSE) -> - | D14: =VLOOKUP(A14,'wMel > wAlb and U'!A$3:F$1585,4,FALSE) -> - | E14: =VLOOKUP(A14,'wMel > wAlb and U'!A$3:F$1585,5,FALSE) -> - | F14: =VLOOKUP(A14,'wMel > wAlb and U'!A$3:F$1585,6,FALSE) -> - | G14: 36.1044 | H14: 0 | I14: 0
... A21: XLOC_004781 | B21: =VLOOKUP(A21,'wMel > wAlb and U'!A$3:F$1585,2,FALSE) -> - | C21: =VLOOKUP(A21,'wMel > wAlb and U'!A$3:F$1585,3,FALSE) -> - | D21: =VLOOKUP(A21,'wMel > wAlb and U'!A$3:F$1585,4,FALSE) -> - | E21: =VLOOKUP(A21,'wMel > wAlb and U'!A$3:F$1585,5,FALSE) -> - | F21: =VLOOKUP(A21,'wMel > wAlb and U'!A$3:F$1585,6,FALSE) -> - | G21: 14.1552 | H21: 0 | I21: 0

Sheet wMel exclusively absent >10
C1: GO annotations | F1: KEGG annotation | G1: Expression (FPKM)
A2: Gene ID | B2: Gene annotation | C2: Biological process | D2: Cellular component | E2: Molecular function | F2: Pathway | G2: wMel | H2: wAlb | I2: Uninfected
A3: XLOC_032509 | B3: - | C3: - | D3: - | E3: - | F3: - | G3: 0 | H3: 5775.05 | I3: 811.978
A4: XLOC_007314 | B4: - | C4: - | D4: - | E4: nucleic acid binding; protein binding | F4: - | G4: 0 | H4: 1266.33 | I4: 537.477
A5: XLOC_020440 | B5: - | C5: - | D5: - | E5: - | F5: - | G5: 0 | H5: 968.137 | I5: 315.114
A6: XLOC_028164 | B6: - | C6: - | D6: - | E6: - | F6: - | G6: 0 | H6: 966.116 | I6: 191.108
A7: XLOC_004778 | B7: - | C7: DNA integration | D7: - | E7: nucleic acid binding | F7: - | G7: 0 | H7: 703.719 | I7: 181.612
A8: XLOC_008256 | B8: - | C8: metabolic process | D8: membrane | E8: ATP binding; ATPase activity | F8: - | G8: 0 | H8: 352.308 | I8: 346.295
A9: XLOC_001003 | B9: - | C9: mRNA splicing, via spliceosome | D9: spliceosomal complex | E9: - | F9: - | G9: 0 | H9: 305.624 | I9: 64.6493
A10: XLOC_018584 | B10: - | C10: - | D10: - | E10: - | F10: - | G10: 0 | H10: 256.201 | I10: 102.527
A11: XLOC_024443 | B11: - | C11: - | D11: - | E11: - | F11: - | G11: 0 | H11: 221.436 | I11: 38.2153
A12: XLOC_031510 | B12: - | C12: - | D12: - | E12: - | F12: - | G12: 0 | H12: 194.176 | I12: 49.7484
A13: XLOC_019232 | B13: - | C13: - | D13: - | E13: metal ion binding | F13: - | G13: 0 | H13: 191.138 | I13: 223.028
A14: XLOC_018017 | B14: - | C14: response to oxidative stress; eggshell chorion assembly; hydrogen peroxide metabolic process; oxidation-reduction process; peroxidase reaction | D14: extracellular region | E14: peroxidase activity; heme binding; metal ion binding | F14: - | G14: 0 | H14: 188.549 | I14: 403.847
... A37: XLOC_016270 | B37: - | C37: oxidation-reduction process | D37: - | E37: oxidoreductase activity, acting on the aldehyde or oxo group of donors, disulfide as acceptor | F37: - | G37: 0 | H37: 10.8654 | I37: 10.834
