Workbook

Sheet Oversight
A1: Dataset | B1: Status | C1: N_variables | D1: N_flow | E1: N_stock | F1: N_other | G1: N_waves | H1: Start | I1: End | J1: Apply for access | K1: Difficulty in applying | L1: Jacob's recommendation | M1: Codebook_link | N1: Comments | O1: Structure
A2: AddHealth | B2: 100 | C2: =COUNTA(AddHealth!$B$2:$B$2000) -> 29 | D2: =COUNTIF(AddHealth!$D$2:$D$2000,"Flow") -> 11 | E2: =COUNTIF(AddHealth!$D$2:$D$2000,"Stock") -> 9 | F2: =COUNTIF(AddHealth!$D$2:$D$2000,"Other") -> 8 | G2: 5 | H2: 1994 | I2: - | K2: Yes, costs $850-$1.700 | L2: No - not very detailed information and not that many time periods | M2: http://www.cpc.unc.edu/projects/addhealth/documentation/ace | N2: There is not one Codebook. Instead it is an online tool. It is a bit difficult to figure out what the dataset actually contains. There are a range of questions on allowance or summerjobs, where the respondent was at that point a child/teenager. I have skipped these questions even though they can be perceived as income. Furthermore, there are a range of questions, which concerns whether the respondent can afford hospital/dentist/food etc, which I have also not included. In addition, there is a range of questions on receiving public benefits, which I have skipped
A3: CE | B3: 0 | C3: =COUNTA(CE!$A$2:$A$2000) -> 1 | D3: =COUNTIF(CE!$C$2:$C$2000,"Flow") -> 0 | E3: =COUNTIF(CE!$C$2:$C$2000,"Stock") -> 0 | F3: =COUNTIF(CE!$C$2:$C$2000,"Other") -> 0 | G3: 37 | H3: 1980 | I3: - | K3: No | L3: Hard to use | M3: https://beta.bls.gov/dataQuery/find?fq=survey:%5bcx%5d&s=title:A&r=100&st=0 | N3: It is not feasible to code the codebook - Ask Ben | O3: The survey is conducted every year from 1980 and onwards. Before 1980 it was conducted every 10 years. The data is collected through two surveys, 1) an interview and 2) a Diary Survey. Lowest geographic unit seems to be state. This creates an enormeous database. The databank includes 19.263 measures. Proposed solution; code the survey from 2017 and assume that the variables also exists in earlier years.
A4: GSS | B4: 100 | C4: =COUNTA(GSS!$B$2:$B$2001) -> 62 | D4: =COUNTIF(GSS!$D$2:$D$2001,"Flow") -> 23 | E4: =COUNTIF(GSS!$D$2:$D$2001,"Stock") -> 8 | F4: =COUNTIF(GSS!$D$2:$D$2001,"Other") -> 26 | G4: 31 | H4: 1972 | I4: - | K4: Yes; costs $750 | L4: Yes | M4: http://gss.norc.org/documents/codebook/GSS_Codebook.pdf | N4: I was not able to open the dataset with any of my available programs (R, Alteryx, Tableau) due to the size of the dataset. The year count is based on the data in the descriptive tables. For convenience, GSS have collapsed some years. There may therefore be more years for many of the variables.
A5: HRS | B5: 100 | C5: =COUNTA(HRS!$B$2:$B$2223) -> 277 | D5: =COUNTIF(HRS!$D$2:$D$2223,"Flow") -> 95 | E5: =COUNTIF(HRS!$D$2:$D$2223,"Stock") -> 137 | F5: =COUNTIF(HRS!$D$2:$D$2223,"Other") -> 27 | G5: 15 | H5: 1992 | I5: - | K5: Yes, may cost something | L5: Yes | M5: https://hrs.isr.umich.edu/documentation/codebooks?_ga=2.150292402.546871128.1511281549-564893948.1511281549 | N5: The survey consists of 15 waves with independent questionnaires. I have coded the last and first questionnaire, which gives a good indication of the contents of the surveys. There are, however, around 2.000 questions on income and assets in the 2016 survey, and I may therefore not have coded all relevant variables. | O5: The survey is conducted every second year from 1992 (15 surveys - every year the first 4 years). Apart from the main survey, there are also off-year studies on a range of issues such as consumption and health. The surveys do seem to ask the same questions, but the variables do not seem to have the same names across surveys. The surveys are quite ordered, so will be quite easy to code. Solution: Code the first year and the last year.
A6: NLSY79 | B6: 100 | C6: =COUNTA(NLSY79!$B$2:$B$2245) -> 44 | D6: =COUNTIF(NLSY79!$D$2:$D$2245,"Flow") -> 15 | E6: =COUNTIF(NLSY79!$D$2:$D$2245,"Stock") -> 7 | F6: =COUNTIF(NLSY79!$D$2:$D$2245,"Other") -> 21 | G6: 26 | H6: 1979 | I6: - | K6: No | L6: Yes | M6: https://www.nlsinfo.org/content/cohorts/nlsy79/using-and-understanding-the-data/nlsy79-documentation | N6: I have used the online codebook. The survey contains around 70.000 variables. I have therefore relied extensively on the search tool and not been through all variables. I am using the quesiton name and not the variable name as the Mnemonic since this is the same across surveys, while the variable name varies | O6: The NLSY79 Cohort is a longitudinal project that follows the lives of a sample of American youth born between 1957-64. The cohort originally included 12,686 respondents ages 14-22 when first interviewed in 1979; after two subsamples were dropped, 9,964 respondents remain in the eligible samples. Data are now available from Round 1 (1979 survey year) to Round 26 (2014 survey year). The variables seems to be ordered, so the name for the variables are the same with an indicator for year. There is a data tool, which should make coding easy.
A7: NLSY97 | B7: 100 | C7: =COUNTA(NLSY97!$B$3:$B$2249) -> 55 | D7: =COUNTIF(NLSY97!$D$3:$D$2249,"Flow") -> 21 | E7: =COUNTIF(NLSY97!$D$3:$D$2249,"Stock") -> 10 | F7: =COUNTIF(NLSY97!$D$3:$D$2249,"Other") -> 23 | G7: 17 | H7: 1997 | I7: - | K7: No | L7: Yes | M7: https://www.nlsinfo.org/content/cohorts/nlsy97/using-and-understanding-the-data/nlsy97-documentation | O7: The NLSY97 Cohort is a longitudinal project that follows the lives of a sample of American youth born between 1980-84; 8,984 respondents were ages 12-17 when first interviewed in 1997. This ongoing cohort has been surveyed 17 times to date and is now interviewed biennially. Data are now available from Round 1 (1997-98) to Round 17 (2015-16). The variables seems to be ordered, so the name for the variables are the same with an indicator for year. There is a data tool, which should make coding easy.
A8: NSFH | B8: 100 | C8: =COUNTA(NSFH!$B$2:$B$2138) -> 208 | D8: =COUNTIF(NSFH!$D$2:$D$2138,"Flow") -> 80 | E8: =COUNTIF(NSFH!$D$2:$D$2138,"Stock") -> 60 | F8: =COUNTIF(NSFH!$D$2:$D$2138,"Other") -> 55 | G8: 3 | H8: 1988 | I8: 2002 | K8: No, but need to request geoinformation | L8: Yes | M8: https://www.ssc.wisc.edu/nsfh/codedata1.htm | N8: The survey consists of three waves, where all members of a household is interviewed. I have only coded the interview with the primary respondent. The questionnaire and names of the variables differs across the 3 interviews, so I have coded them seperately. The survey includes very detailed questions on income and wealth on a large number of areas, and I have only coded the main variables as a result.
A9: NIS | B9: 100 | C9: =COUNTA(NIS!$B$2:$B$2234) -> 122 | D9: =COUNTIF(NIS!$D$2:$D$2234,"Flow") -> 55 | E9: =COUNTIF(NIS!$D$2:$D$2234,"Stock") -> 50 | F9: =COUNTIF(NIS!$D$2:$D$2234,"Other") -> 11 | G9: 3 | H9: 1996 | I9: 2009 | K9: Yes, costs $550 | L9: Probably not, unless we want to do something on immigrants | M9: http://nis.princeton.edu/documentation.html | N9: I have only coded the adult part of the last wave. There are also surveys for the person's children and spouse. The codebook consists of +5000 pages, so I have relied on the search function quite a bit | O9: The New Immigrant Survey (NIS) is a nationally representative multi-cohort longitudinal study of new legal immigrants and their children to the United States based on nationally representative samples of the administrative records, compiled by the U.S. Immigration and Naturalization Service (INS), pertaining to immigrants newly admitted to permanent residence. The dataset consists of 3 rounds. 1996 (pilot study), 2003 (First real round) and 2009 (Second real rounds). The rounds have different codebooks, but the structure seems to be the same. Proposed solution: code the last codebook (NIS 2003-2)
A10: NSHAP | B10: 100 | C10: =COUNTA(NSHAP!$B$2:$B$2220) -> 12 | D10: =COUNTIF(NSHAP!$D$2:$D$2220,"Flow") -> 1 | E10: =COUNTIF(NSHAP!$D$2:$D$2220,"Stock") -> 1 | F10: =COUNTIF(NSHAP!$D$2:$D$2220,"Other") -> 8 | G10: 2 | H10: 2005 | I10: - | K10: No | L10: No - not much data we can use | M10: http://www.icpsr.umich.edu/icpsrweb/NACDA/studies/20541 | O10: The National Social Life, Health, and Aging Project (NSHAP) is a longitudinal, population-based study of health and social factors. The target group is elderly people aged between 57 to 85 at the time of Wave 1 interview. There are 4,400 households in the first sample. The survey has 3 waves; Wave 1 (2005-2006 with 3,005 interviews), Wave 2 (2010-2011 with 3.377 interviews) and Wave 3 (2015-2016 with 4,600 interviews). Wave 3 is not released yet. Two codebooks with 800 and 1,201 pages - names of variables seems to be the same. Proposed solution: Code Wave 2
A11: PSID | B11: 100 | C11: =COUNTA(PSID!$B$2:$B$2288) -> 99 | D11: =COUNTIF(PSID!$D$2:$D$2288,"Flow") -> 50 | E11: =COUNTIF(PSID!$D$2:$D$2288,"Stock") -> 28 | F11: =COUNTIF(PSID!$D$2:$D$2288,"Other") -> 17 | G11: 39 | H11: 1968 | I11: - | K11: Yes; costs $750 | L11: Probably - has a long time period | M11: https://simba.isr.umich.edu/VS/i.aspx | N11: There is both an individual survey and a family survey. I have coded both using the datatool. The variable names most often differ across years. I have noted the mnemonic from the latest year. The survey contains extremely detailed data on income, transfers and tax. As a result, I have only coded the main variables. | O11: The PSID began in 1968 with a nationally representative sample of over 18,000 individuals living in 5,000 families in the United States. There are 39 main surveys and supplemental studies (Child Development Supplement, Transition into Adulthood Supplement, Intergenerational Transfer). The survey should be relatively easy to code since there is a superb data tool.
A12: SCF | B12: 100 | C12: =COUNTA(SCF!$B$2:$B$2426) -> 155 | D12: =COUNTIF(SCF!$D$2:$D$2426,"Flow") -> 32 | E12: =COUNTIF(SCF!$D$2:$D$2426,"Stock") -> 108 | F12: =COUNTIF(SCF!$D$2:$D$2426,"Other") -> 11 | G12: 11 | H12: 1983 | I12: - | K12: No | L12: Probably not; hard to use | M12: https://www.federalreserve.gov/econres/scf-previous-surveys.htm/https://www.federalreserve.gov/econres/files/codebk2013.txt | N12: I am coding the 2013 survey | O12: The Survey of Consumer Finances (SCF) is normally a triennial cross-sectional survey of U.S. families. The survey data include information on families’ balance sheets, pensions, income, and demographic characteristics. The survey has contained a panel element over two periods. Respondents to the 1983 survey were re-interviewed in 1986 and 1989. Respondents to the 2007 survey were re-interviewed in 2009. The survey has 12 waves. There are decent codebooks for every wave, but the variables seems to be independent of each other and the codebooks are enormeous. Solution: Code the latest codebook
A13: SIPP | B13: 100 | C13: =COUNTA(SIPP!$A$2:$A$2300) -> 206 | D13: =COUNTIF(SIPP!$C$2:$C$2300,"Flow") -> 72 | E13: =COUNTIF(SIPP!$C$2:$C$2300,"Stock") -> 121 | F13: =COUNTIF(SIPP!$C$2:$C$2300,"Other") -> 12 | G13: 15 | H13: 1984 | I13: 2014 | K13: No | L13: Probably not; hard to use, but has a lot of information | M13: https://www.census.gov/programs-surveys/sipp/data.2014.html/https://www.census.gov/data-tools/demo/sipp/sippdict.html | N13: The SIPP is gigantic. I have used the codebook for the 2014 survey, and tried to manly focus on the summarizing variables in order to make it doable. | O13: The main objective of the SIPP has been, and continues to be, to provide accurate and comprehensive information about the income and program participation of individuals and households in the United States. The survey has 14 panels with 9-16 waves in each, which results in +100 questionnaires with 45-350 pages in each. This seems to be a gigantic dataset. Should I code one panel to give an indication of what the dataset includes?
A14: L.A.FANS | B14: 100 | C14: =COUNTA(L.A.FANS!$B$2:$B$2326) -> 56 | D14: =COUNTIF(L.A.FANS!$D$2:$D$2326,"Flow") -> 18 | E14: =COUNTIF(L.A.FANS!$D$2:$D$2326,"Stock") -> 18 | F14: =COUNTIF(L.A.FANS!$D$2:$D$2326,"Other") -> 15 | G14: 2 | H14: 2000 | I14: 2008 | K14: Yes, variable dependent on the dataset | L14: Maybe; Has good data on L.A., but is limited to this area | M14: https://www.rand.org/pubs/drafts/DRU2400z2-1.html/https://www.rand.org/pubs/working_papers/WR240z20.html | N14: I have coded the first wave. There is a public and a restricted use dataset. The public have top coded income and assets values plus have very limited geographic data. | O14: The Los Angeles Family and Neighborhood Survey (L.A.FANS) is a longitudinal study of families in Los Angeles County, California, and of the neighborhoods in which they live. There are 2 waves. The first from 2000-2001, while the second is from 2006-2008. There are codebooks for each wave - I have coded the 2004 codebook
A15: WLS | B15: 100 | C15: =COUNTA(WLS!$A$3:$A$2378) -> 87 | D15: =COUNTIF(WLS!$C$2:$C$2378,"Flow") -> 29 | E15: =COUNTIF(WLS!$C$2:$C$2378,"Stock") -> 37 | F15: =COUNTIF(WLS!$C$2:$C$2378,"Other") -> 21 | G15: 6 | H15: 1957 | I15: 2011 | K15: Yes, but free | L15: Maybe; Has good data on Wisconsin, but is limited to this area. | M15: https://www.ssc.wisc.edu/wlsresearch/documentation/waves/ | N15: The survey has 6 waves with very different codebooks. Furthermore, they are also interviewing siblings/spouses of the repsodnent. I have looked at the codebook from 1957 and the one from 2011 only for the respondent | O15: The Wisconsin Longitudinal Study (WLS) is a long-term study of a random sample of 10,317 men and women who graduated from Wisconsin high schools in 1957. There are 8 waves, which seems to differ a lot over time. The surveys are relatively small though. Maybe code 1 wave and figure out which waves that includes data on income and assets?
A16: HES/SIH | B16: 100 | C16: =COUNTA(HESSIH!$B$4:$B$2589) -> 245 | D16: =COUNTIF(HESSIH!$D$3:$D$2589,"Flow") -> 149 | E16: =COUNTIF(HESSIH!$D$3:$D$2589,"Stock") -> 72 | F16: =COUNTIF(HESSIH!$D$3:$D$2589,"Other") -> 22 | G16: 9 | H16: 1974 | K16: Yes, variable dependent on the dataset | L16: Yes, if we are interested in Australia | M16: http://www.abs.gov.au/AUSSTATS/abs@.nsf/ViewContent?readform&view=ProductsbyCatalogue&Action=Expand&Num=7.5 | N16: I have only coded the latest codebook (2015-2016) | O16: Confusing for now
A17: HILDA Survey | B17: 100 | C17: =COUNTA(HILDA!$B$2:$B$2410) -> 118 | D17: =COUNTIF(HILDA!$D$2:$D$2410,"Flow") -> 45 | E17: =COUNTIF(HILDA!$D$2:$D$2410,"Stock") -> 56 | F17: =COUNTIF(HILDA!$D$2:$D$2410,"Other") -> 16 | G17: 16 | H17: 2001 | I17: - | K17: Yes, costs AUS $330 | L17: Yes, if we are interested in Australia (HILDA seems better than HES) | M17: https://www.online.fbe.unimelb.edu.au/HILDAodd/srchSubjectAreas.aspx | N17: The survey has extremely detailed information on income and wealth. I have therefore only coded the main variables, but there are many more in the survey itself | O17: The Household, Income and Labour Dynamics in Australia (HILDA) Survey is a household-based panel study that collects valuable information about economic and personal well-being, labour market dynamics and family life. There are 15 waves, the first in 2001. The survey should be fairly easy to code with the data dictionary;
A18: SFS | B18: 100 | C18: =COUNTA(SFS!$B$2:$B$2484) -> 76 | D18: =COUNTIF(SFS!$D$2:$D$2484,"Flow") -> 2 | E18: =COUNTIF(SFS!$D$2:$D$2484,"Stock") -> 70 | F18: =COUNTIF(SFS!$D$2:$D$2484,"Other") -> 2 | G18: 4 | H18: 1999 | I18: - | K18: ? | L18: Probably not | M18: http://www23.statcan.gc.ca/imdb/p3Instr.pl?Function=assembleInstr&lang=en&Item_Id=313871 | N18: I have coded the 20116 survey | O18: The purpose of the survey is to collect information from a sample of Canadian households on their assets and debts. The SFS provides a comprehensive picture of the financial health of Canadians. Every 7 years since 1999. There are 4 waves until now. Relatively short survey and seems to be the case that the variables names are reused. Code 2016
A19: CFPS | B19: 0 | C19: =COUNTA(CFPS!$A$2:$A$2484) -> 0 | D19: =COUNTIF(CFPS!$C$2:$C$2484,"Flow") -> 0 | E19: =COUNTIF(CFPS!$C$2:$C$2484,"Stock") -> 0 | F19: =COUNTIF(CFPS!$C$2:$C$2484,"Other") -> 0 | G19: 6? | H19: 2010 | I19: - | K19: ? | L19: No, no information on this survey. | M19: http://www.icpsr.umich.edu/icpsrweb/ICPSR/studies/36524#method/http://opendata.pku.edu.cn/dataset.xhtml?persistentId=doi:10.18170/DVN/45LCSO | N19: I cannot find any information on the data in this survey | O19: The China Family Panel Studies (CFPS) is a nationally representative, annual longitudinal general social survey project designed to document changes in Chinese society, economy, population, education, and health. Started in 2010 and ended in 2015. The webpage does not provide much information on the data nor the codebook.
A20: HWS | B20: 0 | C20: =COUNTA(HWS!$A$2:$A$2484) -> 0 | D20: =COUNTIF(HWS!$C$2:$C$2484,"Flow") -> 0 | E20: =COUNTIF(HWS!$C$2:$C$2484,"Stock") -> 0 | F20: =COUNTIF(HWS!$C$2:$C$2484,"Other") -> 0 | G20: 7 | H20: 1987 | I20: - | K20: ? | L20: No | M20: http://pxnet2.stat.fi/PXWeb/pxweb/en/StatFin/StatFin__tul__vtutk/?tablelist=true | N20: It is not a survey in the same way as the remaining surveys in this codebook. It is more a database with a few key variables. I can code these if necessary - alternatively we should inquire about the codebook | O20: The wealth survey describes household’s assets: their total amount, structure and distribution among different population groups. There are the following waves; Saving and indebtedness survey in 1987 and 1988. Wealth survey in 1994. Wealth survey in 1998. Housing and wealth survey in 2004. Wealth survey 2009. Wealth survey 2013. Wealth Survey 2017. Unlike most of the other surveys the data is not solely based on survey data, but also on registerdata. The database seems to solely include data on wealth and assets
A21: SOEP | B21: 0 | C21: =COUNTA(SOEP!$A$2:$A$2484) -> 1 | D21: =COUNTIF(SOEP!$C$2:$C$2484,"Flow") -> 0 | E21: =COUNTIF(SOEP!$C$2:$C$2484,"Stock") -> 0 | F21: =COUNTIF(SOEP!$C$2:$C$2484,"Other") -> 0 | H21: 1988 | I21: - | K21: Yes | L21: Yes, but we will die doing the data management | M21: http://www.diw.de/en/diw_02.c.239921.en/codebooks.html | N21: I have only coded version 30 of the codebook. The codebook is 12.000 pages (all 30 surveys together). I can therefore not open it on my laptop and need a stronger computer | O21: The German Socio-Economic Panel (SOEP) is a longitudinal survey of approximately 11,000 private households in the Federal Republic of Germany from 1984 to 2016, and eastern German länder from 1990 to 2016. There are 30 versions of the codebook, but it seems most reasonable to use the last one. There are, however, 11.339 pages in the codebook, so I might need a better computer and have a very selective way of choosing variables
A22: SHIW | B22: 100 | C22: =COUNTA(SHIW!$A$2:$A$2524) -> 63 | D22: =COUNTIF(SHIW!$C$2:$C$2524,"Flow") -> 12 | E22: =COUNTIF(SHIW!$C$2:$C$2524,"Stock") -> 36 | F22: =COUNTIF(SHIW!$C$2:$C$2524,"Other") -> 14 | G22: 23 | H22: 1977 (1965) | I22: - | K22: Yes, but free | L22: Yes | M22: http://www.bancaditalia.it/statistiche/tematiche/indagini-famiglie-imprese/bilanci-famiglie/documentazione/index.html | N22: I have used the historical database as the reference material for the coding and used the questionnaire from 2014 as reference document | O22: The Survey on Household Income and Wealth (SHIW) was begun in the 1960s to gather data on the incomes and savings of Italian households. There are 24 waves from 1977 to 2016 with separate questionnaires. Seems like I can get an overview quite easily by using the "Historical Database 1977-2014". There are also results from 1965 to 1975, but these are solely in Italian
A23: JHPS/KHPS | B23: 0 | C23: =COUNTA(KHPS!$A$2:$A$2524) -> 1 | D23: =COUNTIF(KHPS!$C$2:$C$2524,"Flow") -> 0 | E23: =COUNTIF(KHPS!$C$2:$C$2524,"Stock") -> 0 | F23: =COUNTIF(KHPS!$C$2:$C$2524,"Other") -> 0 | G23: 14 | H23: 2004 | I23: - | K23: Yes | L23: Yes, but I tried to get in contact with them and they did not reply back. | M23: https://www.pdrc.keio.ac.jp/en/paneldata/datasets/jhpskhps/ | N23: Status: Applied for the data from JHPS since I could not find a codebook. I have only coded the KHPS and not the additional round (JHPS). This is so because the surveys apparently are identical for the two rounds | O23: The Keio Household Panel Survey (KHPS) has been implemented continuously since 2004 on 4,000 households and 7,000 individuals nationwide. An additional survey on a cohort of about 1,400 households and 2,500 individuals was initiated from 2007. There are 14 waves with a seperate questionnaire for each wave. Solution: Code the last survey (2016/2017)
A24: KLIPS | B24: 100 | C24: =COUNTA(KLIPS!$B$3:$B$2611) -> 126 | D24: =COUNTIF(KLIPS!$D$3:$D$2611,"Flow") -> 53 | E24: =COUNTIF(KLIPS!$D$3:$D$2611,"Stock") -> 53 | F24: =COUNTIF(KLIPS!$D$3:$D$2611,"Other") -> 18 | G24: 18 | H24: 1998 | I24: - | K24: Yes, costs $125 | L24: Yes | M24: https://www.kli.re.kr/klips_eng/selectBbsNttList.do?bbsNo=73&key=261 | O24: KLIPS (Korean Labor & Income Panel Study) is a longitudinal survey of the labor market / income activities of households and individuals residing in urban areas. The 1st wave was launched in 1998. There are as of now 18 surveys with a separate questionnaire for each, but one codebook, which gives an overview (though it is rather confusing). Code this
A25: SHP | B25: 100 | C25: =COUNTA(SHP!$A$3:$A$2652) -> 70 | D25: =COUNTIF(SHP!$C$3:$C$2652,"Flow") -> 42 | E25: =COUNTIF(SHP!$C$3:$C$2652,"Stock") -> 11 | F25: =COUNTIF(SHP!$C$3:$C$2652,"Other") -> 16 | G25: 19 | H25: 1999 | I25: - | K25: Yes, but free | L25: Maybe, not much data on wealth | M25: http://forscenter.ch/en/our-surveys/swiss-household-panel/documentationfaq-2/variables/ | N25: I have been going through all variables that are included in Wave 18 in Liste Des Variables. The $$ in the mnemonic can be replaced with the wave to get the given variable | O25: The SHP constitutes a unique longitudinal database for Switzerland. Data collection started in 1999 with a sample of 5,074 households containing 12,931 household members. In 2004 a second sample of 2,538 households with a total of 6,569 household members was added; and since 2013 the SHP contains a third sample of 4’093 households and 9’945 individuals. There are now 17 waves with a separate questionnaire for each in French. They also have a list of variables and it may be beneficial to go over this list of variables to get an idea of the content
A26: BHPS | B26: 100 | C26: =COUNTA(BHPS!$B$2:$B$2003) -> 45 | D26: =COUNTIF(BHPS!$D$2:$D$2003,"Flow") -> 7 | E26: =COUNTIF(BHPS!$D$2:$D$2003,"Stock") -> 6 | F26: =COUNTIF(BHPS!$D$2:$D$2003,"Other") -> 31 | G26: 18 | H26: 1991 | I26: 2008 | K26: No | L26: Yes | M26: https://www.iser.essex.ac.uk/bhps/documentation/volb/ | N26: The database consists of 18 surveys (every year from 1991 to 2008), which each has 7-10 sections with different questions. The variables are named, so year 1 is A, 2 is B and so on. I have tried to find the relevant variables and the years they are included in the first codebook and the last codebook. I did not have time to go through all 18 codebooks - at least for now. The survey may be difficult to handle since it is a household survey and therefore interviews different people in the interviewed households over time. The survey has very detailed data on wealth and income; the full list of variables on income can be found at: https://www.iser.essex.ac.uk/bhps/documentation/volb/indexes/subjcat13.html#Incomes
A27: UKHLS | B27: 100 | C27: =COUNTA(UKHLS!$A$2:$A$2094) -> 121 | D27: =COUNTIF(UKHLS!$C$2:$C$2094,"Flow") -> 78 | E27: =COUNTIF(UKHLS!$C$2:$C$2094,"Stock") -> 10 | F27: =COUNTIF(UKHLS!$C$2:$C$2094,"Other") -> 25 | G27: 7 | H27: 2009 | I27: - | K27: No | L27: Yes | M27: https://www.understandingsociety.ac.uk/documentation/mainstage/dataset-documentation | N27: I coded the last wave, 7, in UKHLS | O27: The survey has 9 waves. Their website contains information for both BHPS and UKHLS, which makes the site a bit confusing. I may want to code the first and the last wave.
A28: WAS | B28: 100 | C28: =COUNTA(WAS!$A$2:$A$2438) -> 387 | D28: =COUNTIF(WAS!$C$2:$C$2438,"Flow") -> 83 | E28: =COUNTIF(WAS!$C$2:$C$2438,"Stock") -> 261 | F28: =COUNTIF(WAS!$C$2:$C$2438,"Other") -> 37 | G28: 3 | H28: 2006 | I28: 2012 | K28: No | L28: Yes | M28: http://webarchive.nationalarchives.gov.uk/20160106070411/http://www.ons.gov.uk/ons/guide-method/method-quality/specific/economy/wealth-and-assets-survey/wealth-and-assets-survey---user-guidance/index.html | N28: For some reason most of the files on the variables are not available. I have therefore coded "Volume 4: details of WAS variables 2008 to 2010", which is the newest publicly available variable description. Because of the very extensive size of the survey I have coded it selectively | O28: WAS has 3 waves, 2006-2008, 2008-2010 and 2010-2012. There is not much publicly available information on what it the survey includes
A29: HFCS | B29: 100 | C29: =COUNTA(HFCS!$B$2:$B$2581) -> 166 | D29: =COUNTIF(HFCS!$D$2:$D$2581,"Flow") -> 50 | E29: =COUNTIF(HFCS!$D$2:$D$2581,"Stock") -> 101 | F29: =COUNTIF(HFCS!$D$2:$D$2581,"Other") -> 14 | G29: 2 | H29: 2010 | I29: - | K29: Yes, but free | L29: Yes | M29: https://www.ecb.europa.eu/pub/economic-research/research-networks/html/researcher_hfcn.en.html | O29: The HFCS collects information on the assets, liabilities, income and consumption of households. The survey is based on 84,000 interviews conducted in 18 euro area countries, as well as Poland and Hungary, mainly in 2013 and 2014. The first wave of the HFCS was conducted mainly in 2010 and was published in 2013. There are two waves with a separate questionnaire for each. | P29: Comparative
A30: ISSP | B30: 100 | C30: =COUNTA(ISSP!$B$2:$B$2578) -> 18 | D30: =COUNTIF(ISSP!$D$2:$D$2578,"Flow") -> 2 | E30: =COUNTIF(ISSP!$D$2:$D$2578,"Stock") -> 2 | F30: =COUNTIF(ISSP!$D$2:$D$2578,"Other") -> 13 | G30: 4 | H30: 1987 | I30: - | L30: Maybe; but very few questions on wealth | M30: https://dbk.gesis.org/dbksearch/sdesc2.asp?no=5400&search=issp%202009&search2=&field=all&field2=&DB=e&tab=0&notabs=&nf=1&af=&ll=10 | N30: I have coded the 2009 survey. It seems to vary quite a lot from earlier surveys | O30: The survey has done research on inequality in 1987, 1992, 1999 and 2009. The surveys seems to vary a lot over time. It seems like the 2009 is the most interesting from our perspective. The 2009 survey covers around 40 countries, and will be updated in 2019. Solution; code the 2009 survey | P30: Comparative
A31: LWS | B31: 100 | C31: =COUNTA(LWS!$B$3:$B$2693) -> 321 | D31: =COUNTIF(LWS!$D$3:$D$2693,"Flow") -> 244 | E31: =COUNTIF(LWS!$D$3:$D$2693,"Stock") -> 52 | F31: =COUNTIF(LWS!$D$3:$D$2693,"Other") -> 23 | G31: Up to 10 | H31: 1967 | I31: - | K31: Yes, costs €750/quarter | L31: Yes | M31: http://www.lisdatacenter.org/data-access/web-tabulator/variables/ | N31: I coded both LIS and LWS. 1967 is earliest datapoint (Sweden). There is income data from 1967 for some countries, while there is only wealth data from 1995 and onwards. The number of waves varies from 1 to 12 for the different countries. To code the dataset, I have used METIS (http://www.lisdatacenter.org/frontend#/home) and the codebook for US in 2013 (http://www.lisdatacenter.org/wp-content/uploads/our-lis-documentation-by-us13-hcodebook.txt). It should be noted that the accessibility of data varies across countries and over time. | O31: Consists of both an income and a wealth database. The wealth database has data on 15 countries from 1995 and onwards. There are now 7 waves. Data only seems to be available on a aggregated level. Also has a list of references to databases, which may be of interest | P31: Comparative
A32: SHARE | B32: 100 | C32: =COUNTA(SHARE!$A$3:$A$2734) -> 66 | D32: =COUNTIF(SHARE!$C$3:$C$2734,"Flow") -> 22 | E32: =COUNTIF(SHARE!$C$3:$C$2734,"Stock") -> 33 | F32: =COUNTIF(SHARE!$C$3:$C$2734,"Other") -> 10 | G32: 7 | H32: 2004 | I32: - | K32: Yes, but free | L32: Maybe | M32: http://www.share-project.org/data-documentation/questionnaires/questionnaire-wave-7.html | N32: I have coded the survey using the comparison tool (in the DropBox) and the latest survey. It is incredibly hard to get an actual overview over the variables, so there may be mistakes. It is possibly the worst codebook I have ever seen | O32: The Survey of Health, Ageing and Retirement in Europe (SHARE) is a multidisciplinary and cross-national panel database of micro data on health, socio-economic status and social and family networks of more than 120,000 individuals aged 50 or older (more than 297,000 interviews). SHARE covers EU27 and Israel. It has 7 waves, the first in 2004 and the last in 2015. It does not look like a codebook exists, but there are questionnaires for each wave. These are a bit hard to get an overview of though. Solution: Guess I should code the last questionnaire | P32: Comparative
A33: Sum | B33: =SUM(B2:B32)/COUNTA(B2:B32)/100 -> 0.83870968 | C33: =SUM(C2:C32) -> 3237 | D33: =SUM(D2:D32) -> 1291 | E33: =SUM(E2:E32) -> 1357 | F33: =SUM(F2:F32) -> 496 | G33: =SUM(G2:G32)+10 -> 373 | H33: =MIN(H2:H32) -> 1957 | I33: -
A34: Number of surveys | B34: =COUNTIF($B$2:$B$32,100) -> 26
A35: Other surveys of interest; SLID(1993-) of Canada
A36: http://www.lisdatacenter.org/resources/other-databases/

Sheet Datasets
A1: Abbreviation | B1: Dataset | C1: Country | D1: Overview | E1: Survey years | F1: Years with wealth information | G1: Wealth data coverage | H1: General website | I1: Accessible? | J1: Access or Application link | K1: Geocoding? | L1: Access notes | M1: Access cost
A2: Add Health | B2: The National Longitudinal Study of Adolescent to Adult Health | C2: USA (national) | D2: Panel of American adolescents in grades 7–12 in 1994–1995 (24–32 years old in 2008) with an oversample of black, Chinese, Cuban, and Puerto Rican students | E2: 1994–present | F2: 2008 | G2: All household members | H2: http://www.cpc.unc.edu/projects/addhealth | I2: APPLY | J2: Apply via http://www.cpc.unc.edu/projects/addhealth/contracts/new-add-health-restricted-use-data-contract | K2: No, see comment | L2: Public-Use data available via ICPSR, but must have contract for Restricted data. Contract includes form, security plan, IRB approval letter, and payment $850. 'Romatic Pairs' data requires additional application and $850. | M2: US$850 (plus another $850?)
A3: CE | B3: Consumer Expenditure Survey | C3: USA (national) | D3: Rotating panel of American households | E3: 1980–present | F3: Yearly | G3: All household members | H3: https://www.bls.gov/cex/ | I3: Yes | J3: https://www.icpsr.umich.edu/icpsrweb/ICPSR/series/20 | K3: ? | L3: BLS website lists CE databases with download option "for those who want it all" but also lists Public-Use Microdata separately - assuming therefore that the 'public' download is not actually everything and we need the PUMD? Is the PUMD itself everything? Website says "This format [PUMD] allows researchers to analyze expenditures, income, and demographic trends beyond what the published tables show." (https://www.bls.gov/cex/pumd.htm) | M3: Free
A4: GSS | B4: General Social Survey | C4: USA (national) | D4: Until 2008, a cross-sectional sample of American adults, with an oversample of black adults in certain years. Starting in 2008, a combined rolling panel and cross-sectional sample | E4: 1972–present | F4: 2006, 2014 | G4: Individual | H4: http://gss.norc.org/ | I4: APPLY | J4: Apply via http://gss.norc.org/documents/other/ObtainingGSSSensitiveDataFiles.pdf | K4: Yes (in Sensitive Data, costs money) | L4: Some data freely available to download, but Sensitive Data requires application including research plan, CVs, data protection plan, and human subjects review clearance. | M4: US$750
A5: HRS | B5: Health and Retirement Study | C5: USA (national) | D5: Panel of American adults older than 50, with an oversample of black and Hispanic adults and residents of Florida. Florida oversample dropped after 1993 | E5: 1992–present | F5: Every 2 years | G5: All household members | H5: http://hrsonline.isr.umich.edu/ | I5: APPLY | J5: Apply via http://hrsonline.isr.umich.edu/sitedocs/rda/OrderForm.pdf | K5: Yes (in Restricted data) | L5: Some data freely available to download, but must apply for Restricted data, including sending a research proposal, security plan, human subjects review, and safeguarding info. Step-by-step guide to applying here http://hrsonline.isr.umich.edu/index.php?p=micdahrsapply. | M5: ?
A6: NLSY79 | B6: National Longitudinal Survey of Youth 1979 | C6: USA (national) | D6: Panel of 1957–1964 US birth cohorts, with an oversample of black, Hispanic, economically disadvantaged, and enlisted-military youths. The economically disadvantaged and military oversamples were dropped in 1990 and 1984, respectively | E6: 1979–present | F6: Every year from 1985–1990 and 1992–1994, every other year from 1996–2000, every 4 years from 2004–present | G6: Partners | H6: https://www.nlsinfo.org/content/cohorts/nlsy79 | I6: Yes? | J6: https://www.nlsinfo.org/investigator/pages/search.jsp?s=NLSY79 | K6: No, see comment | L6: Accessed via NLS Investigator web programme. Restricted data either not available to researchers outside the US or only available onsite in Washington DC (https://www.nlsinfo.org/content/getting-started/accessing-data). | M6: Free
A7: NLSY97 | B7: National Longitudinal Survey of Youth 1997 | C7: USA (national) | D7: Panel of 1980–1984 US birth cohorts, with an oversample of black and Latino adolescents | E7: 1997–present | F7: When respondent is age 18, 20, 25, and 30, and first interview when respondent is independent | G7: Partners | H7: https://www.nlsinfo.org/content/cohorts/nlsy97 | I7: Yes? | J7: https://www.nlsinfo.org/investigator/pages/search.jsp?s=NLSY97 | K7: No, see comment | L7: Accessed via NLS Investigator web programme. Restricted data either not available to researchers outside the US or only available onsite in Washington DC (https://www.nlsinfo.org/content/getting-started/accessing-data). | M7: Free
A8: NSFH | B8: National Survey of Families and Households | C8: USA (national) | D8: Panel of American households, with an oversample of blacks, Puerto Ricans, Mexican Americans, single-parent families, families with stepchildren, cohabiting couples, and recently married persons | E8: 1987–2002 | F8: 1987–1988, 1992–1994, 2001–2002 | G8: Partners | H8: http://www.ssc.wisc.edu/nsfh/ | I8: APPLY | J8: Apply via http://www.ssc.wisc.edu/nsfh/624649EB.pdf | K8: Yes (in Geomerge request) | L8: Can download most data directly, but need to request geographical information (http://www.ssc.wisc.edu/nsfh/support.htm). | M8: Free
A9: NIS | B9: New Immigrant Survey | C9: USA (national) | D9: Panel of documented immigrants to the US in 2003 | E9: 2003–2009 | F9: 2003–2004 and 2007–2009 | G9: Partners | H9: http://nis.princeton.edu/ | I9: APPLY | J9: Apply via http://opr.princeton.edu/archive/restricted/ | K9: Yes (in Restricted data) | L9: Some data freely available but there is a Restricted dataset with geographical info. There are two levels of restricted data, with grographical identifiers being the highest level of restriction - http://nis.princeton.edu/data_restricted.html#Restricted_data. Applications involve proving need for access, as well as an abstract, data protection plan, IRB human subjects approval, signed agreement, CVs, and online training from NIH - http://nis.princeton.edu/data_restricted2.html. Regardless of which dataset you want to use, you have to register for an account to be able to see anything. Also NB "Deductive disclosure concerns prevent full access to all data sources." | M9: US$550
A10: NSHAP | B10: National Social Life, Health, and Aging Project | C10: USA (national) | D10: Panel of 1920–1947 US birth cohorts, with an oversample of black and Hispanic adults | E10: 2005–present | F10: Every 5 years | G10: All household members | H10: http://www.norc.org/Research/Projects/Pages/national-social-life-health-and-aging-project.aspx | I10: Yes | J10: Wave 1: http://www.icpsr.umich.edu/icpsrweb/NACDA/studies/20541 and Wave 2: http://www.icpsr.umich.edu/icpsrweb/NACDA/studies/34921. Wave 3 collection ended in September 2016. | K10: No, see comment | L10: All data that is available is available via ICPSR; data has been anonymised so presumably NORC have more info than they are sharing? | M10: Free
A11: PSID | B11: Panel Study of Income Dynamics | C11: USA (national) | D11: Panel of American families and their descendants’ families, with an oversample of low-income families. Additional samples of immigrant families were added in 1997 and 2017, and a sample of Latino families was added in 1990 but dropped after 1995. | E11: 1968–present | F11: Every 5 years between 1984–1999, every other year since then | G11: All family/household members | H11: https://psidonline.isr.umich.edu/ | I11: APPLY | J11: Apply via https://simba.isr.umich.edu/restricted/RestrictedUse.aspx | K11: Yes (in Restricted data) | L11: Most data available online, but 'specialized geographic information' is restricted. 1. Curriculum vitae 2. Research plan 3. Institutional Review Board (IRB) approval 4. Data request form 5. MiCDA acceptable use policy (AUP) 6. VDI-Data security plan 7. Institute for Social Research Confidentiality pledge Confidentiality pledge 8. After approval, a $750 non-refundable administration fee will be collected. | M11: US$750
A12: SCF | B12: Survey of Consumer Finances | C12: USA (national) | D12: Cross-sectional sample of American families, with 2 panel follow-ups (1983 sample reinterviewed in 1986 and 1989; 2007 sample reinterviewed in 2009) and an oversample of the wealthy | E12: 1983–present | F12: Every 3 years | G12: All household members | H12: https://www.federalreserve.gov/econres/scfindex.htm | I12: Yes | J12: Current survey: https://www.federalreserve.gov/econres/scfindex.htm. Previous surveys: https://www.federalreserve.gov/econres/scf-previous-surveys.htm | K12: Not mentioned | L12: Sign up to be informed of changes. | M12: Free
A13: SIPP | B13: Survey of Income and Program Participation | C13: USA (national) | D13: Rotating panel (until 2013), single panel changed every 4 years (starting 2014) of American families, with an oversample of poor families | E13: 1984–present | F13: Every year, with some gaps | G13: All household members | H13: https://www.census.gov/sipp/ | I13: Yes | J13: https://www.census.gov/programs-surveys/sipp/data.html | K13: Not mentioned | L13: Appears to all be public? | M13: Free
A14: L.A.FANS | B14: Los Angeles Family and Neighborhood Survey | C14: USA (subnational) | D14: Panel of households in Los Angeles County, with an oversample of poor neighborhoods and families with children and new respondents added to remain cross-sectionally representative | E14: 2000–2008 | F14: 2000–2001 and 2006–2008 | G14: Partners | H14: http://lasurvey.rand.org/ | I14: APPLY? | J14: Apply via http://lasurvey.rand.org/data/restricted/ | K14: Yes (in Restricted data) | L14: Four versions of Restricted Data. Requires Federal Wide Assurance (FWA) Certificate - not sure we have? Alternatively public data available here: http://lasurvey.rand.org/data/public/. | M14: Depends on which dataset.
... A18: SFS | B18: Survey of Financial Security | C18: Canada | D18: Cross-sectional sample of Canadian households in the 10 provinces (territories are excluded), with an oversample of high-income areas | E18: 1999–present | F18: Every 7 years | G18: All household members | H18: https://www.statcan.gc.ca/eng/survey/household/2620 | I18: ? | J18: ? | K18: ? | L18: Unclear how to access data - is it available to download or are these just summary tables? | M18: ?
A19: CFPS | B19: China Family Panel Studies | C19: China | D19: Panel of Chinese communities, families, and their descendants, with an oversample of five provinces | E19: 2010–present | F19: Every other year | G19: All family members | H19: http://www.isss.edu.cn/cfps/EN/
A20: HWS | B20: Household Wealth Survey | C20: Finland | D20: 4-year rotating panel of Finnish households, with an oversample of high-income households | E20: 1987–present | F20: Every 3 years since 1994 | G20: All household members | H20: http://www.stat.fi/til/vtutk/index_en.html | I20: ? | J20: ? | K20: ? | L20: Only summary information available in English - suggest contact them re access http://www.stat.fi/til/vtutk/yht_en.html | M20: ?
A21: SOEP | B21: German SocioEconomic Panel | C21: Germany | D21: Panel of German households, with immigrant and highincome subsamples added later | E21: 1984–present | F21: 1988 and every 5 years since 2002 | G21: All household members | H21: https://www.eui.eu/Research/Library/ResearchGuides/Economics/Statistics/DataPortal/GSOEP | I21: APPLY? | J21: See https://www.eui.eu/Research/Library/ResearchGuides/Economics/Statistics/DataPortal/GSOEP#Howtoaccessdata | K21: Yes but Restricted geo-coded regional data can only be consulted on-site in Germany | L21: Data only available to European University Institute members. Some data restricted even further. If not EUI member, cannot access any data. | M21: Free?
A22: SHIW | B22: Survey on Household Income and Wealth | C22: Italy | D22: Cross-sectional and partly panel sample of Italian households | E22: 1965–present | F22: Every 2 years since 1991 | G22: All household members | H22: http://www.bancaditalia.it/statistiche/tematiche/indagini-famiglie-imprese/bilanci-famiglie/index.html?com.dotmarketing.htmlpage.language=1 | I22: Yes | J22: http://www.bancaditalia.it/statistiche/tematiche/indagini-famiglie-imprese/bilanci-famiglie/distribuzione-microdati/index.html | K22: Not mentioned | L22: Data on household level is freely available; cannot find info on any restricted data or further info for researchers. | M22: Free
A23: JHPS/KHPS | B23: Japan Household Panel Survey | C23: Japan | D23: KHPS (Keio Household Panel Survey) and JHPS were separate panels of Japanese households that combined in 2014. KHPS had additional samples added in 2007 and 2012. | E23: KHPS: 2004– present JHPS: 2009– present | F23: Every year | G23: All household members | H23: https://www.pdrc.keio.ac.jp/en/paneldata/datasets/jhpskhps/ | I23: APPLY | J23: Apply via https://www.pdrc.keio.ac.jp/en/paneldata/howto/ | K23: No, see comment | L23: Apply for access online, note data is only valid for one year from approval.
A24: KLIPS | B24: Korea Labor and Income Panel Study | C24: Korea | D24: Panel of Korean households, with new respondents added to remain cross-sectionally representative | E24: 1998–present | F24: Every year | G24: All household members | H24: https://www.kli.re.kr/klips_eng/ | I24: APPLY | J24: Apply via email, see https://www.kli.re.kr/klips_eng/selectBbsNttList.do?bbsNo=70&key=413. | K24: Not mentioned | L24: Website says data held by Cornell University, sent by them once User Agreement has been signed, but no info on Cornell website about KLIPS. | M24: US$125
A25: SHP | B25: Swiss Household Panel | C25: Switzerland | D25: Panel of households living in Switzerland | E25: 1999–present | F25: 2009, 2010, 2012, 2016 | G25: All household members | H25: http://forscenter.ch/en/our-surveys/swiss-household-panel/ | I25: APPLY | J25: Apply via http://forscenter.ch/en/our-surveys/swiss-household-panel/datasupport/data-contract-2/ | K25: Not mentioned | L25: Data available from website after contract signed. Contract here: http://forscenter.ch/wp-content/uploads/2015/03/SHP_Data_Contract_2015_W1_17.pdf | M25: Free
A26: BHPS | B26: British Household Panel Survey | C26: UK | D26: Panel of British households, with youth panel added in 1994, Northern Ireland and Great Britain low-income samples added in 1997, Scottish and Welsh samples added in 1999, Northern Ireland sample added in 2001; incorporated into UKHLS in 2010 | E26: 1991–2008 | F26: Every 5 years since 1995 | G26: All household members | H26: https://www.iser.essex.ac.uk/bhps | I26: Yes | J26: Register with UK Data Service via http://sp.ukdataservice.ac.uk/newRegistration/newLogin.asp | K26: Yes (in Special Licence or Conditional Access datasets) | L26: Access via UK Data Service account (should be linked to Oxford SSO); order datasets as required - cannot find any info about how to get a Special Licence… | M26: Free
A27: UKHLS | B27: Understanding Society, UK Household Longitudinal Study | C27: UK | D27: Panel of UK households, with an oversample of ethnic minorities in original sample; sample of immigrants and ethnic minorities added in 2014–2015; incorporated BHPS in 2010 | E27: 2009–present | F27: Every 4 years since 2009–2010 | G27: All household members | H27: https://www.understandingsociety.ac.uk/ | I27: Yes | J27: Register with UK Data Service via http://sp.ukdataservice.ac.uk/newRegistration/newLogin.asp | K27: Yes (in Levels of Restricted data) | L27: Access via UK Data Service account (should be linked to Oxford SSO); order datasets as required. See https://www.understandingsociety.ac.uk/documentation/getting-started for information on which levels of data contain which indicators. | M27: Free
A28: WAS | B28: Wealth and Asset Survey | C28: UK | D28: Panel of households in England, Scotland, and Wales, with new samples added every 2 years to remain cross-sectionally representative | E28: 2006–present | F28: Every 2 years | G28: All household members | H28: https://www.ons.gov.uk/economy/nationalaccounts/uksectoraccounts/methodologies/wealthandassetssurveywas | I28: Yes | J28: Register with UK Data Service via http://sp.ukdataservice.ac.uk/newRegistration/newLogin.asp | K28: Not mentioned | L28: Access via UK Data Service account (should be linked to Oxford SSO); order datasets as required. | M28: Free
A29: HFCS | B29: Household Finance and Consumption Survey | C29: Comparative | D29: Sample of households in 15 eurozone countries, representative at country and continental level, with panel component and an oversample of wealthy for some countries. The sample will expand to encompass 17 euro area member states beginning with the second wave of the survey. | E29: 2010/2011– present | F29: Every 3 years | G29: All household members | H29: https://www.ecb.europa.eu/stats/ecb_surveys/hfcs/html/index.en.html | I29: APPLY | J29: Apply via https://www.ecb.europa.eu/home/pdf/research/hfcn/access_form_for_external_researchers.pdf?09f0ff81412800346775f1a6dc080c61 | K29: Not mentioned | L29: Must complete form, including information on research project and data management. | M29: Free
A30: ISSP | B30: International Social Survey Programme | C30: Comparative | D30: Harmonized versions of existing samples of all adults in 30+ countries | E30: 1985–present | F30: 2009 | G30: All household members | H30: http://www.issp.org/menu-top/home/ | I30: ? | J30: ? | K30: ? | L30: Redirected to GESIS to access data - unclear how to apply for access to secure data; need to know which specific dataset you want. | M30: ?
A31: LWS | B31: Luxembourg Wealth Study | C31: Comparative | D31: Wealth microdata compiled from various wealth surveys and harmonized for cross-national research, including Australia, Canada, Finland, Germany, Greece, Italy, Norway, South Africa, Spain, Sweden, United Kingdom, United States, representative at country level. Datasets for Austria, Cyprus, Slovenia, and Slovak Republic currently being harmonized | E31: 1995–present | F31: Every 3–5 years | G31: All household members | H31: http://www.lisdatacenter.org/our-data/lws-database/ | I31: APPLY | J31: Apply via http://www.lisdatacenter.org/data-access/access-eligibility/ | K31: Yes | L31: Apply for LISSY account - see http://www.lisdatacenter.org/data-access/access-eligibility/ | M31: €750/quarter
A32: SHARE | B32: Survey of Health, Ageing and Retirement in Europe | C32: Comparative | D32: Panel of adults 50 or over in 20 European nations and Israel, with 7 new countries in the field 2017–18 | E32: 2004–present | F32: Every 2 years | G32: Partners | H32: http://www.share-project.org/ | J32: Apply via http://www.share-project.org/data-access/user-registration.html | K32: Yes | L32: All data available to download after application. | M32: Free

Sheet SOEP
A1: Mnemonic | B1: Mnemonic description | C1: Type (Flow/stock) | D1: Gross/net | E1: Index | F1: Values | G1: Min | H1: Max | I1: Year_start | J1: Year_end | K1: Year_count | L1: Comments
A9: Background variables

Sheet HWS
A1: Mnemonic | B1: Mnemonic description | C1: Type (Flow/stock) | D1: Gross/net | E1: Index | F1: Values | G1: Min | H1: Max | I1: Year_start | J1: Year_end | K1: Year_count | L1: Comments

Sheet KHPS
A1: Mnemonic | B1: Mnemonic description | C1: Type (Flow/stock) | D1: Gross/net | E1: Index | F1: Values | G1: Min | H1: Max | I1: Year_start | J1: Year_end | K1: Year_count | L1: Comments
A15: Background variables

Sheet CFPS
A1: Mnemonic | B1: Mnemonic description | C1: Type (Flow/stock) | D1: Gross/net | E1: Index | F1: Values | G1: Min | H1: Max | I1: Year_start | J1: Year_end | K1: Year_count | L1: Comments

Sheet CE
A1: Mnemonic | B1: Mnemonic description | C1: Type (Flow/stock) | D1: Gross/net | E1: Index | F1: Values | G1: Min | H1: Max | I1: Year_start | J1: Year_end | K1: Year_count | L1: Comments
A14: Backgtound variables

Sheet AddHealth
A1: Important | B1: Mnemonic | C1: Mnemonic description | D1: Type (Flow/stock) | E1: Gross/net | F1: Index | G1: Values | H1: Min | I1: Max | J1: Year_start | K1: Year_end | L1: Year_count | M1: Comments
B2: H4EC5 | C2: About how much do {YOU AND/OR YOUR SPOUSE/PARTNER} owe on the mortgage for your house, apartment, or residence? | D2: Stock | E2: NA | F2: Price in $ for the given year | G2: Continuous | H2: 0 | I2: No max | J2: 2008 | K2: 2008 | L2: 1
B3: PA55 | C3: About how much total income, before taxes did your family receive in 1994? Include your own income, the income of everyone else in your household, and income from welfare benefits, dividends, and all other sources. | D3: Flow | E3: Gross | F3: Price in $ for the given year | G3: Continuous | H3: 0 | I3: No max | J3: 1994 | K3: 1994 | L3: 1
B4: H3EC11 | C4: Do you own a car, truck, van or motorcycle? | D4: Stock | E4: NA | F4: NA | G4: Categorical | H4: NA | I4: NA | J4: 2001 | K4: 2001 | L4: 1
B5: H3EC12/H4DA19 | C5: Do you own a computer? | D5: Stock | E5: NA | F5: NA | G5: Categorical | H5: NA | I5: NA | J5: 2001 | K5: 2008 | L5: 2
B6: H3EC10/H4EC4 | C6: Do you own a residence such as a house, condominium, or mobile home? | D6: Stock | E6: NA | F6: NA | G6: Categorical | H6: NA | I6: NA | J6: 2001 | K6: 2008 | L6: 2
B7: H3EC55 | C7: Do you [or your spouse] have any credit card debt? | D7: Stock | E7: NA | F7: NA | G7: Categorical | H7: NA | I7: NA | J7: 2001 | K7: 2001 | L7: 1
B8: H3EC53 | C8: Do you [or your spouse] have any shares of stock in publicly held corporations, mutual funds, or investment trusts, including stocks in IRAs? | D8: Stock | E8: NA | F8: NA | G8: Categorical | H8: NA | I8: NA | J8: 2001 | K8: 2001 | L8: 1
B9: H3EC54 | C9: Do you [or your spouse] have any student loans or other educational loans that have not yet been paid? | D9: Stock | E9: NA | F9: NA | G9: Categorical | H9: NA | I9: NA | J9: 2001 | K9: 2001 | L9: 1
B10: H3EC1A-F | C10: During any part of {2000/2001}* did you receive income from the following sources? | D10: Flow | E10: NA | F10: NA | G10: Categorical | H10: NA | I10: NA | J10: 2001 | K10: 2001 | L10: 1 | M10: Mentions a list of sources such as wages, stocks, family and child support
B11: H3LM18-20 | C11: Excluding overtime pay, tips, and commissions, what is your hourly/daily/weekly rate of pay for this [current] job? | D11: Flow | E11: Gross | F11: Price in $ for the given year | G11: Continuous | H11: 0 | I11: No max | J11: 2001 | K11: 2001 | L11: 1 | M11: Gross is a guess, but it would be weird to frame the question net
B12: H3LM30-32 | C12: Excluding overtime pay, tips, and commissions, what was your hourly/daily/weekly rate of pay when you started? | D12: Flow | E12: Gross | F12: Price in $ for the given year | G12: Continuous | H12: 0 | I12: No max | J12: 2001 | K12: 2001 | L12: 1 | M12: Gross is a guess, but it would be weird to frame the question net
A13: 1 | B13: H4EC8 | C13: Now, think about your debts besides any mortgage on your home. How much do you and others in your household owe altogether? Include all debts, including all types of loans, credit card debt, medical or legal bills, etc. | D13: Stock | E13: NA | F13: Price in $ for the given year | G13: Categorical | H13: ="-1.000$" -> -1.000$ | I13: ="250.000+" -> 250.000+ | J13: 2008 | K13: 2008 | L13: 1
A14: 1 | B14: H3EC4 | C14: In {2000/2001}, how much income did you receive from earnings--that is, wages or salaries, including tips, bonuses, and overtime pay, and income from self-employment? | D14: Flow | E14: Gross | F14: Price in $ for the given year | G14: Continuous | H14: 0 | I14: No max | J14: 2001 | K14: 2001 | L14: 1 | M14: Gross is a guess, but it would be weird to frame the question net
A15: 1 | B15: H4EC2 | C15: In {2006/2007/2008}, how much income did you receive from personal earnings before taxes, that is, wages or salaries, including tips, bonuses, and overtime pay, and income from self-employment? | D15: Flow | E15: Gross | F15: Price in $ for the given year | G15: Continuous | H15: 0 | I15: No max | J15: 2008 | K15: 2008 | L15: 1
A16: 1 | B16: H3EC2 | C16: Including all the income sources you reported above, what was your total personal income before taxes in {2000/2001}? | D16: Flow | E16: Gross | F16: Price in $ for the given year | G16: Continuous | H16: 0 | I16: No max | J16: 2001 | K16: 2001 | L16: 1
A17: 1 | B17: H4EC9 | C17: Suppose you and others in your household were to sell all of your major possessions (including your home), turn all of your investments and other assets into cash, and pay off all of your debts. Would you have something left over, break even, or be in debt? | D17: Other | E17: NA | F17: NA | G17: Categorical | H17: NA | I17: NA | J17: 2008 | K17: 2008 | L17: 1
B18: H4EC19 | C18: Think of this ladder as representing where people stand in the United States. At the top of the ladder (step 10) are the people who have the most money and education, and the most respected jobs. At the bottom of the ladder (step 1) are the people who have the least money and education, and the least respected jobs or no job. Where would you place yourself on this ladder? Pick the number for the step that shows where you think you stand at this time in your life, relative to other people in the United States. {allow 1-10} | D18: Other | E18: NA | F18: NA | G18: Categorical | H18: NA | I18: NA | J18: 2008 | K18: 2008 | L18: 1
B19: H3LM21-24 | C19: What are your usual bi-weekly/bi-monthly/annual earnings on this [current] job before taxes or other deductions? | D19: Flow | E19: Gross | F19: Price in $ for the given year | G19: Continuous | H19: 0 | I19: No max | J19: 2001 | K19: 2001 | L19: 1
A20: 1 | B20: H4EC7 | C20: What is your best estimate of the total value of your assets and the assets of everyone who lives in your household and contributes to the household budget? Include all assets, such as bank accounts, retirement plans and stocks. Do not include equity in your home | D20: Stock | E20: NA | F20: Price in $ for the given year | G20: Categorical | H20: ="-5.000$" -> -5.000$ | I20: ="1.000.000+" -> 1.000.000+ | J20: 2008 | K20: 2008 | L20: 1
A21: 1 | B21: H3EC5 | C21: What is your best guess of the income you received from earnings? | D21: Flow | E21: Gross | F21: Price in $ for the given year | G21: Categorical | H21: ="-10.000$" -> -10.000$ | I21: ="75.000+" -> 75.000+ | J21: 2001 | K21: 2001 | L21: 1 | M21: Gross is a guess, but it would be weird to frame the question net
A22: 1 | B22: H3EC7/H3EC9 | C22: What is your best guess of the total household income before taxes? | D22: Flow | E22: Gross | F22: Price in $ for the given year | G22: Categorical | H22: ="-10.000$" -> -10.000$ | I22: ="75.000+" -> 75.000+ | J22: 2001 | K22: 2001 | L22: 1
A23: 1 | B23: H4EC3 | C23: What is your best guess of your personal earnings before taxes? | D23: Flow | E23: Gross | F23: Price in $ for the given year | G23: Categorical | H23: ="-5.000$" -> -5.000$ | I23: ="75.000" -> 75.000 | J23: 2008 | K23: 2008 | L23: 1 | M23: Doesn't indicate time period (month/year)
B24: H3LM7/H4LM11 | C24: Are you currently working for pay for at least 10 hours a week? | D24: Other | E24: NA | F24: NA | G24: Categorical | H24: NA | I24: NA | J24: 2001 | K24: 2008 | L24: 2 | M24: There are a long range of questions on employment status in addition to this
B26: Background variables
B27: H1GI1M/H1GI1Y/H2GI1M/H2GI1Y/H3OD1M/H30D1Y/H4OD1M/H4OD1Y | C27: What is your birth date? | D27: Other | E27: NA | F27: NA | G27: Categorical | H27: NA | I27: NA | J27: 1994 | K27: 2008 | L27: 4
B28: S2/BIO_SEX1-4 | C28: Respondent's gender/sex | D28: Other | E28: NA | F28: NA | G28: Categorical | H28: NA | I28: NA | J28: 1994 | K28: 2008 | L28: 4
B29: S6A-E/H1GI6A-E/H3OD4A-D | C29: What is your race? | D29: Other | E29: NA | F29: NA | G29: Categorical | H29: NA | I29: NA | J29: 1994 | K29: 2001 | L29: 3
B30: H3LM/H4LM11 | C30: Are you currently working for pay for at least 10 hours a week? | D30: Other | E30: NA | F30: NA | G30: Categorical | H30: NA | I30: NA | J30: 2001 | K30: 2008 | L30: 2
B31: H3LM25/H3LM25A/H3LM25B/H3LM25C/H4LM14/H4LM18 | C31: What do you do in your [current] job? | D31: Other | E31: NA | F31: NA | G31: Categorical | H31: NA | I31: NA | J31: 2001 | K31: 2008 | L31: 2

Sheet BHPS
A1: Important | B1: Mnemonic | C1: Mnemonic description | D1: Type (Flow/stock) | E1: Gross/net | F1: Index | G1: Values | H1: Min | I1: Max | J1: Year_start | K1: Year_end | L1: Year_count | M1: Comments
B2: AHSOWND | C2: House owned or rented | D2: Stock | E2: NA | F2: NA | G2: Categorical | H2: NA | I2: NA | J2: 1991 | K2: 2008 | L2: 18 | M2: Possibility of shared ownership
B3: AMGHAVE | C3: Home mortgaged or owned outright | D3: Stock | E3: NA | F3: NA | G3: Categorical | H3: NA | I3: NA | J3: 1991 | K3: 2008 | L3: 18
B4: AMGYNOT | C4: How home came to be owned outright | D4: Other | E4: NA | F4: NA | G4: Categorical | H4: NA | I4: NA | J4: 1991 | K4: 2008 | L4: 18
A5: 1 | B5: AHSCOST | C5: Original purchase price of property | D5: Stock | E5: Gross | F5: Price in £ for given year | G5: Continuous | H5: 0 | I5: No max | J5: 1991 | K5: 2008 | L5: 18
B6: AMGYR0 | C6: Year mortgage began | D6: Other | E6: NA | F6: NA | G6: Categorical | H6: NA | I6: NA | J6: 1991 | K6: 1996 | L6: 6
B7: AHSYR0 | C7: Year became owner: home bought outright | D7: Other | E7: NA | F7: NA | G7: Categorical | H7: NA | I7: NA | J7: 1991 | K7: 1996 | L7: 6
A8: 1 | B8: AMGOLD | C8: Amount borrowed at purchase: mortgagee | D8: Stock | E8: Gross | F8: Price in £ for given year | G8: Continuous | H8: 0 | I8: No max | J8: 1991 | K8: 2008 | L8: 18
B9: AMGLIFE | C9: Years left to pay: mortgagee | D9: Other | E9: NA | F9: NA | G9: Categorical | H9: NA | I9: NA | J9: 1991 | K9: 2008 | L9: 18
B10: AMGTYPE | C10: Type of mortgage | D10: Other | E10: NA | F10: NA | G10: Categorical | H10: NA | I10: NA | J10: 1991 | K10: 2008 | L10: 18
B11: AMGXTRA | C11: Taken out additional mortgage on home | D11: Other | E11: NA | F11: NA | G11: Categorical | H11: NA | I11: NA | J11: 1991 | K11: 2008 | L11: 18 | M11: Followed by questions on what this additional mortgage was used for (Car, home improvement, consumer goods)
B12: AMGNEW | C12: Amount of additional mortgage on home | D12: Stock | E12: Gross | F12: Price in £ for given year | G12: Continuous | H12: 0 | I12: No max | J12: 1991 | K12: 2008 | L12: 18
