Workbook

Sheet X
E5: j=1 | G5: j=2
D6: ENTER NBO/T HERE--> | E6: 0.36 | G6: 55 | H6: <--ENTER % SiO2 HERE
A7: i | B7: wn | C7: l | D7: n_i1 | E7: k_i1 | F7: n_i2 | G7: k_i2
A8: 1 | B8: 25000 | C8: =10000/B8 -> 0.4 | D8: =Coefficients!B2+Coefficients!C2*X!$E$6 -> 1.5636976 | E8: =Coefficients!E2+Coefficients!F2*X!$E$6 -> 2.7354224e-07 | F8: =Coefficients!H2+Coefficients!I2*X!$G$6 -> 1.5854177 | G8: =Coefficients!K2+Coefficients!L2*X!$G$6 -> 2.8097712e-07
A9: 2 | B9: 24390.244 | C9: =10000/B9 -> 0.41 | D9: =Coefficients!B3+Coefficients!C3*X!$E$6 -> 1.5636783 | E9: =Coefficients!E3+Coefficients!F3*X!$E$6 -> 2.9463592e-07 | F9: =Coefficients!H3+Coefficients!I3*X!$G$6 -> 1.5853977 | G9: =Coefficients!K3+Coefficients!L3*X!$G$6 -> 3.0256771e-07
A10: 3 | B10: 23809.524 | C10: =10000/B10 -> 0.42 | D10: =Coefficients!B4+Coefficients!C4*X!$E$6 -> 1.5636585 | E10: =Coefficients!E4+Coefficients!F4*X!$E$6 -> 3.1668132e-07 | F10: =Coefficients!H4+Coefficients!I4*X!$G$6 -> 1.5853772 | G10: =Coefficients!K4+Coefficients!L4*X!$G$6 -> 3.2522901e-07
A11: 4 | B11: 23255.814 | C11: =10000/B11 -> 0.43 | D11: =Coefficients!B5+Coefficients!C5*X!$E$6 -> 1.5636383 | E11: =Coefficients!E5+Coefficients!F5*X!$E$6 -> 3.3993806e-07 | F11: =Coefficients!H5+Coefficients!I5*X!$G$6 -> 1.5853562 | G11: =Coefficients!K5+Coefficients!L5*X!$G$6 -> 3.4906612e-07
A12: 5 | B12: 22727.273 | C12: =10000/B12 -> 0.43999999 | D12: =Coefficients!B6+Coefficients!C6*X!$E$6 -> 1.5636176 | E12: =Coefficients!E6+Coefficients!F6*X!$E$6 -> 3.6431083e-07 | F12: =Coefficients!H6+Coefficients!I6*X!$G$6 -> 1.5853347 | G12: =Coefficients!K6+Coefficients!L6*X!$G$6 -> 3.7413592e-07
A13: 6 | B13: 22222.222 | C13: =10000/B13 -> 0.45 | D13: =Coefficients!B7+Coefficients!C7*X!$E$6 -> 1.5635964 | E13: =Coefficients!E7+Coefficients!F7*X!$E$6 -> 3.8977186e-07 | F13: =Coefficients!H7+Coefficients!I7*X!$G$6 -> 1.5853128 | G13: =Coefficients!K7+Coefficients!L7*X!$G$6 -> 4.0027741e-07
A14: 7 | B14: 21739.13 | C14: =10000/B14 -> 0.46000001 | D14: =Coefficients!B8+Coefficients!C8*X!$E$6 -> 1.5635748 | E14: =Coefficients!E8+Coefficients!F8*X!$E$6 -> 4.163276e-07 | F14: =Coefficients!H8+Coefficients!I8*X!$G$6 -> 1.5852903 | G14: =Coefficients!K8+Coefficients!L8*X!$G$6 -> 4.275589e-07
A15: 8 | B15: 21276.596 | C15: =10000/B15 -> 0.46999999 | D15: =Coefficients!B9+Coefficients!C9*X!$E$6 -> 1.5635526 | E15: =Coefficients!E9+Coefficients!F9*X!$E$6 -> 4.4412408e-07 | F15: =Coefficients!H9+Coefficients!I9*X!$G$6 -> 1.5852673 | G15: =Coefficients!K9+Coefficients!L9*X!$G$6 -> 4.560905e-07
A16: 9 | B16: 20833.333 | C16: =10000/B16 -> 0.48000001 | D16: =Coefficients!B10+Coefficients!C10*X!$E$6 -> 1.56353 | E16: =Coefficients!E10+Coefficients!F10*X!$E$6 -> 4.731808e-07 | F16: =Coefficients!H10+Coefficients!I10*X!$G$6 -> 1.5852438 | G16: =Coefficients!K10+Coefficients!L10*X!$G$6 -> 4.8593164e-07
A17: 10 | B17: 20408.163 | C17: =10000/B17 -> 0.49000001 | D17: =Coefficients!B11+Coefficients!C11*X!$E$6 -> 1.5635069 | E17: =Coefficients!E11+Coefficients!F11*X!$E$6 -> 5.0337279e-07 | F17: =Coefficients!H11+Coefficients!I11*X!$G$6 -> 1.5852198 | G17: =Coefficients!K11+Coefficients!L11*X!$G$6 -> 5.1690628e-07
A18: 11 | B18: 20000 | C18: =10000/B18 -> 0.5 | D18: =Coefficients!B12+Coefficients!C12*X!$E$6 -> 1.5634833 | E18: =Coefficients!E12+Coefficients!F12*X!$E$6 -> 5.3492518e-07 | F18: =Coefficients!H12+Coefficients!I12*X!$G$6 -> 1.5851954 | G18: =Coefficients!K12+Coefficients!L12*X!$G$6 -> 5.4933842e-07
A19: 12 | B19: 19607.843 | C19: =10000/B19 -> 0.51 | D19: =Coefficients!B13+Coefficients!C13*X!$E$6 -> 1.5634592 | E19: =Coefficients!E13+Coefficients!F13*X!$E$6 -> 5.6775577e-07 | F19: =Coefficients!H13+Coefficients!I13*X!$G$6 -> 1.5851704 | G19: =Coefficients!K13+Coefficients!L13*X!$G$6 -> 5.8304312e-07
... A1940: 1933 | B1940: 528 | C1940: =10000/B1940 -> 18.939394 | D1940: =Coefficients!B1934+Coefficients!C1934*X!$E$6 -> 2.1203661 | E1940: =Coefficients!E1934+Coefficients!F1934*X!$E$6 -> 0.88019968 | F1940: =Coefficients!H1934+Coefficients!I1934*X!$G$6 -> 2.327447 | G1940: =Coefficients!K1934+Coefficients!L1934*X!$G$6 -> 0.97257625

Sheet Coefficients
A1: i | B1: a_i1 | C1: b_i1 | D1: R-sq | E1: c_i1 | F1: d_i1 | G1: R-sq | H1: a_i2 | I1: b_i2 | J1: R-sq | K1: c_i2 | L1: d_i2 | M1: R-sq
A2: 1 | B2: =INTERCEPT(n_data!C7:J7,n_data!C$4:J$4) -> 1.5040765 | C2: =SLOPE(n_data!C7:J7,n_data!C$4:J$4) -> 0.16561398 | D2: =RSQ(n_data!C7:J7,n_data!C$4:J$4) -> 0.96346936 | E2: =INTERCEPT(k_data!C7:J7,k_data!C$4:J$4) -> 2.4978394e-07 | F2: =SLOPE(k_data!C7:J7,k_data!C$4:J$4) -> 6.5995295e-08 | G2: =RSQ(k_data!C7:J7,k_data!C$4:J$4) -> 0.028361164 | H2: =INTERCEPT(n_data!C7:J7,n_data!C$5:J$5) -> 1.811297 | I2: =SLOPE(n_data!C7:J7,n_data!C$5:J$5) -> -0.0041068968 | J2: =RSQ(n_data!C7:J7,n_data!C$5:J$5) -> 0.86069913 | K2: =INTERCEPT(k_data!C7:J7,k_data!C$5:J$5) -> 3.60413e-07 | L2: =SLOPE(k_data!C7:J7,k_data!C$5:J$5) -> -1.4442888e-09 | M2: =RSQ(k_data!C7:J7,k_data!C$5:J$5) -> 0.019732679
A3: 2 | B3: =INTERCEPT(n_data!C8:J8,n_data!C$4:J$4) -> 1.5040598 | C3: =SLOPE(n_data!C8:J8,n_data!C$4:J$4) -> 0.16560703 | D3: =RSQ(n_data!C8:J8,n_data!C$4:J$4) -> 0.96345342 | E3: =INTERCEPT(k_data!C8:J8,k_data!C$4:J$4) -> 2.6928523e-07 | F3: =SLOPE(k_data!C8:J8,k_data!C$4:J$4) -> 7.0418584e-08 | G3: =RSQ(k_data!C8:J8,k_data!C$4:J$4) -> 0.027855784 | H3: =INTERCEPT(n_data!C8:J8,n_data!C$5:J$5) -> 1.8112692 | I3: =SLOPE(n_data!C8:J8,n_data!C$5:J$5) -> -0.0041067546 | J3: =RSQ(n_data!C8:J8,n_data!C$5:J$5) -> 0.86069756 | K3: =INTERCEPT(k_data!C8:J8,k_data!C$5:J$5) -> 3.873156e-07 | L3: =SLOPE(k_data!C8:J8,k_data!C$5:J$5) -> -1.5408706e-09 | M3: =RSQ(k_data!C8:J8,k_data!C$5:J$5) -> 0.019375506
A4: 3 | B4: =INTERCEPT(n_data!C9:J9,n_data!C$4:J$4) -> 1.5040426 | C4: =SLOPE(n_data!C9:J9,n_data!C$4:J$4) -> 0.1655999 | D4: =RSQ(n_data!C9:J9,n_data!C$4:J$4) -> 0.96343667 | E4: =INTERCEPT(k_data!C9:J9,k_data!C$4:J$4) -> 2.8929016e-07 | F4: =SLOPE(k_data!C9:J9,k_data!C$4:J$4) -> 7.6086563e-08 | G4: =RSQ(k_data!C9:J9,k_data!C$4:J$4) -> 0.028005666 | H4: =INTERCEPT(n_data!C9:J9,n_data!C$5:J$5) -> 1.8112407 | I4: =SLOPE(n_data!C9:J9,n_data!C$5:J$5) -> -0.0041066091 | J4: =RSQ(n_data!C9:J9,n_data!C$5:J$5) -> 0.86069574 | K4: =INTERCEPT(k_data!C9:J9,k_data!C$5:J$5) -> 4.1660301e-07 | L4: =SLOPE(k_data!C9:J9,k_data!C$5:J$5) -> -1.6613455e-09 | M4: =RSQ(k_data!C9:J9,k_data!C$5:J$5) -> 0.019396786
A5: 4 | B5: =INTERCEPT(n_data!C10:J10,n_data!C$4:J$4) -> 1.5040249 | C5: =SLOPE(n_data!C10:J10,n_data!C$4:J$4) -> 0.16559272 | D5: =RSQ(n_data!C10:J10,n_data!C$4:J$4) -> 0.96341976 | E5: =INTERCEPT(k_data!C10:J10,k_data!C$4:J$4) -> 3.1067741e-07 | F5: =SLOPE(k_data!C10:J10,k_data!C$4:J$4) -> 8.1279581e-08 | G5: =RSQ(k_data!C10:J10,k_data!C$4:J$4) -> 0.027852275 | H5: =INTERCEPT(n_data!C10:J10,n_data!C$5:J$5) -> 1.8112117 | I5: =SLOPE(n_data!C10:J10,n_data!C$5:J$5) -> -0.0041064624 | J5: =RSQ(n_data!C10:J10,n_data!C$5:J$5) -> 0.86069372 | K5: =INTERCEPT(k_data!C10:J10,k_data!C$5:J$5) -> 4.4665039e-07 | L5: =SLOPE(k_data!C10:J10,k_data!C$5:J$5) -> -1.7742594e-09 | M5: =RSQ(k_data!C10:J10,k_data!C$5:J$5) -> 0.019280215
A6: 5 | B6: =INTERCEPT(n_data!C11:J11,n_data!C$4:J$4) -> 1.5040069 | C6: =SLOPE(n_data!C11:J11,n_data!C$4:J$4) -> 0.16558523 | D6: =RSQ(n_data!C11:J11,n_data!C$4:J$4) -> 0.96340237 | E6: =INTERCEPT(k_data!C11:J11,k_data!C$4:J$4) -> 3.3288815e-07 | F6: =SLOPE(k_data!C11:J11,k_data!C$4:J$4) -> 8.7285227e-08 | G6: =RSQ(k_data!C11:J11,k_data!C$4:J$4) -> 0.027985091 | H6: =INTERCEPT(n_data!C11:J11,n_data!C$5:J$5) -> 1.8111817 | I6: =SLOPE(n_data!C11:J11,n_data!C$5:J$5) -> -0.0041063086 | J6: =RSQ(n_data!C11:J11,n_data!C$5:J$5) -> 0.86069161 | K6: =INTERCEPT(k_data!C11:J11,k_data!C$5:J$5) -> 4.7912609e-07 | L6: =SLOPE(k_data!C11:J11,k_data!C$5:J$5) -> -1.9089122e-09 | M6: =RSQ(k_data!C11:J11,k_data!C$5:J$5) -> 0.019444511
A7: 6 | B7: =INTERCEPT(n_data!C12:J12,n_data!C$4:J$4) -> 1.5039885 | C7: =SLOPE(n_data!C12:J12,n_data!C$4:J$4) -> 0.16557761 | D7: =RSQ(n_data!C12:J12,n_data!C$4:J$4) -> 0.96338483 | E7: =INTERCEPT(k_data!C12:J12,k_data!C$4:J$4) -> 3.561354e-07 | F7: =SLOPE(k_data!C12:J12,k_data!C$4:J$4) -> 9.3434604e-08 | G7: =RSQ(k_data!C12:J12,k_data!C$4:J$4) -> 0.028019658 | H7: =INTERCEPT(n_data!C12:J12,n_data!C$5:J$5) -> 1.8111511 | I7: =SLOPE(n_data!C12:J12,n_data!C$5:J$5) -> -0.0041061523 | J7: =RSQ(n_data!C12:J12,n_data!C$5:J$5) -> 0.86068965 | K7: =INTERCEPT(k_data!C12:J12,k_data!C$5:J$5) -> 5.1256261e-07 | L7: =SLOPE(k_data!C12:J12,k_data!C$5:J$5) -> -2.0415492e-09 | M7: =RSQ(k_data!C12:J12,k_data!C$5:J$5) -> 0.019433315
A8: 7 | B8: =INTERCEPT(n_data!C13:J13,n_data!C$4:J$4) -> 1.5039697 | C8: =SLOPE(n_data!C13:J13,n_data!C$4:J$4) -> 0.16556976 | D8: =RSQ(n_data!C13:J13,n_data!C$4:J$4) -> 0.96336641 | E8: =INTERCEPT(k_data!C13:J13,k_data!C$4:J$4) -> 3.8036203e-07 | F8: =SLOPE(k_data!C13:J13,k_data!C$4:J$4) -> 9.9904359e-08 | G8: =RSQ(k_data!C13:J13,k_data!C$4:J$4) -> 0.028049041 | H8: =INTERCEPT(n_data!C13:J13,n_data!C$5:J$5) -> 1.8111198 | I8: =SLOPE(n_data!C13:J13,n_data!C$5:J$5) -> -0.0041059911 | J8: =RSQ(n_data!C13:J13,n_data!C$5:J$5) -> 0.86068724 | K8: =INTERCEPT(k_data!C13:J13,k_data!C$5:J$5) -> 5.4760444e-07 | L8: =SLOPE(k_data!C13:J13,k_data!C$5:J$5) -> -2.1826462e-09 | M8: =RSQ(k_data!C13:J13,k_data!C$5:J$5) -> 0.019448931
A9: 8 | B9: =INTERCEPT(n_data!C14:J14,n_data!C$4:J$4) -> 1.5039504 | C9: =SLOPE(n_data!C14:J14,n_data!C$4:J$4) -> 0.1655618 | D9: =RSQ(n_data!C14:J14,n_data!C$4:J$4) -> 0.96334774 | E9: =INTERCEPT(k_data!C14:J14,k_data!C$4:J$4) -> 4.0579368e-07 | F9: =SLOPE(k_data!C14:J14,k_data!C$4:J$4) -> 1.0647331e-07 | G9: =RSQ(k_data!C14:J14,k_data!C$4:J$4) -> 0.027989226 | H9: =INTERCEPT(n_data!C14:J14,n_data!C$5:J$5) -> 1.8110878 | I9: =SLOPE(n_data!C14:J14,n_data!C$5:J$5) -> -0.0041058279 | J9: =RSQ(n_data!C14:J14,n_data!C$5:J$5) -> 0.86068487 | K9: =INTERCEPT(k_data!C14:J14,k_data!C$5:J$5) -> 5.8400021e-07 | L9: =SLOPE(k_data!C14:J14,k_data!C$5:J$5) -> -2.3256312e-09 | M9: =RSQ(k_data!C14:J14,k_data!C$5:J$5) -> 0.019398623
A10: 9 | B10: =INTERCEPT(n_data!C15:J15,n_data!C$4:J$4) -> 1.5039307 | C10: =SLOPE(n_data!C15:J15,n_data!C$4:J$4) -> 0.16555362 | D10: =RSQ(n_data!C15:J15,n_data!C$4:J$4) -> 0.9633288 | E10: =INTERCEPT(k_data!C15:J15,k_data!C$4:J$4) -> 4.3233625e-07 | F10: =SLOPE(k_data!C15:J15,k_data!C$4:J$4) -> 1.1345709e-07 | G10: =RSQ(k_data!C15:J15,k_data!C$4:J$4) -> 0.028026043 | H10: =INTERCEPT(n_data!C15:J15,n_data!C$5:J$5) -> 1.8110552 | I10: =SLOPE(n_data!C15:J15,n_data!C$5:J$5) -> -0.0041056608 | J10: =RSQ(n_data!C15:J15,n_data!C$5:J$5) -> 0.86068294 | K10: =INTERCEPT(k_data!C15:J15,k_data!C$5:J$5) -> 6.2222699e-07 | L10: =SLOPE(k_data!C15:J15,k_data!C$5:J$5) -> -2.4780974e-09 | M10: =RSQ(k_data!C15:J15,k_data!C$5:J$5) -> 0.019422948
A11: 10 | B11: =INTERCEPT(n_data!C16:J16,n_data!C$4:J$4) -> 1.5039105 | C11: =SLOPE(n_data!C16:J16,n_data!C$4:J$4) -> 0.16554539 | D11: =RSQ(n_data!C16:J16,n_data!C$4:J$4) -> 0.96330928 | E11: =INTERCEPT(k_data!C16:J16,k_data!C$4:J$4) -> 4.6002753e-07 | F11: =SLOPE(k_data!C16:J16,k_data!C$4:J$4) -> 1.2040349e-07 | G11: =RSQ(k_data!C16:J16,k_data!C$4:J$4) -> 0.027870922 | H11: =INTERCEPT(n_data!C16:J16,n_data!C$5:J$5) -> 1.811022 | I11: =SLOPE(n_data!C16:J16,n_data!C$5:J$5) -> -0.0041054928 | J11: =RSQ(n_data!C16:J16,n_data!C$5:J$5) -> 0.86068066 | K11: =INTERCEPT(k_data!C16:J16,k_data!C$5:J$5) -> 6.6156356e-07 | L11: =SLOPE(k_data!C16:J16,k_data!C$5:J$5) -> -2.6301323e-09 | M11: =RSQ(k_data!C16:J16,k_data!C$5:J$5) -> 0.01932005
A12: 11 | B12: =INTERCEPT(n_data!C17:J17,n_data!C$4:J$4) -> 1.50389 | C12: =SLOPE(n_data!C17:J17,n_data!C$4:J$4) -> 0.16553692 | D12: =RSQ(n_data!C17:J17,n_data!C$4:J$4) -> 0.96328945 | E12: =INTERCEPT(k_data!C17:J17,k_data!C$4:J$4) -> 4.8880977e-07 | F12: =SLOPE(k_data!C17:J17,k_data!C$4:J$4) -> 1.2809835e-07 | G12: =RSQ(k_data!C17:J17,k_data!C$4:J$4) -> 0.027933967 | H12: =INTERCEPT(n_data!C17:J17,n_data!C$5:J$5) -> 1.8109879 | I12: =SLOPE(n_data!C17:J17,n_data!C$5:J$5) -> -0.0041053188 | J12: =RSQ(n_data!C17:J17,n_data!C$5:J$5) -> 0.86067799 | K12: =INTERCEPT(k_data!C17:J17,k_data!C$5:J$5) -> 7.0336916e-07 | L12: =SLOPE(k_data!C17:J17,k_data!C$5:J$5) -> -2.800559e-09 | M12: =RSQ(k_data!C17:J17,k_data!C$5:J$5) -> 0.019396119
A13: 12 | B13: =INTERCEPT(n_data!C18:J18,n_data!C$4:J$4) -> 1.503869 | C13: =SLOPE(n_data!C18:J18,n_data!C$4:J$4) -> 0.1655282 | D13: =RSQ(n_data!C18:J18,n_data!C$4:J$4) -> 0.96326919 | E13: =INTERCEPT(k_data!C18:J18,k_data!C$4:J$4) -> 5.1881507e-07 | F13: =SLOPE(k_data!C18:J18,k_data!C$4:J$4) -> 1.3594639e-07 | G13: =RSQ(k_data!C18:J18,k_data!C$4:J$4) -> 0.027936471 | H13: =INTERCEPT(n_data!C18:J18,n_data!C$5:J$5) -> 1.8109531 | I13: =SLOPE(n_data!C18:J18,n_data!C$5:J$5) -> -0.0041051396 | J13: =RSQ(n_data!C18:J18,n_data!C$5:J$5) -> 0.86067544 | K13: =INTERCEPT(k_data!C18:J18,k_data!C$5:J$5) -> 7.4643331e-07 | L13: =SLOPE(k_data!C18:J18,k_data!C$5:J$5) -> -2.9707307e-09 | M13: =RSQ(k_data!C18:J18,k_data!C$5:J$5) -> 0.019379502
... A1934: 1933 | B1934: =INTERCEPT(n_data!C1939:J1939,n_data!C$4:J$4) -> 1.5934129 | C1934: =SLOPE(n_data!C1939:J1939,n_data!C$4:J$4) -> 1.4637588 | D1934: =RSQ(n_data!C1939:J1939,n_data!C$4:J$4) -> 0.5837376 | E1934: =INTERCEPT(k_data!C1939:J1939,k_data!C$4:J$4) -> 0.57118316 | F1934: =SLOPE(k_data!C1939:J1939,k_data!C$4:J$4) -> 0.85837922 | G1934: =RSQ(k_data!C1939:J1939,k_data!C$4:J$4) -> 0.53354633 | H1934: =INTERCEPT(n_data!C1939:J1939,n_data!C$5:J$5) -> 4.4547891 | I1934: =SLOPE(n_data!C1939:J1939,n_data!C$5:J$5) -> -0.038678946 | J1934: =RSQ(n_data!C1939:J1939,n_data!C$5:J$5) -> 0.59211731 | K1934: =INTERCEPT(k_data!C1939:J1939,k_data!C$5:J$5) -> 1.9682837 | L1934: =SLOPE(k_data!C1939:J1939,k_data!C$5:J$5) -> -0.018103772 | M1934: =RSQ(k_data!C1939:J1939,k_data!C$5:J$5) -> 0.34477184

Sheet n_data
A1: Refractive index data from Reed et al. 2018
C2: Eyjafjallajökull (a) | D2: Askja | E2: Eyjafjallajökull (b) | F2: Nisyros | G2: Tongariro | H2: Grímsvötn (b) | I2: Aso | J2: Spurr
B3: j | C3: VA7 | D3: VA17 | E3: VA15 | F3: VA19 | G3: VA16 | H3: VA4 | I3: VA1 | J3: VA22
B4: 1 | C4: 0.38 | D4: 0.13 | E4: 0.4 | F4: 0.05 | G4: 0.17 | H4: 0.75 | I4: 0.43 | J4: 0.36
B5: 2 | C5: 60.004513 | D5: 72.353859 | E5: 58.845542 | F5: 74.159186 | G5: 64.129856 | H5: 50.334282 | I5: 54.960026 | J5: 55.990673
A6: i | B6: l | C6: VA7_n | D6: VA17_n | E6: VA15_n | F6: VA19_n | G6: VA16_n | H6: VA4_n | I6: VA1_n | J6: VA22_n
A7: 1 | B7: 0.4 | C7: 1.5611382 | D7: 1.516091 | E7: 1.5611067 | F7: 1.5200913 | G7: 1.5370757 | H7: 1.6321074 | I7: 1.5770854 | J7: 1.570106
A8: 2 | B8: 0.41 | C8: 1.5611119 | D8: 1.5160737 | E8: 1.5610864 | F8: 1.5200739 | G8: 1.5370612 | H8: 1.6320869 | I8: 1.5770691 | J8: 1.5700859
A9: 3 | B9: 0.42 | C9: 1.5610849 | D9: 1.5160559 | E9: 1.5610655 | F9: 1.5200561 | G9: 1.5370464 | H9: 1.6320659 | I9: 1.5770525 | J9: 1.5700652
A10: 4 | B10: 0.43 | C10: 1.5610572 | D10: 1.5160377 | E10: 1.5610442 | F10: 1.5200378 | G10: 1.5370313 | H10: 1.6320445 | I10: 1.5770354 | J10: 1.570044
A11: 5 | B11: 0.44 | C11: 1.5610289 | D11: 1.5160191 | E11: 1.5610223 | F11: 1.5200191 | G11: 1.5370158 | H11: 1.6320225 | I11: 1.5770179 | J11: 1.5700223
A12: 6 | B12: 0.45 | C12: 1.561 | D12: 1.5160001 | E12: 1.561 | F12: 1.52 | G12: 1.5369999 | H12: 1.632 | I12: 1.5770001 | J12: 1.5700001
A13: 7 | B13: 0.46 | C13: 1.5609704 | D13: 1.5159806 | E13: 1.5609771 | F13: 1.5199805 | G13: 1.5369837 | H13: 1.631977 | I13: 1.5769818 | J13: 1.5699774
A14: 8 | B14: 0.47 | C14: 1.5609401 | D14: 1.5159607 | E14: 1.5609537 | F14: 1.5199605 | G14: 1.5369671 | H14: 1.6319535 | I14: 1.5769631 | J14: 1.5699542
A15: 9 | B15: 0.48 | C15: 1.5609092 | D15: 1.5159403 | E15: 1.5609299 | F15: 1.5199401 | G15: 1.5369501 | H15: 1.6319294 | I15: 1.576944 | J15: 1.5699305
A16: 10 | B16: 0.49 | C16: 1.5608776 | D16: 1.5159195 | E16: 1.5609055 | F16: 1.5199192 | G16: 1.5369328 | H16: 1.6319049 | I16: 1.5769245 | J16: 1.5699063
A17: 11 | B17: 0.5 | C17: 1.5608454 | D17: 1.5158983 | E17: 1.5608806 | F17: 1.5198979 | G17: 1.5369152 | H17: 1.6318799 | I17: 1.5769046 | J17: 1.5698815
A18: 12 | B18: 0.51 | C18: 1.5608125 | D18: 1.5158767 | E18: 1.5608552 | F18: 1.5198762 | G18: 1.5368971 | H18: 1.6318543 | I18: 1.5768843 | J18: 1.5698563
... A1939: 1933 | B1939: 18.94 | C1939: 2.2343897 | D1939: 1.8896379 | E1939: 2.4971589 | F1939: 1.3574233 | G1939: 1.8011749 | H1939: 2.5152547 | I1939: 1.8645746 | J1939: 2.4959253

Sheet k_data
A1: Refractive index data from Reed et al. 2018
C2: Eyjafjallajökull (a) | D2: Askja | E2: Eyjafjallajökull (b) | F2: Nisyros | G2: Tongariro | H2: Grímsvötn (b) | I2: Aso | J2: Spurr
B3: j | C3: VA7 | D3: VA17 | E3: VA15 | F3: VA19 | G3: VA16 | H3: VA4 | I3: VA1 | J3: VA22
B4: 1 | C4: 0.38 | D4: 0.13 | E4: 0.4 | F4: 0.05 | G4: 0.17 | H4: 0.75 | I4: 0.43 | J4: 0.36
B5: 2 | C5: 60.004513 | D5: 72.353859 | E5: 58.845542 | F5: 74.159186 | G5: 64.129856 | H5: 50.334282 | I5: 54.960026 | J5: 55.990673
A6: i | B6: l | C6: VA7_k | D6: VA17_k | E6: VA15_k | F6: VA19_k | G6: VA16_k | H6: VA4_k | I6: VA1_k | J6: VA22_k
A7: 1 | B7: 0.4 | C7: 4.0699542e-07 | D7: 2.5288109e-07 | E7: 2.2051705e-07 | F7: 2.6697625e-07 | G7: 1.8250121e-07 | H7: 2.8662956e-07 | I7: 1.7313585e-07 | J7: 3.848425e-07
A8: 2 | B8: 0.41 | C8: 4.382563e-07 | D8: 2.7232866e-07 | E8: 2.3748543e-07 | F8: 2.8778922e-07 | G8: 1.9712383e-07 | H8: 3.0863755e-07 | I8: 1.8611544e-07 | J8: 4.1456305e-07
A9: 3 | B9: 0.42 | C9: 4.7145164e-07 | D9: 2.9276137e-07 | E9: 2.5506679e-07 | F9: 3.0935615e-07 | G9: 2.1126042e-07 | H9: 3.3186462e-07 | I9: 1.9992006e-07 | J9: 4.4579134e-07
A10: 4 | B10: 0.43 | C10: 5.0576218e-07 | D10: 3.1434034e-07 | E10: 2.7395452e-07 | F10: 3.3219899e-07 | G10: 2.2696773e-07 | H10: 3.5607228e-07 | I10: 2.149076e-07 | J10: 4.782321e-07
A11: 5 | B11: 0.44 | C11: 5.4200093e-07 | D11: 3.3684535e-07 | E11: 2.9351884e-07 | F11: 3.5576035e-07 | G11: 2.4348698e-07 | H11: 3.8165595e-07 | I11: 2.3036636e-07 | J11: 5.1252197e-07
A12: 6 | B12: 0.45 | C12: 5.7980646e-07 | D12: 3.6041101e-07 | E12: 3.1398695e-07 | F12: 3.8078226e-07 | G12: 2.6023759e-07 | H12: 4.0835707e-07 | I12: 2.4665811e-07 | J12: 5.4831414e-07
A13: 7 | B13: 0.46 | C13: 6.1942964e-07 | D13: 3.848425e-07 | E13: 3.3552439e-07 | F13: 4.0672255e-07 | G13: 2.7797756e-07 | H13: 4.3622497e-07 | I13: 2.6320698e-07 | J13: 5.8571231e-07
A14: 8 | B14: 0.47 | C14: 6.6087952e-07 | D14: 4.1052631e-07 | E14: 3.5793817e-07 | F14: 4.3392836e-07 | G14: 2.9652936e-07 | H14: 4.6528861e-07 | I14: 2.8075939e-07 | J14: 6.2478349e-07
A15: 9 | B15: 0.48 | C15: 7.0399116e-07 | D15: 4.3749566e-07 | E15: 3.8136494e-07 | F15: 4.6217628e-07 | G15: 3.1610136e-07 | H15: 4.9578562e-07 | I15: 2.9913872e-07 | J15: 6.6556667e-07
A16: 10 | B16: 0.49 | C16: 7.4892234e-07 | D16: 4.6552716e-07 | E16: 4.0562921e-07 | F16: 4.9173832e-07 | G16: 3.3618552e-07 | H16: 5.2725691e-07 | I16: 3.1820173e-07 | J16: 7.0823637e-07
A17: 11 | B17: 0.5 | C17: 7.959229e-07 | D17: 4.944402e-07 | E17: 4.3110478e-07 | F17: 5.2260393e-07 | G17: 3.5731729e-07 | H17: 5.6033122e-07 | I17: 3.3816116e-07 | J17: 7.5261928e-07
A18: 12 | B18: 0.51 | C18: 8.4477888e-07 | D18: 5.2493557e-07 | E18: 4.575894e-07 | F18: 5.5455548e-07 | G18: 3.7932164e-07 | H18: 5.9474117e-07 | I18: 3.5886748e-07 | J18: 7.987078e-07
... A1939: 1933 | B1939: 18.94 | C1939: 0.8961013 | D1939: 0.71843118 | E1939: 0.87712035 | F1939: 0.68745053 | G1939: 0.71368737 | H1939: 1.2482111 | I1939: 1.2095232 | J1939: 0.51081279
