Workbook

Sheet Ferric-ferrous calcualtion
B1: PASTE VALUES ONLY HERE:
B2: BULK ANALYSES – VOLATILE-FREE | O2: GLASS ANALYSES – VOLATILE-FREE
A3: Sample name | B3: Askja | C3: Aso | D3: Augustine | E3: Chaitén | F3: Etna | G3: Eyjafjallajökull (a) | H3: Eyjafjallajökull (b) | I3: Grímsvötn (a) | J3: Grímsvötn (b) | K3: Nisyros | L3: Okmok | M3: Spurr | N3: Tongariro | O3: Askja | P3: Aso | Q3: Augustine | R3: Chaitén | S3: Etna | T3: Eyjafjallajökull (a) | U3: Eyjafjallajökull (b) | V3: Grímsvötn (a) | W3: Nisyros | X3: Okmok | Y3: Spurr | Z3: Tongariro
A4: SiO2 | B4: 72.353859 | C4: 54.960026 | D4: 62.864092 | E4: 74.904927 | F4: 48.037112 | G4: 60.004513 | H4: 58.845542 | I4: 50.583939 | J4: 50.334282 | K4: 74.159185 | L4: 53.234098 | M4: 55.990673 | N4: 64.129856 | O4: 73.685495 | P4: 55.901969 | Q4: 66.197264 | R4: 73.697943 | S4: 50.915159 | T4: 66.426313 | U4: 64.253595 | V4: 51.301323 | W4: 72.197316 | X4: 55.185153 | Y4: 50.210232 | Z4: 58.177617
A5: TiO2 | B5: 0.86034973 | C5: 0.85090983 | D5: 0.62382948 | E5: 0.15683853 | F5: 1.7889868 | G5: 1.3145429 | H5: 1.4607421 | I5: 2.8133184 | J5: 2.9081021 | K5: 0.33284403 | L5: 1.2183993 | M5: 0.72946287 | N5: 0.70497627 | O5: 0.76978295 | P5: 0.95618996 | Q5: 0.23872459 | R5: 0.11460863 | S5: 2.0182477 | T5: 0.92592555 | U5: 1.1802111 | V5: 2.7955298 | W5: 0.2315536 | X5: 1.6778636 | Y5: 0.10430578 | Z5: 0.16000354
A6: Al2O3 | B6: 12.575199 | C6: 18.303787 | D6: 16.58386 | E6: 14.149249 | F6: 17.80468 | G6: 14.677067 | H6: 14.963644 | I6: 13.589756 | J6: 13.57742 | K6: 14.006772 | L6: 16.753663 | M6: 18.955181 | N6: 17.720548 | O6: 12.791784 | P6: 19.231912 | Q6: 19.935147 | R6: 15.495564 | S6: 16.642935 | T6: 14.139017 | U6: 14.811778 | V6: 13.369461 | W6: 16.339281 | X6: 14.103514 | Y6: 29.526292 | Z6: 25.546024
A7: ∑Fe2O3 | B7: 4.0117087 | C7: 7.9452725 | D7: 5.0820222 | E7: 1.4702817 | F7: 10.434904 | G7: 8.2176921 | H7: 8.5053454 | I7: 13.459788 | J7: 13.705235 | K7: 2.2411647 | L7: 9.8435544 | M7: 7.2623398 | N7: 6.4087664
A8: ∑FeO | O8: 3.2377979 | P8: 7.1467579 | Q8: 1.2939556 | R8: 1.0885561 | S8: 10.248726 | T8: 5.9266252 | U8: 6.5168202 | V8: 13.328402 | W8: 1.4778846 | X8: 11.82287 | Y8: 1.5622466 | Z8: 1.0823514
A9: MnO | B9: 0.11304586 | C9: 0.12641505 | D9: 0.11097777 | E9: 0.063309654 | F9: 0.17455443 | G9: 0.21558446 | H9: 0.20901469 | I9: 0.21207485 | J9: 0.21833943 | K9: 0.095774888 | L9: 0.18628717 | M9: 0.15317815 | N9: 0.069757679 | O9: 0.098699247 | P9: 0.14681032 | Q9: 0.037460435 | R9: 0.063327655 | S9: 0.23522704 | T9: 0.18049464 | U9: 0.1764466 | V9: 0.23456734 | W9: 0.052890635 | X9: 0.21796726 | Y9: 0.041373809 | Z9: 0.026240191
A10: MgO | B10: 0.8640375 | C10: 3.476101 | D10: 3.1039825 | E10: 0.34711894 | F10: 5.2826529 | G10: 2.9287761 | H10: 3.3169776 | I10: 5.5727397 | J10: 5.324179 | K10: 1.0225094 | L10: 5.151048 | M10: 4.4486149 | N10: 2.137798 | O10: 0.60213912 | P10: 2.2166492 | Q10: 0.20275818 | R10: 0.22388827 | S10: 3.2986549 | T10: 0.65392243 | U10: 1.0013463 | V10: 5.5576307 | W10: 0.14508837 | X10: 4.0348311 | Y10: 1.4413382 | Z10: 0.29729325
A11: CaO | B11: 2.6226286 | C11: 8.5514348 | D11: 6.4825108 | E11: 1.5402883 | F11: 10.081873 | G11: 4.473864 | H11: 5.0144999 | I11: 9.9439559 | J11: 9.8637205 | K11: 1.5897247 | L11: 9.3279808 | M11: 7.6292176 | N11: 4.6639587 | O11: 2.457868 | P11: 8.6857243 | Q11: 6.4890205 | R11: 2.3080483 | S11: 7.4710137 | T11: 1.9759756 | U11: 3.0111404 | V11: 9.8134312 | W11: 3.1360522 | X11: 8.0481616 | Y11: 13.924494 | Z11: 9.6705139
A12: Na2O | B12: 4.0521055 | C12: 2.7657855 | D12: 3.9197628 | E12: 4.2768731 | F12: 3.6656975 | G12: 5.6386281 | H12: 5.3621153 | I12: 2.8680427 | J12: 2.8904097 | K12: 2.6460809 | L12: 3.2200495 | M12: 3.4766337 | N12: 2.3933072 | O12: 3.8141692 | P12: 3.2574287 | Q12: 4.2737805 | R12: 4.4026506 | S12: 4.5846488 | T12: 5.8414964 | U12: 5.5378624 | V12: 2.7539196 | W12: 3.0026054 | X12: 3.4134209 | Y12: 2.970937 | Z12: 3.803278
A13: K2O | B13: 2.373322 | C13: 1.6988482 | D13: 1.1033797 | E13: 3.024701 | F13: 2.0871127 | G13: 2.2829946 | H13: 2.0594326 | I13: 0.48804453 | J13: 0.4791973 | K13: 3.8031469 | L13: 0.88017913 | M13: 0.96228134 | N13: 1.3588243 | O13: 2.4059128 | P13: 2.1823866 | Q13: 1.2594699 | R13: 2.5624274 | S13: 3.8168271 | T13: 3.6964572 | U13: 3.1989445 | V13: 0.48261789 | W13: 3.3901412 | X13: 1.2133211 | Y13: 0.10709246 | Z13: 1.1496053
A14: P2O5 | B14: 0.1706722 | C14: 0.23880323 | D14: 0.12257443 | E14: 0.063344569 | F14: 0.58487675 | G14: 0.24023833 | H14: 0.25964445 | I14: 0.30502573 | J14: 0.31237717 | K14: 0.086749293 | L14: 0.18077748 | M14: 0.23543865 | N14: 0.14667307 | O14: 0.13635121 | P14: 0.27417175 | Q14: 0.072418628 | R14: 0.04298582 | S14: 0.76856144 | T14: 0.23377229 | U14: 0.31185495 | V14: 0.36311845 | W14: 0.027187842 | X14: 0.28289739 | Y14: 0.1116888 | Z14: 0.087072774
A15: SO3 | B15: 0.003072413 | C15: 1.0826176 | D15: 0.0030084939 | E15: 0.0030685298 | F15: 0.057550799 | G15: 0.0060990237 | H15: 0.0030419063 | I15: 0.16331489 | J15: 0.38673854 | K15: 0.016048044 | L15: 0.0039628008 | M15: 0.1569785 | N15: 0.26553448
A16: LOI | B16: 1.0223354 | C16: 2.8789734 | D16: 0.1614736 | E16: 1.3302487 | F16: -0.09 | G16: -0.076437016 | H16: -0.15758737 | I16: -0.92524896 | J16: -0.42114129 | K16: 4.8459973 | L16: -0.12669892 | M16: 0.51270743 | N16: 5.9578194
A17: Sum ex-LOI | B17: =SUM(B4:B15) -> 100 | C17: =SUM(C4:C15) -> 100 | D17: =SUM(D4:D15) -> 100 | E17: =SUM(E4:E15) -> 100 | F17: =SUM(F4:F15) -> 100 | G17: =SUM(G4:G15) -> 100 | H17: =SUM(H4:H15) -> 100 | I17: =SUM(I4:I15) -> 100 | ... Z17: =SUM(Z4:Z15) -> 100
B18: GET ROCK TYPE FROM TAS PLOT AND RATIO FROM MIDDLEMOST (1989) ON NEXT SHEET, AND ENTER HERE:
A19: Rock type | B19: Rhyolite | C19: Basaltic Andesite | D19: Andesite | E19: Rhyolite | F19: Trachybasalt | G19: Trachyandesite | H19: Trachyandesite | I19: Basalt | J19: Basalt | K19: Rhyolite | L19: Basaltic Andesite | M19: Basaltic Andesite | N19: Dacite | O19: Rhyolite | P19: Basaltic Andesite | Q19: Dacite | R19: Rhyolite | S19: Phonotephrite | T19: Trachydacite | U19: Trachydacite | V19: Basalt | W19: Rhyolite | X19: Basaltic Andesite | Y19: Basalt | Z19: Andesite
A20: f | B20: 0.5 | C20: 0.3 | D20: 0.35 | E20: 0.5 | F20: 0.3 | G20: 0.4 | H20: 0.4 | I20: 0.2 | J20: 0.2 | K20: 0.5 | L20: 0.3 | M20: 0.3 | N20: 0.4 | O20: 0.5 | P20: 0.3 | Q20: 0.4 | R20: 0.5 | S20: 0.35 | T20: 0.5 | U20: 0.5 | V20: 0.2 | W20: 0.5 | X20: 0.3 | Y20: 0.2 | Z20: 0.35
A22: If ∑Fe2O3, copy+paste these formulae into Fe2O3 and FeO | E22: HOW TO USE THE IRON OXIDATION RATIO WITH TOTAL IRON EXPRESSED AS Fe2O3 | J22: f = Fe2O3/FeO | K22: = Fe(3+) / Fe(2+) [ferric:ferrous ratio taken from literature]
A23: Fe2O3 | B23: =B$7-(1.1113*B$37) -> 1.2448671 | C23: =∑Fe2O3-(1.1113 x f) | F23: ∑Fe2O3 | G23: = FeO x α + Fe2O3
A24: FeO | B24: =B$7/(1.1113+B$20) -> 2.4897342 | C24: =∑Fe2O3/(1.1113+f) | F24: FeO in ∑Fe2O3 | G24: = ∑Fe2O3 / FeO x α + Fe2O3 = ∑Fe2O3 / FeO x α + FeO x f | J24: α = 1.1113 | K24: α = conversion factor for FeO --> Fe2O3
F25: Fe2O3 in ∑Fe2O3 | G25: = ∑Fe2O3 - FeO x α | J25: Fe2O3 = f x FeO
A27: If ∑FeO, copy+paste these formulae into Fe2O3 and FeO | E27: HOW TO USE THE IRON OXIDATION RATIO WITH TOTAL IRON EXPRESSED AS FeO
A28: Fe2O3 | B28: =B$8/(0.8998+(1/B$20)) -> 0 | C28: =∑FeO/0.8998+(1/f) | F28: ∑FeO | G28: = Fe2O3 x β + FeO
A29: FeO | B29: =B$8-(0.8998*B$36) -> -1.1201314 | C29: =∑FeO-(0.8998 x Fe2O3) | F29: Fe2O3 in ∑FeO | G29: = ∑FeO / Fe2O3 x β + FeO = ∑FeO / Fe2O3 x β + Fe2O3 x f | J29: β = 0.8998 | K29: β = conversion factor for Fe2O3 --> FeO
F30: FeO in ∑FeO | G30: = ∑FeO - Fe2O3 x β | J30: FeO = 1/f x Fe2O3
A32: Sample name | B32: =B3 -> Askja | C32: =C3 -> Aso | D32: =D3 -> Augustine | E32: =E3 -> Chaitén | F32: =F3 -> Etna | G32: =G3 -> Eyjafjallajökull (a) | H32: =H3 -> Eyjafjallajökull (b) | I32: =I3 -> Grímsvötn (a) | ... Z32: =Z3 -> Tongariro
A33: SiO2 | B33: =B4 -> 72.353859 | C33: =C4 -> 54.960026 | D33: =D4 -> 62.864092 | E33: =E4 -> 74.904927 | F33: =F4 -> 48.037112 | G33: =G4 -> 60.004513 | H33: =H4 -> 58.845542 | I33: =I4 -> 50.583939 | ... Z33: =Z4 -> 58.177617
A34: TiO2 | B34: =B5 -> 0.86034973 | C34: =C5 -> 0.85090983 | D34: =D5 -> 0.62382948 | E34: =E5 -> 0.15683853 | F34: =F5 -> 1.7889868 | G34: =G5 -> 1.3145429 | H34: =H5 -> 1.4607421 | I34: =I5 -> 2.8133184 | ... Z34: =Z5 -> 0.16000354
A35: Al2O3 | B35: =B6 -> 12.575199 | C35: =C6 -> 18.303787 | D35: =D6 -> 16.58386 | E35: =E6 -> 14.149249 | F35: =F6 -> 17.80468 | G35: =G6 -> 14.677067 | H35: =H6 -> 14.963644 | I35: =I6 -> 13.589756 | ... Z35: =Z6 -> 25.546024
A36: Paste here--> Fe2O3 | B36: =B$7-(1.1113*B$37) -> 1.2448671 | C36: =C$7-(1.1113*C$37) -> 1.6889263 | D36: =D$7-(1.1113*D$37) -> 1.2172092 | E36: =E$7-(1.1113*E$37) -> 0.45624084 | F36: =F$7-(1.1113*F$37) -> 2.2181472 | G36: =G$7-(1.1113*G$37) -> 2.1749996 | H36: =H$7-(1.1113*H$37) -> 2.2511336 | I36: =I$7-(1.1113*I$37) -> 2.0528922 | ... N36: =N$7-(1.1113*N$37) -> 1.6962261 | O36: =O$8/(0.8998+(1/O$20)) -> 1.1165591 | P36: =P$8/(0.8998+(1/P$20)) -> 1.6882903 | Q36: =Q$8/(0.8998+(1/Q$20)) -> 0.38059756 | R36: =R$8/(0.8998+(1/R$20)) -> 0.37539008 | S36: =S$8/(0.8998+(1/S$20)) -> 2.7279429 | T36: =T$8/(0.8998+(1/T$20)) -> 2.0438048 | U36: =U$8/(0.8998+(1/U$20)) -> 2.2473344 | V36: =V$8/(0.8998+(1/V$20)) -> 2.2591277 | ... Z36: =Z$8/(0.8998+(1/Z$20)) -> 0.28809366
A37: Paste here --> FeO | B37: =B$7/(1.1113+B$20) -> 2.4897342 | C37: =C$7/(1.1113+C$20) -> 5.6297545 | D37: =D$7/(1.1113+D$20) -> 3.4777405 | E37: =E$7/(1.1113+E$20) -> 0.91248168 | F37: =F$7/(1.1113+F$20) -> 7.393824 | G37: =G$7/(1.1113+G$20) -> 5.4374989 | H37: =H$7/(1.1113+H$20) -> 5.6278339 | I37: =I$7/(1.1113+I$20) -> 10.264461 | ... N37: =N$7/(1.1113+N$20) -> 4.2405654 | O37: =O$8-(0.8998*O$36) -> 2.2331181 | P37: =P$8-(0.8998*P$36) -> 5.6276343 | Q37: =Q$8-(0.8998*Q$36) -> 0.95149389 | R37: =R$8-(0.8998*R$36) -> 0.75078016 | S37: =S$8-(0.8998*S$36) -> 7.7941225 | T37: =T$8-(0.8998*T$36) -> 4.0876097 | U37: =U$8-(0.8998*U$36) -> 4.4946687 | V37: =V$8-(0.8998*V$36) -> 11.295639 | ... Z37: =Z$8-(0.8998*Z$36) -> 0.82312475
A38: MnO | B38: =B9 -> 0.11304586 | C38: =C9 -> 0.12641505 | D38: =D9 -> 0.11097777 | E38: =E9 -> 0.063309654 | F38: =F9 -> 0.17455443 | G38: =G9 -> 0.21558446 | H38: =H9 -> 0.20901469 | I38: =I9 -> 0.21207485 | ... Z38: =Z9 -> 0.026240191
A39: MgO | B39: =B10 -> 0.8640375 | C39: =C10 -> 3.476101 | D39: =D10 -> 3.1039825 | E39: =E10 -> 0.34711894 | F39: =F10 -> 5.2826529 | G39: =G10 -> 2.9287761 | H39: =H10 -> 3.3169776 | I39: =I10 -> 5.5727397 | ... Z39: =Z10 -> 0.29729325
A40: CaO | B40: =B11 -> 2.6226286 | C40: =C11 -> 8.5514348 | D40: =D11 -> 6.4825108 | E40: =E11 -> 1.5402883 | F40: =F11 -> 10.081873 | G40: =G11 -> 4.473864 | H40: =H11 -> 5.0144999 | I40: =I11 -> 9.9439559 | ... Z40: =Z11 -> 9.6705139
A41: Na2O | B41: =B12 -> 4.0521055 | C41: =C12 -> 2.7657855 | D41: =D12 -> 3.9197628 | E41: =E12 -> 4.2768731 | F41: =F12 -> 3.6656975 | G41: =G12 -> 5.6386281 | H41: =H12 -> 5.3621153 | I41: =I12 -> 2.8680427 | ... Z41: =Z12 -> 3.803278
A42: K2O | B42: =B13 -> 2.373322 | C42: =C13 -> 1.6988482 | D42: =D13 -> 1.1033797 | E42: =E13 -> 3.024701 | F42: =F13 -> 2.0871127 | G42: =G13 -> 2.2829946 | H42: =H13 -> 2.0594326 | I42: =I13 -> 0.48804453 | ... Z42: =Z13 -> 1.1496053
A43: P2O5 | B43: =B14 -> 0.1706722 | C43: =C14 -> 0.23880323 | D43: =D14 -> 0.12257443 | E43: =E14 -> 0.063344569 | F43: =F14 -> 0.58487675 | G43: =G14 -> 0.24023833 | H43: =H14 -> 0.25964445 | I43: =I14 -> 0.30502573 | ... Z43: =Z14 -> 0.087072774
...

Sheet FeOx ratios
A1: Middlemost, E. A. K. (1989). Iron oxidation ratios, norms and the classification of volcanic rocks. Chemical Geology, 77(1), 19–26. https://doi.org/10.1016/0009-2541(89)90011-9
A2: Suggested iron oxidation ratios
A3: Rock type | B3: Ratio
A4: Foidite | B4: 0.15–0.40
A5: Picrobasalt | B5: 0.15
A6: Basanite/Tephrite | B6: 0.20–0.30
A7: Basalt | B7: 0.2
A8: Trachybasalt | B8: 0.3
A9: Basaltic Andesite | B9: 0.3
A10: Phonotephrite | B10: 0.35
A11: Basaltic Trachyandesite | B11: 0.35
A12: Andesite | B12: 0.35
A13: Tephriphonolite | B13: 0.4
A14: Trachyandesite | B14: 0.4
A15: Dacite | B15: 0.4
A16: Phonolite | B16: 0.5
A17: Trachyte/Trachydacite | B17: 0.5
A18: Rhyolite | B18: 0.5

Sheet NBO-T calculation
A1: Sample name | B1: Askja | C1: Aso | D1: Augustine | E1: Chaitén | F1: Etna | G1: Eyjafjallajökull (a) | H1: Eyjafjallajökull (b) | I1: Grímsvötn (a) | J1: Grímsvötn (b) | K1: Nisyros | L1: Okmok | M1: Spurr | N1: Tongariro | O1: Askja | P1: Aso | Q1: Augustine | R1: Chaitén | S1: Etna | T1: Eyjafjallajökull (a) | U1: Eyjafjallajökull (b) | V1: Grímsvötn (a) | W1: Nisyros | X1: Okmok | Y1: Spurr | Z1: Tongariro
A2: SiO2 | B2: 72.353859 | C2: 54.960026 | D2: 62.864092 | E2: 74.904927 | F2: 48.037112 | G2: 60.004513 | H2: 58.845542 | I2: 50.583939 | J2: 50.334282 | K2: 74.159185 | L2: 53.234098 | M2: 55.990673 | N2: 64.129856 | O2: 73.685495 | P2: 55.901969 | Q2: 66.197264 | R2: 73.697943 | S2: 50.915159 | T2: 66.426313 | U2: 64.253595 | V2: 51.301323 | W2: 72.197316 | X2: 55.185153 | Y2: 50.210232 | Z2: 58.177617
A3: TiO2 | B3: 0.86034973 | C3: 0.85090983 | D3: 0.62382948 | E3: 0.15683853 | F3: 1.7889868 | G3: 1.3145429 | H3: 1.4607421 | I3: 2.8133184 | J3: 2.9081021 | K3: 0.33284403 | L3: 1.2183993 | M3: 0.72946287 | N3: 0.70497627 | O3: 0.76978295 | P3: 0.95618996 | Q3: 0.23872459 | R3: 0.11460863 | S3: 2.0182477 | T3: 0.92592555 | U3: 1.1802111 | V3: 2.7955298 | W3: 0.2315536 | X3: 1.6778636 | Y3: 0.10430578 | Z3: 0.16000354
A4: Al2O3 | B4: 12.575199 | C4: 18.303787 | D4: 16.58386 | E4: 14.149249 | F4: 17.80468 | G4: 14.677067 | H4: 14.963644 | I4: 13.589756 | J4: 13.57742 | K4: 14.006772 | L4: 16.753663 | M4: 18.955181 | N4: 17.720548 | O4: 12.791784 | P4: 19.231912 | Q4: 19.935147 | R4: 15.495564 | S4: 16.642935 | T4: 14.139017 | U4: 14.811778 | V4: 13.369461 | W4: 16.339281 | X4: 14.103514 | Y4: 29.526292 | Z4: 25.546024
A5: Fe2O3 | B5: 1.2448671 | C5: 1.6889263 | D5: 1.2172092 | E5: 0.45624084 | F5: 2.2181472 | G5: 2.1749996 | H5: 2.2511336 | I5: 2.0528922 | J5: 2.0903279 | K5: 0.69545233 | L5: 2.0924441 | M5: 1.5437554 | N5: 1.6962261 | O5: 1.1165591 | P5: 1.6882903 | Q5: 0.38059756 | R5: 0.37539008 | S5: 2.7279429 | T5: 2.0438048 | U5: 2.2473344 | V5: 2.2591277 | W5: 0.50965052 | X5: 2.7929359 | Y5: 0.26479653 | Z5: 0.28809366
A6: FeO | B6: 2.4897342 | C6: 5.6297545 | D6: 3.4777405 | E6: 0.91248168 | F6: 7.393824 | G6: 5.4374989 | H6: 5.6278339 | I6: 10.264461 | J6: 10.451639 | K6: 1.3909047 | L6: 6.9748136 | M6: 5.1458512 | N6: 4.2405654 | O6: 2.2331181 | P6: 5.6276343 | Q6: 0.95149389 | R6: 0.75078016 | S6: 7.7941225 | T6: 4.0876097 | U6: 4.4946687 | V6: 11.295639 | W6: 1.019301 | X6: 9.3097864 | Y6: 1.3239826 | Z6: 0.82312475
A7: MnO | B7: 0.11304586 | C7: 0.12641505 | D7: 0.11097777 | E7: 0.063309654 | F7: 0.17455443 | G7: 0.21558446 | H7: 0.20901469 | I7: 0.21207485 | J7: 0.21833943 | K7: 0.095774888 | L7: 0.18628717 | M7: 0.15317815 | N7: 0.069757679 | O7: 0.098699247 | P7: 0.14681032 | Q7: 0.037460435 | R7: 0.063327655 | S7: 0.23522704 | T7: 0.18049464 | U7: 0.1764466 | V7: 0.23456734 | W7: 0.052890635 | X7: 0.21796726 | Y7: 0.041373809 | Z7: 0.026240191
A8: MgO | B8: 0.8640375 | C8: 3.476101 | D8: 3.1039825 | E8: 0.34711894 | F8: 5.2826529 | G8: 2.9287761 | H8: 3.3169776 | I8: 5.5727397 | J8: 5.324179 | K8: 1.0225094 | L8: 5.151048 | M8: 4.4486149 | N8: 2.137798 | O8: 0.60213912 | P8: 2.2166492 | Q8: 0.20275818 | R8: 0.22388827 | S8: 3.2986549 | T8: 0.65392243 | U8: 1.0013463 | V8: 5.5576307 | W8: 0.14508837 | X8: 4.0348311 | Y8: 1.4413382 | Z8: 0.29729325
A9: CaO | B9: 2.6226286 | C9: 8.5514348 | D9: 6.4825108 | E9: 1.5402883 | F9: 10.081873 | G9: 4.473864 | H9: 5.0144999 | I9: 9.9439559 | J9: 9.8637205 | K9: 1.5897247 | L9: 9.3279808 | M9: 7.6292176 | N9: 4.6639587 | O9: 2.457868 | P9: 8.6857243 | Q9: 6.4890205 | R9: 2.3080483 | S9: 7.4710137 | T9: 1.9759756 | U9: 3.0111404 | V9: 9.8134312 | W9: 3.1360522 | X9: 8.0481616 | Y9: 13.924494 | Z9: 9.6705139
A10: Na2O | B10: 4.0521055 | C10: 2.7657855 | D10: 3.9197628 | E10: 4.2768731 | F10: 3.6656975 | G10: 5.6386281 | H10: 5.3621153 | I10: 2.8680427 | J10: 2.8904097 | K10: 2.6460809 | L10: 3.2200495 | M10: 3.4766337 | N10: 2.3933072 | O10: 3.8141692 | P10: 3.2574287 | Q10: 4.2737805 | R10: 4.4026506 | S10: 4.5846488 | T10: 5.8414964 | U10: 5.5378624 | V10: 2.7539196 | W10: 3.0026054 | X10: 3.4134209 | Y10: 2.970937 | Z10: 3.803278
A11: K2O | B11: 2.373322 | C11: 1.6988482 | D11: 1.1033797 | E11: 3.024701 | F11: 2.0871127 | G11: 2.2829946 | H11: 2.0594326 | I11: 0.48804453 | J11: 0.4791973 | K11: 3.8031469 | L11: 0.88017913 | M11: 0.96228134 | N11: 1.3588243 | O11: 2.4059128 | P11: 2.1823866 | Q11: 1.2594699 | R11: 2.5624274 | S11: 3.8168271 | T11: 3.6964572 | U11: 3.1989445 | V11: 0.48261789 | W11: 3.3901412 | X11: 1.2133211 | Y11: 0.10709246 | Z11: 1.1496053
A12: P2O5 | B12: 0.1706722 | C12: 0.23880323 | D12: 0.12257443 | E12: 0.063344569 | F12: 0.58487675 | G12: 0.24023833 | H12: 0.25964445 | I12: 0.30502573 | J12: 0.31237717 | K12: 0.086749293 | L12: 0.18077748 | M12: 0.23543865 | N12: 0.14667307 | O12: 0.13635121 | P12: 0.27417175 | Q12: 0.072418628 | R12: 0.04298582 | S12: 0.76856144 | T12: 0.23377229 | U12: 0.31185495 | V12: 0.36311845 | W12: 0.027187842 | X12: 0.28289739 | Y12: 0.1116888 | Z12: 0.087072774
A13: SO3 | B13: 0.003072413 | C13: 1.0826176 | D13: 0.0030084939 | E13: 0.0030685298 | F13: 0.057550799 | G13: 0.0060990237 | H13: 0.0030419063 | I13: 0.16331489 | J13: 0.38673854 | K13: 0.016048044 | L13: 0.0039628008 | M13: 0.1569785 | N13: 0.26553448 | O13: 0 | P13: 0 | Q13: 0 | R13: 0 | S13: 0 | T13: 0 | U13: 0 | V13: 0 | W13: 0 | X13: 0 | Y13: 0 | Z13: 0
A14: LOI | B14: 1.0223354 | C14: 2.8789734 | D14: 0.1614736 | E14: 1.3302487 | F14: -0.09 | G14: -0.076437016 | H14: -0.15758737 | I14: -0.92524896 | J14: -0.42114129 | K14: 4.8459973 | L14: -0.12669892 | M14: 0.51270743 | N14: 5.9578194 | O14: 0 | P14: 0 | Q14: 0 | R14: 0 | S14: 0 | T14: 0 | U14: 0 | V14: 0 | W14: 0 | X14: 0 | Y14: 0 | Z14: 0
A15: Sum (ex. LOI) | B15: =SUM(B2:B13) -> 99.722893 | C15: =SUM(C2:C13) -> 99.373408 | D15: =SUM(D2:D13) -> 99.612927 | E15: =SUM(E2:E13) -> 99.898441 | F15: =SUM(F2:F13) -> 99.177067 | G15: =SUM(G2:G13) -> 99.394806 | H15: =SUM(H2:H13) -> 99.373622 | I15: =SUM(I2:I13) -> 98.857565 | ... Z15: =SUM(Z2:Z13) -> 100.02887
A17: Normalised wt.%
A18: Sample name | B18: =B$1 -> Askja | C18: =C$1 -> Aso | D18: =D$1 -> Augustine | E18: =E$1 -> Chaitén | F18: =F$1 -> Etna | G18: =G$1 -> Eyjafjallajökull (a) | H18: =H$1 -> Eyjafjallajökull (b) | I18: =I$1 -> Grímsvötn (a) | ... Z18: =Z$1 -> Tongariro
A19: SiO2 | B19: =B2/B$15*100 -> 72.554914 | C19: =C2/C$15*100 -> 55.306572 | D19: =D2/D$15*100 -> 63.108367 | E19: =E2/E$15*100 -> 74.981077 | F19: =F2/F$15*100 -> 48.435705 | G19: =G2/G$15*100 -> 60.369868 | H19: =H2/H$15*100 -> 59.216461 | I19: =I2/I$15*100 -> 51.168506 | ... Z19: =Z2/Z$15*100 -> 58.160828
A20: TiO2 | B20: =B3/B$15*100 -> 0.86274045 | C20: =C3/C$15*100 -> 0.85627518 | D20: =D3/D$15*100 -> 0.62625354 | E20: =E3/E$15*100 -> 0.15699798 | F20: =F3/F$15*100 -> 1.8038311 | G20: =G3/G$15*100 -> 1.3225468 | H20: =H3/H$15*100 -> 1.4699496 | I20: =I3/I$15*100 -> 2.8458301 | ... Z20: =Z3/Z$15*100 -> 0.15995737
A21: Al2O3 | B21: =B4/B$15*100 -> 12.610142 | C21: =C4/C$15*100 -> 18.4192 | D21: =D4/D$15*100 -> 16.648301 | E21: =E4/E$15*100 -> 14.163634 | F21: =F4/F$15*100 -> 17.952416 | G21: =G4/G$15*100 -> 14.766432 | H21: =H4/H$15*100 -> 15.057964 | I21: =I4/I$15*100 -> 13.746805 | ... Z21: =Z4/Z$15*100 -> 25.538652
A22: Fe2O3 | B22: =B5/B$15*100 -> 1.2483263 | C22: =C5/C$15*100 -> 1.6995757 | D22: =D5/D$15*100 -> 1.221939 | E22: =E5/E$15*100 -> 0.45670466 | F22: =F5/F$15*100 -> 2.2365525 | G22: =G5/G$15*100 -> 2.1882427 | H22: =H5/H$15*100 -> 2.2653231 | I22: =I5/I$15*100 -> 2.0766162 | ... Z22: =Z5/Z$15*100 -> 0.28801052
A23: FeO | B23: =B6/B$15*100 -> 2.4966526 | C23: =C6/C$15*100 -> 5.6652525 | D23: =D6/D$15*100 -> 3.4912542 | E23: =E6/E$15*100 -> 0.91340933 | F23: =F6/F$15*100 -> 7.4551751 | G23: =G6/G$15*100 -> 5.4706067 | H23: =H6/H$15*100 -> 5.6633077 | I23: =I6/I$15*100 -> 10.383081 | ... Z23: =Z6/Z$15*100 -> 0.82288721
A24: MnO | B24: =B7/B$15*100 -> 0.11335999 | C24: =C7/C$15*100 -> 0.12721215 | D24: =D7/D$15*100 -> 0.111409 | E24: =E7/E$15*100 -> 0.063374016 | F24: =F7/F$15*100 -> 0.17600282 | G24: =G7/G$15*100 -> 0.21689711 | H24: =H7/H$15*100 -> 0.21033217 | I24: =I7/I$15*100 -> 0.21452567 | ... Z24: =Z7/Z$15*100 -> 0.026232618
A25: MgO | B25: =B8/B$15*100 -> 0.86643846 | C25: =C8/C$15*100 -> 3.4980193 | D25: =D8/D$15*100 -> 3.1160438 | E25: =E8/E$15*100 -> 0.34747183 | F25: =F8/F$15*100 -> 5.3264863 | G25: =G8/G$15*100 -> 2.9466088 | H25: =H8/H$15*100 -> 3.3378854 | I25: =I8/I$15*100 -> 5.6371404 | ... Z25: =Z8/Z$15*100 -> 0.29720745
A26: CaO | B26: =B9/B$15*100 -> 2.6299163 | C26: =C9/C$15*100 -> 8.6053553 | D26: =D9/D$15*100 -> 6.5077003 | E26: =E9/E$15*100 -> 1.5418542 | F26: =F9/F$15*100 -> 10.165529 | G26: =G9/G$15*100 -> 4.5011044 | H26: =H9/H$15*100 -> 5.0461076 | I26: =I9/I$15*100 -> 10.058872 | ... Z26: =Z9/Z$15*100 -> 9.6677231
A27: Na2O | B27: =B10/B$15*100 -> 4.0633654 | C27: =C10/C$15*100 -> 2.783225 | D27: =D10/D$15*100 -> 3.9349941 | E27: =E10/E$15*100 -> 4.2812211 | F27: =F10/F$15*100 -> 3.696114 | G27: =G10/G$15*100 -> 5.6729605 | H27: =H10/H$15*100 -> 5.3959141 | I27: =I10/I$15*100 -> 2.9011869 | ... Z27: =Z10/Z$15*100 -> 3.8021804
A28: K2O | B28: =B11/B$15*100 -> 2.3799169 | C28: =C11/C$15*100 -> 1.7095601 | D28: =D11/D$15*100 -> 1.1076672 | E28: =E11/E$15*100 -> 3.027776 | F28: =F11/F$15*100 -> 2.1044307 | G28: =G11/G$15*100 -> 2.2968953 | H28: =H11/H$15*100 -> 2.0724137 | I28: =I11/I$15*100 -> 0.49368455 | ... Z28: =Z11/Z$15*100 -> 1.1492735
A29: P2O5 | B29: =B12/B$15*100 -> 0.17114646 | C29: =C12/C$15*100 -> 0.24030899 | D29: =D12/D$15*100 -> 0.12305073 | E29: =E12/E$15*100 -> 0.063408966 | F29: =F12/F$15*100 -> 0.58972983 | G29: =G12/G$15*100 -> 0.24170109 | H29: =H12/H$15*100 -> 0.26128106 | I29: =I12/I$15*100 -> 0.30855072 | ... Z29: =Z12/Z$15*100 -> 0.087047646
A30: SO3 | B30: =B13/B$15*100 -> 0.0030809506 | C30: =C13/C$15*100 -> 1.089444 | D30: =D13/D$15*100 -> 0.0030201842 | E30: =E13/E$15*100 -> 0.0030716494 | F30: =F13/F$15*100 -> 0.058028333 | G30: =G13/G$15*100 -> 0.0061361593 | H30: =H13/H$15*100 -> 0.0030610802 | I30: =I13/I$15*100 -> 0.16520222 | ... Z30: =Z13/Z$15*100 -> 0
A31: Sum | B31: =SUM(B19:B30) -> 100 | C31: =SUM(C19:C30) -> 100 | D31: =SUM(D19:D30) -> 100 | E31: =SUM(E19:E30) -> 100 | F31: =SUM(F19:F30) -> 100 | G31: =SUM(G19:G30) -> 100 | H31: =SUM(H19:H30) -> 100 | I31: =SUM(I19:I30) -> 100 | ... Z31: =SUM(Z19:Z30) -> 100
B34: Molecular mass | C34: Cations | D34: Oxygen
A35: SiO2 | B35: =28.086+(2*15.999) -> 60.084 | C35: 1 | D35: 2
A36: TiO2 | B36: =47.867+(2*15.999) -> 79.865 | C36: 1 | D36: 2
A37: Al2O3 | B37: =(2*26.982)+(3*15.999) -> 101.961 | C37: 2 | D37: 3
A38: Fe2O3 | B38: =(2*55.845)+(3*15.999) -> 159.687 | C38: 2 | D38: 3
A39: FeO | B39: =55.845+15.999 -> 71.844 | C39: 1 | D39: 1
A40: MnO | B40: =54.938+15.999 -> 70.937 | C40: 1 | D40: 1
A41: MgO | B41: =24.305+15.999 -> 40.304 | C41: 1 | D41: 1
A42: CaO | B42: =40.078+15.999 -> 56.077 | C42: 1 | D42: 1
A43: Na2O | B43: =(2*22.99)+15.999 -> 61.979 | C43: 2 | D43: 1
...

Sheet Plots
B1: BULK ANALYSES | O1: GLASS ANALYSES
A2: ='NBO-T calculation'!A1 -> Sample name | B2: ='NBO-T calculation'!B1 -> Askja | C2: ='NBO-T calculation'!C1 -> Aso | D2: ='NBO-T calculation'!D1 -> Augustine | E2: ='NBO-T calculation'!E1 -> Chaitén | F2: ='NBO-T calculation'!F1 -> Etna | G2: ='NBO-T calculation'!G1 -> Eyjafjallajökull (a) | H2: ='NBO-T calculation'!H1 -> Eyjafjallajökull (b) | ... Z2: ='NBO-T calculation'!Z1 -> Tongariro
A3: ='NBO-T calculation'!A2 -> SiO2 | B3: ='NBO-T calculation'!B2 -> 72.353859 | C3: ='NBO-T calculation'!C2 -> 54.960026 | D3: ='NBO-T calculation'!D2 -> 62.864092 | E3: ='NBO-T calculation'!E2 -> 74.904927 | F3: ='NBO-T calculation'!F2 -> 48.037112 | G3: ='NBO-T calculation'!G2 -> 60.004513 | H3: ='NBO-T calculation'!H2 -> 58.845542 | ... Z3: ='NBO-T calculation'!Z2 -> 58.177617
A4: ='NBO-T calculation'!A91 -> NBO/T | B4: ='NBO-T calculation'!B91 -> 0.13168941 | C4: ='NBO-T calculation'!C91 -> 0.42865514 | D4: ='NBO-T calculation'!D91 -> 0.2588324 | E4: ='NBO-T calculation'!E91 -> 0.036026839 | F4: ='NBO-T calculation'!F91 -> 0.62890387 | G4: ='NBO-T calculation'!G91 -> 0.37540753 | H4: ='NBO-T calculation'!H91 -> 0.39982275 | ... Z4: ='NBO-T calculation'!Z91 -> 0.028115232
