Workbook

Sheet Ferric-ferrous calcualtion
B1: PASTE VALUES ONLY HERE:
B2: BULK ANALYSES – VOLATILE-FREE | O2: GLASS ANALYSES – VOLATILE-FREE
A3: Sample name | B3: Askja | C3: Aso | D3: Augustine | E3: Chaitén | F3: Etna | G3: Eyjafjallajökull (a) | H3: Eyjafjallajökull (b) | I3: Grímsvötn (a) | J3: Grímsvötn (b) | K3: Nisyros | L3: Okmok | M3: Spurr | N3: Tongariro | O3: Askja | P3: Aso | Q3: Augustine | R3: Chaitén | S3: Etna | T3: Eyjafjallajökull (a) | U3: Eyjafjallajökull (b) | V3: Grímsvötn (a) | W3: Nisyros | X3: Okmok | Y3: Spurr | Z3: Tongariro
A4: SiO2 | B4: 72.353859 | C4: 54.960026 | D4: 62.864092 | E4: 74.904927 | F4: 48.037112 | G4: 60.004513 | H4: 58.845542 | I4: 50.583939 | J4: 50.334282 | K4: 74.159185 | L4: 53.234098 | M4: 55.990673 | N4: 64.129856 | O4: 73.685495 | P4: 55.901969 | Q4: 66.197264 | R4: 73.697943 | S4: 50.915159 | T4: 66.426313 | U4: 64.253595 | V4: 51.301323 | W4: 72.197316 | X4: 55.185153 | Y4: 50.210232 | Z4: 58.177617
A5: TiO2 | B5: 0.86034973 | C5: 0.85090983 | D5: 0.62382948 | E5: 0.15683853 | F5: 1.7889868 | G5: 1.3145429 | H5: 1.4607421 | I5: 2.8133184 | J5: 2.9081021 | K5: 0.33284403 | L5: 1.2183993 | M5: 0.72946287 | N5: 0.70497627 | O5: 0.76978295 | P5: 0.95618996 | Q5: 0.23872459 | R5: 0.11460863 | S5: 2.0182477 | T5: 0.92592555 | U5: 1.1802111 | V5: 2.7955298 | W5: 0.2315536 | X5: 1.6778636 | Y5: 0.10430578 | Z5: 0.16000354
A6: Al2O3 | B6: 12.575199 | C6: 18.303787 | D6: 16.58386 | E6: 14.149249 | F6: 17.80468 | G6: 14.677067 | H6: 14.963644 | I6: 13.589756 | J6: 13.57742 | K6: 14.006772 | L6: 16.753663 | M6: 18.955181 | N6: 17.720548 | O6: 12.791784 | P6: 19.231912 | Q6: 19.935147 | R6: 15.495564 | S6: 16.642935 | T6: 14.139017 | U6: 14.811778 | V6: 13.369461 | W6: 16.339281 | X6: 14.103514 | Y6: 29.526292 | Z6: 25.546024
A7: ∑Fe2O3 | B7: 4.0117087 | C7: 7.9452725 | D7: 5.0820222 | E7: 1.4702817 | F7: 10.434904 | G7: 8.2176921 | H7: 8.5053454 | I7: 13.459788 | J7: 13.705235 | K7: 2.2411647 | L7: 9.8435544 | M7: 7.2623398 | N7: 6.4087664
A8: ∑FeO | O8: 3.2377979 | P8: 7.1467579 | Q8: 1.2939556 | R8: 1.0885561 | S8: 10.248726 | T8: 5.9266252 | U8: 6.5168202 | V8: 13.328402 | W8: 1.4778846 | X8: 11.82287 | Y8: 1.5622466 | Z8: 1.0823514
A9: MnO | B9: 0.11304586 | C9: 0.12641505 | D9: 0.11097777 | E9: 0.063309654 | F9: 0.17455443 | G9: 0.21558446 | H9: 0.20901469 | I9: 0.21207485 | J9: 0.21833943 | K9: 0.095774888 | L9: 0.18628717 | M9: 0.15317815 | N9: 0.069757679 | O9: 0.098699247 | P9: 0.14681032 | Q9: 0.037460435 | R9: 0.063327655 | S9: 0.23522704 | T9: 0.18049464 | U9: 0.1764466 | V9: 0.23456734 | W9: 0.052890635 | X9: 0.21796726 | Y9: 0.041373809 | Z9: 0.026240191
A10: MgO | B10: 0.8640375 | C10: 3.476101 | D10: 3.1039825 | E10: 0.34711894 | F10: 5.2826529 | G10: 2.9287761 | H10: 3.3169776 | I10: 5.5727397 | J10: 5.324179 | K10: 1.0225094 | L10: 5.151048 | M10: 4.4486149 | N10: 2.137798 | O10: 0.60213912 | P10: 2.2166492 | Q10: 0.20275818 | R10: 0.22388827 | S10: 3.2986549 | T10: 0.65392243 | U10: 1.0013463 | V10: 5.5576307 | W10: 0.14508837 | X10: 4.0348311 | Y10: 1.4413382 | Z10: 0.29729325
A11: CaO | B11: 2.6226286 | C11: 8.5514348 | D11: 6.4825108 | E11: 1.5402883 | F11: 10.081873 | G11: 4.473864 | H11: 5.0144999 | I11: 9.9439559 | J11: 9.8637205 | K11: 1.5897247 | L11: 9.3279808 | M11: 7.6292176 | N11: 4.6639587 | O11: 2.457868 | P11: 8.6857243 | Q11: 6.4890205 | R11: 2.3080483 | S11: 7.4710137 | T11: 1.9759756 | U11: 3.0111404 | V11: 9.8134312 | W11: 3.1360522 | X11: 8.0481616 | Y11: 13.924494 | Z11: 9.6705139
A12: Na2O | B12: 4.0521055 | C12: 2.7657855 | D12: 3.9197628 | E12: 4.2768731 | F12: 3.6656975 | G12: 5.6386281 | H12: 5.3621153 | I12: 2.8680427 | J12: 2.8904097 | K12: 2.6460809 | L12: 3.2200495 | M12: 3.4766337 | N12: 2.3933072 | O12: 3.8141692 | P12: 3.2574287 | Q12: 4.2737805 | R12: 4.4026506 | S12: 4.5846488 | T12: 5.8414964 | U12: 5.5378624 | V12: 2.7539196 | W12: 3.0026054 | X12: 3.4134209 | Y12: 2.970937 | Z12: 3.803278
A13: K2O | B13: 2.373322 | C13: 1.6988482 | D13: 1.1033797 | E13: 3.024701 | F13: 2.0871127 | G13: 2.2829946 | H13: 2.0594326 | I13: 0.48804453 | J13: 0.4791973 | K13: 3.8031469 | L13: 0.88017913 | M13: 0.96228134 | N13: 1.3588243 | O13: 2.4059128 | P13: 2.1823866 | Q13: 1.2594699 | R13: 2.5624274 | S13: 3.8168271 | T13: 3.6964572 | U13: 3.1989445 | V13: 0.48261789 | W13: 3.3901412 | X13: 1.2133211 | Y13: 0.10709246 | Z13: 1.1496053
A14: P2O5 | B14: 0.1706722 | C14: 0.23880323 | D14: 0.12257443 | E14: 0.063344569 | F14: 0.58487675 | G14: 0.24023833 | H14: 0.25964445 | I14: 0.30502573 | J14: 0.31237717 | K14: 0.086749293 | L14: 0.18077748 | M14: 0.23543865 | N14: 0.14667307 | O14: 0.13635121 | P14: 0.27417175 | Q14: 0.072418628 | R14: 0.04298582 | S14: 0.76856144 | T14: 0.23377229 | U14: 0.31185495 | V14: 0.36311845 | W14: 0.027187842 | X14: 0.28289739 | Y14: 0.1116888 | Z14: 0.087072774
A15: SO3 | B15: 0.003072413 | C15: 1.0826176 | D15: 0.0030084939 | E15: 0.0030685298 | F15: 0.057550799 | G15: 0.0060990237 | H15: 0.0030419063 | I15: 0.16331489 | J15: 0.38673854 | K15: 0.016048044 | L15: 0.0039628008 | M15: 0.1569785 | N15: 0.26553448
A16: LOI | B16: 1.0223354 | C16: 2.8789734 | D16: 0.1614736 | E16: 1.3302487 | F16: -0.09 | G16: -0.076437016 | H16: -0.15758737 | I16: -0.92524896 | J16: -0.42114129 | K16: 4.8459973 | L16: -0.12669892 | M16: 0.51270743 | N16: 5.9578194
A17: Sum ex-LOI | B17: =SUM(B4:B15) -> 100 | C17: =SUM(C4:C15) -> 100 | D17: =SUM(D4:D15) -> 100 | E17: =SUM(E4:E15) -> 100 | F17: =SUM(F4:F15) -> 100 | G17: =SUM(G4:G15) -> 100 | H17: =SUM(H4:H15) -> 100 | I17: =SUM(I4:I15) -> 100 | ... Z17: =SUM(Z4:Z15) -> 100
B18: GET ROCK TYPE FROM TAS PLOT AND RATIO FROM MIDDLEMOST (1989) ON NEXT SHEET, AND ENTER HERE:
A19: Rock type | B19: Rhyolite | C19: Basaltic Andesite | D19: Andesite | E19: Rhyolite | F19: Trachybasalt | G19: Trachyandesite | H19: Trachyandesite | I19: Basalt | J19: Basalt | K19: Rhyolite | L19: Basaltic Andesite | M19: Basaltic Andesite | N19: Dacite | O19: Rhyolite | P19: Basaltic Andesite | Q19: Dacite | R19: Rhyolite | S19: Phonotephrite | T19: Trachydacite | U19: Trachydacite | V19: Basalt | W19: Rhyolite | X19: Basaltic Andesite | Y19: Basalt | Z19: Andesite
A20: f | B20: 0.5 | C20: 0.3 | D20: 0.35 | E20: 0.5 | F20: 0.3 | G20: 0.4 | H20: 0.4 | I20: 0.2 | J20: 0.2 | K20: 0.5 | L20: 0.3 | M20: 0.3 | N20: 0.4 | O20: 0.5 | P20: 0.3 | Q20: 0.4 | R20: 0.5 | S20: 0.35 | T20: 0.5 | U20: 0.5 | V20: 0.2 | W20: 0.5 | X20: 0.3 | Y20: 0.2 | Z20: 0.35
A22: If ∑Fe2O3, copy+paste these formulae into Fe2O3 and FeO | E22: HOW TO USE THE IRON OXIDATION RATIO WITH TOTAL IRON EXPRESSED AS Fe2O3 | J22: f = Fe2O3/FeO | K22: = Fe(3+) / Fe(2+) [ferric:ferrous ratio taken from literature]
A23: Fe2O3 | B23: =B$7-(1.1113*B$37) -> 1.2448671 | C23: =∑Fe2O3-(1.1113 x f) | F23: ∑Fe2O3 | G23: = FeO x α + Fe2O3
A24: FeO | B24: =B$7/(1.1113+B$20) -> 2.4897342 | C24: =∑Fe2O3/(1.1113+f) | F24: FeO in ∑Fe2O3 | G24: = ∑Fe2O3 / FeO x α + Fe2O3 = ∑Fe2O3 / FeO x α + FeO x f | J24: α = 1.1113 | K24: α = conversion factor for FeO --> Fe2O3
F25: Fe2O3 in ∑Fe2O3 | G25: = ∑Fe2O3 - FeO x α | J25: Fe2O3 = f x FeO
A27: If ∑FeO, copy+paste these formulae into Fe2O3 and FeO | E27: HOW TO USE THE IRON OXIDATION RATIO WITH TOTAL IRON EXPRESSED AS FeO
A28: Fe2O3 | B28: =B$8/(0.8998+(1/B$20)) -> 0 | C28: =∑FeO/0.8998+(1/f) | F28: ∑FeO | G28: = Fe2O3 x β + FeO
A29: FeO | B29: =B$8-(0.8998*B$36) -> -1.1201314 | C29: =∑FeO-(0.8998 x Fe2O3) | F29: Fe2O3 in ∑FeO | G29: = ∑FeO / Fe2O3 x β + FeO = ∑FeO / Fe2O3 x β + Fe2O3 x f | J29: β = 0.8998 | K29: β = conversion factor for Fe2O3 --> FeO
F30: FeO in ∑FeO | G30: = ∑FeO - Fe2O3 x β | J30: FeO = 1/f x Fe2O3
A32: Sample name | B32: =B3 -> Askja | C32: =C3 -> Aso | D32: =D3 -> Augustine | E32: =E3 -> Chaitén | F32: =F3 -> Etna | G32: =G3 -> Eyjafjallajökull (a) | H32: =H3 -> Eyjafjallajökull (b) | I32: =I3 -> Grímsvötn (a) | ... Z32: =Z3 -> Tongariro
A33: SiO2 | B33: =B4 -> 72.353859 | C33: =C4 -> 54.960026 | D33: =D4 -> 62.864092 | E33: =E4 -> 74.904927 | F33: =F4 -> 48.037112 | G33: =G4 -> 60.004513 | H33: =H4 -> 58.845542 | I33: =I4 -> 50.583939 | ... Z33: =Z4 -> 58.177617
A34: TiO2 | B34: =B5 -> 0.86034973 | C34: =C5 -> 0.85090983 | D34: =D5 -> 0.62382948 | E34: =E5 -> 0.15683853 | F34: =F5 -> 1.7889868 | G34: =G5 -> 1.3145429 | H34: =H5 -> 1.4607421 | I34: =I5 -> 2.8133184 | ... Z34: =Z5 -> 0.16000354
A35: Al2O3 | B35: =B6 -> 12.575199 | C35: =C6 -> 18.303787 | D35: =D6 -> 16.58386 | E35: =E6 -> 14.149249 | F35: =F6 -> 17.80468 | G35: =G6 -> 14.677067 | H35: =H6 -> 14.963644 | I35: =I6 -> 13.589756 | ... Z35: =Z6 -> 25.546024
A36: Paste here--> Fe2O3 | B36: =B$7-(1.1113*B$37) -> 1.2448671 | C36: =C$7-(1.1113*C$37) -> 1.6889263 | D36: =D$7-(1.1113*D$37) -> 1.2172092 | E36: =E$7-(1.1113*E$37) -> 0.45624084 | F36: =F$7-(1.1113*F$37) -> 2.2181472 | G36: =G$7-(1.1113*G$37) -> 2.1749996 | H36: =H$7-(1.1113*H$37) -> 2.2511336 | I36: =I$7-(1.1113*I$37) -> 2.0528922 | ... N36: =N$7-(1.1113*N$37) -> 1.6962261 | O36: =O$8/(0.8998+(1/O$20)) -> 1.1165591 | P36: =P$8/(0.8998+(1/P$20)) -> 1.6882903 | Q36: =Q$8/(0.8998+(1/Q$20)) -> 0.38059756 | R36: =R$8/(0.8998+(1/R$20)) -> 0.37539008 | S36: =S$8/(0.8998+(1/S$20)) -> 2.7279429 | T36: =T$8/(0.8998+(1/T$20)) -> 2.0438048 | U36: =U$8/(0.8998+(1/U$20)) -> 2.2473344 | V36: =V$8/(0.8998+(1/V$20)) -> 2.2591277 | ... Z36: =Z$8/(0.8998+(1/Z$20)) -> 0.28809366
A37: Paste here --> FeO | B37: =B$7/(1.1113+B$20) -> 2.4897342 | C37: =C$7/(1.1113+C$20) -> 5.6297545 | D37: =D$7/(1.1113+D$20) -> 3.4777405 | E37: =E$7/(1.1113+E$20) -> 0.91248168 | F37: =F$7/(1.1113+F$20) -> 7.393824 | G37: =G$7/(1.1113+G$20) -> 5.4374989 | H37: =H$7/(1.1113+H$20) -> 5.6278339 | I37: =I$7/(1.1113+I$20) -> 10.264461 | ... N37: =N$7/(1.1113+N$20) -> 4.2405654 | O37: =O$8-(0.8998*O$36) -> 2.2331181 | P37: =P$8-(0.8998*P$36) -> 5.6276343 | Q37: =Q$8-(0.8998*Q$36) -> 0.95149389 | R37: =R$8-(0.8998*R$36) -> 0.75078016 | S37: =S$8-(0.8998*S$36) -> 7.7941225 | T37: =T$8-(0.8998*T$36) -> 4.0876097 | U37: =U$8-(0.8998*U$36) -> 4.4946687 | V37: =V$8-(0.8998*V$36) -> 11.295639 | ... Z37: =Z$8-(0.8998*Z$36) -> 0.82312475
A38: MnO | B38: =B9 -> 0.11304586 | C38: =C9 -> 0.12641505 | D38: =D9 -> 0.11097777 | E38: =E9 -> 0.063309654 | F38: =F9 -> 0.17455443 | G38: =G9 -> 0.21558446 | H38: =H9 -> 0.20901469 | I38: =I9 -> 0.21207485 | ... Z38: =Z9 -> 0.026240191
A39: MgO | B39: =B10 -> 0.8640375 | C39: =C10 -> 3.476101 | D39: =D10 -> 3.1039825 | E39: =E10 -> 0.34711894 | F39: =F10 -> 5.2826529 | G39: =G10 -> 2.9287761 | H39: =H10 -> 3.3169776 | I39: =I10 -> 5.5727397 | ... Z39: =Z10 -> 0.29729325
A40: CaO | B40: =B11 -> 2.6226286 | C40: =C11 -> 8.5514348 | D40: =D11 -> 6.4825108 | E40: =E11 -> 1.5402883 | F40: =F11 -> 10.081873 | G40: =G11 -> 4.473864 | H40: =H11 -> 5.0144999 | I40: =I11 -> 9.9439559 | ... Z40: =Z11 -> 9.6705139
A41: Na2O | B41: =B12 -> 4.0521055 | C41: =C12 -> 2.7657855 | D41: =D12 -> 3.9197628 | E41: =E12 -> 4.2768731 | F41: =F12 -> 3.6656975 | G41: =G12 -> 5.6386281 | H41: =H12 -> 5.3621153 | I41: =I12 -> 2.8680427 | ... Z41: =Z12 -> 3.803278
A42: K2O | B42: =B13 -> 2.373322 | C42: =C13 -> 1.6988482 | D42: =D13 -> 1.1033797 | E42: =E13 -> 3.024701 | F42: =F13 -> 2.0871127 | G42: =G13 -> 2.2829946 | H42: =H13 -> 2.0594326 | I42: =I13 -> 0.48804453 | ... Z42: =Z13 -> 1.1496053
A43: P2O5 | B43: =B14 -> 0.1706722 | C43: =C14 -> 0.23880323 | D43: =D14 -> 0.12257443 | E43: =E14 -> 0.063344569 | F43: =F14 -> 0.58487675 | G43: =G14 -> 0.24023833 | H43: =H14 -> 0.25964445 | I43: =I14 -> 0.30502573 | ... Z43: =Z14 -> 0.087072774
A44: SO3 | B44: =B15 -> 0.003072413 | C44: =C15 -> 1.0826176 | D44: =D15 -> 0.0030084939 | E44: =E15 -> 0.0030685298 | F44: =F15 -> 0.057550799 | G44: =G15 -> 0.0060990237 | H44: =H15 -> 0.0030419063 | I44: =I15 -> 0.16331489 | ... Z44: =Z15 -> 0
A45: LOI | B45: =B16 -> 1.0223354 | C45: =C16 -> 2.8789734 | D45: =D16 -> 0.1614736 | E45: =E16 -> 1.3302487 | F45: =F16 -> -0.09 | G45: =G16 -> -0.076437016 | H45: =H16 -> -0.15758737 | I45: =I16 -> -0.92524896 | ... Z45: =Z16 -> 0
A46: Sum ex-LOI | B46: =SUM(B33:B44) -> 99.722893 | C46: =SUM(C33:C44) -> 99.373408 | D46: =SUM(D33:D44) -> 99.612927 | E46: =SUM(E33:E44) -> 99.898441 | F46: =SUM(F33:F44) -> 99.177067 | G46: =SUM(G33:G44) -> 99.394806 | H46: =SUM(H33:H44) -> 99.373622 | I46: =SUM(I33:I44) -> 98.857565 | ... Z46: =SUM(Z33:Z44) -> 100.02887
A47: f check | B47: =B36/B37 -> 0.5 | C47: =C36/C37 -> 0.3 | D47: =D36/D37 -> 0.35 | E47: =E36/E37 -> 0.5 | F47: =F36/F37 -> 0.3 | G47: =G36/G37 -> 0.4 | H47: =H36/H37 -> 0.4 | I47: =I36/I37 -> 0.2 | ... Z47: =Z36/Z37 -> 0.35
A49: NEXT, | B49: COPY THESE VALUES INTO NBO-T SHEET -->

Sheet FeOx ratios
A1: Middlemost, E. A. K. (1989). Iron oxidation ratios, norms and the classification of volcanic rocks. Chemical Geology, 77(1), 19–26. https://doi.org/10.1016/0009-2541(89)90011-9
A2: Suggested iron oxidation ratios
A3: Rock type | B3: Ratio
A4: Foidite | B4: 0.15–0.40
A5: Picrobasalt | B5: 0.15
A6: Basanite/Tephrite | B6: 0.20–0.30
A7: Basalt | B7: 0.2
A8: Trachybasalt | B8: 0.3
A9: Basaltic Andesite | B9: 0.3
A10: Phonotephrite | B10: 0.35
A11: Basaltic Trachyandesite | B11: 0.35
A12: Andesite | B12: 0.35
A13: Tephriphonolite | B13: 0.4
A14: Trachyandesite | B14: 0.4
A15: Dacite | B15: 0.4
A16: Phonolite | B16: 0.5
A17: Trachyte/Trachydacite | B17: 0.5
A18: Rhyolite | B18: 0.5

Sheet NBO-T calculation
A1: Sample name | B1: Askja | C1: Aso | D1: Augustine | E1: Chaitén | F1: Etna | G1: Eyjafjallajökull (a) | H1: Eyjafjallajökull (b) | I1: Grímsvötn (a) | J1: Grímsvötn (b) | K1: Nisyros | L1: Okmok | M1: Spurr | N1: Tongariro | O1: Askja | P1: Aso | Q1: Augustine | R1: Chaitén | S1: Etna | T1: Eyjafjallajökull (a) | U1: Eyjafjallajökull (b) | V1: Grímsvötn (a) | W1: Nisyros | X1: Okmok | Y1: Spurr | Z1: Tongariro
A2: SiO2 | B2: 72.353859 | C2: 54.960026 | D2: 62.864092 | E2: 74.904927 | F2: 48.037112 | G2: 60.004513 | H2: 58.845542 | I2: 50.583939 | J2: 50.334282 | K2: 74.159185 | L2: 53.234098 | M2: 55.990673 | N2: 64.129856 | O2: 73.685495 | P2: 55.901969 | Q2: 66.197264 | R2: 73.697943 | S2: 50.915159 | T2: 66.426313 | U2: 64.253595 | V2: 51.301323 | W2: 72.197316 | X2: 55.185153 | Y2: 50.210232 | Z2: 58.177617
A3: TiO2 | B3: 0.86034973 | C3: 0.85090983 | D3: 0.62382948 | E3: 0.15683853 | F3: 1.7889868 | G3: 1.3145429 | H3: 1.4607421 | I3: 2.8133184 | J3: 2.9081021 | K3: 0.33284403 | L3: 1.2183993 | M3: 0.72946287 | N3: 0.70497627 | O3: 0.76978295 | P3: 0.95618996 | Q3: 0.23872459 | R3: 0.11460863 | S3: 2.0182477 | T3: 0.92592555 | U3: 1.1802111 | V3: 2.7955298 | W3: 0.2315536 | X3: 1.6778636 | Y3: 0.10430578 | Z3: 0.16000354
A4: Al2O3 | B4: 12.575199 | C4: 18.303787 | D4: 16.58386 | E4: 14.149249 | F4: 17.80468 | G4: 14.677067 | H4: 14.963644 | I4: 13.589756 | J4: 13.57742 | K4: 14.006772 | L4: 16.753663 | M4: 18.955181 | N4: 17.720548 | O4: 12.791784 | P4: 19.231912 | Q4: 19.935147 | R4: 15.495564 | S4: 16.642935 | T4: 14.139017 | U4: 14.811778 | V4: 13.369461 | W4: 16.339281 | X4: 14.103514 | Y4: 29.526292 | Z4: 25.546024
A5: Fe2O3 | B5: 1.2448671 | C5: 1.6889263 | D5: 1.2172092 | E5: 0.45624084 | F5: 2.2181472 | G5: 2.1749996 | H5: 2.2511336 | I5: 2.0528922 | J5: 2.0903279 | K5: 0.69545233 | L5: 2.0924441 | M5: 1.5437554 | N5: 1.6962261 | O5: 1.1165591 | P5: 1.6882903 | Q5: 0.38059756 | R5: 0.37539008 | S5: 2.7279429 | T5: 2.0438048 | U5: 2.2473344 | V5: 2.2591277 | W5: 0.50965052 | X5: 2.7929359 | Y5: 0.26479653 | Z5: 0.28809366
A6: FeO | B6: 2.4897342 | C6: 5.6297545 | D6: 3.4777405 | E6: 0.91248168 | F6: 7.393824 | G6: 5.4374989 | H6: 5.6278339 | I6: 10.264461 | J6: 10.451639 | K6: 1.3909047 | L6: 6.9748136 | M6: 5.1458512 | N6: 4.2405654 | O6: 2.2331181 | P6: 5.6276343 | Q6: 0.95149389 | R6: 0.75078016 | S6: 7.7941225 | T6: 4.0876097 | U6: 4.4946687 | V6: 11.295639 | W6: 1.019301 | X6: 9.3097864 | Y6: 1.3239826 | Z6: 0.82312475
A7: MnO | B7: 0.11304586 | C7: 0.12641505 | D7: 0.11097777 | E7: 0.063309654 | F7: 0.17455443 | G7: 0.21558446 | H7: 0.20901469 | I7: 0.21207485 | J7: 0.21833943 | K7: 0.095774888 | L7: 0.18628717 | M7: 0.15317815 | N7: 0.069757679 | O7: 0.098699247 | P7: 0.14681032 | Q7: 0.037460435 | R7: 0.063327655 | S7: 0.23522704 | T7: 0.18049464 | U7: 0.1764466 | V7: 0.23456734 | W7: 0.052890635 | X7: 0.21796726 | Y7: 0.041373809 | Z7: 0.026240191
A8: MgO | B8: 0.8640375 | C8: 3.476101 | D8: 3.1039825 | E8: 0.34711894 | F8: 5.2826529 | G8: 2.9287761 | H8: 3.3169776 | I8: 5.5727397 | J8: 5.324179 | K8: 1.0225094 | L8: 5.151048 | M8: 4.4486149 | N8: 2.137798 | O8: 0.60213912 | P8: 2.2166492 | Q8: 0.20275818 | R8: 0.22388827 | S8: 3.2986549 | T8: 0.65392243 | U8: 1.0013463 | V8: 5.5576307 | W8: 0.14508837 | X8: 4.0348311 | Y8: 1.4413382 | Z8: 0.29729325
A9: CaO | B9: 2.6226286 | C9: 8.5514348 | D9: 6.4825108 | E9: 1.5402883 | F9: 10.081873 | G9: 4.473864 | H9: 5.0144999 | I9: 9.9439559 | J9: 9.8637205 | K9: 1.5897247 | L9: 9.3279808 | M9: 7.6292176 | N9: 4.6639587 | O9: 2.457868 | P9: 8.6857243 | Q9: 6.4890205 | R9: 2.3080483 | S9: 7.4710137 | T9: 1.9759756 | U9: 3.0111404 | V9: 9.8134312 | W9: 3.1360522 | X9: 8.0481616 | Y9: 13.924494 | Z9: 9.6705139
A10: Na2O | B10: 4.0521055 | C10: 2.7657855 | D10: 3.9197628 | E10: 4.2768731 | F10: 3.6656975 | G10: 5.6386281 | H10: 5.3621153 | I10: 2.8680427 | J10: 2.8904097 | K10: 2.6460809 | L10: 3.2200495 | M10: 3.4766337 | N10: 2.3933072 | O10: 3.8141692 | P10: 3.2574287 | Q10: 4.2737805 | R10: 4.4026506 | S10: 4.5846488 | T10: 5.8414964 | U10: 5.5378624 | V10: 2.7539196 | W10: 3.0026054 | X10: 3.4134209 | Y10: 2.970937 | Z10: 3.803278
A11: K2O | B11: 2.373322 | C11: 1.6988482 | D11: 1.1033797 | E11: 3.024701 | F11: 2.0871127 | G11: 2.2829946 | H11: 2.0594326 | I11: 0.48804453 | J11: 0.4791973 | K11: 3.8031469 | L11: 0.88017913 | M11: 0.96228134 | N11: 1.3588243 | O11: 2.4059128 | P11: 2.1823866 | Q11: 1.2594699 | R11: 2.5624274 | S11: 3.8168271 | T11: 3.6964572 | U11: 3.1989445 | V11: 0.48261789 | W11: 3.3901412 | X11: 1.2133211 | Y11: 0.10709246 | Z11: 1.1496053
A12: P2O5 | B12: 0.1706722 | C12: 0.23880323 | D12: 0.12257443 | E12: 0.063344569 | F12: 0.58487675 | G12: 0.24023833 | H12: 0.25964445 | I12: 0.30502573 | J12: 0.31237717 | K12: 0.086749293 | L12: 0.18077748 | M12: 0.23543865 | N12: 0.14667307 | O12: 0.13635121 | P12: 0.27417175 | Q12: 0.072418628 | R12: 0.04298582 | S12: 0.76856144 | T12: 0.23377229 | U12: 0.31185495 | V12: 0.36311845 | W12: 0.027187842 | X12: 0.28289739 | Y12: 0.1116888 | Z12: 0.087072774
A13: SO3 | B13: 0.003072413 | C13: 1.0826176 | D13: 0.0030084939 | E13: 0.0030685298 | F13: 0.057550799 | G13: 0.0060990237 | H13: 0.0030419063 | I13: 0.16331489 | J13: 0.38673854 | K13: 0.016048044 | L13: 0.0039628008 | M13: 0.1569785 | N13: 0.26553448 | O13: 0 | P13: 0 | Q13: 0 | R13: 0 | S13: 0 | T13: 0 | U13: 0 | V13: 0 | W13: 0 | X13: 0 | Y13: 0 | Z13: 0
A14: LOI | B14: 1.0223354 | C14: 2.8789734 | D14: 0.1614736 | E14: 1.3302487 | F14: -0.09 | G14: -0.076437016 | H14: -0.15758737 | I14: -0.92524896 | J14: -0.42114129 | K14: 4.8459973 | L14: -0.12669892 | M14: 0.51270743 | N14: 5.9578194 | O14: 0 | P14: 0 | Q14: 0 | R14: 0 | S14: 0 | T14: 0 | U14: 0 | V14: 0 | W14: 0 | X14: 0 | Y14: 0 | Z14: 0
A15: Sum (ex. LOI) | B15: =SUM(B2:B13) -> 99.722893 | C15: =SUM(C2:C13) -> 99.373408 | D15: =SUM(D2:D13) -> 99.612927 | E15: =SUM(E2:E13) -> 99.898441 | F15: =SUM(F2:F13) -> 99.177067 | G15: =SUM(G2:G13) -> 99.394806 | H15: =SUM(H2:H13) -> 99.373622 | I15: =SUM(I2:I13) -> 98.857565 | ... Z15: =SUM(Z2:Z13) -> 100.02887
A17: Normalised wt.%
A18: Sample name | B18: =B$1 -> Askja | C18: =C$1 -> Aso | D18: =D$1 -> Augustine | E18: =E$1 -> Chaitén | F18: =F$1 -> Etna | G18: =G$1 -> Eyjafjallajökull (a) | H18: =H$1 -> Eyjafjallajökull (b) | I18: =I$1 -> Grímsvötn (a) | ... Z18: =Z$1 -> Tongariro
A19: SiO2 | B19: =B2/B$15*100 -> 72.554914 | C19: =C2/C$15*100 -> 55.306572 | D19: =D2/D$15*100 -> 63.108367 | E19: =E2/E$15*100 -> 74.981077 | F19: =F2/F$15*100 -> 48.435705 | G19: =G2/G$15*100 -> 60.369868 | H19: =H2/H$15*100 -> 59.216461 | I19: =I2/I$15*100 -> 51.168506 | ... Z19: =Z2/Z$15*100 -> 58.160828
A20: TiO2 | B20: =B3/B$15*100 -> 0.86274045 | C20: =C3/C$15*100 -> 0.85627518 | D20: =D3/D$15*100 -> 0.62625354 | E20: =E3/E$15*100 -> 0.15699798 | F20: =F3/F$15*100 -> 1.8038311 | G20: =G3/G$15*100 -> 1.3225468 | H20: =H3/H$15*100 -> 1.4699496 | I20: =I3/I$15*100 -> 2.8458301 | ... Z20: =Z3/Z$15*100 -> 0.15995737
A21: Al2O3 | B21: =B4/B$15*100 -> 12.610142 | C21: =C4/C$15*100 -> 18.4192 | D21: =D4/D$15*100 -> 16.648301 | E21: =E4/E$15*100 -> 14.163634 | F21: =F4/F$15*100 -> 17.952416 | G21: =G4/G$15*100 -> 14.766432 | H21: =H4/H$15*100 -> 15.057964 | I21: =I4/I$15*100 -> 13.746805 | ... Z21: =Z4/Z$15*100 -> 25.538652
A22: Fe2O3 | B22: =B5/B$15*100 -> 1.2483263 | C22: =C5/C$15*100 -> 1.6995757 | D22: =D5/D$15*100 -> 1.221939 | E22: =E5/E$15*100 -> 0.45670466 | F22: =F5/F$15*100 -> 2.2365525 | G22: =G5/G$15*100 -> 2.1882427 | H22: =H5/H$15*100 -> 2.2653231 | I22: =I5/I$15*100 -> 2.0766162 | ... Z22: =Z5/Z$15*100 -> 0.28801052
A23: FeO | B23: =B6/B$15*100 -> 2.4966526 | C23: =C6/C$15*100 -> 5.6652525 | D23: =D6/D$15*100 -> 3.4912542 | E23: =E6/E$15*100 -> 0.91340933 | F23: =F6/F$15*100 -> 7.4551751 | G23: =G6/G$15*100 -> 5.4706067 | H23: =H6/H$15*100 -> 5.6633077 | I23: =I6/I$15*100 -> 10.383081 | ... Z23: =Z6/Z$15*100 -> 0.82288721
A24: MnO | B24: =B7/B$15*100 -> 0.11335999 | C24: =C7/C$15*100 -> 0.12721215 | D24: =D7/D$15*100 -> 0.111409 | E24: =E7/E$15*100 -> 0.063374016 | F24: =F7/F$15*100 -> 0.17600282 | G24: =G7/G$15*100 -> 0.21689711 | H24: =H7/H$15*100 -> 0.21033217 | I24: =I7/I$15*100 -> 0.21452567 | ... Z24: =Z7/Z$15*100 -> 0.026232618
A25: MgO | B25: =B8/B$15*100 -> 0.86643846 | C25: =C8/C$15*100 -> 3.4980193 | D25: =D8/D$15*100 -> 3.1160438 | E25: =E8/E$15*100 -> 0.34747183 | F25: =F8/F$15*100 -> 5.3264863 | G25: =G8/G$15*100 -> 2.9466088 | H25: =H8/H$15*100 -> 3.3378854 | I25: =I8/I$15*100 -> 5.6371404 | ... Z25: =Z8/Z$15*100 -> 0.29720745
A26: CaO | B26: =B9/B$15*100 -> 2.6299163 | C26: =C9/C$15*100 -> 8.6053553 | D26: =D9/D$15*100 -> 6.5077003 | E26: =E9/E$15*100 -> 1.5418542 | F26: =F9/F$15*100 -> 10.165529 | G26: =G9/G$15*100 -> 4.5011044 | H26: =H9/H$15*100 -> 5.0461076 | I26: =I9/I$15*100 -> 10.058872 | ... Z26: =Z9/Z$15*100 -> 9.6677231
A27: Na2O | B27: =B10/B$15*100 -> 4.0633654 | C27: =C10/C$15*100 -> 2.783225 | D27: =D10/D$15*100 -> 3.9349941 | E27: =E10/E$15*100 -> 4.2812211 | F27: =F10/F$15*100 -> 3.696114 | G27: =G10/G$15*100 -> 5.6729605 | H27: =H10/H$15*100 -> 5.3959141 | I27: =I10/I$15*100 -> 2.9011869 | ... Z27: =Z10/Z$15*100 -> 3.8021804
A28: K2O | B28: =B11/B$15*100 -> 2.3799169 | C28: =C11/C$15*100 -> 1.7095601 | D28: =D11/D$15*100 -> 1.1076672 | E28: =E11/E$15*100 -> 3.027776 | F28: =F11/F$15*100 -> 2.1044307 | G28: =G11/G$15*100 -> 2.2968953 | H28: =H11/H$15*100 -> 2.0724137 | I28: =I11/I$15*100 -> 0.49368455 | ... Z28: =Z11/Z$15*100 -> 1.1492735
A29: P2O5 | B29: =B12/B$15*100 -> 0.17114646 | C29: =C12/C$15*100 -> 0.24030899 | D29: =D12/D$15*100 -> 0.12305073 | E29: =E12/E$15*100 -> 0.063408966 | F29: =F12/F$15*100 -> 0.58972983 | G29: =G12/G$15*100 -> 0.24170109 | H29: =H12/H$15*100 -> 0.26128106 | I29: =I12/I$15*100 -> 0.30855072 | ... Z29: =Z12/Z$15*100 -> 0.087047646
A30: SO3 | B30: =B13/B$15*100 -> 0.0030809506 | C30: =C13/C$15*100 -> 1.089444 | D30: =D13/D$15*100 -> 0.0030201842 | E30: =E13/E$15*100 -> 0.0030716494 | F30: =F13/F$15*100 -> 0.058028333 | G30: =G13/G$15*100 -> 0.0061361593 | H30: =H13/H$15*100 -> 0.0030610802 | I30: =I13/I$15*100 -> 0.16520222 | ... Z30: =Z13/Z$15*100 -> 0
A31: Sum | B31: =SUM(B19:B30) -> 100 | C31: =SUM(C19:C30) -> 100 | D31: =SUM(D19:D30) -> 100 | E31: =SUM(E19:E30) -> 100 | F31: =SUM(F19:F30) -> 100 | G31: =SUM(G19:G30) -> 100 | H31: =SUM(H19:H30) -> 100 | I31: =SUM(I19:I30) -> 100 | ... Z31: =SUM(Z19:Z30) -> 100
B34: Molecular mass | C34: Cations | D34: Oxygen
A35: SiO2 | B35: =28.086+(2*15.999) -> 60.084 | C35: 1 | D35: 2
A36: TiO2 | B36: =47.867+(2*15.999) -> 79.865 | C36: 1 | D36: 2
A37: Al2O3 | B37: =(2*26.982)+(3*15.999) -> 101.961 | C37: 2 | D37: 3
A38: Fe2O3 | B38: =(2*55.845)+(3*15.999) -> 159.687 | C38: 2 | D38: 3
A39: FeO | B39: =55.845+15.999 -> 71.844 | C39: 1 | D39: 1
A40: MnO | B40: =54.938+15.999 -> 70.937 | C40: 1 | D40: 1
A41: MgO | B41: =24.305+15.999 -> 40.304 | C41: 1 | D41: 1
A42: CaO | B42: =40.078+15.999 -> 56.077 | C42: 1 | D42: 1
A43: Na2O | B43: =(2*22.99)+15.999 -> 61.979 | C43: 2 | D43: 1
A44: K2O | B44: =(2*39.098)+15.999 -> 94.195 | C44: 2 | D44: 1
A45: P2O5 | B45: =(2*30.974)+(5*15.999) -> 141.943 | C45: 2 | D45: 5
A46: SO3 | B46: =32.065+(3*15.999) -> 80.062 | C46: 1 | D46: 3
A48: Molecular proportions
A49: Sample name | B49: =B$1 -> Askja | C49: =C$1 -> Aso | D49: =D$1 -> Augustine | E49: =E$1 -> Chaitén | F49: =F$1 -> Etna | G49: =G$1 -> Eyjafjallajökull (a) | H49: =H$1 -> Eyjafjallajökull (b) | I49: =I$1 -> Grímsvötn (a) | ... Z49: =Z$1 -> Tongariro
A50: SiO2 | B50: =B19/$B35 -> 1.207558 | C50: =C19/$B35 -> 0.92048752 | D50: =D19/$B35 -> 1.0503357 | E50: =E19/$B35 -> 1.2479375 | F50: =F19/$B35 -> 0.80613316 | G50: =G19/$B35 -> 1.0047578 | H50: =H19/$B35 -> 0.98556123 | I50: =I19/$B35 -> 0.85161617 | ... Z50: =Z19/$B35 -> 0.96799194
A51: TiO2 | B51: =B20/$B36 -> 0.010802485 | C51: =C20/$B36 -> 0.010721532 | D51: =D20/$B36 -> 0.0078414016 | E51: =E20/$B36 -> 0.001965792 | F51: =F20/$B36 -> 0.022586002 | G51: =G20/$B36 -> 0.01655978 | H51: =H20/$B36 -> 0.018405429 | I51: =I20/$B36 -> 0.035633008 | ... Z51: =Z20/$B36 -> 0.0020028469
A52: Al2O3 | B52: =B21/$B37 -> 0.12367613 | C52: =C21/$B37 -> 0.18064946 | D52: =D21/$B37 -> 0.16328106 | E52: =E21/$B37 -> 0.13891227 | F52: =F21/$B37 -> 0.1760714 | G52: =G21/$B37 -> 0.14482432 | H52: =H21/$B37 -> 0.14768356 | I52: =I21/$B37 -> 0.13482414 | ... Z52: =Z21/$B37 -> 0.25047471
A53: Fe2O3 | B53: =B22/$B38 -> 0.0078173321 | C53: =C22/$B38 -> 0.010643169 | D53: =D22/$B38 -> 0.007652088 | E53: =E22/$B38 -> 0.002859999 | F53: =F22/$B38 -> 0.014005852 | G53: =G22/$B38 -> 0.013703324 | H53: =H22/$B38 -> 0.014186021 | I53: =I22/$B38 -> 0.013004291 | ... Z53: =Z22/$B38 -> 0.0018035941
A54: FeO | B54: =B23/$B39 -> 0.034751025 | C54: =C23/$B39 -> 0.078854915 | D54: =D23/$B39 -> 0.048594931 | E54: =E23/$B39 -> 0.012713787 | F54: =F23/$B39 -> 0.10376893 | G54: =G23/$B39 -> 0.076145631 | H54: =H23/$B39 -> 0.078827844 | I54: =I23/$B39 -> 0.14452259 | ... Z54: =Z23/$B39 -> 0.011453806
A55: MnO | B55: =B24/$B40 -> 0.0015980376 | C55: =C24/$B40 -> 0.0017933116 | D55: =D24/$B40 -> 0.0015705344 | E55: =E24/$B40 -> 0.00089338449 | F55: =F24/$B40 -> 0.0024811144 | G55: =G24/$B40 -> 0.0030576019 | H55: =H24/$B40 -> 0.0029650559 | I55: =I24/$B40 -> 0.0030241717 | ... Z55: =Z24/$B40 -> 0.00036980163
A56: MgO | B56: =B25/$B41 -> 0.02149758 | C56: =C25/$B41 -> 0.086790872 | D56: =D25/$B41 -> 0.077313513 | E56: =E25/$B41 -> 0.0086212741 | F56: =F25/$B41 -> 0.13215776 | G56: =G25/$B41 -> 0.073109588 | H56: =H25/$B41 -> 0.08281772 | I56: =I25/$B41 -> 0.13986553 | ... Z56: =Z25/$B41 -> 0.0073741428
A57: CaO | B57: =B26/$B42 -> 0.046898305 | C57: =C26/$B42 -> 0.15345606 | D57: =D26/$B42 -> 0.11604937 | E57: =E26/$B42 -> 0.027495305 | F57: =F26/$B42 -> 0.18127804 | G57: =G26/$B42 -> 0.080266497 | H57: =H26/$B42 -> 0.089985335 | I57: =I26/$B42 -> 0.17937607 | ... Z57: =Z26/$B42 -> 0.17240086
A58: Na2O | B58: =B27/$B43 -> 0.065560357 | C58: =C27/$B43 -> 0.044905936 | D58: =D27/$B43 -> 0.063489151 | E58: =E27/$B43 -> 0.069075349 | F58: =F27/$B43 -> 0.059634941 | G58: =G27/$B43 -> 0.091530365 | H58: =H27/$B43 -> 0.087060361 | I58: =I27/$B43 -> 0.046809192 | ... Z58: =Z27/$B43 -> 0.061346269
A59: K2O | B59: =B28/$B44 -> 0.025265852 | C59: =C28/$B44 -> 0.01814916 | D59: =D28/$B44 -> 0.011759299 | E59: =E28/$B44 -> 0.032143702 | F59: =F28/$B44 -> 0.022341215 | G59: =G28/$B44 -> 0.024384472 | H59: =H28/$B44 -> 0.022001313 | I59: =I28/$B44 -> 0.0052410908 | ... Z59: =Z28/$B44 -> 0.012201003
A60: P2O5 | B60: =B29/$B45 -> 0.0012057408 | C60: =C29/$B45 -> 0.0016929964 | D60: =D29/$B45 -> 0.00086690238 | E60: =E29/$B45 -> 0.00044672133 | F60: =F29/$B45 -> 0.0041546947 | G60: =G29/$B45 -> 0.0017028039 | H60: =H29/$B45 -> 0.0018407463 | I60: =I29/$B45 -> 0.0021737649 | ... Z60: =Z29/$B45 -> 0.00061325776
A61: SO3 | B61: =B30/$B46 -> 3.8482059e-05 | C61: =C30/$B46 -> 0.013607504 | D61: =D30/$B46 -> 3.7723067e-05 | E61: =E30/$B46 -> 3.8365883e-05 | F61: =F30/$B46 -> 0.00072479245 | G61: =G30/$B46 -> 7.6642594e-05 | H61: =H30/$B46 -> 3.8233872e-05 | I61: =I30/$B46 -> 0.0020634286 | ... Z61: =Z30/$B46 -> 0
A62: Total | B62: =SUM(B50:B61) -> 1.5466693 | C62: =SUM(C50:C61) -> 1.5217524 | D62: =SUM(D50:D61) -> 1.5487916 | E62: =SUM(E50:E61) -> 1.5431034 | F62: =SUM(F50:F61) -> 1.5253379 | G62: =SUM(G50:G61) -> 1.5301188 | H62: =SUM(H50:H61) -> 1.5313729 | I62: =SUM(I50:I61) -> 1.5581535 | ... Z62: =SUM(Z50:Z61) -> 1.4880322
A64: Atomic proportions
A65: Sample name | B65: =B$1 -> Askja | C65: =C$1 -> Aso | D65: =D$1 -> Augustine | E65: =E$1 -> Chaitén | F65: =F$1 -> Etna | G65: =G$1 -> Eyjafjallajökull (a) | H65: =H$1 -> Eyjafjallajökull (b) | I65: =I$1 -> Grímsvötn (a) | ... Z65: =Z$1 -> Tongariro
A66: Si | B66: =B50*$C35 -> 1.207558 | C66: =C50*$C35 -> 0.92048752 | D66: =D50*$C35 -> 1.0503357 | E66: =E50*$C35 -> 1.2479375 | F66: =F50*$C35 -> 0.80613316 | G66: =G50*$C35 -> 1.0047578 | H66: =H50*$C35 -> 0.98556123 | I66: =I50*$C35 -> 0.85161617 | ... Z66: =Z50*$C35 -> 0.96799194
A67: Ti | B67: =B51*$C36 -> 0.010802485 | C67: =C51*$C36 -> 0.010721532 | D67: =D51*$C36 -> 0.0078414016 | E67: =E51*$C36 -> 0.001965792 | F67: =F51*$C36 -> 0.022586002 | G67: =G51*$C36 -> 0.01655978 | H67: =H51*$C36 -> 0.018405429 | I67: =I51*$C36 -> 0.035633008 | ... Z67: =Z51*$C36 -> 0.0020028469
A68: Al | B68: =B52*$C37 -> 0.24735227 | C68: =C52*$C37 -> 0.36129893 | D68: =D52*$C37 -> 0.32656213 | E68: =E52*$C37 -> 0.27782453 | F68: =F52*$C37 -> 0.3521428 | G68: =G52*$C37 -> 0.28964864 | H68: =H52*$C37 -> 0.29536712 | I68: =I52*$C37 -> 0.26964829 | ... Z68: =Z52*$C37 -> 0.50094943
A69: Fe3+ | B69: =B53*$C38 -> 0.015634664 | C69: =C53*$C38 -> 0.021286338 | D69: =D53*$C38 -> 0.015304176 | E69: =E53*$C38 -> 0.005719998 | F69: =F53*$C38 -> 0.028011704 | G69: =G53*$C38 -> 0.027406648 | H69: =H53*$C38 -> 0.028372041 | I69: =I53*$C38 -> 0.026008581 | ... Z69: =Z53*$C38 -> 0.0036071881
A70: Fe2+ | B70: =B54*$C39 -> 0.034751025 | C70: =C54*$C39 -> 0.078854915 | D70: =D54*$C39 -> 0.048594931 | E70: =E54*$C39 -> 0.012713787 | F70: =F54*$C39 -> 0.10376893 | G70: =G54*$C39 -> 0.076145631 | H70: =H54*$C39 -> 0.078827844 | I70: =I54*$C39 -> 0.14452259 | ... Z70: =Z54*$C39 -> 0.011453806
A71: Mn | B71: =B55*$C40 -> 0.0015980376 | C71: =C55*$C40 -> 0.0017933116 | D71: =D55*$C40 -> 0.0015705344 | E71: =E55*$C40 -> 0.00089338449 | F71: =F55*$C40 -> 0.0024811144 | G71: =G55*$C40 -> 0.0030576019 | H71: =H55*$C40 -> 0.0029650559 | I71: =I55*$C40 -> 0.0030241717 | ... Z71: =Z55*$C40 -> 0.00036980163
A72: Mg | B72: =B56*$C41 -> 0.02149758 | C72: =C56*$C41 -> 0.086790872 | D72: =D56*$C41 -> 0.077313513 | E72: =E56*$C41 -> 0.0086212741 | F72: =F56*$C41 -> 0.13215776 | G72: =G56*$C41 -> 0.073109588 | H72: =H56*$C41 -> 0.08281772 | I72: =I56*$C41 -> 0.13986553 | ... Z72: =Z56*$C41 -> 0.0073741428
A73: Ca | B73: =B57*$C42 -> 0.046898305 | C73: =C57*$C42 -> 0.15345606 | D73: =D57*$C42 -> 0.11604937 | E73: =E57*$C42 -> 0.027495305 | F73: =F57*$C42 -> 0.18127804 | G73: =G57*$C42 -> 0.080266497 | H73: =H57*$C42 -> 0.089985335 | I73: =I57*$C42 -> 0.17937607 | ... Z73: =Z57*$C42 -> 0.17240086
A74: Na | B74: =B58*$C43 -> 0.13112071 | C74: =C58*$C43 -> 0.089811871 | D74: =D58*$C43 -> 0.1269783 | E74: =E58*$C43 -> 0.1381507 | F74: =F58*$C43 -> 0.11926988 | G74: =G58*$C43 -> 0.18306073 | H74: =H58*$C43 -> 0.17412072 | I74: =I58*$C43 -> 0.093618384 | ... Z74: =Z58*$C43 -> 0.12269254
A75: K | B75: =B59*$C44 -> 0.050531704 | C75: =C59*$C44 -> 0.03629832 | D75: =D59*$C44 -> 0.023518599 | E75: =E59*$C44 -> 0.064287404 | F75: =F59*$C44 -> 0.04468243 | G75: =G59*$C44 -> 0.048768943 | H75: =H59*$C44 -> 0.044002627 | I75: =I59*$C44 -> 0.010482182 | ... Z75: =Z59*$C44 -> 0.024402007
A76: P | B76: =B60*$C45 -> 0.0024114815 | C76: =C60*$C45 -> 0.0033859928 | D76: =D60*$C45 -> 0.0017338048 | E76: =E60*$C45 -> 0.00089344267 | F76: =F60*$C45 -> 0.0083093894 | G76: =G60*$C45 -> 0.0034056078 | H76: =H60*$C45 -> 0.0036814927 | I76: =I60*$C45 -> 0.0043475299 | ... Z76: =Z60*$C45 -> 0.0012265155
A77: S | B77: =B61*$C46 -> 3.8482059e-05 | C77: =C61*$C46 -> 0.013607504 | D77: =D61*$C46 -> 3.7723067e-05 | E77: =E61*$C46 -> 3.8365883e-05 | F77: =F61*$C46 -> 0.00072479245 | G77: =G61*$C46 -> 7.6642594e-05 | H77: =H61*$C46 -> 3.8233872e-05 | I77: =I61*$C46 -> 0.0020634286 | ... Z77: =Z61*$C46 -> 0
A78: O | B78: =(B50*$D35)+(B51*$D36)+(B52*$D37)+(B53*$D38)+(B54*$D39)+(B55*$D40)+(B56*$D41)+(B57*$D42)+(B58*$D43)+(B59*$D44)+(B60*$D45)+(B61*$D46) -> 3.0329166 | C78: =(C50*$D35)+(C51*$D36)+(C52*$D37)+(C53*$D38)+(C54*$D39)+(C55*$D40)+(C56*$D41)+(C57*$D42)+(C58*$D43)+(C59*$D44)+(C60*$D45)+(C61*$D46) -> 2.8695337 | D78: =(D50*$D35)+(D51*$D36)+(D52*$D37)+(D53*$D38)+(D54*$D39)+(D55*$D40)+(D56*$D41)+(D57*$D42)+(D58*$D43)+(D59*$D44)+(D60*$D45)+(D61*$D46) -> 2.952378 | E78: =(E50*$D35)+(E51*$D36)+(E52*$D37)+(E53*$D38)+(E54*$D39)+(E55*$D40)+(E56*$D41)+(E57*$D42)+(E58*$D43)+(E59*$D44)+(E60*$D45)+(E61*$D46) -> 3.0784149 | F78: =(F50*$D35)+(F51*$D36)+(F52*$D37)+(F53*$D38)+(F54*$D39)+(F55*$D40)+(F56*$D41)+(F57*$D42)+(F58*$D43)+(F59*$D44)+(F60*$D45)+(F61*$D46) -> 2.7522799 | G78: =(G50*$D35)+(G51*$D36)+(G52*$D37)+(G53*$D38)+(G54*$D39)+(G55*$D40)+(G56*$D41)+(G57*$D42)+(G58*$D43)+(G59*$D44)+(G60*$D45)+(G61*$D46) -> 2.8754562 | H78: =(H50*$D35)+(H51*$D36)+(H52*$D37)+(H53*$D38)+(H54*$D39)+(H55*$D40)+(H56*$D41)+(H57*$D42)+(H58*$D43)+(H59*$D44)+(H60*$D45)+(H61*$D46) -> 2.8665181 | I78: =(I50*$D35)+(I51*$D36)+(I52*$D37)+(I53*$D38)+(I54*$D39)+(I55*$D40)+(I56*$D41)+(I57*$D42)+(I58*$D43)+(I59*$D44)+(I60*$D45)+(I61*$D46) -> 2.7538814 | ... Z78: =(Z50*$D35)+(Z51*$D36)+(Z52*$D37)+(Z53*$D38)+(Z54*$D39)+(Z55*$D40)+(Z56*$D41)+(Z57*$D42)+(Z58*$D43)+(Z59*$D44)+(Z60*$D45)+(Z61*$D46) -> 2.9650367
A80: NBO/T CALCULATION
A81: Order of charge balance: | B81: K>Na>Ca>Fe2+>Mg and AlO2>FeO2
A82: Si + Ti + P | B82: =B66+B67+B76 -> 1.2207719 | C82: =C66+C67+C76 -> 0.93459504 | D82: =D66+D67+D76 -> 1.0599109 | E82: =E66+E67+E76 -> 1.2507967 | F82: =F66+F67+F76 -> 0.83702855 | G82: =G66+G67+G76 -> 1.0247232 | H82: =H66+H67+H76 -> 1.0076482 | I82: =I66+I67+I76 -> 0.89159671 | ... Z82: =Z66+Z67+Z76 -> 0.97122131
A83: Na + K + 2Ca + 2Mg | B83: =B74+B75+(2*B73)+(2*B72) -> 0.31844419 | C83: =C74+C75+(2*C73)+(2*C72) -> 0.60660405 | D83: =D74+D75+(2*D73)+(2*D72) -> 0.53722266 | E83: =E74+E75+(2*E73)+(2*E72) -> 0.27467126 | F83: =F74+F75+(2*F73)+(2*F72) -> 0.79082391 | G83: =G74+G75+(2*G73)+(2*G72) -> 0.53858184 | H83: =H74+H75+(2*H73)+(2*H72) -> 0.56372946 | I83: =I74+I75+(2*I73)+(2*I72) -> 0.74258377 | ... Z83: =Z74+Z75+(2*Z73)+(2*Z72) -> 0.50664455
A84: Al3+ in tetrahedral? | B84: =IF(B68>B83,B83,B68) -> 0.24735227 | C84: =IF(C68>C83,C83,C68) -> 0.36129893 | D84: =IF(D68>D83,D83,D68) -> 0.32656213 | E84: =IF(E68>E83,E83,E68) -> 0.27467126 | F84: =IF(F68>F83,F83,F68) -> 0.3521428 | G84: =IF(G68>G83,G83,G68) -> 0.28964864 | H84: =IF(H68>H83,H83,H68) -> 0.29536712 | I84: =IF(I68>I83,I83,I68) -> 0.26964829 | ... Z84: =IF(Z68>Z83,Z83,Z68) -> 0.50094943
A85: (Na+K)-Al | B85: =(B74+B75)-B68 -> -0.06569985 | C85: =(C74+C75)-C68 -> -0.23518874 | D85: =(D74+D75)-D68 -> -0.17606523 | E85: =(E74+E75)-E68 -> -0.07538643 | F85: =(F74+F75)-F68 -> -0.18819049 | G85: =(G74+G75)-G68 -> -0.057818963 | H85: =(H74+H75)-H68 -> -0.077243773 | I85: =(I74+I75)-I68 -> -0.16554772 | ... Z85: =(Z74+Z75)-Z68 -> -0.35385488
A86: Excess available for charge-balance? | B86: =IF(B85>0,B85,0) -> 0 | C86: =IF(C85>0,C85,0) -> 0 | D86: =IF(D85>0,D85,0) -> 0 | E86: =IF(E85>0,E85,0) -> 0 | F86: =IF(F85>0,F85,0) -> 0 | G86: =IF(G85>0,G85,0) -> 0 | H86: =IF(H85>0,H85,0) -> 0 | I86: =IF(I85>0,I85,0) -> 0 | ... Z86: =IF(Z85>0,Z85,0) -> 0
A87: Fe3+ in tetrahedral? | B87: =IF(B86>B69,B69,B86) -> 0 | C87: =IF(C86>C69,C69,C86) -> 0 | D87: =IF(D86>D69,D69,D86) -> 0 | E87: =IF(E86>E69,E69,E86) -> 0 | F87: =IF(F86>F69,F69,F86) -> 0 | G87: =IF(G86>G69,G69,G86) -> 0 | H87: =IF(H86>H69,H69,H86) -> 0 | I87: =IF(I86>I69,I69,I86) -> 0 | ... Z87: =IF(Z86>Z69,Z69,Z86) -> 0
A88: Total T | B88: =B82+B84+B87 -> 1.4681242 | C88: =C82+C84+C87 -> 1.295894 | D88: =D82+D84+D87 -> 1.386473 | E88: =E82+E84+E87 -> 1.525468 | F88: =F82+F84+F87 -> 1.1891713 | G88: =G82+G84+G87 -> 1.3143718 | H88: =H82+H84+H87 -> 1.3030153 | I88: =I82+I84+I87 -> 1.161245 | ... Z88: =Z82+Z84+Z87 -> 1.4721707
A90: NBO | B90: =(2*B$78)-(4*B$88) -> 0.19333641 | C90: =(2*C$78)-(4*C$88) -> 0.55549161 | D90: =(2*D$78)-(4*D$88) -> 0.35886413 | E90: =(2*E$78)-(4*E$88) -> 0.05495779 | F90: =(2*F$78)-(4*F$88) -> 0.74787446 | G90: =(2*G$78)-(4*G$88) -> 0.49342508 | H90: =(2*H$78)-(4*H$88) -> 0.52097515 | I90: =(2*I$78)-(4*I$88) -> 0.86278285 | ... Z90: =(2*Z$78)-(4*Z$88) -> 0.041390421
A91: NBO/T | B91: =B90/B88 -> 0.13168941 | C91: =C90/C88 -> 0.42865514 | D91: =D90/D88 -> 0.2588324 | E91: =E90/E88 -> 0.036026839 | F91: =F90/F88 -> 0.62890387 | G91: =G90/G88 -> 0.37540753 | H91: =H90/H88 -> 0.39982275 | I91: =I90/I88 -> 0.74298089 | ... Z91: =Z90/Z88 -> 0.028115232

Sheet Plots
B1: BULK ANALYSES | O1: GLASS ANALYSES
A2: ='NBO-T calculation'!A1 -> Sample name | B2: ='NBO-T calculation'!B1 -> Askja | C2: ='NBO-T calculation'!C1 -> Aso | D2: ='NBO-T calculation'!D1 -> Augustine | E2: ='NBO-T calculation'!E1 -> Chaitén | F2: ='NBO-T calculation'!F1 -> Etna | G2: ='NBO-T calculation'!G1 -> Eyjafjallajökull (a) | H2: ='NBO-T calculation'!H1 -> Eyjafjallajökull (b) | ... Z2: ='NBO-T calculation'!Z1 -> Tongariro
A3: ='NBO-T calculation'!A2 -> SiO2 | B3: ='NBO-T calculation'!B2 -> 72.353859 | C3: ='NBO-T calculation'!C2 -> 54.960026 | D3: ='NBO-T calculation'!D2 -> 62.864092 | E3: ='NBO-T calculation'!E2 -> 74.904927 | F3: ='NBO-T calculation'!F2 -> 48.037112 | G3: ='NBO-T calculation'!G2 -> 60.004513 | H3: ='NBO-T calculation'!H2 -> 58.845542 | ... Z3: ='NBO-T calculation'!Z2 -> 58.177617
A4: ='NBO-T calculation'!A91 -> NBO/T | B4: ='NBO-T calculation'!B91 -> 0.13168941 | C4: ='NBO-T calculation'!C91 -> 0.42865514 | D4: ='NBO-T calculation'!D91 -> 0.2588324 | E4: ='NBO-T calculation'!E91 -> 0.036026839 | F4: ='NBO-T calculation'!F91 -> 0.62890387 | G4: ='NBO-T calculation'!G91 -> 0.37540753 | H4: ='NBO-T calculation'!H91 -> 0.39982275 | ... Z4: ='NBO-T calculation'!Z91 -> 0.028115232
