Workbook

Sheet Overview
A1: Chapter 3 Supplementary Information
A2: In these data sheets we provide all the glass and mineral data collected as part of this study normalised to 100 wt.%
A3: We also provide the results of the thermometry and hygrometry calculations alongside the corresponding glass/mineral composition used
A5: Details on the EMPA conditions can be found in Chapter 3

Sheet NCW_H Glass and Minerals
A1: Basaltic Tuff (NCW_H)
A2: Glass and mineral compositions for the basaltic tuff (NCW_H)
A3: All data is in wt.% and normalised to 100 wt.%
B5: Glass Compositions
A6: Glass# | B6: SiO2 | C6: Al2O3 | D6: CaO | E6: MnO | F6: FeOt | G6: K2O | H6: TiO2 | I6: Na2O | J6: MgO | K6: P2O5
A7: NCW_H_G1_1 | B7: 48.547172 | C7: 14.010962 | D7: 10.455595 | E7: 0.2272711 | F7: 13.129072 | G7: 0.80459899 | H7: 3.4785871 | I7: 2.9701665 | J7: 5.7444483 | K7: 0.57446528
A8: NCW_H_G1_2 | B8: 49.174193 | C8: 14.033511 | D8: 10.291303 | E8: 0.21228036 | F8: 12.733345 | G8: 0.82498937 | H8: 3.4706202 | I8: 3.0457528 | J8: 5.6333031 | K8: 0.57589739
A9: NCW_H_G2_1 | B9: 52.243423 | C9: 14.036725 | D9: 8.5591388 | E9: 0.25783875 | F9: 11.834327 | G9: 1.3850884 | H9: 3.118372 | I9: 3.2972386 | J9: 4.3372088 | K9: 0.83710417
A10: NCW_H_G2_2 | B10: 52.450377 | C10: 14.055637 | D10: 8.5015314 | E10: 0.2077921 | F10: 11.954265 | G10: 1.3762403 | H10: 3.152975 | I10: 3.0607022 | J10: 4.3424267 | K10: 0.81179623
A11: NCW_H_G3_1 | B11: 51.407658 | C11: 14.174633 | D11: 8.9897694 | E11: 0.17814454 | F11: 11.989658 | G11: 1.2258916 | H11: 3.1990515 | I11: 3.1764008 | J11: 4.8065356 | K11: 0.74206486
A12: NCW_H_G3_2 | B12: 51.672932 | C12: 14.231747 | D12: 8.9137303 | E12: 0.21812236 | F12: 11.743931 | G12: 1.2789393 | H12: 3.0710001 | I12: 3.2779367 | J12: 4.7638126 | K12: 0.75432711
A13: NCW_H_G4_1 | B13: 48.506689 | C13: 14.033063 | D13: 10.682196 | E13: 0.20564666 | F13: 12.964006 | G13: 0.73910328 | H13: 3.5664132 | I13: 2.94039 | J13: 5.8129115 | K13: 0.50192073
A14: NCW_H_G4_2 | B14: 48.470581 | C14: 13.927179 | D14: 10.742972 | E14: 0.24501765 | F14: 13.000649 | G14: 0.68733684 | H14: 3.5250663 | I14: 3.0381984 | J14: 5.8727604 | K14: 0.41176861
A15: NCW_H_G5_1 | B15: 48.729053 | C15: 13.889547 | D15: 10.456825 | E15: 0.24470045 | F15: 13.036452 | G15: 0.77763076 | H15: 3.4922191 | I15: 3.1086924 | J15: 5.6973708 | K15: 0.51096219
A16: NCW_H_G5_2 | B16: 48.609647 | C16: 13.939457 | D16: 10.621094 | E16: 0.25229832 | F16: 13.141211 | G16: 0.7383692 | H16: 3.5146742 | I16: 2.9614603 | J16: 5.7417571 | K16: 0.4800321
A17: NCW_H_G6_1 | B17: 53.989673 | C17: 14.228819 | D17: 7.7027674 | E17: 0.25252785 | F17: 11.118728 | G17: 1.6610104 | H17: 2.8712324 | I17: 3.340521 | J17: 3.9040579 | K17: 0.88842113
A18: NCW_H_G6_2 | B18: 53.618367 | C18: 14.358802 | D18: 7.7160069 | E18: 0.24259489 | F18: 11.206598 | G18: 1.6141027 | H18: 2.9332762 | I18: 3.2345305 | J18: 3.9472167 | K18: 0.9376323
... A118: NCW_H_G48_1 | B118: 52.089547 | C118: 14.679565 | D118: 9.182982 | E118: 0.15438122 | F118: 11.064191 | G118: 1.1750296 | H118: 2.7307643 | I118: 3.2623859 | J118: 5.1041589 | K118: 0.52469233
A121: Clinopyroxene
A122: CPX# | B122: SiO2 | C122: Al2O3 | D122: CaO | E122: MnO | F122: FeOt | G122: K2O | H122: TiO2 | I122: Na2O | J122: MgO | K122: P2O5
A123: NCW_H_CPX_1_Rim | B123: 48.400314 | C123: 0.15688723 | D123: 17.018538 | E123: 2.2075987 | F123: 30.061325 | G123: 0 | H123: 0.33683426 | I123: 1.2734248 | J123: 0.47871751 | K123: 0.01208374
A124: NCW_H_CPX_1_Core | B124: 48.476847 | C124: 0.12510766 | D124: 17.051599 | E124: 2.1605558 | F124: 30.092281 | G124: -0.015045232 | H124: 0.30554947 | I124: 1.3501328 | J124: 0.43792731 | K124: -0.0029282666
A125: NCW_H_CPX_2 | B125: 48.294188 | C125: 0.14525917 | D125: 17.891776 | E125: 2.1403802 | F125: 29.350416 | G125: 0.00070563093 | H125: 0.33013447 | I125: 1.1901978 | J125: 0.53688434 | K125: 0.027620411
A128: Olivine
A129: Composition of olivines found within NCW_H and associated glass host. Normalised to 100 wt.
A130: 5 | B130: Host Glass | C130: Core/rim | D130: SiO2 | E130: Al2O3 | F130: CaO | G130: MnO | H130: FeO | I130: K2O | J130: TiO2 | K130: Na2O | L130: MgO | M130: P2O5
A131: Ol1 | B131: NCW_H_G1 | C131: Rim | D131: 39.0905 | E131: 0.0315 | F131: 0.3119 | G131: 0.2581 | H131: 19.8992 | I131: 0.0007 | J131: 0.0532 | K131: 0 | L131: 40.7498 | M131: 0.0794
A132: Ol1 | B132: NCW_H_G1 | C132: Core | D132: 39.0452 | E132: 0.0676 | F132: 0.2724 | G132: 0.2772 | H132: 18.1285 | I132: -0.0007 | J132: 0.0427 | K132: 0 | L132: 41.9736 | M132: 0.2089
A133: Ol2 | B133: NCW_H_G3 | C133: Rim | D133: 39.1143 | E133: 0.0499 | F133: 0.2695 | G133: 0.2939 | H133: 19.3667 | I133: 0.0202 | J133: 0.0349 | K133: 0.0028 | L133: 41.1048 | M133: 0.0354
A134: Ol2 | B134: NCW_H_G3 | C134: Core | D134: 39.3267 | E134: 0.0356 | F134: 0.2831 | G134: 0.2533 | H134: 18.7171 | I134: 0.0067 | J134: 0.0367 | K134: 0 | L134: 41.6647 | M134: 0.0345
A135: Ol3 | B135: NCW_H_G7 | C135: Rim | D135: 38.9121 | E135: 0.0339 | F135: 0.3154 | G135: 0.2936 | H135: 19.8108 | I135: 0.0112 | J135: 0.039 | K135: 0.0084 | L135: 40.6336 | M135: 0.0751
A136: Ol3 | B136: NCW_H_G7 | C136: Core | D136: 39.0516 | E136: 0.0768 | F136: 0.2758 | G136: 0.2902 | H136: 18.5475 | I136: 0 | J136: 0.0471 | K136: 0 | L136: 41.7736 | M136: 0.2421
A137: Ol4 | B137: NCW_H_G8 | C137: Rim | D137: 38.9805 | E137: 0.0475 | F137: 0.2972 | G137: 0.3262 | H137: 19.9292 | I137: 0 | J137: 0.0346 | K137: 0.0363 | L137: 40.3159 | M137: -0.0152
A138: Ol4 | B138: NCW_H_G8 | C138: Core | D138: 38.6623 | E138: 0.0421 | F138: 0.2697 | G138: 0.3338 | H138: 20.7229 | I138: 0.0119 | J138: 0.0582 | K138: 0.0281 | L138: 39.5574 | M138: 0.0268
A139: Ol5 | B139: NCW_H_G9 | C139: Rim | D139: 38.8633 | E139: 0.0131 | F139: 0.3153 | G139: 0.3019 | H139: 20.0353 | I139: 0 | J139: 0.0143 | K139: 0 | L139: 40.5628 | M139: 0.0352
A140: Ol5 | B140: NCW_H_G9 | C140: Core | D140: 38.9149 | E140: 0.046 | F140: 0.2861 | G140: 0.3237 | H140: 19.9175 | I140: 0.0022 | J140: 0.0577 | K140: 0.0028 | L140: 40.2192 | M140: 0.1001
A141: Ol6 | B141: NCW_H_G10 | C141: Rim | D141: 38.9152 | E141: 0.0654 | F141: 0.2774 | G141: 0.2882 | H141: 20.4523 | I141: 0.0067 | J141: 0.0272 | K141: 0 | L141: 40.0305 | M141: 0.0054
A142: Ol6 | B142: NCW_H_G10 | C142: Core | D142: 38.8199 | E142: 0.037 | F142: 0.2397 | G142: 0.2952 | H142: 19.8365 | I142: 0.0067 | J142: 0.0136 | K142: 0 | L142: 40.3207 | M142: 0.1436
... A166: Ol18 | B166: NCW_H_G32 | C166: Core | D166: 38.5314 | E166: 0.0447 | F166: 0.2849 | G166: 0.3325 | H166: 20.3037 | I166: 0.0007 | J166: 0.0267 | K166: 0 | L166: 40.2323 | M166: 0.1776
A168: Plagioclase
...

Sheet NCW_H T and H2O Calc
A1: Thermometry and Hygrometry for NCW_H
A2: All equations conducted using the theromobar python package (Weiser et al., 2022)
A4: Plagioclase-Liquid Thermometry and Hygrometry
A5: Calculated Temperature in K using in equilibrium Plagioclase-Liquid Pairs.
A6: Temperatures and H2O contents were calculated using Equation 24a of Putirka (2008) to calculate temperature and the method of Waters and Lange (2015) to calculate H2O contents.
A7: The An-Ab test of Putirka (2008) was used to filter plagioclase liquid pairs not in equilibrium. | X7: Pressure (kbar)
A8: Core Compositions | X8: 0.5 | AA8: 1 | AD8: 1.5 | AG8: 2 | AJ8: 2.5
A9: Plag # | B9: SiO2_Plag | C9: TiO2_Plag | D9: Al2O3_Plag | E9: FeOt_Plag | F9: MnO_Plag | G9: MgO_Plag | H9: CaO_Plag | I9: Na2O_Plag | J9: K2O_Plag | L9: Glass # | M9: SiO2_Liq | N9: TiO2_Liq | O9: Al2O3_Liq | P9: FeOt_Liq | Q9: MnO_Liq | R9: MgO_Liq | S9: CaO_Liq | T9: Na2O_Liq | U9: K2O_Liq | V9: P2O5_Liq | X9: T (K) | Y9: H2O (Wt.%) | AA9: T (K) | AB9: H2O (Wt.%) | AD9: T (K) | AE9: H2O (Wt.%) | AG9: T (K) | AH9: H2O (Wt.%) | AJ9: T (K) | AK9: H2O (Wt.%)
A10: =_xlfn.XLOOKUP(B10,'NCW_H Glass and Minerals'!$D$171:$D$200,'NCW_H Glass and Minerals'!$A$171:$A$200,,1) -> Plag_2 | B10: 51.604007 | C10: 0.11994161 | D10: 30.186702 | E10: 0.70010808 | F10: 0 | G10: 0.19222563 | H10: 13.2194 | I10: 3.8651509 | J10: 0.11266336 | L10: 7 | M10: 48.506689 | N10: 3.5664132 | O10: 14.033063 | P10: 12.964006 | Q10: 0.20564666 | R10: 5.8129115 | S10: 10.682196 | T10: 2.94039 | U10: 0.73910328 | V10: 0.50192073 | X10: 1410.6674 | Y10: 0.51641373 | AA10: 1416.7558 | AB10: 0.44017642 | AD10: 1422.9072 | AE10: 0.36365582 | AG10: 1429.122 | AH10: 0.287 | AJ10: 1435.401 | AK10: 0.20983211
A11: =_xlfn.XLOOKUP(B11,'NCW_H Glass and Minerals'!$D$171:$D$200,'NCW_H Glass and Minerals'!$A$171:$A$200,,1) -> Plag_2 | B11: 51.604007 | C11: 0.11994161 | D11: 30.186702 | E11: 0.70010808 | F11: 0 | G11: 0.19222563 | H11: 13.2194 | I11: 3.8651509 | J11: 0.11266336 | L11: 8 | M11: 48.470581 | N11: 3.5250663 | O11: 13.927179 | P11: 13.000649 | Q11: 0.24501765 | R11: 5.8727604 | S11: 10.742972 | T11: 3.0381984 | U11: 0.68733684 | V11: 0.41176861 | X11: 1412.308 | Y11: 0.46210381 | AA11: 1418.4101 | AB11: 0.3858809 | AD11: 1424.5753 | AE11: 0.3093784 | AG11: 1430.804 | AH11: 0.233 | AJ11: 1437.0967 | AK11: 0.15560207
A12: =_xlfn.XLOOKUP(B12,'NCW_H Glass and Minerals'!$D$171:$D$200,'NCW_H Glass and Minerals'!$A$171:$A$200,,1) -> Plag_3 | B12: 50.946857 | C12: 0.077221307 | D12: 30.668303 | E12: 0.59209636 | F12: 0.022688734 | G12: 0.18777913 | H12: 13.765992 | I12: 3.5272026 | J12: 0.13473924 | L12: 9 | M12: 48.729053 | N12: 3.4922191 | O12: 13.889547 | P12: 13.036452 | Q12: 0.24470045 | R12: 5.6973708 | S12: 10.456825 | T12: 3.1086924 | U12: 0.77763076 | V12: 0.51096219 | X12: 1416.6031 | Y12: 0.3706357 | AA12: 1422.7298 | AB12: 0.2947584 | AD12: 1428.9195 | AE12: 0.21861328 | AG12: 1435.173 | AH12: 0.142 | AJ12: 1441.4894 | AK12: 0.065591633
A13: =_xlfn.XLOOKUP(B13,'NCW_H Glass and Minerals'!$D$171:$D$200,'NCW_H Glass and Minerals'!$A$171:$A$200,,1) -> Plag_3 | B13: 50.946857 | C13: 0.077221307 | D13: 30.668303 | E13: 0.59209636 | F13: 0.022688734 | G13: 0.18777913 | H13: 13.765992 | I13: 3.5272026 | J13: 0.13473924 | L13: 10 | M13: 48.609647 | N13: 3.5146742 | O13: 13.939457 | P13: 13.141211 | Q13: 0.25229832 | R13: 5.7417571 | S13: 10.621094 | T13: 2.9614603 | U13: 0.7383692 | V13: 0.4800321 | X13: 1415.8076 | Y13: 0.4411534 | AA13: 1421.9276 | AB13: 0.36526787 | AD13: 1428.1108 | AE13: 0.28911258 | AG13: 1434.357 | AH13: 0.213 | AJ13: 1440.6674 | AK13: 0.13606478
A14: =_xlfn.XLOOKUP(B14,'NCW_H Glass and Minerals'!$D$171:$D$200,'NCW_H Glass and Minerals'!$A$171:$A$200,,1) -> Plag_4 | B14: 51.103414 | C14: 0.088692593 | D14: 30.538917 | E14: 0.65181066 | F14: 0 | G14: 0.1597066 | H14: 13.810575 | I14: 3.5091504 | J14: 0.10157699 | L14: 19 | M14: 48.073652 | N14: 3.5424523 | O14: 14.191897 | P14: 13.088538 | Q14: 0.17476627 | R14: 5.9225104 | S14: 10.785838 | T14: 3.0645678 | U14: 0.6789115 | V14: 0.44225944 | X14: 1411.7087 | Y14: 0.59938101 | AA14: 1417.7942 | AB14: 0.52347169 | AD14: 1423.9426 | AE14: 0.44728211 | AG14: 1430.154 | AH14: 0.371 | AJ14: 1436.4294 | AK14: 0.2941345
A15: =_xlfn.XLOOKUP(B15,'NCW_H Glass and Minerals'!$D$171:$D$200,'NCW_H Glass and Minerals'!$A$171:$A$200,,1) -> Plag_4 | B15: 51.103414 | C15: 0.088692593 | D15: 30.538917 | E15: 0.65181066 | F15: 0 | G15: 0.1597066 | H15: 13.810575 | I15: 3.5091504 | J15: 0.10157699 | L15: 20 | M15: 48.499032 | N15: 3.2969717 | O15: 15.106171 | P15: 12.56356 | Q15: 0.20817645 | R15: 5.3584659 | S15: 10.718351 | T15: 3.1548766 | U15: 0.64925917 | V15: 0.42567726 | X15: 1392.252 | Y15: 1.3886391 | AA15: 1398.1742 | AB15: 1.3126243 | AD15: 1404.1587 | AE15: 1.2362823 | AG15: 1410.206 | AH15: 1.16 | AJ15: 1416.3158 | AK15: 1.082685
A16: =_xlfn.XLOOKUP(B16,'NCW_H Glass and Minerals'!$D$171:$D$200,'NCW_H Glass and Minerals'!$A$171:$A$200,,1) -> Plag_5 | B16: 52.248748 | C16: 0.096054669 | D16: 29.376853 | E16: 0.83333916 | F16: 0.014977339 | G16: 0.18122581 | H16: 13.010615 | I16: 3.9666984 | J16: 0.21487489 | L16: 21 | M16: 48.39528 | N16: 3.483477 | O16: 14.035213 | P16: 12.993506 | Q16: 0.1971876 | R16: 5.9422333 | S16: 10.69428 | T16: 3.0526727 | U16: 0.6822261 | V16: 0.52382112 | X16: 1412.3965 | Y16: 0.45440865 | AA16: 1418.5022 | AB16: 0.37810511 | AD16: 1424.6712 | AE16: 0.30152354 | AG16: 1430.904 | AH16: 0.225 | AJ16: 1437.2 | AK16: 0.14759221
A17: =_xlfn.XLOOKUP(B17,'NCW_H Glass and Minerals'!$D$171:$D$200,'NCW_H Glass and Minerals'!$A$171:$A$200,,1) -> Plag_5 | B17: 52.248748 | C17: 0.096054669 | D17: 29.376853 | E17: 0.83333916 | F17: 0.014977339 | G17: 0.18122581 | H17: 13.010615 | I17: 3.9666984 | J17: 0.21487489 | L17: 22 | M17: 48.613226 | N17: 3.4585142 | O17: 14.033902 | P17: 12.947305 | Q17: 0.23097588 | R17: 5.9553603 | S17: 10.631525 | T17: 2.9675756 | U17: 0.70874789 | V17: 0.45276579 | X17: 1414.5601 | Y17: 0.39726783 | AA17: 1420.6838 | AB17: 0.32098519 | AD17: 1426.8708 | AE17: 0.24442927 | AG17: 1433.122 | AH17: 0.168 | AJ17: 1439.4362 | AK17: 0.090563424
A18: =_xlfn.XLOOKUP(B18,'NCW_H Glass and Minerals'!$D$171:$D$200,'NCW_H Glass and Minerals'!$A$171:$A$200,,1) -> Plag_6 | B18: 51.819847 | C18: 0.10689407 | D18: 29.970799 | E18: 0.67273332 | F18: 0.0056943569 | G18: 0.18831338 | H18: 13.265054 | I18: 3.8076266 | J18: 0.15424714 | L18: 23 | M18: 52.571636 | N18: 3.2180422 | O18: 14.078896 | P18: 12.020607 | Q18: 0.25018892 | R18: 4.2408553 | S18: 8.5941425 | T18: 2.884525 | U18: 1.2966934 | V18: 0.82398954 | X18: 1406.1005 | Y18: 0.4023457 | AA18: 1412.1491 | AB18: 0.32611848 | AD18: 1418.2605 | AE18: 0.24959816 | AG18: 1424.435 | AH18: 0.173 | AJ18: 1430.6735 | AK18: 0.095745933
A19: =_xlfn.XLOOKUP(B19,'NCW_H Glass and Minerals'!$D$171:$D$200,'NCW_H Glass and Minerals'!$A$171:$A$200,,1) -> Plag_7 | B19: 51.080068 | C19: 0.14585645 | D19: 30.395763 | E19: 0.72077894 | F19: 0.0093036005 | G19: 0.18927325 | H19: 13.736416 | I19: 3.5654798 | J19: 0.11994642 | L19: 23 | M19: 52.571636 | N19: 3.2180422 | O19: 14.078896 | P19: 12.020607 | Q19: 0.25018892 | R19: 4.2408553 | S19: 8.5941425 | T19: 2.884525 | U19: 1.2966934 | V19: 0.82398954 | X19: 1408.1487 | Y19: 0.40338344 | AA19: 1414.2062 | AB19: 0.32739797 | AD19: 1420.3265 | AE19: 0.25112371 | AG19: 1426.51 | AH19: 0.175 | AJ19: 1432.757 | AK19: 0.097780038
A20: =_xlfn.XLOOKUP(B20,'NCW_H Glass and Minerals'!$D$171:$D$200,'NCW_H Glass and Minerals'!$A$171:$A$200,,1) -> Plag_6 | B20: 51.819847 | C20: 0.10689407 | D20: 29.970799 | E20: 0.67273332 | F20: 0.0056943569 | G20: 0.18831338 | H20: 13.265054 | I20: 3.8076266 | J20: 0.15424714 | L20: 24 | M20: 52.088211 | N20: 3.2005861 | O20: 14.206543 | P20: 11.965083 | Q20: 0.24933412 | R20: 4.3017524 | S20: 8.5654984 | T20: 3.2070054 | U20: 1.3708792 | V20: 0.80210798 | X20: 1404.9571 | Y20: 0.39203893 | AA20: 1410.9961 | AB20: 0.31580373 | AD20: 1417.098 | AE20: 0.23927282 | AG20: 1423.263 | AH20: 0.162 | AJ20: 1429.4916 | AK20: 0.085391458
A21: =_xlfn.XLOOKUP(B21,'NCW_H Glass and Minerals'!$D$171:$D$200,'NCW_H Glass and Minerals'!$A$171:$A$200,,1) -> Plag_7 | B21: 51.080068 | C21: 0.14585645 | D21: 30.395763 | E21: 0.72077894 | F21: 0.0093036005 | G21: 0.18927325 | H21: 13.736416 | I21: 3.5654798 | J21: 0.11994642 | L21: 24 | M21: 52.088211 | N21: 3.2005861 | O21: 14.206543 | P21: 11.965083 | Q21: 0.24933412 | R21: 4.3017524 | S21: 8.5654984 | T21: 3.2070054 | U21: 1.3708792 | V21: 0.80210798 | X21: 1407.0039 | Y21: 0.3930238 | AA21: 1413.0518 | AB21: 0.31702987 | AD21: 1419.1626 | AE21: 0.24074437 | AG21: 1425.336 | AH21: 0.164 | AJ21: 1431.5737 | AK21: 0.087369774
... A37: =_xlfn.XLOOKUP(B37,'NCW_H Glass and Minerals'!$D$171:$D$200,'NCW_H Glass and Minerals'!$A$171:$A$200,,1) -> Plag_15 | B37: 51.440487 | C37: 0.14355586 | D37: 30.188345 | E37: 0.61404478 | F37: 0 | G37: 0.15112192 | H37: 13.569016 | I37: 3.7105508 | J37: 0.15301343 | L37: 52 | M37: 52.225441 | N37: 3.123347 | O37: 14.317698 | P37: 11.80471 | Q37: 0.20902273 | R37: 4.3312503 | S37: 8.5318998 | T37: 3.1032546 | U37: 1.4089301 | V37: 0.87299537 | X37: 1405.9508 | Y37: 0.41278566 | AA37: 1411.9941 | AB37: 0.33666762 | AD37: 1418.1003 | AE37: 0.26025598 | AG37: 1424.27 | AH37: 0.184 | AJ37: 1430.5024 | AK37: 0.10662115
A39: Rim Compositions | AA39: 1 Kbar | AD39: 1.5 Kbar | AG39: 2 Kbar | AJ39: 2.5 Kbar
B40: SiO2_Plag | C40: TiO2_Plag | D40: Al2O3_Plag | E40: FeOt_Plag | F40: MnO_Plag | G40: MgO_Plag | H40: CaO_Plag | I40: Na2O_Plag | J40: K2O_Plag | L40: Glass # | M40: SiO2_Liq | N40: TiO2_Liq | O40: Al2O3_Liq | P40: FeOt_Liq | Q40: MnO_Liq | R40: MgO_Liq | S40: CaO_Liq | T40: Na2O_Liq | U40: K2O_Liq | V40: P2O5_Liq | X40: T (K) | Y40: H2O (Wt.%) | AA40: T (K) | AB40: H2O (Wt.%) | AD40: T (K) | AE40: H2O (Wt.%) | AG40: T (K) | AH40: H2O (Wt.%) | AJ40: T (K) | AK40: H2O (Wt.%)
B41: 50.450696 | C41: 0.087487848 | D41: 30.952426 | E41: 0.7137062 | F41: 0.010625652 | G41: 0.15153968 | H41: 14.107589 | I41: 3.3679346 | J41: 0.10834193 | L41: 7 | M41: 48.506689 | N41: 3.5664132 | O41: 14.033063 | P41: 12.964006 | Q41: 0.20564666 | R41: 5.8129115 | S41: 10.682196 | T41: 2.94039 | U41: 0.73910328 | V41: 0.50192073 | X41: 1415.4863 | Y41: 0.50916791 | AA41: 1421.5978 | AB41: 0.4334398 | AD41: 1427.7723 | AE41: 0.357442 | AG41: 1434.01 | AH41: 0.281 | AJ41: 1440.311 | AK41: 0.20471209
B42: 50.450696 | C42: 0.087487848 | D42: 30.952426 | E42: 0.7137062 | F42: 0.010625652 | G42: 0.15153968 | H42: 14.107589 | I42: 3.3679346 | J42: 0.10834193 | L42: 8 | M42: 48.470581 | N42: 3.5250663 | O42: 13.927179 | P42: 13.000649 | Q42: 0.24501765 | R42: 5.8727604 | S42: 10.742972 | T42: 3.0381984 | U42: 0.68733684 | V42: 0.41176861 | X42: 1417.1323 | Y42: 0.45501851 | AA42: 1423.2575 | AB42: 0.37930755 | AD42: 1429.4456 | AE42: 0.3033311 | AG42: 1435.697 | AH42: 0.227 | AJ42: 1442.0119 | AK42: 0.15065648
B43: 51.787443 | C43: 0.12521576 | D43: 29.74438 | E43: 0.79190238 | F43: 0.0056870903 | G43: 0.20194159 | H43: 13.201732 | I43: 3.92509 | J43: 0.17250841 | L43: 9 | M43: 48.729053 | N43: 3.4922191 | O43: 13.889547 | P43: 13.036452 | Q43: 0.24470045 | R43: 5.6973708 | S43: 10.456825 | T43: 3.1086924 | U43: 0.77763076 | V43: 0.51096219 | X43: 1413.2635 | Y43: 0.37273688 | AA43: 1419.3746 | AB43: 0.29649225 | AD43: 1425.5489 | AE43: 0.21997098 | AG43: 1431.787 | AH43: 0.143 | AJ43: 1438.0886 | AK43: 0.066165315
B44: 51.787443 | C44: 0.12521576 | D44: 29.74438 | E44: 0.79190238 | F44: 0.0056870903 | G44: 0.20194159 | H44: 13.201732 | I44: 3.92509 | J44: 0.17250841 | L44: 10 | M44: 48.609647 | N44: 3.5146742 | O44: 13.939457 | P44: 13.141211 | Q44: 0.25229832 | R44: 5.7417571 | S44: 10.621094 | T44: 2.9614603 | U44: 0.7383692 | V44: 0.4800321 | X44: 1412.4697 | Y44: 0.44331004 | AA44: 1418.5742 | AB44: 0.36705799 | AD44: 1424.7419 | AE44: 0.29052753 | AG44: 1430.973 | AH44: 0.214 | AJ44: 1437.2682 | AK44: 0.13669815
B45: 51.377351 | C45: 0.11571363 | D45: 30.112554 | E45: 0.83810158 | F45: 0.016345423 | G45: 0.18069665 | H45: 13.55803 | I45: 3.6196141 | J45: 0.16116188 | L45: 19 | M45: 48.073652 | N45: 3.5424523 | O45: 14.191897 | P45: 13.088538 | Q45: 0.17476627 | R45: 5.9225104 | S45: 10.785838 | T45: 3.0645678 | U45: 0.6789115 | V45: 0.44225944 | X45: 1411.4723 | Y45: 0.58779899 | AA45: 1417.5596 | AB45: 0.5117808 | AD45: 1423.71 | AE45: 0.43548231 | AG45: 1429.924 | AH45: 0.359 | AJ45: 1436.2009 | AK45: 0.28211496
B46: 51.377351 | C46: 0.11571363 | D46: 30.112554 | E46: 0.83810158 | F46: 0.016345423 | G46: 0.18069665 | H46: 13.55803 | I46: 3.6196141 | J46: 0.16116188 | L46: 20 | M46: 48.499032 | N46: 3.2969717 | O46: 15.106171 | P46: 12.56356 | Q46: 0.20817645 | R46: 5.3584659 | S46: 10.718351 | T46: 3.1548766 | U46: 0.64925917 | V46: 0.42567726 | X46: 1392.0089 | Y46: 1.3774329 | AA46: 1397.933 | AB46: 1.3013054 | AD46: 1403.9194 | AE46: 1.2248521 | AG46: 1409.968 | AH46: 1.148 | AJ46: 1416.0803 | AK46: 1.0710341
B47: 50.893584 | C47: 0.47247892 | D47: 28.949275 | E47: 2.0433891 | F47: 0.022024434 | G47: 0.71624257 | H47: 13.079524 | I47: 3.5928729 | J47: 0.18038111 | L47: 21 | M47: 48.39528 | N47: 3.483477 | O47: 14.035213 | P47: 12.993506 | Q47: 0.1971876 | R47: 5.9422333 | S47: 10.69428 | T47: 3.0526727 | U47: 0.6822261 | V47: 0.52382112 | X47: 1414.9162 | Y47: 0.45049028 | AA47: 1421.0344 | AB47: 0.37444206 | AD47: 1427.2159 | AE47: 0.29812181 | AG47: 1433.461 | AH47: 0.222 | AJ47: 1439.7694 | AK47: 0.14473464
B48: 50.893584 | C48: 0.47247892 | D48: 28.949275 | E48: 2.0433891 | F48: 0.022024434 | G48: 0.71624257 | H48: 13.079524 | I48: 3.5928729 | J48: 0.18038111 | L48: 22 | M48: 48.613226 | N48: 3.4585142 | O48: 14.033902 | P48: 12.947305 | Q48: 0.23097588 | R48: 5.9553603 | S48: 10.631525 | T48: 2.9675756 | U48: 0.70874789 | V48: 0.45276579 | X48: 1417.0836 | Y48: 0.39345612 | AA48: 1423.2199 | AB48: 0.31743033 | AD48: 1429.4194 | AE48: 0.24113757 | AG48: 1435.682 | AH48: 0.165 | AJ48: 1442.0092 | AK48: 0.087820462
B49: 51.152125 | C49: 0.098214571 | D49: 30.322152 | E49: 0.7186432 | F49: 0 | G49: 0.18574931 | H49: 13.686759 | I49: 3.6962215 | J49: 0.1105912 | L49: 23 | M49: 52.571636 | N49: 3.2180422 | O49: 14.078896 | P49: 12.020607 | Q49: 0.25018892 | R49: 4.2408553 | S49: 8.5941425 | T49: 2.884525 | U49: 1.2966934 | V49: 0.82398954 | X49: 1407.0391 | Y49: 0.40736959 | AA49: 1413.0907 | AB49: 0.33128351 | AD49: 1419.2051 | AE49: 0.25490571 | AG49: 1425.383 | AH49: 0.178 | AJ49: 1431.624 | AK49: 0.10134474
B50: 52.148495 | C50: 0.1477031 | D50: 29.401317 | E50: 0.86001806 | F50: 0.0021000441 | G50: 0.18650392 | H50: 12.895871 | I50: 4.0897859 | J50: 0.17380365 | L50: 23 | M50: 52.571636 | N50: 3.2180422 | O50: 14.078896 | P50: 12.020607 | Q50: 0.25018892 | R50: 4.2408553 | S50: 8.5941425 | T50: 2.884525 | U50: 1.2966934 | V50: 0.82398954 | X50: 1403.2778 | Y50: 0.41253751 | AA50: 1409.3106 | AB50: 0.33607091 | AD50: 1415.4063 | AE50: 0.25930598 | AG50: 1421.565 | AH50: 0.182 | AJ50: 1427.7879 | AK50: 0.10494554
B51: 51.152125 | C51: 0.098214571 | D51: 30.322152 | E51: 0.7186432 | F51: 0 | G51: 0.18574931 | H51: 13.686759 | I51: 3.6962215 | J51: 0.1105912 | L51: 24 | M51: 52.088211 | N51: 3.2005861 | O51: 14.206543 | P51: 11.965083 | Q51: 0.24933412 | R51: 4.3017524 | S51: 8.5654984 | T51: 3.2070054 | U51: 1.3708792 | V51: 0.80210798 | X51: 1405.8953 | Y51: 0.39703274 | AA51: 1411.9373 | AB51: 0.32093859 | AD51: 1418.0421 | AE51: 0.24455003 | AG51: 1424.21 | AH51: 0.168 | AJ51: 1430.4416 | AK51: 0.090959271
B52: 52.148495 | C52: 0.1477031 | D52: 29.401317 | E52: 0.86001806 | F52: 0.0021000441 | G52: 0.18650392 | H52: 12.895871 | I52: 4.0897859 | J52: 0.17380365 | L52: 24 | M52: 52.088211 | N52: 3.2005861 | O52: 14.206543 | P52: 11.965083 | Q52: 0.24933412 | R52: 4.3017524 | S52: 8.5654984 | T52: 3.2070054 | U52: 1.3708792 | V52: 0.80210798 | X52: 1402.1371 | Y52: 0.40228585 | AA52: 1408.1603 | AB52: 0.3258119 | AD52: 1414.2464 | AE52: 0.24903716 | AG52: 1420.396 | AH52: 0.172 | AJ52: 1426.6086 | AK52: 0.094649604
... B68: 51.878675 | C68: 0.094434475 | D68: 29.978089 | E68: 0.71321562 | F68: 0 | G68: 0.14460592 | H68: 13.158237 | I68: 3.7757767 | J68: 0.15111519 | L68: 52 | M68: 52.225441 | N68: 3.123347 | O68: 14.317698 | P68: 11.80471 | Q68: 0.20902273 | R68: 4.3312503 | S68: 8.5318998 | T68: 3.1032546 | U68: 1.4089301 | V68: 0.87299537 | X68: 1404.6559 | Y68: 0.41684493 | AA68: 1410.6924 | AB68: 0.34060822 | AD68: 1416.7917 | AE68: 0.2640751 | AG68: 1422.954 | AH68: 0.187 | AJ68: 1429.1801 | AK68: 0.11018712
A70: Olivine-liquid Thermometry
A71: Calculated Temperature in K using in equilibrium Olivine-Liquid Pairs.
A72: The equilibrium test of Roeder and Emslie 1970 was used. Threshold set at 〖Kd〗_((Fe-Mg))^(Ol-Liq) 0.3 ±0.03
A73: Temperatures are calculated at a pressures from 0.5 - 2.5 kbar using Equation 22 of Putirka (2008) | Z73: Pressure (kbar)
...

Sheet NCW_F Glass and Minerals
B1: NCW_F Glass and Mineral Data
B2: This spreadsheet contains all glass and mineral compostions recorded for the peralkaline ignimbrite sample (NCW_F) including the crystaline encalve found within in.
B3: Analysis from NCW_F. Compositions normalised to an anhydrous composition
B4: Glass
B5: Glass# | C5: SiO2 | D5: Al2O3 | E5: CaO | F5: MnO | G5: FeOt | H5: K2O | I5: TiO2 | J5: Na2O | K5: MgO | L5: P2O5
B6: NCW_F_G1 | C6: 75.061656 | D6: 9.6137074 | E6: 0.26008087 | F6: 0.26769656 | G6: 5.1305725 | H6: 4.8557819 | I6: 0.317355 | J6: 4.3462612 | K6: 0.003025409 | L6: 0.052370878
B7: NCW_F_G2 | C7: 74.675882 | D7: 9.5023966 | E7: 0.21432726 | F7: 0.25126229 | G7: 5.406249 | H7: 4.7022984 | I7: 0.35155913 | J7: 4.7157199 | K7: 0.015398269 | L7: 0
B8: NCW_F_G3 | C8: 75.139297 | D8: 9.5602682 | E8: 0.090710061 | F8: 0.19710364 | G8: 5.5932925 | H8: 5.2392478 | I8: 0.35181939 | J8: 3.5994727 | K8: 0.00010597 | L8: 0.048216212
B9: NCW_F_G4 | C9: 74.928079 | D9: 9.6381875 | E9: 0.30759064 | F9: 0.27850972 | G9: 5.2778218 | H9: 4.5348512 | I9: 0.34417631 | J9: 4.5528835 | K9: 0.01709416 | L9: 0.01751109
B10: NCW_F_G5 | C10: 74.915147 | D10: 9.559078 | E10: 0.10413757 | F10: 0.26070876 | G10: 5.2734888 | H10: 4.8236854 | I10: 0.30584546 | J10: 4.5556797 | K10: 0.023037439 | L10: -0.004690881
B11: NCW_F_G6 | C11: 74.839898 | D11: 9.7615712 | E11: 0.19334609 | F11: 0.26857111 | G11: 4.9884965 | H11: 5.048551 | I11: 0.31125791 | J11: 4.501888 | K11: 0.001255494 | L11: 0
B12: NCW_F_G7 | C12: 74.786321 | D12: 9.208834 | E12: 0.09852352 | F12: 0.29894972 | G12: 6.0093011 | H12: 5.2588117 | I12: 0.34245635 | J12: 3.7526585 | K12: 0.021225324 | L12: -0.001900775
B13: NCW_F_G8 | C13: 73.821851 | D13: 11.651179 | E13: 0.14484386 | F13: 0.18507259 | G13: 4.2690554 | H13: 2.9351611 | I13: 0.21260828 | J13: 6.6916842 | K13: 0.020882084 | L13: 0
B14: NCW_F_G9 | C14: 75.447991 | D14: 9.454923 | E14: 0.17985706 | F14: 0.25840687 | G14: 5.5967531 | H14: 4.6413608 | I14: 0.3644334 | J14: 3.8277567 | K14: 0 | L14: 0.020030728
B15: NCW_F_G10 | C15: 75.862279 | D15: 9.6938931 | E15: 0.28993316 | F15: 0.23993384 | G15: 5.299823 | H15: 4.2284539 | I15: 0.34706026 | J15: 3.9216447 | K15: 0.018762847 | L15: 0
B16: NCW_F_G11 | C16: 74.956739 | D16: 9.717775 | E16: 0.13677855 | F16: 0.24441959 | G16: 5.1528304 | H16: 5.0227597 | I16: 0.30992656 | J16: 4.2638222 | K16: 0.002515468 | L16: 0.013101393
B17: NCW_F_G12 | C17: 74.48408 | D17: 9.5359332 | E17: 0.17075159 | F17: 0.24510605 | G17: 5.4809257 | H17: 5.0096977 | I17: 0.34065945 | J17: 4.5772817 | K17: 0.010757667 | L17: 0.042081461
... B34: NCW_F_G29 | C34: 74.75303 | D34: 9.6944276 | E34: 0.30454805 | F34: 0.26209718 | G34: 5.6119631 | H34: 4.822926 | I34: 0.37709469 | J34: 4.0231178 | K34: -0.004012769 | L34: 0.009715125
B36: Clinopyroxene
A37: Core/Rim | B37: CPX# | C37: SiO2 | D37: Al2O3 | E37: CaO | F37: MnO | G37: FeOt | H37: K2O | I37: TiO2 | J37: Na2O | K37: MgO | L37: P2O5
A38: Rim | B38: CPX1_1 | C38: 47.886125 | D38: 0.15616647 | E38: 17.515265 | F38: 2.320087 | G38: 29.584802 | H38: -0.0078384712 | I38: 0.29555056 | J38: 1.5500074 | K38: 0.67933417 | L38: 0
A39: Core | B39: CPX1_2. | C39: 48.047885 | D39: 0.13585357 | E39: 17.447221 | F39: 2.3090075 | G39: 29.386435 | H39: -0.010667021 | I39: 0.31840051 | J39: 1.5938139 | K39: 0.62975676 | L39: 0.042869348
A40: Rim | B40: CPX2_1 | C40: 47.897918 | D40: 0.17033911 | E40: 17.054076 | F40: 2.1414494 | G40: 29.777728 | H40: -0.0014186481 | I40: 0.35385138 | J40: 2.0246135 | K40: 0.46298595 | L40: 0.00030399603
A41: Rim | B41: CPX3_1 | C41: 48.134804 | D41: 0.15995001 | E41: 17.414055 | F41: 2.1059749 | G41: 29.291448 | H41: 0.0099466398 | I41: 0.38460341 | J41: 1.7814532 | K41: 0.63507788 | L41: 0.041595039
B42: CPX3_2 | C42: 48.031642 | D42: 0.16012326 | E42: 17.452832 | F42: 2.2547168 | G42: 29.417464 | H42: 0.0092649939 | I42: 0.31249213 | J42: 1.6907607 | K42: 0.62891182 | L42: 0.030514056
B43: CPX3_3 | C43: 48.104454 | D43: 0.12024382 | E43: 17.463458 | F43: 2.1259469 | G43: 29.547259 | H43: 0.0099366763 | I43: 0.32469846 | J43: 1.6285108 | K43: 0.60573577 | L43: 0.024791505
B44: CPX3_4 | C44: 47.9728 | D44: 0.1480069 | E44: 17.592946 | F44: 2.1012541 | G44: 29.504828 | H44: 0.013519376 | I44: 0.3413138 | J44: 1.6432095 | K44: 0.60080511 | L44: 0.040558128
B45: CPX3_5 | C45: 47.870732 | D45: 0.13707111 | E45: 17.453789 | F45: 2.142865 | G45: 29.646595 | H45: 0 | I45: 0.32431467 | J45: 1.7512189 | K45: 0.63297554 | L45: -0.00010034489
B46: CPX3_6 | C46: 48.084999 | D46: 0.14078896 | E46: 17.51794 | F46: 2.2007432 | G46: 29.506576 | H46: -0.016256459 | I46: 0.34911247 | J46: 1.5750702 | K46: 0.58543321 | L46: 0.012443215
B47: CPX3_7 | C47: 48.155924 | D47: 0.13952998 | E47: 17.60569 | F47: 2.1530209 | G47: 29.436807 | H47: 0.01416395 | I47: 0.32747857 | J47: 1.5247844 | K47: 0.6186934 | L47: 0.023907944
B48: CPX3_8 | C48: 47.9626 | D48: 0.12909658 | E48: 17.513431 | F48: 2.1975621 | G48: 29.614976 | H48: -0.0021146865 | I48: 0.33925613 | J48: 1.6189436 | K48: 0.61839475 | L48: 0
B49: CPX3_9 | C49: 48.018895 | D49: 0.15614818 | E49: 17.42646 | F49: 2.181031 | G49: 29.525422 | H49: 0.01210451 | I49: 0.31865123 | J49: 1.6095973 | K49: 0.63306589 | L49: 0.036616144
B50: CPX3_10 | C50: 47.940875 | D50: 0.12433025 | E50: 17.286146 | F50: 2.2224916 | G50: 29.583428 | H50: -0.0049489701 | I50: 0.37218275 | J50: 1.7571874 | K50: 0.63811414 | L50: 0.034440792
B51: CPX3_11 | C51: 48.051712 | D51: 0.1546549 | E51: 17.28064 | F51: 2.1979987 | G51: 29.672326 | H51: -0.0028284371 | I51: 0.38295018 | J51: 1.6555448 | K51: 0.59033523 | L51: 0.013940154
B52: CPX3_12 | C52: 47.895931 | D52: 0.16281453 | E52: 17.243859 | F52: 2.2111199 | G52: 29.799584 | H52: 0.019207891 | I52: 0.41010355 | J52: 1.6566052 | K52: 0.57553277 | L52: 0.016894899
B53: CPX3_13 | C53: 48.465407 | D53: 0.29470197 | E53: 16.416092 | F53: 2.2396549 | G53: 29.607885 | H53: 0.10914888 | I53: 0.38973159 | J53: 1.8805651 | K53: 0.54073757 | L53: 0.029239883
... B58: CPX3_19 | C58: 48.153104 | D58: 0.10535073 | E58: 16.87817 | F58: 2.2698021 | G58: 29.80253 | H58: -0.0057135984 | I58: 0.38190894 | J58: 1.7105712 | K58: 0.59130731 | L58: 0
A59: Core | B59: CPX3_20 | C59: 47.766831 | D59: 0.16123672 | E59: 16.975838 | F59: 2.2208702 | G59: 29.949571 | H59: 0.0042166516 | I59: 0.44927418 | J59: 1.8556279 | K59: 0.57557294 | L59: 0.0027107046
A60: Rim | B60: CPX4_1 | C60: 48.038737 | D60: 0.095767037 | E60: 17.226297 | F60: 2.2429807 | G60: 29.610222 | H60: -0.0064381201 | I60: 0.34896623 | J60: 1.7158596 | K60: 0.63063398 | L60: 0.017805426
A61: Core | B61: CPX4_2 | C61: 47.883712 | D61: 0.11803353 | E61: 17.806733 | F61: 2.2298358 | G61: 29.558982 | H61: -0.017034728 | I61: 0.32063591 | J61: 1.3916062 | K61: 0.63723993 | L61: 0.0080637764
...

Sheet NCW_F T and H2O Calc
B1: Thermometry and Hygrometry results
B2: Every glass and kspar composition was matched (using the matching function in the thermobar python package (Weiser et al., 2022)).
B3: Temperature was calculated using equation 24b of Putirka 2008 and H2O contents were calculated using the methodology of Mollo et al. (2015).
B4: Water contents were calculated using temperatures calculated at 100 Mpa
C5: Glass Composition | O5: Kspar Composition | Y5: Calculated Temperature (K) | AE5: H2O (wt.%)
B6: Glass # | C6: SiO2 | D6: TiO2 | E6: Al2O3 | F6: FeOt | G6: MnO | H6: MgO | I6: CaO | J6: Na2O | K6: K2O | L6: P2O5 | N6: Kspar# | O6: SiO2 | P6: TiO2 | Q6: Al2O3 | R6: FeOt | S6: MnO | T6: MgO | U6: CaO | V6: Na2O | W6: K2O | Y6: 0.5 kbar | Z6: 1 kbar | AA6: 1.5 kbar | AB6: 2 kbar | AC6: 2.5 kbar | AE6: Calc at 1 kbar
B7: NCW_F_G9 | C7: 75.447991 | D7: 0.3644334 | E7: 9.454923 | F7: 5.5967531 | G7: 0.25840688 | H7: 0 | I7: 0.17985706 | J7: 3.8277567 | K7: 4.6413608 | L7: 0.020030728 | N7: Kspar1_1 | O7: 66.7568 | P7: 0 | Q7: 18.4399 | R7: 0.6444 | S7: 0 | T7: 0 | U7: 0.0305 | V7: 7.2928 | W7: 6.5794 | Y7: 1047.959 | Z7: 1048.0018 | AA7: 1048.0447 | AB7: 1048.0875 | AC7: 1048.1304 | AE7: 6.591914
B8: NCW_F_G20 | C8: 75.385569 | D8: 0.33040429 | E8: 9.6104323 | F8: 5.4430373 | G8: 0.25339117 | H8: 0 | I8: 0.12563626 | J8: 3.4213105 | K8: 5.2915535 | L8: 0.0050847727 | N8: Kspar1_1 | O8: 66.7568 | P8: 0 | Q8: 18.4399 | R8: 0.6444 | S8: 0 | T8: 0 | U8: 0.0305 | V8: 7.2928 | W8: 6.5794 | Y8: 1054.5829 | Z8: 1054.6263 | AA8: 1054.6697 | AB8: 1054.713 | AC8: 1054.7564 | AE8: 6.801934
B9: NCW_F_G9 | C9: 75.447991 | D9: 0.3644334 | E9: 9.454923 | F9: 5.5967531 | G9: 0.25840688 | H9: 0 | I9: 0.17985706 | J9: 3.8277567 | K9: 4.6413608 | L9: 0.020030728 | N9: Kspar1_2 | O9: 67.124 | P9: 0 | Q9: 18.2484 | R9: 0.6341 | S9: 0.0218 | T9: 0 | U9: 0.0129 | V9: 7.0668 | W9: 6.7777 | Y9: 1045.4318 | Z9: 1045.4744 | AA9: 1045.517 | AB9: 1045.5597 | AC9: 1045.6023 | AE9: 5.927648
B10: NCW_F_G20 | C10: 75.385569 | D10: 0.33040429 | E10: 9.6104323 | F10: 5.4430373 | G10: 0.25339117 | H10: 0 | I10: 0.12563626 | J10: 3.4213105 | K10: 5.2915535 | L10: 0.0050847727 | N10: Kspar1_2 | O10: 67.124 | P10: 0 | Q10: 18.2484 | R10: 0.6341 | S10: 0.0218 | T10: 0 | U10: 0.0129 | V10: 7.0668 | W10: 6.7777 | Y10: 1052.0237 | Z10: 1052.0669 | AA10: 1052.11 | AB10: 1052.1532 | AC10: 1052.1964 | AE10: 6.1375077
B11: NCW_F_G9 | C11: 75.447991 | D11: 0.3644334 | E11: 9.454923 | F11: 5.5967531 | G11: 0.25840688 | H11: 0 | I11: 0.17985706 | J11: 3.8277567 | K11: 4.6413608 | L11: 0.020030728 | N11: Kspar1_3 | O11: 66.8577 | P11: 0.0012 | Q11: 18.5487 | R11: 0.6063 | S11: 0 | T11: 0.0199 | U11: 0.0176 | V11: 7.0595 | W11: 7.0072 | Y11: 1043.8987 | Z11: 1043.9412 | AA11: 1043.9837 | AB11: 1044.0262 | AC11: 1044.0687 | AE11: 6.3786702
B12: NCW_F_G20 | C12: 75.385569 | D12: 0.33040429 | E12: 9.6104323 | F12: 5.4430373 | G12: 0.25339117 | H12: 0 | I12: 0.12563626 | J12: 3.4213105 | K12: 5.2915535 | L12: 0.0050847727 | N12: Kspar1_3 | O12: 66.8577 | P12: 0.0012 | Q12: 18.5487 | R12: 0.6063 | S12: 0 | T12: 0.0199 | U12: 0.0176 | V12: 7.0595 | W12: 7.0072 | Y12: 1050.4712 | Z12: 1050.5143 | AA12: 1050.5573 | AB12: 1050.6003 | AC12: 1050.6434 | AE12: 6.5884321
B13: NCW_F_G9 | C13: 75.447991 | D13: 0.3644334 | E13: 9.454923 | F13: 5.5967531 | G13: 0.25840688 | H13: 0 | I13: 0.17985706 | J13: 3.8277567 | K13: 4.6413608 | L13: 0.020030728 | N13: Kspar1_4 | O13: 67.2709 | P13: 0.0104 | Q13: 18.442 | R13: 0.6207 | S13: 0.008 | T13: 0.0069 | U13: 0.0131 | V13: 7.0002 | W13: 6.8233 | Y13: 1044.723 | Z13: 1044.7656 | AA13: 1044.8081 | AB13: 1044.8507 | AC13: 1044.8933 | AE13: 6.0183195
B14: NCW_F_G20 | C14: 75.385569 | D14: 0.33040429 | E14: 9.6104323 | F14: 5.4430373 | G14: 0.25339117 | H14: 0 | I14: 0.12563626 | J14: 3.4213105 | K14: 5.2915535 | L14: 0.0050847727 | N14: Kspar1_4 | O14: 67.2709 | P14: 0.0104 | Q14: 18.442 | R14: 0.6207 | S14: 0.008 | T14: 0.0069 | U14: 0.0131 | V14: 7.0002 | W14: 6.8233 | Y14: 1051.3059 | Z14: 1051.349 | AA14: 1051.3922 | AB14: 1051.4353 | AC14: 1051.4784 | AE14: 6.2281341
B15: NCW_F_G9 | C15: 75.447991 | D15: 0.3644334 | E15: 9.454923 | F15: 5.5967531 | G15: 0.25840688 | H15: 0 | I15: 0.17985706 | J15: 3.8277567 | K15: 4.6413608 | L15: 0.020030728 | N15: Kspar1_5 | O15: 67.1746 | P15: 0 | Q15: 18.5439 | R15: 0.6079 | S15: 0 | T15: 0 | U15: 0.012 | V15: 6.9463 | W15: 6.8392 | Y15: 1044.2858 | Z15: 1044.3283 | AA15: 1044.3708 | AB15: 1044.4134 | AC15: 1044.4559 | AE15: 5.99185
B16: NCW_F_G20 | C16: 75.385569 | D16: 0.33040429 | E16: 9.6104323 | F16: 5.4430373 | G16: 0.25339117 | H16: 0 | I16: 0.12563626 | J16: 3.4213105 | K16: 5.2915535 | L16: 0.0050847727 | N16: Kspar1_5 | O16: 67.1746 | P16: 0 | Q16: 18.5439 | R16: 0.6079 | S16: 0 | T16: 0 | U16: 0.012 | V16: 6.9463 | W16: 6.8392 | Y16: 1050.8632 | Z16: 1050.9062 | AA16: 1050.9493 | AB16: 1050.9924 | AC16: 1051.0355 | AE16: 6.2016366
B17: NCW_F_G9 | C17: 75.447991 | D17: 0.3644334 | E17: 9.454923 | F17: 5.5967531 | G17: 0.25840688 | H17: 0 | I17: 0.17985706 | J17: 3.8277567 | K17: 4.6413608 | L17: 0.020030728 | N17: Kspar1_6 | O17: 67.0662 | P17: 0.0028 | Q17: 18.3926 | R17: 0.8273 | S17: 0.0385 | T17: 0 | U17: 0.0111 | V17: 6.8368 | W17: 6.7537 | Y17: 1044.1435 | Z17: 1044.186 | AA17: 1044.2285 | AB17: 1044.2711 | AC17: 1044.3136 | AE17: 5.2968912
B18: NCW_F_G20 | C18: 75.385569 | D18: 0.33040429 | E18: 9.6104323 | F18: 5.4430373 | G18: 0.25339117 | H18: 0 | I18: 0.12563626 | J18: 3.4213105 | K18: 5.2915535 | L18: 0.0050847727 | N18: Kspar1_6 | O18: 67.0662 | P18: 0.0028 | Q18: 18.3926 | R18: 0.8273 | S18: 0.0385 | T18: 0 | U18: 0.0111 | V18: 6.8368 | W18: 6.7537 | Y18: 1050.7191 | Z18: 1050.7622 | AA18: 1050.8052 | AB18: 1050.8483 | AC18: 1050.8914 | AE18: 5.5066688
... B49: NCW_F_G20 | C49: 75.385569 | D49: 0.33040429 | E49: 9.6104323 | F49: 5.4430373 | G49: 0.25339117 | H49: 0 | I49: 0.12563626 | J49: 3.4213105 | K49: 5.2915535 | L49: 0.0050847727 | N49: Kspar6_3 | O49: 66.8112 | P49: 0.0349 | Q49: 18.3431 | R49: 0.8704 | S49: 0.0065 | T49: 0 | U49: 0.01 | V49: 6.7001 | W49: 6.9011 | Y49: 1048.8328 | Z49: 1048.8757 | AA49: 1048.9186 | AB49: 1048.9615 | AC49: 1049.0044 | AE49: 5.3738896
B50: NCW_F_G9 | C50: 75.447991 | D50: 0.3644334 | E50: 9.454923 | F50: 5.5967531 | G50: 0.25840688 | H50: 0 | I50: 0.17985706 | J50: 3.8277567 | K50: 4.6413608 | L50: 0.020030728 | N50: Kspar6_4 | O50: 66.7177 | P50: 0.0195 | Q50: 18.1441 | R50: 0.8326 | S50: 0.0073 | T50: 0.0136 | U50: 0 | V50: 6.9602 | W50: 7.03 | Y50: 1043.2163 | Z50: 1043.2588 | AA50: 1043.3012 | AB50: 1043.3437 | AC50: 1043.3861
B51: NCW_F_G20 | C51: 75.385569 | D51: 0.33040429 | E51: 9.6104323 | F51: 5.4430373 | G51: 0.25339117 | H51: 0 | I51: 0.12563626 | J51: 3.4213105 | K51: 5.2915535 | L51: 0.0050847727 | N51: Kspar6_4 | O51: 66.7177 | P51: 0.0195 | Q51: 18.1441 | R51: 0.8326 | S51: 0.0073 | T51: 0.0136 | U51: 0 | V51: 6.9602 | W51: 7.03 | Y51: 1049.7802 | Z51: 1049.8232 | AA51: 1049.8662 | AB51: 1049.9092 | AC51: 1049.9522
B52: NCW_F_G9 | C52: 75.447991 | D52: 0.3644334 | E52: 9.454923 | F52: 5.5967531 | G52: 0.25840688 | H52: 0 | I52: 0.17985706 | J52: 3.8277567 | K52: 4.6413608 | L52: 0.020030728 | N52: Kspar6_5 | O52: 67.0067 | P52: 0.0104 | Q52: 18.3448 | R52: 0.8169 | S52: 0.0261 | T52: 0 | U52: 0.0138 | V52: 6.7872 | W52: 7.0061 | Y52: 1042.162 | Z52: 1042.2044 | AA52: 1042.2468 | AB52: 1042.2891 | AC52: 1042.3315 | AE52: 5.6201856
B53: NCW_F_G20 | C53: 75.385569 | D53: 0.33040429 | E53: 9.6104323 | F53: 5.4430373 | G53: 0.25339117 | H53: 0 | I53: 0.12563626 | J53: 3.4213105 | K53: 5.2915535 | L53: 0.0050847727 | N53: Kspar6_5 | O53: 67.0067 | P53: 0.0104 | Q53: 18.3448 | R53: 0.8169 | S53: 0.0261 | T53: 0 | U53: 0.0138 | V53: 6.7872 | W53: 7.0061 | Y53: 1048.7126 | Z53: 1048.7555 | AA53: 1048.7984 | AB53: 1048.8413 | AC53: 1048.8842 | AE53: 5.8298361
B54: NCW_F_G9 | C54: 75.447991 | D54: 0.3644334 | E54: 9.454923 | F54: 5.5967531 | G54: 0.25840688 | H54: 0 | I54: 0.17985706 | J54: 3.8277567 | K54: 4.6413608 | L54: 0.020030728 | N54: Kspar6_6 | O54: 66.8405 | P54: 0.0162 | Q54: 18.3172 | R54: 0.8131 | S54: 0 | T54: 0 | U54: 0.0056 | V54: 6.9245 | W54: 7.0667 | Y54: 1042.722 | Z54: 1042.7644 | AA54: 1042.8068 | AB54: 1042.8492 | AC54: 1042.8916 | AE54: 4.7020156
B55: NCW_F_G20 | C55: 75.385569 | D55: 0.33040429 | E55: 9.6104323 | F55: 5.4430373 | G55: 0.25339117 | H55: 0 | I55: 0.12563626 | J55: 3.4213105 | K55: 5.2915535 | L55: 0.0050847727 | N55: Kspar6_6 | O55: 66.8405 | P55: 0.0162 | Q55: 18.3172 | R55: 0.8131 | S55: 0 | T55: 0 | U55: 0.0056 | V55: 6.9245 | W55: 7.0667 | Y55: 1049.2797 | Z55: 1049.3226 | AA55: 1049.3656 | AB55: 1049.4085 | AC55: 1049.4515 | AE55: 4.9117021
B56: NCW_F_G9 | C56: 75.447991 | D56: 0.3644334 | E56: 9.454923 | F56: 5.5967531 | G56: 0.25840688 | H56: 0 | I56: 0.17985706 | J56: 3.8277567 | K56: 4.6413608 | L56: 0.020030728 | N56: Kspar6_7 | O56: 66.8014 | P56: 0.0106 | Q56: 18.196 | R56: 0.8184 | S56: 0 | T56: 0 | U56: 0.0029 | V56: 6.7269 | W56: 6.9374 | Y56: 1042.2631 | Z56: 1042.3054 | AA56: 1042.3478 | AB56: 1042.3902 | AC56: 1042.4326 | AE56: 4.0379948
B57: NCW_F_G20 | C57: 75.385569 | D57: 0.33040429 | E57: 9.6104323 | F57: 5.4430373 | G57: 0.25339117 | H57: 0 | I57: 0.12563626 | J57: 3.4213105 | K57: 5.2915535 | L57: 0.0050847727 | N57: Kspar6_7 | O57: 66.8014 | P57: 0.0106 | Q57: 18.196 | R57: 0.8184 | S57: 0 | T57: 0 | U57: 0.0029 | V57: 6.7269 | W57: 6.9374 | Y57: 1048.8149 | Z57: 1048.8578 | AA57: 1048.9007 | AB57: 1048.9437 | AC57: 1048.9866 | AE57: 4.2476518
B58: NCW_F_G9 | C58: 75.447991 | D58: 0.3644334 | E58: 9.454923 | F58: 5.5967531 | G58: 0.25840688 | H58: 0 | I58: 0.17985706 | J58: 3.8277567 | K58: 4.6413608 | L58: 0.020030728 | N58: Kspar6_8 | O58: 67.0488 | P58: 0.0359 | Q58: 18.355 | R58: 0.8409 | S58: 0 | T58: 0.0007 | U58: 0.0138 | V58: 6.7579 | W58: 6.9823 | Y58: 1042.1199 | Z58: 1042.1623 | AA58: 1042.2047 | AB58: 1042.247 | AC58: 1042.2894 | AE58: 5.5640985
B59: NCW_F_G20 | C59: 75.385569 | D59: 0.33040429 | E59: 9.6104323 | F59: 5.4430373 | G59: 0.25339117 | H59: 0 | I59: 0.12563626 | J59: 3.4213105 | K59: 5.2915535 | L59: 0.0050847727 | N59: Kspar6_8 | O59: 67.0488 | P59: 0.0359 | Q59: 18.355 | R59: 0.8409 | S59: 0 | T59: 0.0007 | U59: 0.0138 | V59: 6.7579 | W59: 6.9823 | Y59: 1048.67 | Z59: 1048.7129 | AA59: 1048.7558 | AB59: 1048.7987 | AC59: 1048.8416 | AE59: 5.7737463
B60: NCW_F_G9 | C60: 75.447991 | D60: 0.3644334 | E60: 9.454923 | F60: 5.5967531 | G60: 0.25840688 | H60: 0 | I60: 0.17985706 | J60: 3.8277567 | K60: 4.6413608 | L60: 0.020030728 | N60: Kspar6_9 | O60: 67.2487 | P60: 0.0117 | Q60: 18.3227 | R60: 0.8595 | S60: 0 | T60: 0 | U60: 0.0069 | V60: 6.9262 | W60: 7.1558 | Y60: 1042.1609 | Z60: 1042.2032 | AA60: 1042.2456 | AB60: 1042.288 | AC60: 1042.3303 | AE60: 4.829169
B61: NCW_F_G20 | C61: 75.385569 | D61: 0.33040429 | E61: 9.6104323 | F61: 5.4430373 | G61: 0.25339117 | H61: 0 | I61: 0.12563626 | J61: 3.4213105 | K61: 5.2915535 | L61: 0.0050847727 | N61: Kspar6_9 | O61: 67.2487 | P61: 0.0117 | Q61: 18.3227 | R61: 0.8595 | S61: 0 | T61: 0 | U61: 0.0069 | V61: 6.9262 | W61: 7.1558 | Y61: 1048.7114 | Z61: 1048.7543 | AA61: 1048.7972 | AB61: 1048.8401 | AC61: 1048.883 | AE61: 5.0388194
B62: NCW_F_G9 | C62: 75.447991 | D62: 0.3644334 | E62: 9.454923 | F62: 5.5967531 | G62: 0.25840688 | H62: 0 | I62: 0.17985706 | J62: 3.8277567 | K62: 4.6413608 | L62: 0.020030728 | N62: Kspar6_10 | O62: 66.9756 | P62: 0.02 | Q62: 18.2734 | R62: 0.8043 | S62: 0 | T62: 0 | U62: 0.0002 | V62: 6.7662 | W62: 6.998 | Y62: 1042.1478 | Z62: 1042.1902 | AA62: 1042.2326 | AB62: 1042.2749 | AC62: 1042.3173 | AE62: 1.3332309
B63: NCW_F_G20 | C63: 75.385569 | D63: 0.33040429 | E63: 9.6104323 | F63: 5.4430373 | G63: 0.25339117 | H63: 0 | I63: 0.12563626 | J63: 3.4213105 | K63: 5.2915535 | L63: 0.0050847727 | N63: Kspar6_10 | O63: 66.9756 | P63: 0.02 | Q63: 18.2734 | R63: 0.8043 | S63: 0 | T63: 0 | U63: 0.0002 | V63: 6.7662 | W63: 6.998 | Y63: 1048.6983 | Z63: 1048.7412 | AA63: 1048.7841 | AB63: 1048.827 | AC63: 1048.8699 | AE63: 1.5428805
... B65: NCW_F_G20 | C65: 75.385569 | D65: 0.33040429 | E65: 9.6104323 | F65: 5.4430373 | G65: 0.25339117 | H65: 0 | I65: 0.12563626 | J65: 3.4213105 | K65: 5.2915535 | L65: 0.0050847727 | N65: Kspar6_11 | O65: 67.3047 | P65: 0.0139 | Q65: 18.3716 | R65: 0.8183 | S65: 0 | T65: 0.0048 | U65: 0.0118 | V65: 6.7988 | W65: 7.0047 | Y65: 1048.811 | Z65: 1048.8539 | AA65: 1048.8968 | AB65: 1048.9397 | AC65: 1048.9827 | AE65: 5.6723055
B66: NCW_F_G9 | C66: 75.447991 | D66: 0.3644334 | E66: 9.454923 | F66: 5.5967531 | G66: 0.25840688 | H66: 0 | I66: 0.17985706 | J66: 3.8277567 | K66: 4.6413608 | L66: 0.020030728 | N66: Kspar6_12 | O66: 66.8091 | P66: 0.0393 | Q66: 18.3886 | R66: 0.7809 | S66: 0.0022 | T66: 0 | U66: 0 | V66: 6.9011 | W66: 7.1319 | Y66: 1042.1846 | Z66: 1042.227 | AA66: 1042.2693 | AB66: 1042.3117 | AC66: 1042.3541
B67: NCW_F_G20 | C67: 75.385569 | D67: 0.33040429 | E67: 9.6104323 | F67: 5.4430373 | G67: 0.25339117 | H67: 0 | I67: 0.12563626 | J67: 3.4213105 | K67: 5.2915535 | L67: 0.0050847727 | N67: Kspar6_12 | O67: 66.8091 | P67: 0.0393 | Q67: 18.3886 | R67: 0.7809 | S67: 0.0022 | T67: 0 | U67: 0 | V67: 6.9011 | W67: 7.1319 | Y67: 1048.7355 | Z67: 1048.7784 | AA67: 1048.8213 | AB67: 1048.8642 | AC67: 1048.9071
B68: NCW_F_G9 | C68: 75.447991 | D68: 0.3644334 | E68: 9.454923 | F68: 5.5967531 | G68: 0.25840688 | H68: 0 | I68: 0.17985706 | J68: 3.8277567 | K68: 4.6413608 | L68: 0.020030728 | N68: Kspar6_13 | O68: 66.5574 | P68: 0.0328 | Q68: 18.185 | R68: 0.7799 | S68: 0.0145 | T68: 0.0045 | U68: 0.0103 | V68: 6.6595 | W68: 7.1505 | Y68: 1040.3804 | Z68: 1040.4226 | AA68: 1040.4648 | AB68: 1040.507 | AC68: 1040.5492 | AE68: 5.4907688
B69: NCW_F_G20 | C69: 75.385569 | D69: 0.33040429 | E69: 9.6104323 | F69: 5.4430373 | G69: 0.25339117 | H69: 0 | I69: 0.12563626 | J69: 3.4213105 | K69: 5.2915535 | L69: 0.0050847727 | N69: Kspar6_13 | O69: 66.5574 | P69: 0.0328 | Q69: 18.185 | R69: 0.7799 | S69: 0.0145 | T69: 0.0045 | U69: 0.0103 | V69: 6.6595 | W69: 7.1505 | Y69: 1046.9085 | Z69: 1046.9513 | AA69: 1046.994 | AB69: 1047.0368 | AC69: 1047.0795 | AE69: 5.7003044
B70: NCW_F_G9 | C70: 75.447991 | D70: 0.3644334 | E70: 9.454923 | F70: 5.5967531 | G70: 0.25840688 | H70: 0 | I70: 0.17985706 | J70: 3.8277567 | K70: 4.6413608 | L70: 0.020030728 | N70: Kspar6_14 | O70: 67.0278 | P70: 0.0044 | Q70: 18.4063 | R70: 0.7959 | S70: 0 | T70: 0 | U70: 0.0016 | V70: 6.8377 | W70: 7.3154 | Y70: 1040.5941 | Z70: 1040.6363 | AA70: 1040.6786 | AB70: 1040.7208 | AC70: 1040.7631 | AE70: 3.5587325
B71: NCW_F_G20 | C71: 75.385569 | D71: 0.33040429 | E71: 9.6104323 | F71: 5.4430373 | G71: 0.25339117 | H71: 0 | I71: 0.12563626 | J71: 3.4213105 | K71: 5.2915535 | L71: 0.0050847727 | N71: Kspar6_14 | O71: 67.0278 | P71: 0.0044 | Q71: 18.4063 | R71: 0.7959 | S71: 0 | T71: 0 | U71: 0.0016 | V71: 6.8377 | W71: 7.3154 | Y71: 1047.125 | Z71: 1047.1677 | AA71: 1047.2105 | AB71: 1047.2533 | AC71: 1047.296 | AE71: 3.768282
...

Sheet NCW_F Enclave T and P Calc
A2: Two Feldspar Thermometry
A3: Calculated using Equation 27b of Putirka, 2008 using the Thermobar python package. Only in-equilibrium pairs are shown
A4: Each Kspar composition was matched with every plagioclase composition | W4: Calculated Temperature (K)
A5: Feldspar# | B5: SiO2_Kspar | C5: TiO2_Kspar | D5: Al2O3_Kspar | E5: FeOt_Kspar | F5: MnO_Kspar | G5: MgO_Kspar | H5: CaO_Kspar | I5: Na2O_Kspar | J5: K2O_Kspar | L5: Feldspar# | M5: SiO2_Plag | N5: TiO2_Plag | O5: Al2O3_Plag | P5: FeOt_Plag | Q5: MnO_Plag | R5: MgO_Plag | S5: CaO_Plag | T5: Na2O_Plag | U5: K2O_Plag | W5: 0.5 kbar | X5: 1kbar | Y5: 1.5kbar | Z5: 2 kbar | AA5: 2.5 Kbar
A6: NCW_F_En_Feldspar__16 | B6: 64.0975 | C6: 0.1837 | D6: 20.6059 | E6: 0.4713 | F6: 0 | G6: 0.0445 | H6: 2.3424 | I6: 7.7208 | J6: 3.7218 | L6: NCW_F_En_Feldspar__6 | M6: 56.892 | N6: 0.1371 | O6: 26.3351 | P6: 0.5911 | Q6: 0.0236 | R6: 0.0546 | S6: 8.6469 | T6: 6.2966 | U6: 0.7516 | W6: 1073.2056 | X6: 1076.5582 | Y6: 1079.9108 | Z6: 1083.2635 | AA6: 1086.6161
A7: NCW_F_En_Feldspar__16 | B7: 64.0975 | C7: 0.1837 | D7: 20.6059 | E7: 0.4713 | F7: 0 | G7: 0.0445 | H7: 2.3424 | I7: 7.7208 | J7: 3.7218 | L7: NCW_F_En_Feldspar__9 | M7: 54.6707 | N7: 0.135 | O7: 28.1915 | P7: 0.6859 | Q7: 0 | R7: 0.0612 | S7: 10.6405 | T7: 5.3382 | U7: 0.4234 | W7: 1106.9992 | X7: 1110.4935 | Y7: 1113.9877 | Z7: 1117.482 | AA7: 1120.9762
A8: NCW_F_En_Feldspar__17 | B8: 64.0826 | C8: 0.13 | D8: 21.2484 | E8: 0.6165 | F8: 0 | G8: 0.0675 | H8: 2.7245 | I8: 7.9536 | J8: 3.1254 | L8: NCW_F_En_Feldspar__9 | M8: 54.6707 | N8: 0.135 | O8: 28.1915 | P8: 0.6859 | Q8: 0 | R8: 0.0612 | S8: 10.6405 | T8: 5.3382 | U8: 0.4234 | W8: 1046.8042 | X8: 1050.0462 | Y8: 1053.2882 | Z8: 1056.5302 | AA8: 1059.7722
A9: NCW_F_En_Feldspar__7 | B9: 63.8171 | C9: 0.1096 | D9: 22.0243 | E9: 0.4188 | F9: 0 | G9: 0.0001 | H9: 3.007 | I9: 8.043 | J9: 2.7156 | L9: NCW_F_En_Feldspar__10 | M9: 53.6025 | N9: 0.1515 | O9: 28.7672 | P9: 0.7446 | Q9: 0.0236 | R9: 0.0947 | S9: 11.5519 | T9: 4.739 | U9: 0.2857 | W9: 1015.2837 | X9: 1018.3936 | Y9: 1021.5035 | Z9: 1024.6134 | AA9: 1027.7233
A10: NCW_F_En_Feldspar__16 | B10: 64.0975 | C10: 0.1837 | D10: 20.6059 | E10: 0.4713 | F10: 0 | G10: 0.0445 | H10: 2.3424 | I10: 7.7208 | J10: 3.7218 | L10: NCW_F_En_Feldspar__10 | M10: 53.6025 | N10: 0.1515 | O10: 28.7672 | P10: 0.7446 | Q10: 0.0236 | R10: 0.0947 | S10: 11.5519 | T10: 4.739 | U10: 0.2857 | W10: 1122.5612 | X10: 1126.1207 | Y10: 1129.6801 | Z10: 1133.2396 | AA10: 1136.7991
A11: NCW_F_En_Feldspar__17 | B11: 64.0826 | C11: 0.13 | D11: 21.2484 | E11: 0.6165 | F11: 0 | G11: 0.0675 | H11: 2.7245 | I11: 7.9536 | J11: 3.1254 | L11: NCW_F_En_Feldspar__10 | M11: 53.6025 | N11: 0.1515 | O11: 28.7672 | P11: 0.7446 | Q11: 0.0236 | R11: 0.0947 | S11: 11.5519 | T11: 4.739 | U11: 0.2857 | W11: 1060.1824 | X11: 1063.4805 | Y11: 1066.7785 | Z11: 1070.0766 | AA11: 1073.3747
A12: NCW_F_En_Feldspar__7 | B12: 63.8171 | C12: 0.1096 | D12: 22.0243 | E12: 0.4188 | F12: 0 | G12: 0.0001 | H12: 3.007 | I12: 8.043 | J12: 2.7156 | L12: NCW_F_En_Feldspar__11 | M12: 53.9048 | N12: 0.1646 | O12: 28.1043 | P12: 0.8001 | Q12: 0.0107 | R12: 0.0452 | S12: 11.0519 | T12: 5.0142 | U12: 0.3682 | W12: 1114.7843 | X12: 1118.3111 | Y12: 1121.838 | Z12: 1125.3649 | AA12: 1021.6802
A13: NCW_F_En_Feldspar__16 | B13: 64.0975 | C13: 0.1837 | D13: 20.6059 | E13: 0.4713 | F13: 0 | G13: 0.0445 | H13: 2.3424 | I13: 7.7208 | J13: 3.7218 | L13: NCW_F_En_Feldspar__11 | M13: 53.9048 | N13: 0.1646 | O13: 28.1043 | P13: 0.8001 | Q13: 0.0107 | R13: 0.0452 | S13: 11.0519 | T13: 5.0142 | U13: 0.3682 | W13: 1053.5013 | X13: 1056.7713 | Y13: 1060.0414 | Z13: 1063.3115 | AA13: 1128.8918
A14: NCW_F_En_Feldspar__17 | B14: 64.0826 | C14: 0.13 | D14: 21.2484 | E14: 0.6165 | F14: 0 | G14: 0.0675 | H14: 2.7245 | I14: 7.9536 | J14: 3.1254 | L14: NCW_F_En_Feldspar__11 | M14: 53.9048 | N14: 0.1646 | O14: 28.1043 | P14: 0.8001 | Q14: 0.0107 | R14: 0.0452 | S14: 11.0519 | T14: 5.0142 | U14: 0.3682 | AA14: 1066.5816
A15: NCW_F_En_Feldspar__16 | B15: 64.0975 | C15: 0.1837 | D15: 20.6059 | E15: 0.4713 | F15: 0 | G15: 0.0445 | H15: 2.3424 | I15: 7.7208 | J15: 3.7218 | L15: NCW_F_En_Feldspar__12 | M15: 56.1855 | N15: 0.1089 | O15: 26.4696 | P15: 1.2599 | Q15: 0.0314 | R15: 0.1859 | S15: 8.8925 | T15: 5.8432 | U15: 0.6685 | W15: 1082.5551 | X15: 1085.9469 | Y15: 1089.3388 | Z15: 1092.7306 | AA15: 1096.1224
A16: NCW_F_En_Feldspar__16 | B16: 64.0975 | C16: 0.1837 | D16: 20.6059 | E16: 0.4713 | F16: 0 | G16: 0.0445 | H16: 2.3424 | I16: 7.7208 | J16: 3.7218 | L16: NCW_F_En_Feldspar__13 | M16: 59.446 | N16: 0.1195 | O16: 24.7965 | P16: 0.6383 | Q16: 0.0129 | R16: 0.0934 | S16: 6.6188 | T16: 7.2001 | U16: 0.9635 | W16: 1035.7222 | X16: 1038.9178 | Y16: 1042.1134 | Z16: 1045.3089 | AA16: 1048.5045
A17: NCW_F_En_Feldspar__17 | B17: 64.0826 | C17: 0.13 | D17: 21.2484 | E17: 0.6165 | F17: 0 | G17: 0.0675 | H17: 2.7245 | I17: 7.9536 | J17: 3.1254 | L17: NCW_F_En_Feldspar__13 | M17: 59.446 | N17: 0.1195 | O17: 24.7965 | P17: 0.6383 | Q17: 0.0129 | R17: 0.0934 | S17: 6.6188 | T17: 7.2001 | U17: 0.9635 | W17: 985.06566 | X17: 988.04895 | Y17: 991.03224 | Z17: 994.01553 | AA17: 996.99882
A18: NCW_F_En_Feldspar__7 | B18: 63.8171 | C18: 0.1096 | D18: 22.0243 | E18: 0.4188 | F18: 0 | G18: 0.0001 | H18: 3.007 | I18: 8.043 | J18: 2.7156 | L18: NCW_F_En_Feldspar__14 | M18: 55.9478 | N18: 0.1741 | O18: 27.0196 | P18: 0.8547 | Q18: 0.005 | R18: 0.0866 | S18: 9.3491 | T18: 6.0167 | U18: 0.4771 | W18: 987.89754 | X18: 990.8927 | Y18: 993.88785 | Z18: 996.88301 | AA18: 999.87817
A19: NCW_F_En_Feldspar__16 | B19: 64.0975 | C19: 0.1837 | D19: 20.6059 | E19: 0.4713 | F19: 0 | G19: 0.0445 | H19: 2.3424 | I19: 7.7208 | J19: 3.7218 | L19: NCW_F_En_Feldspar__14 | M19: 55.9478 | N19: 0.1741 | O19: 27.0196 | P19: 0.8547 | Q19: 0.005 | R19: 0.0866 | S19: 9.3491 | T19: 6.0167 | U19: 0.4771 | W19: 1086.8757 | X19: 1090.2856 | Y19: 1093.6956 | Z19: 1097.1055 | AA19: 1100.5154
A20: NCW_F_En_Feldspar__17 | B20: 64.0826 | C20: 0.13 | D20: 21.2484 | E20: 0.6165 | F20: 0 | G20: 0.0675 | H20: 2.7245 | I20: 7.9536 | J20: 3.1254 | L20: NCW_F_En_Feldspar__14 | M20: 55.9478 | N20: 0.1741 | O20: 27.0196 | P20: 0.8547 | Q20: 0.005 | R20: 0.0866 | S20: 9.3491 | T20: 6.0167 | U20: 0.4771 | W20: 1029.451 | X20: 1032.6203 | Y20: 1035.7895 | Z20: 1038.9588 | AA20: 1042.1281
A21: NCW_F_En_Feldspar__7 | B21: 63.8171 | C21: 0.1096 | D21: 22.0243 | E21: 0.4188 | F21: 0 | G21: 0.0001 | H21: 3.007 | I21: 8.043 | J21: 2.7156 | L21: NCW_F_En_Feldspar__15 | M21: 53.8114 | N21: 0.1225 | O21: 28.6513 | P21: 0.6894 | Q21: 0 | R21: 0.0681 | S21: 11.5477 | T21: 4.8965 | U21: 0.3151 | W21: 1120.0844 | X21: 1016.4942 | Y21: 1019.5962 | Z21: 1022.6982 | AA21: 1025.8002
A22: NCW_F_En_Feldspar__17 | B22: 64.0975 | C22: 0.1837 | D22: 20.6059 | E22: 0.4713 | F22: 0 | G22: 0.0445 | H22: 2.3424 | I22: 7.7208 | J22: 3.7218 | L22: NCW_F_En_Feldspar__15 | M22: 53.8114 | N22: 0.1225 | O22: 28.6513 | P22: 0.6894 | Q22: 0 | R22: 0.0681 | S22: 11.5477 | T22: 4.8965 | U22: 0.3151 | W22: 1058.0555 | X22: 1123.6335 | Y22: 1127.1825 | Z22: 1130.7316 | AA22: 1134.2807
A23: NCW_F_En_Feldspar__17 | B23: 64.0826 | C23: 0.13 | D23: 21.2484 | E23: 0.6165 | F23: 0 | G23: 0.0675 | H23: 2.7245 | I23: 7.9536 | J23: 3.1254 | L23: NCW_F_En_Feldspar__15 | M23: 53.8114 | N23: 0.1225 | O23: 28.6513 | P23: 0.6894 | Q23: 0 | R23: 0.0681 | S23: 11.5477 | T23: 4.8965 | U23: 0.3151 | X23: 1061.3447 | Y23: 1064.6339 | Z23: 1067.923 | AA23: 1071.2122
A24: NCW_F_En_Feldspar__16 | B24: 64.0975 | C24: 0.1837 | D24: 20.6059 | E24: 0.4713 | F24: 0 | G24: 0.0445 | H24: 2.3424 | I24: 7.7208 | J24: 3.7218 | L24: NCW_F_En_Feldspar__18 | M24: 58.8098 | N24: 0.1246 | O24: 24.7708 | P24: 0.7783 | Q24: 0.0029 | R24: 0.0817 | S24: 7.1995 | T24: 7.0393 | U24: 0.8527 | W24: 1046.2669 | X24: 1049.5066 | Y24: 1052.7464 | Z24: 1055.9862 | AA24: 1059.2259
A25: NCW_F_En_Feldspar__17 | B25: 64.0826 | C25: 0.13 | D25: 21.2484 | E25: 0.6165 | F25: 0 | G25: 0.0675 | H25: 2.7245 | I25: 7.9536 | J25: 3.1254 | L25: NCW_F_En_Feldspar__18 | M25: 58.8098 | N25: 0.1246 | O25: 24.7708 | P25: 0.7783 | Q25: 0.0029 | R25: 0.0817 | S25: 7.1995 | T25: 7.0393 | U25: 0.8527 | W25: 994.24747 | X25: 997.26924 | Y25: 1000.291 | Z25: 1003.3128 | AA25: 1006.3345
A26: NCW_F_En_Feldspar__7 | B26: 63.8171 | C26: 0.1096 | D26: 22.0243 | E26: 0.4188 | F26: 0 | G26: 0.0001 | H26: 3.007 | I26: 8.043 | J26: 2.7156 | L26: NCW_F_En_Feldspar__19 | M26: 54.0148 | N26: 0.1814 | O26: 28.6093 | P26: 0.7881 | Q26: 0 | R26: 0.1027 | S26: 11.4484 | T26: 4.951 | U26: 0.3188 | W26: 1118.74 | X26: 1015.4627 | Y26: 1018.5604 | Z26: 1021.6581 | AA26: 1024.7558
A27: NCW_F_En_Feldspar__16 | B27: 64.0975 | C27: 0.1837 | D27: 20.6059 | E27: 0.4713 | F27: 0 | G27: 0.0445 | H27: 2.3424 | I27: 7.7208 | J27: 3.7218 | L27: NCW_F_En_Feldspar__19 | M27: 54.0148 | N27: 0.1814 | O27: 28.6093 | P27: 0.7881 | Q27: 0 | R27: 0.1027 | S27: 11.4484 | T27: 4.951 | U27: 0.3188 | W27: 1056.9007 | X27: 1122.2834 | Y27: 1125.8269 | Z27: 1129.3703 | AA27: 1132.9138
A28: NCW_F_En_Feldspar__17 | B28: 64.0826 | C28: 0.13 | D28: 21.2484 | E28: 0.6165 | F28: 0 | G28: 0.0675 | H28: 2.7245 | I28: 7.9536 | J28: 3.1254 | L28: NCW_F_En_Feldspar__19 | M28: 54.0148 | N28: 0.1814 | O28: 28.6093 | P28: 0.7881 | Q28: 0 | R28: 0.1027 | S28: 11.4484 | T28: 4.951 | U28: 0.3188 | X28: 1060.185 | Y28: 1063.4694 | Z28: 1066.7537 | AA28: 1070.038
A29: NCW_F_En_Feldspar__7 | B29: 63.8171 | C29: 0.1096 | D29: 22.0243 | E29: 0.4188 | F29: 0 | G29: 0.0001 | H29: 3.007 | I29: 8.043 | J29: 2.7156 | L29: NCW_F_En_Feldspar__21 | M29: 53.97 | N29: 0.2071 | O29: 28.5654 | P29: 0.8994 | Q29: 0.0064 | R29: 0.0699 | S29: 11.2691 | T29: 5.0941 | U29: 0.3451 | W29: 1115.4306 | X29: 1118.9602 | Y29: 1016.0089 | Z29: 1019.0959 | AA29: 1022.183
A30: NCW_F_En_Feldspar__16 | B30: 64.0975 | C30: 0.1837 | D30: 20.6059 | E30: 0.4713 | F30: 0 | G30: 0.0445 | H30: 2.3424 | I30: 7.7208 | J30: 3.7218 | L30: NCW_F_En_Feldspar__21 | M30: 53.97 | N30: 0.2071 | O30: 28.5654 | P30: 0.8994 | Q30: 0.0064 | R30: 0.0699 | S30: 11.2691 | T30: 5.0941 | U30: 0.3451 | W30: 1054.0569 | X30: 1057.3293 | Y30: 1122.4898 | Z30: 1126.0194 | AA30: 1129.549
A31: NCW_F_En_Feldspar__17 | B31: 64.0826 | C31: 0.13 | D31: 21.2484 | E31: 0.6165 | F31: 0 | G31: 0.0675 | H31: 2.7245 | I31: 7.9536 | J31: 3.1254 | L31: NCW_F_En_Feldspar__21 | M31: 53.97 | N31: 0.2071 | O31: 28.5654 | P31: 0.8994 | Q31: 0.0064 | R31: 0.0699 | S31: 11.2691 | T31: 5.0941 | U31: 0.3451 | Y31: 1060.6017 | Z31: 1063.8741 | AA31: 1067.1465
A32: NCW_F_En_Feldspar__16 | B32: 64.0975 | C32: 0.1837 | D32: 20.6059 | E32: 0.4713 | F32: 0 | G32: 0.0445 | H32: 2.3424 | I32: 7.7208 | J32: 3.7218 | L32: NCW_F_En_Feldspar__22 | M32: 54.32 | N32: 0.1638 | O32: 28.0644 | P32: 0.9267 | Q32: 0 | R32: 0.1192 | S32: 10.8003 | T32: 5.2443 | U32: 0.44 | W32: 1109.1299 | X32: 1112.633 | Y32: 1116.1362 | Z32: 1119.6394 | AA32: 1123.1426
A33: NCW_F_En_Feldspar__17 | B33: 64.0826 | C33: 0.13 | D33: 21.2484 | E33: 0.6165 | F33: 0 | G33: 0.0675 | H33: 2.7245 | I33: 7.9536 | J33: 3.1254 | L33: NCW_F_En_Feldspar__22 | M33: 54.32 | N33: 0.1638 | O33: 28.0644 | P33: 0.9267 | Q33: 0 | R33: 0.1192 | S33: 10.8003 | T33: 5.2443 | U33: 0.44 | X33: 1051.8876 | Y33: 1055.1373 | Z33: 1058.387 | AA33: 1061.6367
A34: NCW_F_En_Feldspar__16 | B34: 64.0975 | C34: 0.1837 | D34: 20.6059 | E34: 0.4713 | F34: 0 | G34: 0.0445 | H34: 2.3424 | I34: 7.7208 | J34: 3.7218 | L34: NCW_F_En_Feldspar__23 | M34: 58.1869 | N34: 0.1345 | O34: 25.6934 | P34: 0.6904 | Q34: 0 | R34: 0.0554 | S34: 7.7051 | T34: 6.6491 | U34: 0.7954 | W34: 1057.8406 | X34: 1061.1288 | Y34: 1064.4171 | Z34: 1067.7054 | AA34: 1070.9936
A35: NCW_F_En_Feldspar__17 | B35: 64.0826 | C35: 0.13 | D35: 21.2484 | E35: 0.6165 | F35: 0 | G35: 0.0675 | H35: 2.7245 | I35: 7.9536 | J35: 3.1254 | L35: NCW_F_En_Feldspar__23 | M35: 58.1869 | N35: 0.1345 | O35: 25.6934 | P35: 0.6904 | Q35: 0 | R35: 0.0554 | S35: 7.7051 | T35: 6.6491 | U35: 0.7954 | Y35: 1010.4338 | Z35: 1013.4977 | AA35: 1016.5616
A36: NCW_F_En_Feldspar__7 | B36: 63.8171 | C36: 0.1096 | D36: 22.0243 | E36: 0.4188 | F36: 0 | G36: 0.0001 | H36: 3.007 | I36: 8.043 | J36: 2.7156 | L36: NCW_F_En_Feldspar__1 | M36: 52.2002 | N36: 0.1125 | O36: 29.71 | P36: 0.6818 | Q36: 0 | R36: 0.1133 | S36: 12.7654 | T36: 4.084 | U36: 0.2359 | W36: 1137.81 | X36: 1141.4334 | Y36: 1033.2148 | Z36: 1036.3734 | AA36: 1039.532
A37: NCW_F_En_Feldspar__16 | B37: 64.0975 | C37: 0.1837 | D37: 20.6059 | E37: 0.4713 | F37: 0 | G37: 0.0445 | H37: 2.3424 | I37: 7.7208 | J37: 3.7218 | L37: NCW_F_En_Feldspar__1 | M37: 52.2002 | N37: 0.1125 | O37: 29.71 | P37: 0.6818 | Q37: 0 | R37: 0.1133 | S37: 12.7654 | T37: 4.084 | U37: 0.2359 | W37: 1073.2566 | X37: 1076.6094 | Y37: 1145.0567 | Z37: 1148.6801 | AA37: 1152.3035
A38: NCW_F_En_Feldspar__17 | B38: 64.0826 | C38: 0.13 | D38: 21.2484 | E38: 0.6165 | F38: 0 | G38: 0.0675 | H38: 2.7245 | I38: 7.9536 | J38: 3.1254 | L38: NCW_F_En_Feldspar__1 | M38: 52.2002 | N38: 0.1125 | O38: 29.71 | P38: 0.6818 | Q38: 0 | R38: 0.1133 | S38: 12.7654 | T38: 4.084 | U38: 0.2359 | Y38: 1079.9623 | Z38: 1083.3151 | AA38: 1086.668
A39: NCW_F_En_Feldspar__16 | B39: 64.0975 | C39: 0.1837 | D39: 20.6059 | E39: 0.4713 | F39: 0 | G39: 0.0445 | H39: 2.3424 | I39: 7.7208 | J39: 3.7218 | L39: NCW_F_En_Feldspar__2 | M39: 52.5851 | N39: 0.1575 | O39: 28.9493 | P39: 1.1041 | Q39: 0.0114 | R39: 0.1292 | S39: 12.0978 | T39: 4.5367 | U39: 0.328 | W39: 1127.5774 | X39: 1131.1579 | Y39: 1134.7384 | Z39: 1138.3189 | AA39: 1141.8993
A40: NCW_F_En_Feldspar__17 | B40: 64.0826 | C40: 0.13 | D40: 21.2484 | E40: 0.6165 | F40: 0 | G40: 0.0675 | H40: 2.7245 | I40: 7.9536 | J40: 3.1254 | L40: NCW_F_En_Feldspar__2 | M40: 52.5851 | N40: 0.1575 | O40: 28.9493 | P40: 1.1041 | Q40: 0.0114 | R40: 0.1292 | S40: 12.0978 | T40: 4.5367 | U40: 0.328 | W40: 1064.487 | X40: 1067.8031 | Y40: 1071.1193 | Z40: 1074.4354 | AA40: 1077.7515
A41: NCW_F_En_Feldspar__16 | B41: 64.0975 | C41: 0.1837 | D41: 20.6059 | E41: 0.4713 | F41: 0 | G41: 0.0445 | H41: 2.3424 | I41: 7.7208 | J41: 3.7218 | L41: NCW_F_En_Feldspar__3 | M41: 54.1446 | N41: 0.1647 | O41: 28.3412 | P41: 0.7974 | Q41: 0.0043 | R41: 0.0633 | S41: 10.9838 | T41: 5.0771 | U41: 0.3868 | W41: 1113.2635 | X41: 1116.784 | Y41: 1120.3045 | Z41: 1123.825 | AA41: 1127.3455
...

Sheet 87_86Sr Data
E1: Average | F1: 2SD | G1: RSD ppm | H1: N | I1: Average | J1: 2SD | K1: RSD ppm
E2: Long term average NBS987 | I2: NBS987 consensus value
