Workbook

Sheet Overview
A1: Chapter 3 Supplementary Information
A2: In these data sheets we provide all the glass and mineral data collected as part of this study normalised to 100 wt.%
A3: We also provide the results of the thermometry and hygrometry calculations alongside the corresponding glass/mineral composition used
A5: Details on the EMPA conditions can be found in Chapter 3

Sheet NCW_H Glass and Minerals
A1: Basaltic Tuff (NCW_H)
A2: Glass and mineral compositions for the basaltic tuff (NCW_H)
A3: All data is in wt.% and normalised to 100 wt.%
B5: Glass Compositions
A6: Glass# | B6: SiO2 | C6: Al2O3 | D6: CaO | E6: MnO | F6: FeOt | G6: K2O | H6: TiO2 | I6: Na2O | J6: MgO | K6: P2O5
A7: NCW_H_G1_1 | B7: 48.547172 | C7: 14.010962 | D7: 10.455595 | E7: 0.2272711 | F7: 13.129072 | G7: 0.80459899 | H7: 3.4785871 | I7: 2.9701665 | J7: 5.7444483 | K7: 0.57446528
A8: NCW_H_G1_2 | B8: 49.174193 | C8: 14.033511 | D8: 10.291303 | E8: 0.21228036 | F8: 12.733345 | G8: 0.82498937 | H8: 3.4706202 | I8: 3.0457528 | J8: 5.6333031 | K8: 0.57589739
A9: NCW_H_G2_1 | B9: 52.243423 | C9: 14.036725 | D9: 8.5591388 | E9: 0.25783875 | F9: 11.834327 | G9: 1.3850884 | H9: 3.118372 | I9: 3.2972386 | J9: 4.3372088 | K9: 0.83710417
A10: NCW_H_G2_2 | B10: 52.450377 | C10: 14.055637 | D10: 8.5015314 | E10: 0.2077921 | F10: 11.954265 | G10: 1.3762403 | H10: 3.152975 | I10: 3.0607022 | J10: 4.3424267 | K10: 0.81179623
A11: NCW_H_G3_1 | B11: 51.407658 | C11: 14.174633 | D11: 8.9897694 | E11: 0.17814454 | F11: 11.989658 | G11: 1.2258916 | H11: 3.1990515 | I11: 3.1764008 | J11: 4.8065356 | K11: 0.74206486
A12: NCW_H_G3_2 | B12: 51.672932 | C12: 14.231747 | D12: 8.9137303 | E12: 0.21812236 | F12: 11.743931 | G12: 1.2789393 | H12: 3.0710001 | I12: 3.2779367 | J12: 4.7638126 | K12: 0.75432711
A13: NCW_H_G4_1 | B13: 48.506689 | C13: 14.033063 | D13: 10.682196 | E13: 0.20564666 | F13: 12.964006 | G13: 0.73910328 | H13: 3.5664132 | I13: 2.94039 | J13: 5.8129115 | K13: 0.50192073
A14: NCW_H_G4_2 | B14: 48.470581 | C14: 13.927179 | D14: 10.742972 | E14: 0.24501765 | F14: 13.000649 | G14: 0.68733684 | H14: 3.5250663 | I14: 3.0381984 | J14: 5.8727604 | K14: 0.41176861
A15: NCW_H_G5_1 | B15: 48.729053 | C15: 13.889547 | D15: 10.456825 | E15: 0.24470045 | F15: 13.036452 | G15: 0.77763076 | H15: 3.4922191 | I15: 3.1086924 | J15: 5.6973708 | K15: 0.51096219
A16: NCW_H_G5_2 | B16: 48.609647 | C16: 13.939457 | D16: 10.621094 | E16: 0.25229832 | F16: 13.141211 | G16: 0.7383692 | H16: 3.5146742 | I16: 2.9614603 | J16: 5.7417571 | K16: 0.4800321
A17: NCW_H_G6_1 | B17: 53.989673 | C17: 14.228819 | D17: 7.7027674 | E17: 0.25252785 | F17: 11.118728 | G17: 1.6610104 | H17: 2.8712324 | I17: 3.340521 | J17: 3.9040579 | K17: 0.88842113
A18: NCW_H_G6_2 | B18: 53.618367 | C18: 14.358802 | D18: 7.7160069 | E18: 0.24259489 | F18: 11.206598 | G18: 1.6141027 | H18: 2.9332762 | I18: 3.2345305 | J18: 3.9472167 | K18: 0.9376323
... A118: NCW_H_G48_1 | B118: 52.089547 | C118: 14.679565 | D118: 9.182982 | E118: 0.15438122 | F118: 11.064191 | G118: 1.1750296 | H118: 2.7307643 | I118: 3.2623859 | J118: 5.1041589 | K118: 0.52469233
A121: Clinopyroxene
A122: CPX# | B122: SiO2 | C122: Al2O3 | D122: CaO | E122: MnO | F122: FeOt | G122: K2O | H122: TiO2 | I122: Na2O | J122: MgO | K122: P2O5
A123: NCW_H_CPX_1_Rim | B123: 48.400314 | C123: 0.15688723 | D123: 17.018538 | E123: 2.2075987 | F123: 30.061325 | G123: 0 | H123: 0.33683426 | I123: 1.2734248 | J123: 0.47871751 | K123: 0.01208374
A124: NCW_H_CPX_1_Core | B124: 48.476847 | C124: 0.12510766 | D124: 17.051599 | E124: 2.1605558 | F124: 30.092281 | G124: -0.015045232 | H124: 0.30554947 | I124: 1.3501328 | J124: 0.43792731 | K124: -0.0029282666
A125: NCW_H_CPX_2 | B125: 48.294188 | C125: 0.14525917 | D125: 17.891776 | E125: 2.1403802 | F125: 29.350416 | G125: 0.00070563093 | H125: 0.33013447 | I125: 1.1901978 | J125: 0.53688434 | K125: 0.027620411
A128: Olivine
A129: Composition of olivines found within NCW_H and associated glass host. Normalised to 100 wt.
A130: 5 | B130: Host Glass | C130: Core/rim | D130: SiO2 | E130: Al2O3 | F130: CaO | G130: MnO | H130: FeO | I130: K2O | J130: TiO2 | K130: Na2O | L130: MgO | M130: P2O5
A131: Ol1 | B131: NCW_H_G1 | C131: Rim | D131: 39.0905 | E131: 0.0315 | F131: 0.3119 | G131: 0.2581 | H131: 19.8992 | I131: 0.0007 | J131: 0.0532 | K131: 0 | L131: 40.7498 | M131: 0.0794
A132: Ol1 | B132: NCW_H_G1 | C132: Core | D132: 39.0452 | E132: 0.0676 | F132: 0.2724 | G132: 0.2772 | H132: 18.1285 | I132: -0.0007 | J132: 0.0427 | K132: 0 | L132: 41.9736 | M132: 0.2089
A133: Ol2 | B133: NCW_H_G3 | C133: Rim | D133: 39.1143 | E133: 0.0499 | F133: 0.2695 | G133: 0.2939 | H133: 19.3667 | I133: 0.0202 | J133: 0.0349 | K133: 0.0028 | L133: 41.1048 | M133: 0.0354
A134: Ol2 | B134: NCW_H_G3 | C134: Core | D134: 39.3267 | E134: 0.0356 | F134: 0.2831 | G134: 0.2533 | H134: 18.7171 | I134: 0.0067 | J134: 0.0367 | K134: 0 | L134: 41.6647 | M134: 0.0345
A135: Ol3 | B135: NCW_H_G7 | C135: Rim | D135: 38.9121 | E135: 0.0339 | F135: 0.3154 | G135: 0.2936 | H135: 19.8108 | I135: 0.0112 | J135: 0.039 | K135: 0.0084 | L135: 40.6336 | M135: 0.0751
A136: Ol3 | B136: NCW_H_G7 | C136: Core | D136: 39.0516 | E136: 0.0768 | F136: 0.2758 | G136: 0.2902 | H136: 18.5475 | I136: 0 | J136: 0.0471 | K136: 0 | L136: 41.7736 | M136: 0.2421
A137: Ol4 | B137: NCW_H_G8 | C137: Rim | D137: 38.9805 | E137: 0.0475 | F137: 0.2972 | G137: 0.3262 | H137: 19.9292 | I137: 0 | J137: 0.0346 | K137: 0.0363 | L137: 40.3159 | M137: -0.0152
A138: Ol4 | B138: NCW_H_G8 | C138: Core | D138: 38.6623 | E138: 0.0421 | F138: 0.2697 | G138: 0.3338 | H138: 20.7229 | I138: 0.0119 | J138: 0.0582 | K138: 0.0281 | L138: 39.5574 | M138: 0.0268
A139: Ol5 | B139: NCW_H_G9 | C139: Rim | D139: 38.8633 | E139: 0.0131 | F139: 0.3153 | G139: 0.3019 | H139: 20.0353 | I139: 0 | J139: 0.0143 | K139: 0 | L139: 40.5628 | M139: 0.0352
A140: Ol5 | B140: NCW_H_G9 | C140: Core | D140: 38.9149 | E140: 0.046 | F140: 0.2861 | G140: 0.3237 | H140: 19.9175 | I140: 0.0022 | J140: 0.0577 | K140: 0.0028 | L140: 40.2192 | M140: 0.1001
A141: Ol6 | B141: NCW_H_G10 | C141: Rim | D141: 38.9152 | E141: 0.0654 | F141: 0.2774 | G141: 0.2882 | H141: 20.4523 | I141: 0.0067 | J141: 0.0272 | K141: 0 | L141: 40.0305 | M141: 0.0054
A142: Ol6 | B142: NCW_H_G10 | C142: Core | D142: 38.8199 | E142: 0.037 | F142: 0.2397 | G142: 0.2952 | H142: 19.8365 | I142: 0.0067 | J142: 0.0136 | K142: 0 | L142: 40.3207 | M142: 0.1436
... A166: Ol18 | B166: NCW_H_G32 | C166: Core | D166: 38.5314 | E166: 0.0447 | F166: 0.2849 | G166: 0.3325 | H166: 20.3037 | I166: 0.0007 | J166: 0.0267 | K166: 0 | L166: 40.2323 | M166: 0.1776
A168: Plagioclase
A169: Plagioclase Feldspar compositions found in NCW_H and assocaited host glass. All concentrations in wt.% and normalised to 100 wt.%
A170: Plag# | B170: Rim/Core | C170: Host Glass # | D170: SiO2 | E170: Al2O3 | F170: CaO | G170: MnO | H170: FeO | I170: K2O | J170: TiO2 | K170: Na2O | L170: MgO | M170: P2O5
A171: Plag_1 | B171: Rim | C171: NCW_H_G2 | D171: 51.534559 | E171: 30.250248 | F171: 13.221103 | G171: 0.019153935 | H171: 0.61472159 | I171: 0.12150777 | J171: 0.095570154 | K171: 3.9698525 | L171: 0.1614118 | M171: 0.011871449
A172: Plag_1 | B172: Core | C172: NCW_H_G2 | D172: 51.821879 | E172: 30.009334 | F172: 13.041187 | G172: -0.014842397 | H172: 0.6444987 | I172: 0.15639304 | J172: 0.071024354 | K172: 4.0626329 | L172: 0.17830799 | M172: 0.02958518
A173: Plag_2 | B173: Rim | C173: NCW_H_G4 | D173: 50.467335 | E173: 30.962634 | F173: 14.112242 | G173: 0.010629157 | H173: 0.71394158 | I173: 0.10837766 | J173: 0.087516701 | K173: 3.3690453 | L173: 0.15158965 | M173: 0.016688769
A174: Plag_2 | B174: Core | C174: NCW_H_G4 | D174: 51.613991 | E174: 30.192542 | F174: 13.221958 | G174: -0.0084763172 | H174: 0.70024352 | I174: 0.11268516 | J174: 0.11996482 | K174: 3.8658987 | L174: 0.19226282 | M174: 0
A175: Plag_3 | B175: Rim | C175: NCW_H_G5 | D175: 51.810911 | E175: 29.75786 | F175: 13.207715 | G175: 0.0056896676 | H175: 0.79226125 | I175: 0.17258658 | J175: 0.12527251 | K175: 3.9268688 | L175: 0.20203311 | M175: -0.0011978248
A176: Plag_3 | B176: Core | C176: NCW_H_G5 | D176: 50.998012 | E176: 30.699096 | F176: 13.779814 | G176: 0.022711516 | H176: 0.59269088 | I176: 0.13487453 | J176: 0.077298844 | K176: 3.5307442 | L176: 0.18796768 | M176: 0
A177: Plag_4 | B177: Rim | C177: NCW_H_G10 | D177: 51.3773 | E177: 30.112524 | F177: 13.558016 | G177: 0.016345406 | H177: 0.83810074 | I177: 0.16116172 | J177: 0.11571352 | K177: 3.6196105 | L177: 0.18069647 | M177: 0.020531425
A178: Plag_4 | B178: Core | C178: NCW_H_G10 | D178: 51.120518 | E178: 30.549139 | F178: 13.815198 | G178: -0.0063943985 | H178: 0.65202882 | I178: 0.10161099 | J178: 0.088722279 | K178: 3.510325 | L178: 0.15976005 | M178: 0.0090920354
A179: Plag_5 | B179: Rim | C179: NCW_H_G11 | D179: 50.893483 | E179: 28.949217 | F179: 13.079498 | G179: 0.02202439 | H179: 2.0433851 | I179: 0.18038075 | J179: 0.47247798 | K179: 3.5928657 | L179: 0.71624114 | M179: 0.050426885
A180: Plag_5 | B180: Core | C180: NCW_H_G11 | D180: 52.255478 | E180: 29.380637 | F180: 13.012291 | G180: 0.014979269 | H180: 0.83344651 | I180: 0.21490257 | J180: 0.096067043 | K180: 3.9672094 | L180: 0.18124915 | M180: 0.043739465
A181: Plag_6 | B181: Rim | C181: NCW_H_G12 | D181: 51.160857 | E181: 30.327328 | F181: 13.689096 | G181: -0.01707069 | H181: 0.71876588 | I181: 0.11061008 | J181: 0.098231337 | K181: 3.6968525 | L181: 0.18578101 | M181: 0.029549264
A182: Plag_6 | B182: Core | C182: NCW_H_G12 | D182: 51.819847 | E182: 29.970799 | F182: 13.265054 | G182: 0.0056943569 | H182: 0.67273332 | I182: 0.15424714 | J182: 0.10689407 | K182: 3.8076266 | L182: 0.18831338 | M182: 0.0087912878
... A200: Plag_15 | B200: Core | C200: NCW_H_G25 | D200: 51.447759 | E200: 30.192613 | F200: 13.570934 | G200: -0.014238135 | H200: 0.6141316 | I200: 0.15303506 | J200: 0.14357616 | K200: 3.7110754 | L200: 0.15114328 | M200: 0.029969781
A202: Evolved Glass
A203: Composition of obsidian chips found within NCW_H reported in wt.% and normalised to 100 wt.%
A204: Glass # | B204: SiO2 | C204: Al2O3 | D204: CaO | E204: MnO | F204: FeO | G204: K2O | H204: TiO2 | I204: Na2O | J204: MgO | K204: P2O5
A205: NCW_H_RG_1 | B205: 76.424047 | C205: 11.298661 | D205: 0.22857808 | E205: 0.11318528 | F205: 2.6321599 | G205: 4.6438075 | H205: 0.17650081 | I205: 4.3384681 | J205: 0.0067228847 | K205: 0
A206: NCW_H_RG_2_1 | B206: 76.511018 | C206: 11.270637 | D206: 0.22008604 | E206: 0.13080491 | F206: 2.5911638 | G206: 4.7358213 | H206: 0.15322573 | I206: 4.3060051 | J206: 0 | K206: 0.013975313
A207: NCW_H_RG_2_2 | B207: 76.264162 | C207: 11.191226 | D207: 0.20556378 | E207: 0.11397894 | F207: 2.5836565 | G207: 4.8326066 | H207: 0.14611397 | I207: 4.5152732 | J207: 0.0099417753 | K207: 0.003615191
A208: NCW_H_RG_2_3 | B208: 76.416828 | C208: 11.150235 | D208: 0.2185245 | E208: 0.11297036 | F208: 2.5649961 | G208: 4.7812266 | H208: 0.1853039 | I208: 4.4837651 | J208: 0.010463981 | K208: -0.0042668661
A209: NCW_H_RG_3_1 | B209: 75.924447 | C209: 11.124734 | D209: 0.23582033 | E209: 0.091644839 | F209: 2.7569822 | G209: 5.1501716 | H209: 0.17781988 | I209: 4.3662367 | J209: 0 | K209: 0
A210: NCW_H_RG_3_2 | B210: 76.754424 | C210: 11.055727 | D210: 0.15162658 | E210: 0.064867526 | F210: 2.4104894 | G210: 5.2171448 | H210: 0.19460258 | I210: 4.027436 | J210: 0 | K210: 0
A211: NCW_H_RG_4_1 | B211: 76.081796 | C211: 11.724995 | D211: 0.31210884 | E211: 0.086120252 | F211: 2.4640874 | G211: 4.6056864 | H211: 0.24972818 | I211: 4.3246137 | J211: 0.04100475 | K211: 0
A212: NCW_H_RG_4_2 | B212: 74.957213 | C212: 11.6724 | D212: 0.3057704 | E212: 0.087132993 | F212: 3.7002343 | G212: 4.3644976 | H212: 0.43687235 | I212: 4.3529269 | J212: 0.012576933 | K212: 0.038133261
A213: NCW_H_RG_5_1 | B213: 76.004183 | C213: 10.778864 | D213: 0.20201407 | E213: 0.13439693 | F213: 3.6196106 | G213: 4.6758407 | H213: 0.26136224 | I213: 4.1469406 | J213: 0.015281893 | K213: 0.0021980806
A214: NCW_H_RG_5_2 | B214: 76.01147 | C214: 10.823192 | D214: 0.19643467 | E214: 0.15438669 | F214: 3.6062202 | G214: 4.5883935 | H214: 0.26651463 | I214: 4.2154416 | J214: 0 | K214: 0
A215: NCW_H_RG_6_1 | B215: 76.21841 | C215: 11.142309 | D215: 0.22180357 | E215: 0.077188449 | F215: 2.795993 | G215: 4.6183248 | H215: 0.18013993 | I215: 4.5098383 | J215: -0.0044280205 | K215: 0.048808862
A216: NCW_H_RG_6_2 | B216: 75.972135 | C216: 11.287612 | D216: 0.23308287 | E216: 0.10617549 | F216: 2.7320815 | G216: 4.6762503 | H216: 0.17249743 | I216: 4.5407885 | J216: 0.0036230498 | K216: 0
... A218: NCW_H_RG_7_2 | B218: 76.282998 | C218: 11.256906 | D218: 0.21802047 | E218: 0.10563671 | F218: 2.7038567 | G218: 4.6546616 | H218: 0.16988478 | I218: 4.4318074 | J218: -0.0001007023 | K218: 0.00060421379
A220: Alkali Feldspars
A221: Composition of rare alkali feldspar phenocrysts found in NCW_H. All reported in wt.% and normalised to 100 wt.%
A222: Kspar# | B222: Rim/Core | C222: SiO2 | D222: Al2O3 | E222: CaO | F222: MnO | G222: FeO | H222: K2O | I222: TiO2 | J222: Na2O | K222: MgO | L222: P2O5
A223: NCW_H_Kspar_1 | B223: Rim | C223: 66.759348 | D223: 18.506475 | E223: 0.022374835 | F223: 0.019888742 | G223: 0.66030625 | H223: 7.0712435 | I223: 0.01849653 | J223: 6.911338 | K223: 0.016805987 | L223: 0.013723232
A224: NCW_H_Kspar_1 | B224: Core | C224: 66.94253 | D224: 18.468807 | E224: 0.028288543 | F224: 0.020062797 | G224: 0.69728249 | H224: 7.1447631 | I224: 0.017454633 | J224: 6.6622529 | K224: 0.0055172691 | L224: 0.013040818
A225: NCW_H_Kspar_2 | B225: Core | C225: 66.971159 | D225: 18.590406 | E225: 0.02804844 | F225: -0.0050086499 | G225: 0.514188 | H225: 7.231589 | I225: 0.022438752 | J225: 6.6626063 | K225: -0.0046079579 | L225: -0.010818684
A226: NCW_H_Kspar_2 | B226: Rim | C226: 66.785447 | D226: 18.791157 | E226: 0.017457874 | F226: 0.006384594 | G226: 0.53321336 | H226: 7.2683614 | I226: 0.015462689 | J226: 6.5576763 | K226: 0.0021947042 | L226: 0.022645357
A227: NCW_H_Kspar_3 | B227: Rim | C227: 51.807554 | D227: 29.984998 | E227: 13.064151 | F227: -0.013610575 | G227: 0.70644891 | H227: 0.16382729 | I227: 0.11188694 | J227: 4.0229258 | K227: 0.1548203 | L227: -0.0030023328
A228: NCW_H_Kspar_3 | B228: Core | C228: 51.854624 | D228: 30.054668 | E228: 13.307682 | F228: -0.011393392 | G228: 0.58865858 | H228: 0.15151212 | I228: 0.1022407 | J228: 3.7597194 | K228: 0.17549821 | L228: 0.016790262
A229: NCW_H_Kspar_4 | B229: Rim | C229: 66.807156 | D229: 18.919206 | E229: 0.12354967 | F229: 0.026410617 | G229: 0.46408656 | H229: 6.3973717 | I229: 0.022609089 | J229: 7.2094982 | K229: 0.0046018499 | L229: 0.025510255
A230: NCW_H_Kspar_4 | B230: Core | C230: 67.227033 | D230: 18.916066 | E230: 0.080458846 | F230: 0.0100448 | G230: 0.36753922 | H230: 6.3213934 | I230: 0.025714688 | J230: 7.0983587 | K230: -0.01456496 | L230: -0.032042911
A231: NCW_H_Kspar_5 | B231: Rim | C231: 66.865878 | D231: 18.136753 | E231: 0.013555197 | F231: -0.0029118571 | G231: 0.93460571 | H231: 7.3586645 | I231: -0.012551108 | J231: 6.6944598 | K231: 0.020784635 | L231: -0.0092376156
A232: NCW_H_Kspar_5 | B232: Core | C232: 67.031882 | D232: 18.134181 | E232: 0.024814616 | F232: 0.0072042433 | G232: 0.91033619 | H232: 7.3772452 | I232: 0.016809901 | J232: 6.4947254 | K232: 0.00020011787 | L232: 0.0026015323

Sheet NCW_H T and H2O Calc
A1: Thermometry and Hygrometry for NCW_H
A2: All equations conducted using the theromobar python package (Weiser et al., 2022)
A4: Plagioclase-Liquid Thermometry and Hygrometry
A5: Calculated Temperature in K using in equilibrium Plagioclase-Liquid Pairs.
A6: Temperatures and H2O contents were calculated using Equation 24a of Putirka (2008) to calculate temperature and the method of Waters and Lange (2015) to calculate H2O contents.
A7: The An-Ab test of Putirka (2008) was used to filter plagioclase liquid pairs not in equilibrium. | X7: Pressure (kbar)
A8: Core Compositions | X8: 0.5 | AA8: 1 | AD8: 1.5 | AG8: 2 | AJ8: 2.5
A9: Plag # | B9: SiO2_Plag | C9: TiO2_Plag | D9: Al2O3_Plag | E9: FeOt_Plag | F9: MnO_Plag | G9: MgO_Plag | H9: CaO_Plag | I9: Na2O_Plag | J9: K2O_Plag | L9: Glass # | M9: SiO2_Liq | N9: TiO2_Liq | O9: Al2O3_Liq | P9: FeOt_Liq | Q9: MnO_Liq | R9: MgO_Liq | S9: CaO_Liq | T9: Na2O_Liq | U9: K2O_Liq | V9: P2O5_Liq | X9: T (K) | Y9: H2O (Wt.%) | AA9: T (K) | AB9: H2O (Wt.%) | AD9: T (K) | AE9: H2O (Wt.%) | AG9: T (K) | AH9: H2O (Wt.%) | AJ9: T (K) | AK9: H2O (Wt.%)
A10: =_xlfn.XLOOKUP(B10,'NCW_H Glass and Minerals'!$D$171:$D$200,'NCW_H Glass and Minerals'!$A$171:$A$200,,1) -> Plag_2 | B10: 51.604007 | C10: 0.11994161 | D10: 30.186702 | E10: 0.70010808 | F10: 0 | G10: 0.19222563 | H10: 13.2194 | I10: 3.8651509 | J10: 0.11266336 | L10: 7 | M10: 48.506689 | N10: 3.5664132 | O10: 14.033063 | P10: 12.964006 | Q10: 0.20564666 | R10: 5.8129115 | S10: 10.682196 | T10: 2.94039 | U10: 0.73910328 | V10: 0.50192073 | X10: 1410.6674 | Y10: 0.51641373 | AA10: 1416.7558 | AB10: 0.44017642 | AD10: 1422.9072 | AE10: 0.36365582 | AG10: 1429.122 | AH10: 0.287 | AJ10: 1435.401 | AK10: 0.20983211
A11: =_xlfn.XLOOKUP(B11,'NCW_H Glass and Minerals'!$D$171:$D$200,'NCW_H Glass and Minerals'!$A$171:$A$200,,1) -> Plag_2 | B11: 51.604007 | C11: 0.11994161 | D11: 30.186702 | E11: 0.70010808 | F11: 0 | G11: 0.19222563 | H11: 13.2194 | I11: 3.8651509 | J11: 0.11266336 | L11: 8 | M11: 48.470581 | N11: 3.5250663 | O11: 13.927179 | P11: 13.000649 | Q11: 0.24501765 | R11: 5.8727604 | S11: 10.742972 | T11: 3.0381984 | U11: 0.68733684 | V11: 0.41176861 | X11: 1412.308 | Y11: 0.46210381 | AA11: 1418.4101 | AB11: 0.3858809 | AD11: 1424.5753 | AE11: 0.3093784 | AG11: 1430.804 | AH11: 0.233 | AJ11: 1437.0967 | AK11: 0.15560207
A12: =_xlfn.XLOOKUP(B12,'NCW_H Glass and Minerals'!$D$171:$D$200,'NCW_H Glass and Minerals'!$A$171:$A$200,,1) -> Plag_3 | B12: 50.946857 | C12: 0.077221307 | D12: 30.668303 | E12: 0.59209636 | F12: 0.022688734 | G12: 0.18777913 | H12: 13.765992 | I12: 3.5272026 | J12: 0.13473924 | L12: 9 | M12: 48.729053 | N12: 3.4922191 | O12: 13.889547 | P12: 13.036452 | Q12: 0.24470045 | R12: 5.6973708 | S12: 10.456825 | T12: 3.1086924 | U12: 0.77763076 | V12: 0.51096219 | X12: 1416.6031 | Y12: 0.3706357 | AA12: 1422.7298 | AB12: 0.2947584 | AD12: 1428.9195 | AE12: 0.21861328 | AG12: 1435.173 | AH12: 0.142 | AJ12: 1441.4894 | AK12: 0.065591633
A13: =_xlfn.XLOOKUP(B13,'NCW_H Glass and Minerals'!$D$171:$D$200,'NCW_H Glass and Minerals'!$A$171:$A$200,,1) -> Plag_3 | B13: 50.946857 | C13: 0.077221307 | D13: 30.668303 | E13: 0.59209636 | F13: 0.022688734 | G13: 0.18777913 | H13: 13.765992 | I13: 3.5272026 | J13: 0.13473924 | L13: 10 | M13: 48.609647 | N13: 3.5146742 | O13: 13.939457 | P13: 13.141211 | Q13: 0.25229832 | R13: 5.7417571 | S13: 10.621094 | T13: 2.9614603 | U13: 0.7383692 | V13: 0.4800321 | X13: 1415.8076 | Y13: 0.4411534 | AA13: 1421.9276 | AB13: 0.36526787 | AD13: 1428.1108 | AE13: 0.28911258 | AG13: 1434.357 | AH13: 0.213 | AJ13: 1440.6674 | AK13: 0.13606478
A14: =_xlfn.XLOOKUP(B14,'NCW_H Glass and Minerals'!$D$171:$D$200,'NCW_H Glass and Minerals'!$A$171:$A$200,,1) -> Plag_4 | B14: 51.103414 | C14: 0.088692593 | D14: 30.538917 | E14: 0.65181066 | F14: 0 | G14: 0.1597066 | H14: 13.810575 | I14: 3.5091504 | J14: 0.10157699 | L14: 19 | M14: 48.073652 | N14: 3.5424523 | O14: 14.191897 | P14: 13.088538 | Q14: 0.17476627 | R14: 5.9225104 | S14: 10.785838 | T14: 3.0645678 | U14: 0.6789115 | V14: 0.44225944 | X14: 1411.7087 | Y14: 0.59938101 | AA14: 1417.7942 | AB14: 0.52347169 | AD14: 1423.9426 | AE14: 0.44728211 | AG14: 1430.154 | AH14: 0.371 | AJ14: 1436.4294 | AK14: 0.2941345
A15: =_xlfn.XLOOKUP(B15,'NCW_H Glass and Minerals'!$D$171:$D$200,'NCW_H Glass and Minerals'!$A$171:$A$200,,1) -> Plag_4 | B15: 51.103414 | C15: 0.088692593 | D15: 30.538917 | E15: 0.65181066 | F15: 0 | G15: 0.1597066 | H15: 13.810575 | I15: 3.5091504 | J15: 0.10157699 | L15: 20 | M15: 48.499032 | N15: 3.2969717 | O15: 15.106171 | P15: 12.56356 | Q15: 0.20817645 | R15: 5.3584659 | S15: 10.718351 | T15: 3.1548766 | U15: 0.64925917 | V15: 0.42567726 | X15: 1392.252 | Y15: 1.3886391 | AA15: 1398.1742 | AB15: 1.3126243 | AD15: 1404.1587 | AE15: 1.2362823 | AG15: 1410.206 | AH15: 1.16 | AJ15: 1416.3158 | AK15: 1.082685
A16: =_xlfn.XLOOKUP(B16,'NCW_H Glass and Minerals'!$D$171:$D$200,'NCW_H Glass and Minerals'!$A$171:$A$200,,1) -> Plag_5 | B16: 52.248748 | C16: 0.096054669 | D16: 29.376853 | E16: 0.83333916 | F16: 0.014977339 | G16: 0.18122581 | H16: 13.010615 | I16: 3.9666984 | J16: 0.21487489 | L16: 21 | M16: 48.39528 | N16: 3.483477 | O16: 14.035213 | P16: 12.993506 | Q16: 0.1971876 | R16: 5.9422333 | S16: 10.69428 | T16: 3.0526727 | U16: 0.6822261 | V16: 0.52382112 | X16: 1412.3965 | Y16: 0.45440865 | AA16: 1418.5022 | AB16: 0.37810511 | AD16: 1424.6712 | AE16: 0.30152354 | AG16: 1430.904 | AH16: 0.225 | AJ16: 1437.2 | AK16: 0.14759221
A17: =_xlfn.XLOOKUP(B17,'NCW_H Glass and Minerals'!$D$171:$D$200,'NCW_H Glass and Minerals'!$A$171:$A$200,,1) -> Plag_5 | B17: 52.248748 | C17: 0.096054669 | D17: 29.376853 | E17: 0.83333916 | F17: 0.014977339 | G17: 0.18122581 | H17: 13.010615 | I17: 3.9666984 | J17: 0.21487489 | L17: 22 | M17: 48.613226 | N17: 3.4585142 | O17: 14.033902 | P17: 12.947305 | Q17: 0.23097588 | R17: 5.9553603 | S17: 10.631525 | T17: 2.9675756 | U17: 0.70874789 | V17: 0.45276579 | X17: 1414.5601 | Y17: 0.39726783 | AA17: 1420.6838 | AB17: 0.32098519 | AD17: 1426.8708 | AE17: 0.24442927 | AG17: 1433.122 | AH17: 0.168 | AJ17: 1439.4362 | AK17: 0.090563424
A18: =_xlfn.XLOOKUP(B18,'NCW_H Glass and Minerals'!$D$171:$D$200,'NCW_H Glass and Minerals'!$A$171:$A$200,,1) -> Plag_6 | B18: 51.819847 | C18: 0.10689407 | D18: 29.970799 | E18: 0.67273332 | F18: 0.0056943569 | G18: 0.18831338 | H18: 13.265054 | I18: 3.8076266 | J18: 0.15424714 | L18: 23 | M18: 52.571636 | N18: 3.2180422 | O18: 14.078896 | P18: 12.020607 | Q18: 0.25018892 | R18: 4.2408553 | S18: 8.5941425 | T18: 2.884525 | U18: 1.2966934 | V18: 0.82398954 | X18: 1406.1005 | Y18: 0.4023457 | AA18: 1412.1491 | AB18: 0.32611848 | AD18: 1418.2605 | AE18: 0.24959816 | AG18: 1424.435 | AH18: 0.173 | AJ18: 1430.6735 | AK18: 0.095745933
A19: =_xlfn.XLOOKUP(B19,'NCW_H Glass and Minerals'!$D$171:$D$200,'NCW_H Glass and Minerals'!$A$171:$A$200,,1) -> Plag_7 | B19: 51.080068 | C19: 0.14585645 | D19: 30.395763 | E19: 0.72077894 | F19: 0.0093036005 | G19: 0.18927325 | H19: 13.736416 | I19: 3.5654798 | J19: 0.11994642 | L19: 23 | M19: 52.571636 | N19: 3.2180422 | O19: 14.078896 | P19: 12.020607 | Q19: 0.25018892 | R19: 4.2408553 | S19: 8.5941425 | T19: 2.884525 | U19: 1.2966934 | V19: 0.82398954 | X19: 1408.1487 | Y19: 0.40338344 | AA19: 1414.2062 | AB19: 0.32739797 | AD19: 1420.3265 | AE19: 0.25112371 | AG19: 1426.51 | AH19: 0.175 | AJ19: 1432.757 | AK19: 0.097780038
A20: =_xlfn.XLOOKUP(B20,'NCW_H Glass and Minerals'!$D$171:$D$200,'NCW_H Glass and Minerals'!$A$171:$A$200,,1) -> Plag_6 | B20: 51.819847 | C20: 0.10689407 | D20: 29.970799 | E20: 0.67273332 | F20: 0.0056943569 | G20: 0.18831338 | H20: 13.265054 | I20: 3.8076266 | J20: 0.15424714 | L20: 24 | M20: 52.088211 | N20: 3.2005861 | O20: 14.206543 | P20: 11.965083 | Q20: 0.24933412 | R20: 4.3017524 | S20: 8.5654984 | T20: 3.2070054 | U20: 1.3708792 | V20: 0.80210798 | X20: 1404.9571 | Y20: 0.39203893 | AA20: 1410.9961 | AB20: 0.31580373 | AD20: 1417.098 | AE20: 0.23927282 | AG20: 1423.263 | AH20: 0.162 | AJ20: 1429.4916 | AK20: 0.085391458
A21: =_xlfn.XLOOKUP(B21,'NCW_H Glass and Minerals'!$D$171:$D$200,'NCW_H Glass and Minerals'!$A$171:$A$200,,1) -> Plag_7 | B21: 51.080068 | C21: 0.14585645 | D21: 30.395763 | E21: 0.72077894 | F21: 0.0093036005 | G21: 0.18927325 | H21: 13.736416 | I21: 3.5654798 | J21: 0.11994642 | L21: 24 | M21: 52.088211 | N21: 3.2005861 | O21: 14.206543 | P21: 11.965083 | Q21: 0.24933412 | R21: 4.3017524 | S21: 8.5654984 | T21: 3.2070054 | U21: 1.3708792 | V21: 0.80210798 | X21: 1407.0039 | Y21: 0.3930238 | AA21: 1413.0518 | AB21: 0.31702987 | AD21: 1419.1626 | AE21: 0.24074437 | AG21: 1425.336 | AH21: 0.164 | AJ21: 1431.5737 | AK21: 0.087369774
... A37: =_xlfn.XLOOKUP(B37,'NCW_H Glass and Minerals'!$D$171:$D$200,'NCW_H Glass and Minerals'!$A$171:$A$200,,1) -> Plag_15 | B37: 51.440487 | C37: 0.14355586 | D37: 30.188345 | E37: 0.61404478 | F37: 0 | G37: 0.15112192 | H37: 13.569016 | I37: 3.7105508 | J37: 0.15301343 | L37: 52 | M37: 52.225441 | N37: 3.123347 | O37: 14.317698 | P37: 11.80471 | Q37: 0.20902273 | R37: 4.3312503 | S37: 8.5318998 | T37: 3.1032546 | U37: 1.4089301 | V37: 0.87299537 | X37: 1405.9508 | Y37: 0.41278566 | AA37: 1411.9941 | AB37: 0.33666762 | AD37: 1418.1003 | AE37: 0.26025598 | AG37: 1424.27 | AH37: 0.184 | AJ37: 1430.5024 | AK37: 0.10662115
A39: Rim Compositions | AA39: 1 Kbar | AD39: 1.5 Kbar | AG39: 2 Kbar | AJ39: 2.5 Kbar
B40: SiO2_Plag | C40: TiO2_Plag | D40: Al2O3_Plag | E40: FeOt_Plag | F40: MnO_Plag | G40: MgO_Plag | H40: CaO_Plag | I40: Na2O_Plag | J40: K2O_Plag | L40: Glass # | M40: SiO2_Liq | N40: TiO2_Liq | O40: Al2O3_Liq | P40: FeOt_Liq | Q40: MnO_Liq | R40: MgO_Liq | S40: CaO_Liq | T40: Na2O_Liq | U40: K2O_Liq | V40: P2O5_Liq | X40: T (K) | Y40: H2O (Wt.%) | AA40: T (K) | AB40: H2O (Wt.%) | AD40: T (K) | AE40: H2O (Wt.%) | AG40: T (K) | AH40: H2O (Wt.%) | AJ40: T (K) | AK40: H2O (Wt.%)
B41: 50.450696 | C41: 0.087487848 | D41: 30.952426 | E41: 0.7137062 | F41: 0.010625652 | G41: 0.15153968 | H41: 14.107589 | I41: 3.3679346 | J41: 0.10834193 | L41: 7 | M41: 48.506689 | N41: 3.5664132 | O41: 14.033063 | P41: 12.964006 | Q41: 0.20564666 | R41: 5.8129115 | S41: 10.682196 | T41: 2.94039 | U41: 0.73910328 | V41: 0.50192073 | X41: 1415.4863 | Y41: 0.50916791 | AA41: 1421.5978 | AB41: 0.4334398 | AD41: 1427.7723 | AE41: 0.357442 | AG41: 1434.01 | AH41: 0.281 | AJ41: 1440.311 | AK41: 0.20471209
B42: 50.450696 | C42: 0.087487848 | D42: 30.952426 | E42: 0.7137062 | F42: 0.010625652 | G42: 0.15153968 | H42: 14.107589 | I42: 3.3679346 | J42: 0.10834193 | L42: 8 | M42: 48.470581 | N42: 3.5250663 | O42: 13.927179 | P42: 13.000649 | Q42: 0.24501765 | R42: 5.8727604 | S42: 10.742972 | T42: 3.0381984 | U42: 0.68733684 | V42: 0.41176861 | X42: 1417.1323 | Y42: 0.45501851 | AA42: 1423.2575 | AB42: 0.37930755 | AD42: 1429.4456 | AE42: 0.3033311 | AG42: 1435.697 | AH42: 0.227 | AJ42: 1442.0119 | AK42: 0.15065648
B43: 51.787443 | C43: 0.12521576 | D43: 29.74438 | E43: 0.79190238 | F43: 0.0056870903 | G43: 0.20194159 | H43: 13.201732 | I43: 3.92509 | J43: 0.17250841 | L43: 9 | M43: 48.729053 | N43: 3.4922191 | O43: 13.889547 | P43: 13.036452 | Q43: 0.24470045 | R43: 5.6973708 | S43: 10.456825 | T43: 3.1086924 | U43: 0.77763076 | V43: 0.51096219 | X43: 1413.2635 | Y43: 0.37273688 | AA43: 1419.3746 | AB43: 0.29649225 | AD43: 1425.5489 | AE43: 0.21997098 | AG43: 1431.787 | AH43: 0.143 | AJ43: 1438.0886 | AK43: 0.066165315
B44: 51.787443 | C44: 0.12521576 | D44: 29.74438 | E44: 0.79190238 | F44: 0.0056870903 | G44: 0.20194159 | H44: 13.201732 | I44: 3.92509 | J44: 0.17250841 | L44: 10 | M44: 48.609647 | N44: 3.5146742 | O44: 13.939457 | P44: 13.141211 | Q44: 0.25229832 | R44: 5.7417571 | S44: 10.621094 | T44: 2.9614603 | U44: 0.7383692 | V44: 0.4800321 | X44: 1412.4697 | Y44: 0.44331004 | AA44: 1418.5742 | AB44: 0.36705799 | AD44: 1424.7419 | AE44: 0.29052753 | AG44: 1430.973 | AH44: 0.214 | AJ44: 1437.2682 | AK44: 0.13669815
B45: 51.377351 | C45: 0.11571363 | D45: 30.112554 | E45: 0.83810158 | F45: 0.016345423 | G45: 0.18069665 | H45: 13.55803 | I45: 3.6196141 | J45: 0.16116188 | L45: 19 | M45: 48.073652 | N45: 3.5424523 | O45: 14.191897 | P45: 13.088538 | Q45: 0.17476627 | R45: 5.9225104 | S45: 10.785838 | T45: 3.0645678 | U45: 0.6789115 | V45: 0.44225944 | X45: 1411.4723 | Y45: 0.58779899 | AA45: 1417.5596 | AB45: 0.5117808 | AD45: 1423.71 | AE45: 0.43548231 | AG45: 1429.924 | AH45: 0.359 | AJ45: 1436.2009 | AK45: 0.28211496
B46: 51.377351 | C46: 0.11571363 | D46: 30.112554 | E46: 0.83810158 | F46: 0.016345423 | G46: 0.18069665 | H46: 13.55803 | I46: 3.6196141 | J46: 0.16116188 | L46: 20 | M46: 48.499032 | N46: 3.2969717 | O46: 15.106171 | P46: 12.56356 | Q46: 0.20817645 | R46: 5.3584659 | S46: 10.718351 | T46: 3.1548766 | U46: 0.64925917 | V46: 0.42567726 | X46: 1392.0089 | Y46: 1.3774329 | AA46: 1397.933 | AB46: 1.3013054 | AD46: 1403.9194 | AE46: 1.2248521 | AG46: 1409.968 | AH46: 1.148 | AJ46: 1416.0803 | AK46: 1.0710341
B47: 50.893584 | C47: 0.47247892 | D47: 28.949275 | E47: 2.0433891 | F47: 0.022024434 | G47: 0.71624257 | H47: 13.079524 | I47: 3.5928729 | J47: 0.18038111 | L47: 21 | M47: 48.39528 | N47: 3.483477 | O47: 14.035213 | P47: 12.993506 | Q47: 0.1971876 | R47: 5.9422333 | S47: 10.69428 | T47: 3.0526727 | U47: 0.6822261 | V47: 0.52382112 | X47: 1414.9162 | Y47: 0.45049028 | AA47: 1421.0344 | AB47: 0.37444206 | AD47: 1427.2159 | AE47: 0.29812181 | AG47: 1433.461 | AH47: 0.222 | AJ47: 1439.7694 | AK47: 0.14473464
B48: 50.893584 | C48: 0.47247892 | D48: 28.949275 | E48: 2.0433891 | F48: 0.022024434 | G48: 0.71624257 | H48: 13.079524 | I48: 3.5928729 | J48: 0.18038111 | L48: 22 | M48: 48.613226 | N48: 3.4585142 | O48: 14.033902 | P48: 12.947305 | Q48: 0.23097588 | R48: 5.9553603 | S48: 10.631525 | T48: 2.9675756 | U48: 0.70874789 | V48: 0.45276579 | X48: 1417.0836 | Y48: 0.39345612 | AA48: 1423.2199 | AB48: 0.31743033 | AD48: 1429.4194 | AE48: 0.24113757 | AG48: 1435.682 | AH48: 0.165 | AJ48: 1442.0092 | AK48: 0.087820462
B49: 51.152125 | C49: 0.098214571 | D49: 30.322152 | E49: 0.7186432 | F49: 0 | G49: 0.18574931 | H49: 13.686759 | I49: 3.6962215 | J49: 0.1105912 | L49: 23 | M49: 52.571636 | N49: 3.2180422 | O49: 14.078896 | P49: 12.020607 | Q49: 0.25018892 | R49: 4.2408553 | S49: 8.5941425 | T49: 2.884525 | U49: 1.2966934 | V49: 0.82398954 | X49: 1407.0391 | Y49: 0.40736959 | AA49: 1413.0907 | AB49: 0.33128351 | AD49: 1419.2051 | AE49: 0.25490571 | AG49: 1425.383 | AH49: 0.178 | AJ49: 1431.624 | AK49: 0.10134474
B50: 52.148495 | C50: 0.1477031 | D50: 29.401317 | E50: 0.86001806 | F50: 0.0021000441 | G50: 0.18650392 | H50: 12.895871 | I50: 4.0897859 | J50: 0.17380365 | L50: 23 | M50: 52.571636 | N50: 3.2180422 | O50: 14.078896 | P50: 12.020607 | Q50: 0.25018892 | R50: 4.2408553 | S50: 8.5941425 | T50: 2.884525 | U50: 1.2966934 | V50: 0.82398954 | X50: 1403.2778 | Y50: 0.41253751 | AA50: 1409.3106 | AB50: 0.33607091 | AD50: 1415.4063 | AE50: 0.25930598 | AG50: 1421.565 | AH50: 0.182 | AJ50: 1427.7879 | AK50: 0.10494554
B51: 51.152125 | C51: 0.098214571 | D51: 30.322152 | E51: 0.7186432 | F51: 0 | G51: 0.18574931 | H51: 13.686759 | I51: 3.6962215 | J51: 0.1105912 | L51: 24 | M51: 52.088211 | N51: 3.2005861 | O51: 14.206543 | P51: 11.965083 | Q51: 0.24933412 | R51: 4.3017524 | S51: 8.5654984 | T51: 3.2070054 | U51: 1.3708792 | V51: 0.80210798 | X51: 1405.8953 | Y51: 0.39703274 | AA51: 1411.9373 | AB51: 0.32093859 | AD51: 1418.0421 | AE51: 0.24455003 | AG51: 1424.21 | AH51: 0.168 | AJ51: 1430.4416 | AK51: 0.090959271
B52: 52.148495 | C52: 0.1477031 | D52: 29.401317 | E52: 0.86001806 | F52: 0.0021000441 | G52: 0.18650392 | H52: 12.895871 | I52: 4.0897859 | J52: 0.17380365 | L52: 24 | M52: 52.088211 | N52: 3.2005861 | O52: 14.206543 | P52: 11.965083 | Q52: 0.24933412 | R52: 4.3017524 | S52: 8.5654984 | T52: 3.2070054 | U52: 1.3708792 | V52: 0.80210798 | X52: 1402.1371 | Y52: 0.40228585 | AA52: 1408.1603 | AB52: 0.3258119 | AD52: 1414.2464 | AE52: 0.24903716 | AG52: 1420.396 | AH52: 0.172 | AJ52: 1426.6086 | AK52: 0.094649604
... B68: 51.878675 | C68: 0.094434475 | D68: 29.978089 | E68: 0.71321562 | F68: 0 | G68: 0.14460592 | H68: 13.158237 | I68: 3.7757767 | J68: 0.15111519 | L68: 52 | M68: 52.225441 | N68: 3.123347 | O68: 14.317698 | P68: 11.80471 | Q68: 0.20902273 | R68: 4.3312503 | S68: 8.5318998 | T68: 3.1032546 | U68: 1.4089301 | V68: 0.87299537 | X68: 1404.6559 | Y68: 0.41684493 | AA68: 1410.6924 | AB68: 0.34060822 | AD68: 1416.7917 | AE68: 0.2640751 | AG68: 1422.954 | AH68: 0.187 | AJ68: 1429.1801 | AK68: 0.11018712
A70: Olivine-liquid Thermometry
A71: Calculated Temperature in K using in equilibrium Olivine-Liquid Pairs.
A72: The equilibrium test of Roeder and Emslie 1970 was used. Threshold set at 〖Kd〗_((Fe-Mg))^(Ol-Liq) 0.3 ±0.03
A73: Temperatures are calculated at a pressures from 0.5 - 2.5 kbar using Equation 22 of Putirka (2008) | Z73: Pressure (kbar)
A74: Rim Compositions | Z74: 0.5 | AA74: 1 | AB74: 1.5 | AC74: 2 | AD74: 2.5
A75: Ol# | B75: SiO2_Ol | C75: Al2O3_Ol | D75: CaO_Ol | E75: MnO_Ol | F75: FeOt_Ol | G75: K2O_Ol | H75: TiO2_Ol | I75: Na2O_Ol | J75: MgO_Ol | K75: P2O5_Ol | L75: Fo | N75: Glass# | O75: SiO2_Liq | P75: TiO2_Liq | Q75: Al2O3_Liq | R75: FeOt_Liq | S75: MnO_Liq | T75: MgO_Liq | U75: CaO_Liq | V75: Na2O_Liq | W75: K2O_Liq | X75: P2O5_Liq | Z75: Calculated Temperature (K)
A76: =_xlfn.XLOOKUP(B76,'NCW_H Glass and Minerals'!$D$131:$D$166,'NCW_H Glass and Minerals'!$A$131:$A$166,"n") -> Ol4 | B76: 38.9805 | C76: 0.0475 | D76: 0.2972 | E76: 0.3262 | F76: 19.9292 | G76: -0.0045 | H76: 0.0346 | I76: 0.0363 | J76: 40.3159 | K76: -0.0152 | L76: 0.78289142 | N76: NCW_H_G8_1 | O76: 50.441179 | P76: 14.669888 | Q76: 9.9626844 | R76: 0.16386936 | S76: 11.672777 | T76: 0.91028306 | U76: 3.0821147 | V76: 3.1613898 | W76: 5.5114115 | X76: 0.42450553 | Z76: 1404.751 | AA76: 1407.5209 | AB76: 1410.2816 | AC76: 1413.033 | AD76: 1415.7753
A77: =_xlfn.XLOOKUP(B77,'NCW_H Glass and Minerals'!$D$131:$D$166,'NCW_H Glass and Minerals'!$A$131:$A$166,"n") -> Ol4 | B77: 38.9805 | C77: 0.0475 | D77: 0.2972 | E77: 0.3262 | F77: 19.9292 | G77: -0.0045 | H77: 0.0346 | I77: 0.0363 | J77: 40.3159 | K77: -0.0152 | L77: 0.78289142 | N77: NCW_H_G8_2 | O77: 50.154608 | P77: 14.53302 | Q77: 9.9143766 | R77: 0.21464503 | S77: 11.946975 | T77: 0.95182423 | U77: 3.0157423 | V77: 3.2658895 | W77: 5.5921969 | X77: 0.35706161 | Z77: 1408.7438 | AA77: 1411.5161 | AB77: 1414.2791 | AC77: 1417.0329 | AD77: 1419.7775
A78: =_xlfn.XLOOKUP(B78,'NCW_H Glass and Minerals'!$D$131:$D$166,'NCW_H Glass and Minerals'!$A$131:$A$166,"n") -> Ol6 | B78: 38.9152 | C78: 0.0654 | D78: 0.2774 | E78: 0.2882 | F78: 20.4523 | G78: 0.0067 | H78: 0.0272 | I78: -0.014 | J78: 40.0305 | K78: 0.0054 | L78: 0.77722763 | N78: NCW_H_G10_1 | O78: 48.073652 | P78: 14.191897 | Q78: 10.785838 | R78: 0.17476627 | S78: 13.088538 | T78: 0.6789115 | U78: 3.5424523 | V78: 3.0645678 | W78: 5.9225104 | X78: 0.44225944 | Z78: 1416.9189 | AA78: 1419.6959 | AB78: 1422.4636 | AC78: 1425.2219 | AD78: 1427.9709
A79: =_xlfn.XLOOKUP(B79,'NCW_H Glass and Minerals'!$D$131:$D$166,'NCW_H Glass and Minerals'!$A$131:$A$166,"n") -> Ol10 | B79: 38.8947 | C79: 0.0289 | D79: 0.3091 | E79: 0.2798 | F79: 20.7973 | G79: 0.0015 | H79: 0.0305 | I79: 0.0268 | J79: 39.4072 | K79: 0.0368 | L79: 0.7715637 | N79: NCW_H_G16_1 | O79: 47.912888 | P79: 13.911627 | Q79: 10.945089 | R79: 0.22623024 | S79: 13.110523 | T79: 0.64670786 | U79: 3.5099407 | V79: 3.0778144 | W79: 6.0012323 | X79: 0.47688191 | Z79: 1422.6945 | AA79: 1425.4748 | AB79: 1428.2456 | AC79: 1431.007 | AD79: 1433.7591
A80: =_xlfn.XLOOKUP(B80,'NCW_H Glass and Minerals'!$D$131:$D$166,'NCW_H Glass and Minerals'!$A$131:$A$166,"n") -> Ol10 | B80: 38.8947 | C80: 0.0289 | D80: 0.3091 | E80: 0.2798 | F80: 20.7973 | G80: 0.0015 | H80: 0.0305 | I80: 0.0268 | J80: 39.4072 | K80: 0.0368 | L80: 0.7715637 | N80: NCW_H_G16_2 | O80: 48.158285 | P80: 13.978794 | Q80: 10.923596 | R80: 0.22425159 | S80: 13.096765 | T80: 0.6416714 | U80: 3.4531257 | V80: 2.934967 | W80: 6.0559213 | X80: 0.51159317 | Z80: 1423.6018 | AA80: 1426.3826 | AB80: 1429.1539 | AC80: 1431.9158 | AD80: 1434.6683
A81: =_xlfn.XLOOKUP(B81,'NCW_H Glass and Minerals'!$D$131:$D$166,'NCW_H Glass and Minerals'!$A$131:$A$166,"n") -> Ol13 | B81: 38.5327 | C81: 0.0254 | D81: 0.3178 | E81: 0.3084 | F81: 20.7557 | G81: 0.0022 | H81: 0.0469 | I81: 0.0183 | J81: 39.9109 | K81: 0.0807 | L81: 0.77414483 | N81: NCW_H_G19_1 | O81: 48.777578 | P81: 13.857337 | Q81: 10.554797 | R81: 0.17462435 | S81: 12.968789 | T81: 0.73624011 | U81: 3.5232365 | V81: 3.1175279 | W81: 5.7451204 | X81: 0.48972976 | Z81: 1411.7586 | AA81: 1414.5326 | AB81: 1417.2974 | AC81: 1420.0529 | AD81: 1422.7991
A82: =_xlfn.XLOOKUP(B82,'NCW_H Glass and Minerals'!$D$131:$D$166,'NCW_H Glass and Minerals'!$A$131:$A$166,"n") -> Ol13 | B82: 38.5327 | C82: 0.0254 | D82: 0.3178 | E82: 0.3084 | F82: 20.7557 | G82: 0.0022 | H82: 0.0469 | I82: 0.0183 | J82: 39.9109 | K82: 0.0807 | L82: 0.77414483 | N82: NCW_H_G19_2 | O82: 48.068301 | P82: 13.897188 | Q82: 10.85405 | R82: 0.23472591 | S82: 13.269237 | T82: 0.69434199 | U82: 3.5496787 | V82: 2.9710091 | W82: 5.9114865 | X82: 0.50705305 | Z82: 1416.2245 | AA82: 1419.0011 | AB82: 1421.7684 | AC82: 1424.5264 | AD82: 1427.2751
A83: =_xlfn.XLOOKUP(B83,'NCW_H Glass and Minerals'!$D$131:$D$166,'NCW_H Glass and Minerals'!$A$131:$A$166,"n") -> Ol13 | B83: 38.5327 | C83: 0.0254 | D83: 0.3178 | E83: 0.3084 | F83: 20.7557 | G83: 0.0022 | H83: 0.0469 | I83: 0.0183 | J83: 39.9109 | K83: 0.0807 | L83: 0.77414483 | N83: NCW_H_G49_1 | O83: 47.949126 | P83: 14.191192 | Q83: 10.899113 | R83: 0.25615426 | S83: 12.978073 | T83: 0.70603864 | U83: 3.4711516 | V83: 3.0111195 | W83: 5.9838005 | X83: 0.49836816 | Z83: 1419.4116 | AA83: 1422.19 | AB83: 1424.9591 | AC83: 1427.7188 | AD83: 1430.4691
A84: =_xlfn.XLOOKUP(B84,'NCW_H Glass and Minerals'!$D$131:$D$166,'NCW_H Glass and Minerals'!$A$131:$A$166,"n") -> Ol15 | B84: 38.8404 | C84: 0.0238 | D84: 0.3136 | E84: 0.3156 | F84: 20.0362 | G84: 0.0165 | H84: 0.0268 | I84: 0.0126 | J84: 40.1247 | K84: 0.0106 | L84: 0.78116834 | N84: NCW_H_G49_1 | O84: 47.949126 | P84: 14.191192 | Q84: 10.899113 | R84: 0.25615426 | S84: 12.978073 | T84: 0.70603864 | U84: 3.4711516 | V84: 3.0111195 | W84: 5.9838005 | X84: 0.49836816 | Z84: 1418.1517 | AA84: 1420.9295 | AB84: 1423.6978 | AC84: 1426.4568 | AD84: 1429.2065
A85: =_xlfn.XLOOKUP(B85,'NCW_H Glass and Minerals'!$D$131:$D$166,'NCW_H Glass and Minerals'!$A$131:$A$166,"n") -> Ol13 | B85: 38.5327 | C85: 0.0254 | D85: 0.3178 | E85: 0.3084 | F85: 20.7557 | G85: 0.0022 | H85: 0.0469 | I85: 0.0183 | J85: 39.9109 | K85: 0.0807 | L85: 0.77414483 | N85: NCW_H_G49_2 | O85: 47.959904 | P85: 14.101022 | Q85: 10.819742 | R85: 0.25310654 | S85: 13.239088 | T85: 0.64463392 | U85: 3.585335 | V85: 2.8939469 | W85: 6.0461157 | X85: 0.45710591 | Z85: 1420.1899 | AA85: 1422.9688 | AB85: 1425.7382 | AC85: 1428.4983 | AD85: 1431.2491
A86: =_xlfn.XLOOKUP(B86,'NCW_H Glass and Minerals'!$D$131:$D$166,'NCW_H Glass and Minerals'!$A$131:$A$166,"n") -> Ol16 | B86: 38.5934 | C86: 0.0253 | D86: 0.3155 | E86: 0.3305 | F86: 20.527 | G86: 0.0045 | H86: 0.0285 | I86: 0.0211 | J86: 39.9793 | K86: 0.0903 | L86: 0.77637362 | N86: NCW_H_G21_1 | O86: 48.096741 | P86: 14.09712 | Q86: 10.727553 | R86: 0.18169634 | S86: 13.056458 | T86: 0.70837021 | U86: 3.5348942 | V86: 3.0379915 | W86: 5.9806334 | X86: 0.55644505 | Z86: 1419.2304 | AA86: 1422.0088 | AB86: 1424.7777 | AC86: 1427.5373 | AD86: 1430.2876
A87: =_xlfn.XLOOKUP(B87,'NCW_H Glass and Minerals'!$D$131:$D$166,'NCW_H Glass and Minerals'!$A$131:$A$166,"n") -> Ol16 | B87: 38.5934 | C87: 0.0253 | D87: 0.3155 | E87: 0.3305 | F87: 20.527 | G87: 0.0045 | H87: 0.0285 | I87: 0.0211 | J87: 39.9793 | K87: 0.0903 | L87: 0.77637362 | N87: NCW_H_G21_2 | O87: 48.354127 | P87: 13.883883 | Q87: 10.839767 | R87: 0.23530089 | S87: 13.158149 | T87: 0.65391041 | U87: 3.4578955 | V87: 2.9159842 | W87: 5.9798278 | X87: 0.5211555 | Z87: 1418.01 | AA87: 1420.7876 | AB87: 1423.5559 | AC87: 1426.3148 | AD87: 1429.0644
... A91: =_xlfn.XLOOKUP(B91,'NCW_H Glass and Minerals'!$D$131:$D$166,'NCW_H Glass and Minerals'!$A$131:$A$166,"n") -> Ol18 | B91: 38.4939 | C91: 0.0332 | D91: 0.3274 | E91: 0.315 | F91: 21.6507 | G91: 0.0052 | H91: 0.0272 | I91: 0.0185 | J91: 39.0426 | K91: 0.0272 | L91: 0.76272035 | N91: NCW_H_G32_2 | O91: 48.150653 | P91: 14.147168 | Q91: 10.893827 | R91: 0.20174324 | S91: 12.960413 | T91: 0.66556799 | U91: 3.5225027 | V91: 2.9045486 | W91: 6.0547601 | X91: 0.48660552 | Z91: 1425.148 | AA91: 1427.9296 | AB91: 1430.7017 | AC91: 1433.4644 | AD91: 1436.2178
Z93: Pressure (kbar)
A94: Core Compositions | Z94: 0.5 | AA94: 1 | AB94: 1.5 | AC94: 2 | AD94: 2.5
A95: Ol# | B95: SiO2_Ol | C95: Al2O3_Ol | D95: CaO_Ol | E95: MnO_Ol | F95: FeOt_Ol | G95: K2O_Ol | H95: TiO2_Ol | I95: Na2O_Ol | J95: MgO_Ol | K95: P2O5_Ol | L95: Fo | N95: Glass# | O95: SiO2_Liq | P95: TiO2_Liq | Q95: Al2O3_Liq | R95: FeOt_Liq | S95: MnO_Liq | T95: MgO_Liq | U95: CaO_Liq | V95: Na2O_Liq | W95: K2O_Liq | X95: P2O5_Liq | Z95: Calculated Temperature (K)
A96: =_xlfn.XLOOKUP(B96,'NCW_H Glass and Minerals'!$D$131:$D$166,'NCW_H Glass and Minerals'!$A$131:$A$166,"n") -> Ol4 | B96: 38.6623 | C96: 0.0421 | D96: 0.2697 | E96: 0.3338 | F96: 20.7229 | G96: 0.0119 | H96: 0.0582 | I96: 0.0281 | J96: 39.5574 | K96: 0.0268 | L96: 0.77286325 | N96: =_xlfn.XLOOKUP(A96,'NCW_H Glass and Minerals'!$A$131:$A$166,'NCW_H Glass and Minerals'!$B$131:$B$166) -> NCW_H_G8 | O96: 50.441179 | P96: 14.669888 | Q96: 9.9626844 | R96: 0.16386936 | S96: 11.672777 | T96: 0.91028306 | U96: 3.0821147 | V96: 3.1613898 | W96: 5.5114115 | X96: 0.42450553 | Z96: 1407.6237 | AA96: 1410.3954 | AB96: 1413.1577 | AC96: 1415.9109 | AD96: 1418.6548
A97: =_xlfn.XLOOKUP(B97,'NCW_H Glass and Minerals'!$D$131:$D$166,'NCW_H Glass and Minerals'!$A$131:$A$166,"n") -> Ol4 | B97: 38.6623 | C97: 0.0421 | D97: 0.2697 | E97: 0.3338 | F97: 20.7229 | G97: 0.0119 | H97: 0.0582 | I97: 0.0281 | J97: 39.5574 | K97: 0.0268 | L97: 0.77286325 | N97: =_xlfn.XLOOKUP(A97,'NCW_H Glass and Minerals'!$A$131:$A$166,'NCW_H Glass and Minerals'!$B$131:$B$166) -> NCW_H_G8 | O97: 50.154608 | P97: 14.53302 | Q97: 9.9143766 | R97: 0.21464503 | S97: 11.946975 | T97: 0.95182423 | U97: 3.0157423 | V97: 3.2658895 | W97: 5.5921969 | X97: 0.35706161 | Z97: 1411.6369 | AA97: 1414.4109 | AB97: 1417.1756 | AC97: 1419.931 | AD97: 1422.6772
A98: =_xlfn.XLOOKUP(B98,'NCW_H Glass and Minerals'!$D$131:$D$166,'NCW_H Glass and Minerals'!$A$131:$A$166,"n") -> Ol10 | B98: 38.6269 | C98: 0.0456 | D98: 0.2414 | E98: 0.3115 | F98: 21.0932 | G98: 0.0075 | H98: 0.0268 | I98: -0.0057 | J98: 39.4067 | K98: 0.0312 | L98: 0.76906187 | N98: =_xlfn.XLOOKUP(A98,'NCW_H Glass and Minerals'!$A$131:$A$166,'NCW_H Glass and Minerals'!$B$131:$B$166) -> NCW_H_G16 | O98: 47.912888 | P98: 13.911627 | Q98: 10.945089 | R98: 0.22623024 | S98: 13.110523 | T98: 0.64670786 | U98: 3.5099407 | V98: 3.0778144 | W98: 6.0012323 | X98: 0.47688191 | Z98: 1422.499 | AA98: 1425.2792 | AB98: 1428.0499 | AC98: 1430.8112 | AD98: 1433.5632
A99: =_xlfn.XLOOKUP(B99,'NCW_H Glass and Minerals'!$D$131:$D$166,'NCW_H Glass and Minerals'!$A$131:$A$166,"n") -> Ol11 | B99: 38.4587 | C99: 0.0613 | D99: 0.261 | E99: 0.3365 | F99: 20.6138 | G99: -0.0075 | H99: 0.025 | I99: 0.0155 | J99: 39.9177 | K99: 0.1132 | L99: 0.77537171 | N99: =_xlfn.XLOOKUP(A99,'NCW_H Glass and Minerals'!$A$131:$A$166,'NCW_H Glass and Minerals'!$B$131:$B$166) -> NCW_H_G16 | O99: 47.912888 | P99: 13.911627 | Q99: 10.945089 | R99: 0.22623024 | S99: 13.110523 | T99: 0.64670786 | U99: 3.5099407 | V99: 3.0778144 | W99: 6.0012323 | X99: 0.47688191 | Z99: 1419.9372 | AA99: 1422.716 | AB99: 1425.4853 | AC99: 1428.2452 | AD99: 1430.9959
A100: =_xlfn.XLOOKUP(B100,'NCW_H Glass and Minerals'!$D$131:$D$166,'NCW_H Glass and Minerals'!$A$131:$A$166,"n") -> Ol10 | B100: 38.6269 | C100: 0.0456 | D100: 0.2414 | E100: 0.3115 | F100: 21.0932 | G100: 0.0075 | H100: 0.0268 | I100: -0.0057 | J100: 39.4067 | K100: 0.0312 | L100: 0.76906187 | N100: =_xlfn.XLOOKUP(A100,'NCW_H Glass and Minerals'!$A$131:$A$166,'NCW_H Glass and Minerals'!$B$131:$B$166) -> NCW_H_G16 | O100: 48.158285 | P100: 13.978794 | Q100: 10.923596 | R100: 0.22425159 | S100: 13.096765 | T100: 0.6416714 | U100: 3.4531257 | V100: 2.934967 | W100: 6.0559213 | X100: 0.51159317 | Z100: 1423.406 | AA100: 1426.1867 | AB100: 1428.9579 | AC100: 1431.7197 | AD100: 1434.4721
A101: =_xlfn.XLOOKUP(B101,'NCW_H Glass and Minerals'!$D$131:$D$166,'NCW_H Glass and Minerals'!$A$131:$A$166,"n") -> Ol11 | B101: 38.4587 | C101: 0.0613 | D101: 0.261 | E101: 0.3365 | F101: 20.6138 | G101: -0.0075 | H101: 0.025 | I101: 0.0155 | J101: 39.9177 | K101: 0.1132 | L101: 0.77537171 | N101: =_xlfn.XLOOKUP(A101,'NCW_H Glass and Minerals'!$A$131:$A$166,'NCW_H Glass and Minerals'!$B$131:$B$166) -> NCW_H_G16 | O101: 48.158285 | P101: 13.978794 | Q101: 10.923596 | R101: 0.22425159 | S101: 13.096765 | T101: 0.6416714 | U101: 3.4531257 | V101: 2.934967 | W101: 6.0559213 | X101: 0.51159317 | Z101: 1420.8402 | AA101: 1423.6194 | AB101: 1426.3892 | AC101: 1429.1497 | AD101: 1431.9008
A102: =_xlfn.XLOOKUP(B102,'NCW_H Glass and Minerals'!$D$131:$D$166,'NCW_H Glass and Minerals'!$A$131:$A$166,"n") -> Ol13 | B102: 38.8101 | C102: 0.0435 | D102: 0.308 | E102: 0.3315 | F102: 20.4595 | G102: -0.015 | H102: 0.0475 | I102: 0.0464 | J102: 40.0522 | K102: 0.0615 | L102: 0.77726052 | N102: =_xlfn.XLOOKUP(A102,'NCW_H Glass and Minerals'!$A$131:$A$166,'NCW_H Glass and Minerals'!$B$131:$B$166) -> NCW_H_G19 | O102: 47.949126 | P102: 14.191192 | Q102: 10.899113 | R102: 0.25615426 | S102: 12.978073 | T102: 0.70603864 | U102: 3.4711516 | V102: 3.0111195 | W102: 5.9838005 | X102: 0.49836816 | Z102: 1419.2281 | AA102: 1422.0064 | AB102: 1424.7753 | AC102: 1427.5349 | AD102: 1430.2852
A103: =_xlfn.XLOOKUP(B103,'NCW_H Glass and Minerals'!$D$131:$D$166,'NCW_H Glass and Minerals'!$A$131:$A$166,"n") -> Ol13 | B103: 38.8101 | C103: 0.0435 | D103: 0.308 | E103: 0.3315 | F103: 20.4595 | G103: -0.015 | H103: 0.0475 | I103: 0.0464 | J103: 40.0522 | K103: 0.0615 | L103: 0.77726052 | N103: =_xlfn.XLOOKUP(A103,'NCW_H Glass and Minerals'!$A$131:$A$166,'NCW_H Glass and Minerals'!$B$131:$B$166) -> NCW_H_G19 | O103: 47.959904 | P103: 14.101022 | Q103: 10.819742 | R103: 0.25310654 | S103: 13.239088 | T103: 0.64463392 | U103: 3.585335 | V103: 2.8939469 | W103: 6.0461157 | X103: 0.45710591 | Z103: 1420.0061 | AA103: 1422.7849 | AB103: 1425.5542 | AC103: 1428.3142 | AD103: 1431.0649
A104: =_xlfn.XLOOKUP(B104,'NCW_H Glass and Minerals'!$D$131:$D$166,'NCW_H Glass and Minerals'!$A$131:$A$166,"n") -> Ol18 | B104: 38.5314 | C104: 0.0447 | D104: 0.2849 | E104: 0.3325 | F104: 20.3037 | G104: 0.0007 | H104: 0.0267 | I104: -0.0014 | J104: 40.2323 | K104: 0.1776 | L104: 0.77935361 | N104: =_xlfn.XLOOKUP(A104,'NCW_H Glass and Minerals'!$A$131:$A$166,'NCW_H Glass and Minerals'!$B$131:$B$166) -> NCW_H_G32 | O104: 48.489785 | P104: 14.070387 | Q104: 10.73068 | R104: 0.20444467 | S104: 12.938867 | T104: 0.74611027 | U104: 3.4895035 | V104: 2.9378925 | W104: 5.8915746 | X104: 0.49019558 | Z104: 1414.0028 | AA104: 1416.7782 | AB104: 1419.5442 | AC104: 1422.3009 | AD104: 1425.0484
A105: =_xlfn.XLOOKUP(B105,'NCW_H Glass and Minerals'!$D$131:$D$166,'NCW_H Glass and Minerals'!$A$131:$A$166,"n") -> Ol18 | B105: 38.5314 | C105: 0.0447 | D105: 0.2849 | E105: 0.3325 | F105: 20.3037 | G105: 0.0007 | H105: 0.0267 | I105: -0.0014 | J105: 40.2323 | K105: 0.1776 | L105: 0.77935361 | N105: =_xlfn.XLOOKUP(A105,'NCW_H Glass and Minerals'!$A$131:$A$166,'NCW_H Glass and Minerals'!$B$131:$B$166) -> NCW_H_G32 | O105: 48.150653 | P105: 14.147168 | Q105: 10.893827 | R105: 0.20174324 | S105: 12.960413 | T105: 0.66556799 | U105: 3.5225027 | V105: 2.9045486 | W105: 6.0547601 | X105: 0.48660552 | Z105: 1419.1493 | AA105: 1421.9276 | AB105: 1424.6965 | AC105: 1427.456 | AD105: 1430.2063

Sheet NCW_F Glass and Minerals
B1: NCW_F Glass and Mineral Data
B2: This spreadsheet contains all glass and mineral compostions recorded for the peralkaline ignimbrite sample (NCW_F) including the crystaline encalve found within in.
B3: Analysis from NCW_F. Compositions normalised to an anhydrous composition
B4: Glass
B5: Glass# | C5: SiO2 | D5: Al2O3 | E5: CaO | F5: MnO | G5: FeOt | H5: K2O | I5: TiO2 | J5: Na2O | K5: MgO | L5: P2O5
B6: NCW_F_G1 | C6: 75.061656 | D6: 9.6137074 | E6: 0.26008087 | F6: 0.26769656 | G6: 5.1305725 | H6: 4.8557819 | I6: 0.317355 | J6: 4.3462612 | K6: 0.003025409 | L6: 0.052370878
B7: NCW_F_G2 | C7: 74.675882 | D7: 9.5023966 | E7: 0.21432726 | F7: 0.25126229 | G7: 5.406249 | H7: 4.7022984 | I7: 0.35155913 | J7: 4.7157199 | K7: 0.015398269 | L7: 0
B8: NCW_F_G3 | C8: 75.139297 | D8: 9.5602682 | E8: 0.090710061 | F8: 0.19710364 | G8: 5.5932925 | H8: 5.2392478 | I8: 0.35181939 | J8: 3.5994727 | K8: 0.00010597 | L8: 0.048216212
B9: NCW_F_G4 | C9: 74.928079 | D9: 9.6381875 | E9: 0.30759064 | F9: 0.27850972 | G9: 5.2778218 | H9: 4.5348512 | I9: 0.34417631 | J9: 4.5528835 | K9: 0.01709416 | L9: 0.01751109
B10: NCW_F_G5 | C10: 74.915147 | D10: 9.559078 | E10: 0.10413757 | F10: 0.26070876 | G10: 5.2734888 | H10: 4.8236854 | I10: 0.30584546 | J10: 4.5556797 | K10: 0.023037439 | L10: -0.004690881
B11: NCW_F_G6 | C11: 74.839898 | D11: 9.7615712 | E11: 0.19334609 | F11: 0.26857111 | G11: 4.9884965 | H11: 5.048551 | I11: 0.31125791 | J11: 4.501888 | K11: 0.001255494 | L11: 0
B12: NCW_F_G7 | C12: 74.786321 | D12: 9.208834 | E12: 0.09852352 | F12: 0.29894972 | G12: 6.0093011 | H12: 5.2588117 | I12: 0.34245635 | J12: 3.7526585 | K12: 0.021225324 | L12: -0.001900775
B13: NCW_F_G8 | C13: 73.821851 | D13: 11.651179 | E13: 0.14484386 | F13: 0.18507259 | G13: 4.2690554 | H13: 2.9351611 | I13: 0.21260828 | J13: 6.6916842 | K13: 0.020882084 | L13: 0
B14: NCW_F_G9 | C14: 75.447991 | D14: 9.454923 | E14: 0.17985706 | F14: 0.25840687 | G14: 5.5967531 | H14: 4.6413608 | I14: 0.3644334 | J14: 3.8277567 | K14: 0 | L14: 0.020030728
B15: NCW_F_G10 | C15: 75.862279 | D15: 9.6938931 | E15: 0.28993316 | F15: 0.23993384 | G15: 5.299823 | H15: 4.2284539 | I15: 0.34706026 | J15: 3.9216447 | K15: 0.018762847 | L15: 0
B16: NCW_F_G11 | C16: 74.956739 | D16: 9.717775 | E16: 0.13677855 | F16: 0.24441959 | G16: 5.1528304 | H16: 5.0227597 | I16: 0.30992656 | J16: 4.2638222 | K16: 0.002515468 | L16: 0.013101393
B17: NCW_F_G12 | C17: 74.48408 | D17: 9.5359332 | E17: 0.17075159 | F17: 0.24510605 | G17: 5.4809257 | H17: 5.0096977 | I17: 0.34065945 | J17: 4.5772817 | K17: 0.010757667 | L17: 0.042081461
... B34: NCW_F_G29 | C34: 74.75303 | D34: 9.6944276 | E34: 0.30454805 | F34: 0.26209718 | G34: 5.6119631 | H34: 4.822926 | I34: 0.37709469 | J34: 4.0231178 | K34: -0.004012769 | L34: 0.009715125
B36: Clinopyroxene
A37: Core/Rim | B37: CPX# | C37: SiO2 | D37: Al2O3 | E37: CaO | F37: MnO | G37: FeOt | H37: K2O | I37: TiO2 | J37: Na2O | K37: MgO | L37: P2O5
A38: Rim | B38: CPX1_1 | C38: 47.886125 | D38: 0.15616647 | E38: 17.515265 | F38: 2.320087 | G38: 29.584802 | H38: -0.0078384712 | I38: 0.29555056 | J38: 1.5500074 | K38: 0.67933417 | L38: 0
A39: Core | B39: CPX1_2. | C39: 48.047885 | D39: 0.13585357 | E39: 17.447221 | F39: 2.3090075 | G39: 29.386435 | H39: -0.010667021 | I39: 0.31840051 | J39: 1.5938139 | K39: 0.62975676 | L39: 0.042869348
A40: Rim | B40: CPX2_1 | C40: 47.897918 | D40: 0.17033911 | E40: 17.054076 | F40: 2.1414494 | G40: 29.777728 | H40: -0.0014186481 | I40: 0.35385138 | J40: 2.0246135 | K40: 0.46298595 | L40: 0.00030399603
A41: Rim | B41: CPX3_1 | C41: 48.134804 | D41: 0.15995001 | E41: 17.414055 | F41: 2.1059749 | G41: 29.291448 | H41: 0.0099466398 | I41: 0.38460341 | J41: 1.7814532 | K41: 0.63507788 | L41: 0.041595039
B42: CPX3_2 | C42: 48.031642 | D42: 0.16012326 | E42: 17.452832 | F42: 2.2547168 | G42: 29.417464 | H42: 0.0092649939 | I42: 0.31249213 | J42: 1.6907607 | K42: 0.62891182 | L42: 0.030514056
B43: CPX3_3 | C43: 48.104454 | D43: 0.12024382 | E43: 17.463458 | F43: 2.1259469 | G43: 29.547259 | H43: 0.0099366763 | I43: 0.32469846 | J43: 1.6285108 | K43: 0.60573577 | L43: 0.024791505
B44: CPX3_4 | C44: 47.9728 | D44: 0.1480069 | E44: 17.592946 | F44: 2.1012541 | G44: 29.504828 | H44: 0.013519376 | I44: 0.3413138 | J44: 1.6432095 | K44: 0.60080511 | L44: 0.040558128
B45: CPX3_5 | C45: 47.870732 | D45: 0.13707111 | E45: 17.453789 | F45: 2.142865 | G45: 29.646595 | H45: 0 | I45: 0.32431467 | J45: 1.7512189 | K45: 0.63297554 | L45: -0.00010034489
B46: CPX3_6 | C46: 48.084999 | D46: 0.14078896 | E46: 17.51794 | F46: 2.2007432 | G46: 29.506576 | H46: -0.016256459 | I46: 0.34911247 | J46: 1.5750702 | K46: 0.58543321 | L46: 0.012443215
B47: CPX3_7 | C47: 48.155924 | D47: 0.13952998 | E47: 17.60569 | F47: 2.1530209 | G47: 29.436807 | H47: 0.01416395 | I47: 0.32747857 | J47: 1.5247844 | K47: 0.6186934 | L47: 0.023907944
B48: CPX3_8 | C48: 47.9626 | D48: 0.12909658 | E48: 17.513431 | F48: 2.1975621 | G48: 29.614976 | H48: -0.0021146865 | I48: 0.33925613 | J48: 1.6189436 | K48: 0.61839475 | L48: 0
B49: CPX3_9 | C49: 48.018895 | D49: 0.15614818 | E49: 17.42646 | F49: 2.181031 | G49: 29.525422 | H49: 0.01210451 | I49: 0.31865123 | J49: 1.6095973 | K49: 0.63306589 | L49: 0.036616144
B50: CPX3_10 | C50: 47.940875 | D50: 0.12433025 | E50: 17.286146 | F50: 2.2224916 | G50: 29.583428 | H50: -0.0049489701 | I50: 0.37218275 | J50: 1.7571874 | K50: 0.63811414 | L50: 0.034440792
B51: CPX3_11 | C51: 48.051712 | D51: 0.1546549 | E51: 17.28064 | F51: 2.1979987 | G51: 29.672326 | H51: -0.0028284371 | I51: 0.38295018 | J51: 1.6555448 | K51: 0.59033523 | L51: 0.013940154
B52: CPX3_12 | C52: 47.895931 | D52: 0.16281453 | E52: 17.243859 | F52: 2.2111199 | G52: 29.799584 | H52: 0.019207891 | I52: 0.41010355 | J52: 1.6566052 | K52: 0.57553277 | L52: 0.016894899
B53: CPX3_13 | C53: 48.465407 | D53: 0.29470197 | E53: 16.416092 | F53: 2.2396549 | G53: 29.607885 | H53: 0.10914888 | I53: 0.38973159 | J53: 1.8805651 | K53: 0.54073757 | L53: 0.029239883
... B58: CPX3_19 | C58: 48.153104 | D58: 0.10535073 | E58: 16.87817 | F58: 2.2698021 | G58: 29.80253 | H58: -0.0057135984 | I58: 0.38190894 | J58: 1.7105712 | K58: 0.59130731 | L58: 0
A59: Core | B59: CPX3_20 | C59: 47.766831 | D59: 0.16123672 | E59: 16.975838 | F59: 2.2208702 | G59: 29.949571 | H59: 0.0042166516 | I59: 0.44927418 | J59: 1.8556279 | K59: 0.57557294 | L59: 0.0027107046
A60: Rim | B60: CPX4_1 | C60: 48.038737 | D60: 0.095767037 | E60: 17.226297 | F60: 2.2429807 | G60: 29.610222 | H60: -0.0064381201 | I60: 0.34896623 | J60: 1.7158596 | K60: 0.63063398 | L60: 0.017805426
A61: Core | B61: CPX4_2 | C61: 47.883712 | D61: 0.11803353 | E61: 17.806733 | F61: 2.2298358 | G61: 29.558982 | H61: -0.017034728 | I61: 0.32063591 | J61: 1.3916062 | K61: 0.63723993 | L61: 0.0080637764
A62: Rim | B62: CPX5_1 | C62: 47.937011 | D62: 0.14201972 | E62: 17.558802 | F62: 2.2306805 | G62: 29.648394 | H62: 0.031026155 | I62: 0.3393861 | J62: 1.4439172 | K62: 0.6474458 | L62: 0.0095080153
A63: Core | B63: CPX5_2 | C63: 48.121073 | D63: 0.12945048 | E63: 17.365413 | F63: 2.1554802 | G63: 29.484891 | H63: -0.00069811509 | I63: 0.33948339 | J63: 1.6667996 | K63: 0.64206642 | L63: 0.0059838436
A64: Rim | B64: CPX6_1 | C64: 48.350328 | D64: 0.14785848 | E64: 17.321762 | F64: 2.1585924 | G64: 29.345565 | H64: 0.015654415 | I64: 0.32692479 | J64: 1.6780523 | K64: 0.64041707 | L64: 0.0082816906
B65: CPX6_2 | C65: 48.175604 | D65: 0.1190151 | E65: 17.54383 | F65: 2.1535204 | G65: 29.39703 | H65: 0.018479981 | I65: 0.30743056 | J65: 1.615291 | K65: 0.61907938 | L65: 0.022698238
B66: CPX6_3 | C66: 47.844046 | D66: 0.082811027 | E66: 17.677488 | F66: 2.1626457 | G66: 29.501554 | H66: 0.017709284 | I66: 0.29844168 | J66: 1.6680938 | K66: 0.65343233 | L66: 0.052725368
B67: CPX6_4 | C67: 48.094159 | D67: 0.15096561 | E67: 17.461355 | F67: 2.2541728 | G67: 29.412966 | H67: 0.0049053812 | I67: 0.36439975 | J67: 1.6241817 | K67: 0.57653246 | L67: 0.047351945
B68: CPX6_5 | C68: 48.132763 | D68: 0.1490389 | E68: 17.507369 | F68: 2.1732672 | G68: 29.341058 | H68: 0.024006266 | I68: 0.35819349 | J68: 1.6128209 | K68: 0.67837706 | L68: 0.023106031
B69: CPX6_6 | C69: 48.201004 | D69: 0.11673007 | E69: 17.365327 | F69: 2.1976315 | G69: 29.555354 | H69: 0.019839103 | I69: 0.33215468 | J69: 1.5760063 | K69: 0.60058375 | L69: 0
B70: CPX6_7 | C70: 47.946041 | D70: 0.1534365 | E70: 17.200864 | F70: 2.1489148 | G70: 29.691117 | H70: -0.01778537 | I70: 0.34133842 | J70: 1.7579381 | K70: 0.64499598 | L70: 0.01607717
B71: CPX6_8 | C71: 47.972934 | D71: 0.14797414 | E71: 17.262849 | F71: 2.2009027 | G71: 29.67997 | H71: 0.0035017544 | I71: 0.34097083 | J71: 1.710657 | K71: 0.61500812 | L71: 0.02421213
B72: CPX6_9 | C72: 48.133757 | D72: 0.14598496 | E72: 17.375216 | F72: 2.1976899 | G72: 29.50309 | H72: -0.014127577 | I72: 0.30800122 | J72: 1.6852897 | K72: 0.59706547 | L72: 0.035469236
B73: CPX6_10 | C73: 47.984504 | D73: 0.15016913 | E73: 17.373274 | F73: 2.146606 | G73: 29.667682 | H73: 0.015548574 | I73: 0.35631312 | J73: 1.6462429 | K73: 0.59917181 | L73: 0.02226957
B74: CPX6_11 | C74: 48.11826 | D74: 0.14169671 | E74: 17.278882 | F74: 2.2428966 | G74: 29.578036 | H74: 0.0042088133 | I74: 0.32367778 | J74: 1.6909408 | K74: 0.57159692 | L74: 0.0054113313
B75: CPX6_12 | C75: 48.113522 | D75: 0.13609522 | E75: 17.284695 | F75: 2.1653883 | G75: 29.550715 | H75: -0.0064186397 | I75: 0.3620514 | J75: 1.7187914 | K75: 0.60806582 | L75: 0.033196402
B76: CPX6_13 | C76: 47.914638 | D76: 0.13713675 | E76: 17.370187 | F76: 2.1603556 | G76: 29.70356 | H76: 0.0085333997 | I76: 0.33360573 | J76: 1.6605996 | K76: 0.64612895 | L76: 0.047184681
B77: CPX6_14 | C77: 48.165032 | D77: 0.13884785 | E77: 17.227515 | F77: 2.2372372 | G77: 29.605437 | H77: -0.014773172 | I77: 0.34836736 | J77: 1.6747586 | K77: 0.60280531 | L77: 0
A78: Core | B78: CPX6_15 | C78: 47.999483 | D78: 0.14925194 | E78: 17.361238 | F78: 2.191267 | G78: 29.467785 | H78: 0.012730017 | I78: 0.33108069 | J78: 1.6938942 | K78: 0.63770371 | L78: 0.048213688
A79: Rim | B79: CPX7_1 | C79: 47.823131 | D79: 0.13979243 | E79: 18.197525 | F79: 2.5001261 | G79: 29.091551 | H79: -0.0021180671 | I79: 0.34958193 | J79: 1.0224213 | K79: 0.84299071 | L79: 0
A80: Rim | B80: CPX8_1 | C80: 48.086721 | D80: 0.15334385 | E80: 17.482707 | F80: 2.199705 | G80: 29.407329 | H80: 0.015585768 | I80: 0.34952343 | J80: 1.6099596 | K80: 0.61870473 | L80: 0.047561732
A81: Core | B81: CPX8_2 | C81: 48.066745 | D81: 0.16049585 | E81: 17.510974 | F81: 2.2747492 | G81: 29.390086 | H81: -0.0078585541 | I81: 0.32028645 | J81: 1.5686883 | K81: 0.61175821 | L81: -0.0047352826
A82: Core | B82: CPX9_2 | C82: 47.995369 | D82: 0.13383268 | E82: 17.281872 | F82: 2.2618124 | G82: 29.677146 | H82: -0.0014045409 | I82: 0.34451381 | J82: 1.6166266 | K82: 0.63655799 | L82: 0.042236551
B84: Fayalite
A85: Rim/Core | B85: Fayalite# | C85: SiO2 | D85: Al2O3 | E85: CaO | F85: MnO | G85: FeOt | H85: K2O | I85: TiO2 | J85: Na2O | K85: MgO | L85: P2O5
A86: Rim | B86: 1/1. | C86: 29.76489 | D86: 0 | E86: 0.26483682 | F86: 5.935841 | G86: 63.661074 | H86: 0.006365784 | I86: 0.03374876 | J86: 0.025160003 | K86: 0.33011137 | L86: 0
A87: Core | B87: 1/2. | C87: 29.872479 | D87: 0.023180108 | E87: 0.23291454 | F87: 5.9571866 | G87: 63.59235 | H87: 0 | I87: 0.01083088 | J87: 0 | K87: 0.32644476 | L87: -0.00070856227
B90: Alkali-Feldspar
A91: Rim/Core | B91: Kspar# | C91: SiO2 | D91: Al2O3 | E91: CaO | F91: MnO | G91: FeOt | H91: K2O | I91: TiO2 | J91: Na2O | K91: MgO | L91: P2O5
A92: Rim | B92: Kspar1_1 | C92: 66.924647 | D92: 18.486264 | E92: 0.030576686 | F92: -0.00070176001 | G92: 0.64602022 | H92: 6.5959426 | I92: -0.0025062858 | J92: 7.3111363 | K92: -0.0025062858 | L92: 0.0055138287
B93: Kspar1_2 | C93: 67.174179 | D93: 18.262042 | E93: 0.012909644 | F93: 0.021816297 | G93: 0.63457403 | H93: 6.7827667 | I93: -0.0024017941 | J93: 7.0720828 | K93: -0.0048035883 | L93: -0.0014010466
B94: Kspar1_3 | C94: 66.778901 | D94: 18.526838 | E94: 0.017579256 | F94: -0.003595757 | G94: 0.60558541 | H94: 6.9989412 | I94: 0.0011985857 | J94: 7.0511796 | K94: 0.019876546 | L94: -0.015581614
B95: Kspar1_4 | C95: 67.139709 | D95: 18.406035 | E95: 0.013074453 | F95: 0.0079843985 | G95: 0.61948952 | H95: 6.8099933 | I95: 0.010379718 | J95: 6.9865483 | K95: 0.0068865437 | L95: -0.0098806931
B96: Kspar1_5 | C96: 67.047813 | D96: 18.5089 | E96: 0.011977351 | F96: -0.0072862218 | G96: 0.60675263 | H96: 6.8262915 | I96: -0.0041920728 | J96: 6.9331893 | K96: -0.016868102 | L96: -0.0099811257
B97: Kspar1_6 | C97: 67.095789 | D97: 18.400715 | E97: 0.011104897 | F97: 0.038516986 | G97: 0.827665 | H97: 6.7566797 | I97: 0.0028012353 | J97: 6.8398164 | K97: -0.010304544 | L97: 0.0027011912
B98: Kspar1_7 | C98: 66.934858 | D98: 18.318122 | E98: 0.015317652 | F98: 0.023871666 | G98: 0.91329015 | H98: 6.8236162 | I98: -0.0067636387 | J98: 6.8901585 | K98: -0.0013925138 | L98: -0.026756159
A99: Core | B99: Kspar1_8 | C99: 67.243815 | D99: 18.384623 | E99: 0.013040081 | F99: 0.0043798745 | G99: 0.65359672 | H99: 6.7473957 | I99: 0.01184557 | J99: 6.9154236 | K99: 0.0080629507 | L99: -0.01264191
A100: Rim | B100: Kspar2_1 | C100: 66.957055 | D100: 18.315651 | E100: 0.012999472 | F100: -0.016828774 | G100: 0.55555108 | H100: 6.6132042 | I100: 0.017332629 | J100: 7.5124855 | K100: 0.011588677 | L100: 0.0041316151
B101: Kspar2_2 | C101: 66.984684 | D101: 18.673348 | E101: 0.013599306 | F101: -0.011599408 | G101: 0.55667161 | H101: 6.509468 | I101: 0.015799194 | J101: 7.2246315 | K101: -0.0074996175 | L101: 0.021898883
B102: Kspar2_3 | C102: 67.155136 | D102: 18.454877 | E102: 0.0092785202 | F102: -0.008679906 | G102: 0.54723316 | H102: 6.5186094 | I102: 0.040406459 | J102: 7.2284661 | K102: -0.0010974594 | L102: 0.045993525
B103: Kspar2_4 | C103: 67.127847 | D103: 18.470925 | E103: 0.0050704696 | F103: -0.003579155 | G103: 0.56331923 | H103: 6.5592986 | I103: 0.02356277 | J103: 7.2455022 | K103: -0.012427622 | L103: -0.016106198
A104: Core | B104: Kspar2_5 | C104: 67.293872 | D104: 18.552474 | E104: 0.020945808 | F104: 0.00070153426 | G104: 0.49598472 | H104: 6.5486218 | I104: 0.022950192 | J104: 7.05533 | K104: -0.010322575 | L104: 0.0090197261
A105: Rim | B105: Kspar3_1 | C105: 66.906708 | D105: 18.248569 | E105: 0.017642218 | F105: 0.0015035981 | G105: 0.94586345 | H105: 6.9766952 | I105: 0.004009595 | J105: 6.8734482 | K105: -0.013933342 | L105: -0.027866685
A106: Core | B106: Kspar3_2 | C106: 66.962109 | D106: 18.171816 | E106: 0.017240245 | F106: -0.010862351 | G106: 0.93685287 | H106: 6.8905175 | I106: 0.011260969 | J106: 6.8760675 | K106: 0.0077730586 | L106: 0.045442496
A107: Rim | B107: Kspar4_1 | C107: 67.231639 | D107: 18.313429 | E107: 0.068555759 | F107: -0.01947381 | G107: 0.68376918 | H107: 7.1249305 | I107: 0.016294412 | J107: 6.4941181 | K107: 0.0075510691 | L107: -0.023448057
A108: Core | B108: Kspar4_2 | C108: 67.153236 | D108: 18.336231 | E108: 0.015589399 | F108: -0.017388176 | G108: 0.85431906 | H108: 7.0298197 | I108: -0.0098932726 | J108: 6.5929168 | K108: -0.0035975537 | L108: 0.017887836
A109: Rim | B109: Kspar5_1 | C109: 67.055366 | D109: 18.155226 | E109: 0.0018174512 | F109: 0.0022213292 | G109: 0.91538957 | H109: 7.3362426 | I109: 0.019689054 | J109: 6.4835551 | K109: 0.017568695 | L109: 0.013126036
A110: Core | B110: Kspar5_2 | C110: 67.022441 | D110: 18.263036 | E110: 0.028287356 | F110: -0.012294504 | G110: 0.89340065 | H110: 7.2132757 | I110: 0.00079964256 | J110: 6.5534706 | K110: -0.0046979 | L110: 0.022789813
A111: Rim | B111: Kspar6_1 | C111: 66.830071 | D111: 18.344885 | E111: 0.011423788 | F111: -0.011727075 | G111: 0.8124032 | H111: 6.8562948 | I111: 0.017085135 | J111: 7.0364469 | K111: 0.00060657282 | L111: 0.034271365
B112: Kspar6_2 | C112: 66.794595 | D112: 18.315676 | E112: 0.017541048 | F112: 0.032965072 | G112: 0.89046019 | H112: 6.9545213 | I112: 0.021573472 | J112: 6.9081484 | K112: 0.0091737663 | L112: 0.05544584
B113: Kspar6_3 | C113: 67.010691 | D113: 18.39787 | E113: 0.010029859 | F113: 0.0065194083 | G113: 0.87299892 | H113: 6.9217059 | I113: 0.035004208 | J113: 6.7201058 | K113: -0.0075223942 | L113: -0.044432275
B114: Kspar6_4 | C114: 66.892155 | D114: 18.191544 | E114: -0.011830855 | F114: 0.0073190882 | G114: 0.8347771 | H114: 7.0483822 | I114: 0.019550989 | J114: 6.9783997 | K114: 0.013635562 | L114: 0.014437653
B115: Kspar6_5 | C115: 66.99866 | D115: 18.342599 | E115: 0.013798344 | F115: 0.026096868 | G115: 0.81680198 | H115: 7.0052594 | I115: 0.010398752 | J115: 6.7863856 | K115: -0.013398392 | L115: -0.0036995561
B116: Kspar6_6 | C116: 66.841837 | D116: 18.317566 | E116: 0.005600112 | F116: -0.002200044 | G116: 0.81311626 | H116: 7.0668413 | I116: 0.016200324 | J116: 6.9246385 | K116: -0.003800076 | L116: 0.014300286
B117: Kspar6_7 | C117: 67.132565 | D117: 18.286206 | E117: 0.0029143766 | F117: -0.010250566 | G117: 0.82245718 | H117: 6.9717918 | I117: 0.010652549 | J117: 6.7602483 | K117: -0.0033163596 | L117: 0.013164943
B118: Kspar6_8 | C118: 66.966364 | D118: 18.332433 | E118: 0.013783033 | F118: -0.0079901641 | G118: 0.83986612 | H118: 6.9737154 | I118: 0.035855861 | J118: 6.7495913 | K118: 0.00069913936 | L118: -0.0093884428
B119: Kspar6_9 | C119: 66.883316 | D119: 18.223147 | E119: 0.0068625101 | F119: -0.01730546 | G119: 0.85483006 | H119: 7.1169203 | I119: 0.01163643 | J119: 6.8885678 | K119: -0.01014458 | L119: -0.0041771801
B120: Kspar6_10 | C120: 67.072318 | D120: 18.299788 | E120: 0.00020028882 | F120: -0.004406354 | G120: 0.80546148 | H120: 7.0081057 | I120: 0.020028882 | J120: 6.775971 | K120: -0.014520939 | L120: 0.0090129967
B121: Kspar6_11 | C121: 67.080851 | D121: 18.310498 | E121: 0.011760754 | F121: -0.013056431 | G121: 0.81557841 | H121: 6.9814031 | I121: 0.01385377 | J121: 6.7761879 | K121: 0.0047840357 | L121: -0.011760754
B122: Kspar6_12 | C122: 66.766103 | D122: 18.376765 | E122: -0.0048968464 | F122: 0.0021985841 | G122: 0.78039742 | H122: 7.12731 | I122: 0.039274707 | J122: 6.8966586 | K122: -0.016689252 | L122: 0.011392663
B123: Kspar6_13 | C123: 66.962995 | D123: 18.295818 | E123: 0.010362767 | F123: 0.014588362 | G123: 0.78465264 | H123: 7.1940745 | I123: 0.03299988 | J123: 6.7000824 | K123: 0.0045274226 | L123: -0.0066402198
... B129: Kspar6_19 | C129: 67.186236 | D129: 18.288508 | E129: 0.0058138311 | F129: 0.001503577 | G129: 0.80301036 | H129: 7.0169934 | I129: 0.014434339 | J129: 6.6746791 | K129: 0.0088209851 | L129: -0.0098233698
...

Sheet NCW_F T and H2O Calc
B1: Thermometry and Hygrometry results
B2: Every glass and kspar composition was matched (using the matching function in the thermobar python package (Weiser et al., 2022)).
B3: Temperature was calculated using equation 24b of Putirka 2008 and H2O contents were calculated using the methodology of Mollo et al. (2015).
B4: Water contents were calculated using temperatures calculated at 100 Mpa
C5: Glass Composition | O5: Kspar Composition | Y5: Calculated Temperature (K) | AE5: H2O (wt.%)
B6: Glass # | C6: SiO2 | D6: TiO2 | E6: Al2O3 | F6: FeOt | G6: MnO | H6: MgO | I6: CaO | J6: Na2O | K6: K2O | L6: P2O5 | N6: Kspar# | O6: SiO2 | P6: TiO2 | Q6: Al2O3 | R6: FeOt | S6: MnO | T6: MgO | U6: CaO | V6: Na2O | W6: K2O | Y6: 0.5 kbar | Z6: 1 kbar | AA6: 1.5 kbar | AB6: 2 kbar | AC6: 2.5 kbar | AE6: Calc at 1 kbar
B7: NCW_F_G9 | C7: 75.447991 | D7: 0.3644334 | E7: 9.454923 | F7: 5.5967531 | G7: 0.25840688 | H7: 0 | I7: 0.17985706 | J7: 3.8277567 | K7: 4.6413608 | L7: 0.020030728 | N7: Kspar1_1 | O7: 66.7568 | P7: 0 | Q7: 18.4399 | R7: 0.6444 | S7: 0 | T7: 0 | U7: 0.0305 | V7: 7.2928 | W7: 6.5794 | Y7: 1047.959 | Z7: 1048.0018 | AA7: 1048.0447 | AB7: 1048.0875 | AC7: 1048.1304 | AE7: 6.591914
B8: NCW_F_G20 | C8: 75.385569 | D8: 0.33040429 | E8: 9.6104323 | F8: 5.4430373 | G8: 0.25339117 | H8: 0 | I8: 0.12563626 | J8: 3.4213105 | K8: 5.2915535 | L8: 0.0050847727 | N8: Kspar1_1 | O8: 66.7568 | P8: 0 | Q8: 18.4399 | R8: 0.6444 | S8: 0 | T8: 0 | U8: 0.0305 | V8: 7.2928 | W8: 6.5794 | Y8: 1054.5829 | Z8: 1054.6263 | AA8: 1054.6697 | AB8: 1054.713 | AC8: 1054.7564 | AE8: 6.801934
B9: NCW_F_G9 | C9: 75.447991 | D9: 0.3644334 | E9: 9.454923 | F9: 5.5967531 | G9: 0.25840688 | H9: 0 | I9: 0.17985706 | J9: 3.8277567 | K9: 4.6413608 | L9: 0.020030728 | N9: Kspar1_2 | O9: 67.124 | P9: 0 | Q9: 18.2484 | R9: 0.6341 | S9: 0.0218 | T9: 0 | U9: 0.0129 | V9: 7.0668 | W9: 6.7777 | Y9: 1045.4318 | Z9: 1045.4744 | AA9: 1045.517 | AB9: 1045.5597 | AC9: 1045.6023 | AE9: 5.927648
B10: NCW_F_G20 | C10: 75.385569 | D10: 0.33040429 | E10: 9.6104323 | F10: 5.4430373 | G10: 0.25339117 | H10: 0 | I10: 0.12563626 | J10: 3.4213105 | K10: 5.2915535 | L10: 0.0050847727 | N10: Kspar1_2 | O10: 67.124 | P10: 0 | Q10: 18.2484 | R10: 0.6341 | S10: 0.0218 | T10: 0 | U10: 0.0129 | V10: 7.0668 | W10: 6.7777 | Y10: 1052.0237 | Z10: 1052.0669 | AA10: 1052.11 | AB10: 1052.1532 | AC10: 1052.1964 | AE10: 6.1375077
B11: NCW_F_G9 | C11: 75.447991 | D11: 0.3644334 | E11: 9.454923 | F11: 5.5967531 | G11: 0.25840688 | H11: 0 | I11: 0.17985706 | J11: 3.8277567 | K11: 4.6413608 | L11: 0.020030728 | N11: Kspar1_3 | O11: 66.8577 | P11: 0.0012 | Q11: 18.5487 | R11: 0.6063 | S11: 0 | T11: 0.0199 | U11: 0.0176 | V11: 7.0595 | W11: 7.0072 | Y11: 1043.8987 | Z11: 1043.9412 | AA11: 1043.9837 | AB11: 1044.0262 | AC11: 1044.0687 | AE11: 6.3786702
B12: NCW_F_G20 | C12: 75.385569 | D12: 0.33040429 | E12: 9.6104323 | F12: 5.4430373 | G12: 0.25339117 | H12: 0 | I12: 0.12563626 | J12: 3.4213105 | K12: 5.2915535 | L12: 0.0050847727 | N12: Kspar1_3 | O12: 66.8577 | P12: 0.0012 | Q12: 18.5487 | R12: 0.6063 | S12: 0 | T12: 0.0199 | U12: 0.0176 | V12: 7.0595 | W12: 7.0072 | Y12: 1050.4712 | Z12: 1050.5143 | AA12: 1050.5573 | AB12: 1050.6003 | AC12: 1050.6434 | AE12: 6.5884321
B13: NCW_F_G9 | C13: 75.447991 | D13: 0.3644334 | E13: 9.454923 | F13: 5.5967531 | G13: 0.25840688 | H13: 0 | I13: 0.17985706 | J13: 3.8277567 | K13: 4.6413608 | L13: 0.020030728 | N13: Kspar1_4 | O13: 67.2709 | P13: 0.0104 | Q13: 18.442 | R13: 0.6207 | S13: 0.008 | T13: 0.0069 | U13: 0.0131 | V13: 7.0002 | W13: 6.8233 | Y13: 1044.723 | Z13: 1044.7656 | AA13: 1044.8081 | AB13: 1044.8507 | AC13: 1044.8933 | AE13: 6.0183195
B14: NCW_F_G20 | C14: 75.385569 | D14: 0.33040429 | E14: 9.6104323 | F14: 5.4430373 | G14: 0.25339117 | H14: 0 | I14: 0.12563626 | J14: 3.4213105 | K14: 5.2915535 | L14: 0.0050847727 | N14: Kspar1_4 | O14: 67.2709 | P14: 0.0104 | Q14: 18.442 | R14: 0.6207 | S14: 0.008 | T14: 0.0069 | U14: 0.0131 | V14: 7.0002 | W14: 6.8233 | Y14: 1051.3059 | Z14: 1051.349 | AA14: 1051.3922 | AB14: 1051.4353 | AC14: 1051.4784 | AE14: 6.2281341
B15: NCW_F_G9 | C15: 75.447991 | D15: 0.3644334 | E15: 9.454923 | F15: 5.5967531 | G15: 0.25840688 | H15: 0 | I15: 0.17985706 | J15: 3.8277567 | K15: 4.6413608 | L15: 0.020030728 | N15: Kspar1_5 | O15: 67.1746 | P15: 0 | Q15: 18.5439 | R15: 0.6079 | S15: 0 | T15: 0 | U15: 0.012 | V15: 6.9463 | W15: 6.8392 | Y15: 1044.2858 | Z15: 1044.3283 | AA15: 1044.3708 | AB15: 1044.4134 | AC15: 1044.4559 | AE15: 5.99185
B16: NCW_F_G20 | C16: 75.385569 | D16: 0.33040429 | E16: 9.6104323 | F16: 5.4430373 | G16: 0.25339117 | H16: 0 | I16: 0.12563626 | J16: 3.4213105 | K16: 5.2915535 | L16: 0.0050847727 | N16: Kspar1_5 | O16: 67.1746 | P16: 0 | Q16: 18.5439 | R16: 0.6079 | S16: 0 | T16: 0 | U16: 0.012 | V16: 6.9463 | W16: 6.8392 | Y16: 1050.8632 | Z16: 1050.9062 | AA16: 1050.9493 | AB16: 1050.9924 | AC16: 1051.0355 | AE16: 6.2016366
B17: NCW_F_G9 | C17: 75.447991 | D17: 0.3644334 | E17: 9.454923 | F17: 5.5967531 | G17: 0.25840688 | H17: 0 | I17: 0.17985706 | J17: 3.8277567 | K17: 4.6413608 | L17: 0.020030728 | N17: Kspar1_6 | O17: 67.0662 | P17: 0.0028 | Q17: 18.3926 | R17: 0.8273 | S17: 0.0385 | T17: 0 | U17: 0.0111 | V17: 6.8368 | W17: 6.7537 | Y17: 1044.1435 | Z17: 1044.186 | AA17: 1044.2285 | AB17: 1044.2711 | AC17: 1044.3136 | AE17: 5.2968912
B18: NCW_F_G20 | C18: 75.385569 | D18: 0.33040429 | E18: 9.6104323 | F18: 5.4430373 | G18: 0.25339117 | H18: 0 | I18: 0.12563626 | J18: 3.4213105 | K18: 5.2915535 | L18: 0.0050847727 | N18: Kspar1_6 | O18: 67.0662 | P18: 0.0028 | Q18: 18.3926 | R18: 0.8273 | S18: 0.0385 | T18: 0 | U18: 0.0111 | V18: 6.8368 | W18: 6.7537 | Y18: 1050.7191 | Z18: 1050.7622 | AA18: 1050.8052 | AB18: 1050.8483 | AC18: 1050.8914 | AE18: 5.5066688
... B49: NCW_F_G20 | C49: 75.385569 | D49: 0.33040429 | E49: 9.6104323 | F49: 5.4430373 | G49: 0.25339117 | H49: 0 | I49: 0.12563626 | J49: 3.4213105 | K49: 5.2915535 | L49: 0.0050847727 | N49: Kspar6_3 | O49: 66.8112 | P49: 0.0349 | Q49: 18.3431 | R49: 0.8704 | S49: 0.0065 | T49: 0 | U49: 0.01 | V49: 6.7001 | W49: 6.9011 | Y49: 1048.8328 | Z49: 1048.8757 | AA49: 1048.9186 | AB49: 1048.9615 | AC49: 1049.0044 | AE49: 5.3738896
B50: NCW_F_G9 | C50: 75.447991 | D50: 0.3644334 | E50: 9.454923 | F50: 5.5967531 | G50: 0.25840688 | H50: 0 | I50: 0.17985706 | J50: 3.8277567 | K50: 4.6413608 | L50: 0.020030728 | N50: Kspar6_4 | O50: 66.7177 | P50: 0.0195 | Q50: 18.1441 | R50: 0.8326 | S50: 0.0073 | T50: 0.0136 | U50: 0 | V50: 6.9602 | W50: 7.03 | Y50: 1043.2163 | Z50: 1043.2588 | AA50: 1043.3012 | AB50: 1043.3437 | AC50: 1043.3861
B51: NCW_F_G20 | C51: 75.385569 | D51: 0.33040429 | E51: 9.6104323 | F51: 5.4430373 | G51: 0.25339117 | H51: 0 | I51: 0.12563626 | J51: 3.4213105 | K51: 5.2915535 | L51: 0.0050847727 | N51: Kspar6_4 | O51: 66.7177 | P51: 0.0195 | Q51: 18.1441 | R51: 0.8326 | S51: 0.0073 | T51: 0.0136 | U51: 0 | V51: 6.9602 | W51: 7.03 | Y51: 1049.7802 | Z51: 1049.8232 | AA51: 1049.8662 | AB51: 1049.9092 | AC51: 1049.9522
B52: NCW_F_G9 | C52: 75.447991 | D52: 0.3644334 | E52: 9.454923 | F52: 5.5967531 | G52: 0.25840688 | H52: 0 | I52: 0.17985706 | J52: 3.8277567 | K52: 4.6413608 | L52: 0.020030728 | N52: Kspar6_5 | O52: 67.0067 | P52: 0.0104 | Q52: 18.3448 | R52: 0.8169 | S52: 0.0261 | T52: 0 | U52: 0.0138 | V52: 6.7872 | W52: 7.0061 | Y52: 1042.162 | Z52: 1042.2044 | AA52: 1042.2468 | AB52: 1042.2891 | AC52: 1042.3315 | AE52: 5.6201856
B53: NCW_F_G20 | C53: 75.385569 | D53: 0.33040429 | E53: 9.6104323 | F53: 5.4430373 | G53: 0.25339117 | H53: 0 | I53: 0.12563626 | J53: 3.4213105 | K53: 5.2915535 | L53: 0.0050847727 | N53: Kspar6_5 | O53: 67.0067 | P53: 0.0104 | Q53: 18.3448 | R53: 0.8169 | S53: 0.0261 | T53: 0 | U53: 0.0138 | V53: 6.7872 | W53: 7.0061 | Y53: 1048.7126 | Z53: 1048.7555 | AA53: 1048.7984 | AB53: 1048.8413 | AC53: 1048.8842 | AE53: 5.8298361
B54: NCW_F_G9 | C54: 75.447991 | D54: 0.3644334 | E54: 9.454923 | F54: 5.5967531 | G54: 0.25840688 | H54: 0 | I54: 0.17985706 | J54: 3.8277567 | K54: 4.6413608 | L54: 0.020030728 | N54: Kspar6_6 | O54: 66.8405 | P54: 0.0162 | Q54: 18.3172 | R54: 0.8131 | S54: 0 | T54: 0 | U54: 0.0056 | V54: 6.9245 | W54: 7.0667 | Y54: 1042.722 | Z54: 1042.7644 | AA54: 1042.8068 | AB54: 1042.8492 | AC54: 1042.8916 | AE54: 4.7020156
B55: NCW_F_G20 | C55: 75.385569 | D55: 0.33040429 | E55: 9.6104323 | F55: 5.4430373 | G55: 0.25339117 | H55: 0 | I55: 0.12563626 | J55: 3.4213105 | K55: 5.2915535 | L55: 0.0050847727 | N55: Kspar6_6 | O55: 66.8405 | P55: 0.0162 | Q55: 18.3172 | R55: 0.8131 | S55: 0 | T55: 0 | U55: 0.0056 | V55: 6.9245 | W55: 7.0667 | Y55: 1049.2797 | Z55: 1049.3226 | AA55: 1049.3656 | AB55: 1049.4085 | AC55: 1049.4515 | AE55: 4.9117021
B56: NCW_F_G9 | C56: 75.447991 | D56: 0.3644334 | E56: 9.454923 | F56: 5.5967531 | G56: 0.25840688 | H56: 0 | I56: 0.17985706 | J56: 3.8277567 | K56: 4.6413608 | L56: 0.020030728 | N56: Kspar6_7 | O56: 66.8014 | P56: 0.0106 | Q56: 18.196 | R56: 0.8184 | S56: 0 | T56: 0 | U56: 0.0029 | V56: 6.7269 | W56: 6.9374 | Y56: 1042.2631 | Z56: 1042.3054 | AA56: 1042.3478 | AB56: 1042.3902 | AC56: 1042.4326 | AE56: 4.0379948
B57: NCW_F_G20 | C57: 75.385569 | D57: 0.33040429 | E57: 9.6104323 | F57: 5.4430373 | G57: 0.25339117 | H57: 0 | I57: 0.12563626 | J57: 3.4213105 | K57: 5.2915535 | L57: 0.0050847727 | N57: Kspar6_7 | O57: 66.8014 | P57: 0.0106 | Q57: 18.196 | R57: 0.8184 | S57: 0 | T57: 0 | U57: 0.0029 | V57: 6.7269 | W57: 6.9374 | Y57: 1048.8149 | Z57: 1048.8578 | AA57: 1048.9007 | AB57: 1048.9437 | AC57: 1048.9866 | AE57: 4.2476518
B58: NCW_F_G9 | C58: 75.447991 | D58: 0.3644334 | E58: 9.454923 | F58: 5.5967531 | G58: 0.25840688 | H58: 0 | I58: 0.17985706 | J58: 3.8277567 | K58: 4.6413608 | L58: 0.020030728 | N58: Kspar6_8 | O58: 67.0488 | P58: 0.0359 | Q58: 18.355 | R58: 0.8409 | S58: 0 | T58: 0.0007 | U58: 0.0138 | V58: 6.7579 | W58: 6.9823 | Y58: 1042.1199 | Z58: 1042.1623 | AA58: 1042.2047 | AB58: 1042.247 | AC58: 1042.2894 | AE58: 5.5640985
B59: NCW_F_G20 | C59: 75.385569 | D59: 0.33040429 | E59: 9.6104323 | F59: 5.4430373 | G59: 0.25339117 | H59: 0 | I59: 0.12563626 | J59: 3.4213105 | K59: 5.2915535 | L59: 0.0050847727 | N59: Kspar6_8 | O59: 67.0488 | P59: 0.0359 | Q59: 18.355 | R59: 0.8409 | S59: 0 | T59: 0.0007 | U59: 0.0138 | V59: 6.7579 | W59: 6.9823 | Y59: 1048.67 | Z59: 1048.7129 | AA59: 1048.7558 | AB59: 1048.7987 | AC59: 1048.8416 | AE59: 5.7737463
B60: NCW_F_G9 | C60: 75.447991 | D60: 0.3644334 | E60: 9.454923 | F60: 5.5967531 | G60: 0.25840688 | H60: 0 | I60: 0.17985706 | J60: 3.8277567 | K60: 4.6413608 | L60: 0.020030728 | N60: Kspar6_9 | O60: 67.2487 | P60: 0.0117 | Q60: 18.3227 | R60: 0.8595 | S60: 0 | T60: 0 | U60: 0.0069 | V60: 6.9262 | W60: 7.1558 | Y60: 1042.1609 | Z60: 1042.2032 | AA60: 1042.2456 | AB60: 1042.288 | AC60: 1042.3303 | AE60: 4.829169
B61: NCW_F_G20 | C61: 75.385569 | D61: 0.33040429 | E61: 9.6104323 | F61: 5.4430373 | G61: 0.25339117 | H61: 0 | I61: 0.12563626 | J61: 3.4213105 | K61: 5.2915535 | L61: 0.0050847727 | N61: Kspar6_9 | O61: 67.2487 | P61: 0.0117 | Q61: 18.3227 | R61: 0.8595 | S61: 0 | T61: 0 | U61: 0.0069 | V61: 6.9262 | W61: 7.1558 | Y61: 1048.7114 | Z61: 1048.7543 | AA61: 1048.7972 | AB61: 1048.8401 | AC61: 1048.883 | AE61: 5.0388194
B62: NCW_F_G9 | C62: 75.447991 | D62: 0.3644334 | E62: 9.454923 | F62: 5.5967531 | G62: 0.25840688 | H62: 0 | I62: 0.17985706 | J62: 3.8277567 | K62: 4.6413608 | L62: 0.020030728 | N62: Kspar6_10 | O62: 66.9756 | P62: 0.02 | Q62: 18.2734 | R62: 0.8043 | S62: 0 | T62: 0 | U62: 0.0002 | V62: 6.7662 | W62: 6.998 | Y62: 1042.1478 | Z62: 1042.1902 | AA62: 1042.2326 | AB62: 1042.2749 | AC62: 1042.3173 | AE62: 1.3332309
B63: NCW_F_G20 | C63: 75.385569 | D63: 0.33040429 | E63: 9.6104323 | F63: 5.4430373 | G63: 0.25339117 | H63: 0 | I63: 0.12563626 | J63: 3.4213105 | K63: 5.2915535 | L63: 0.0050847727 | N63: Kspar6_10 | O63: 66.9756 | P63: 0.02 | Q63: 18.2734 | R63: 0.8043 | S63: 0 | T63: 0 | U63: 0.0002 | V63: 6.7662 | W63: 6.998 | Y63: 1048.6983 | Z63: 1048.7412 | AA63: 1048.7841 | AB63: 1048.827 | AC63: 1048.8699 | AE63: 1.5428805
... B65: NCW_F_G20 | C65: 75.385569 | D65: 0.33040429 | E65: 9.6104323 | F65: 5.4430373 | G65: 0.25339117 | H65: 0 | I65: 0.12563626 | J65: 3.4213105 | K65: 5.2915535 | L65: 0.0050847727 | N65: Kspar6_11 | O65: 67.3047 | P65: 0.0139 | Q65: 18.3716 | R65: 0.8183 | S65: 0 | T65: 0.0048 | U65: 0.0118 | V65: 6.7988 | W65: 7.0047 | Y65: 1048.811 | Z65: 1048.8539 | AA65: 1048.8968 | AB65: 1048.9397 | AC65: 1048.9827 | AE65: 5.6723055
B66: NCW_F_G9 | C66: 75.447991 | D66: 0.3644334 | E66: 9.454923 | F66: 5.5967531 | G66: 0.25840688 | H66: 0 | I66: 0.17985706 | J66: 3.8277567 | K66: 4.6413608 | L66: 0.020030728 | N66: Kspar6_12 | O66: 66.8091 | P66: 0.0393 | Q66: 18.3886 | R66: 0.7809 | S66: 0.0022 | T66: 0 | U66: 0 | V66: 6.9011 | W66: 7.1319 | Y66: 1042.1846 | Z66: 1042.227 | AA66: 1042.2693 | AB66: 1042.3117 | AC66: 1042.3541
B67: NCW_F_G20 | C67: 75.385569 | D67: 0.33040429 | E67: 9.6104323 | F67: 5.4430373 | G67: 0.25339117 | H67: 0 | I67: 0.12563626 | J67: 3.4213105 | K67: 5.2915535 | L67: 0.0050847727 | N67: Kspar6_12 | O67: 66.8091 | P67: 0.0393 | Q67: 18.3886 | R67: 0.7809 | S67: 0.0022 | T67: 0 | U67: 0 | V67: 6.9011 | W67: 7.1319 | Y67: 1048.7355 | Z67: 1048.7784 | AA67: 1048.8213 | AB67: 1048.8642 | AC67: 1048.9071
B68: NCW_F_G9 | C68: 75.447991 | D68: 0.3644334 | E68: 9.454923 | F68: 5.5967531 | G68: 0.25840688 | H68: 0 | I68: 0.17985706 | J68: 3.8277567 | K68: 4.6413608 | L68: 0.020030728 | N68: Kspar6_13 | O68: 66.5574 | P68: 0.0328 | Q68: 18.185 | R68: 0.7799 | S68: 0.0145 | T68: 0.0045 | U68: 0.0103 | V68: 6.6595 | W68: 7.1505 | Y68: 1040.3804 | Z68: 1040.4226 | AA68: 1040.4648 | AB68: 1040.507 | AC68: 1040.5492 | AE68: 5.4907688
B69: NCW_F_G20 | C69: 75.385569 | D69: 0.33040429 | E69: 9.6104323 | F69: 5.4430373 | G69: 0.25339117 | H69: 0 | I69: 0.12563626 | J69: 3.4213105 | K69: 5.2915535 | L69: 0.0050847727 | N69: Kspar6_13 | O69: 66.5574 | P69: 0.0328 | Q69: 18.185 | R69: 0.7799 | S69: 0.0145 | T69: 0.0045 | U69: 0.0103 | V69: 6.6595 | W69: 7.1505 | Y69: 1046.9085 | Z69: 1046.9513 | AA69: 1046.994 | AB69: 1047.0368 | AC69: 1047.0795 | AE69: 5.7003044
B70: NCW_F_G9 | C70: 75.447991 | D70: 0.3644334 | E70: 9.454923 | F70: 5.5967531 | G70: 0.25840688 | H70: 0 | I70: 0.17985706 | J70: 3.8277567 | K70: 4.6413608 | L70: 0.020030728 | N70: Kspar6_14 | O70: 67.0278 | P70: 0.0044 | Q70: 18.4063 | R70: 0.7959 | S70: 0 | T70: 0 | U70: 0.0016 | V70: 6.8377 | W70: 7.3154 | Y70: 1040.5941 | Z70: 1040.6363 | AA70: 1040.6786 | AB70: 1040.7208 | AC70: 1040.7631 | AE70: 3.5587325
B71: NCW_F_G20 | C71: 75.385569 | D71: 0.33040429 | E71: 9.6104323 | F71: 5.4430373 | G71: 0.25339117 | H71: 0 | I71: 0.12563626 | J71: 3.4213105 | K71: 5.2915535 | L71: 0.0050847727 | N71: Kspar6_14 | O71: 67.0278 | P71: 0.0044 | Q71: 18.4063 | R71: 0.7959 | S71: 0 | T71: 0 | U71: 0.0016 | V71: 6.8377 | W71: 7.3154 | Y71: 1047.125 | Z71: 1047.1677 | AA71: 1047.2105 | AB71: 1047.2533 | AC71: 1047.296 | AE71: 3.768282
B72: NCW_F_G9 | C72: 75.447991 | D72: 0.3644334 | E72: 9.454923 | F72: 5.5967531 | G72: 0.25840688 | H72: 0 | I72: 0.17985706 | J72: 3.8277567 | K72: 4.6413608 | L72: 0.020030728 | N72: Kspar6_15 | O72: 67.1058 | P72: 0.013 | Q72: 18.2336 | R72: 0.8831 | S72: 0.0051 | T72: 0 | U72: 0.006 | V72: 6.7438 | W72: 7.126 | Y72: 1041.14 | Z72: 1041.1822 | AA72: 1041.2245 | AB72: 1041.2668 | AC72: 1041.3091 | AE72: 4.6725141
B73: NCW_F_G20 | C73: 75.385569 | D73: 0.33040429 | E73: 9.6104323 | F73: 5.4430373 | G73: 0.25339117 | H73: 0 | I73: 0.12563626 | J73: 3.4213105 | K73: 5.2915535 | L73: 0.0050847727 | N73: Kspar6_15 | O73: 67.1058 | P73: 0.013 | Q73: 18.2336 | R73: 0.8831 | S73: 0.0051 | T73: 0 | U73: 0.006 | V73: 6.7438 | W73: 7.126 | Y73: 1047.6777 | Z73: 1047.7205 | AA73: 1047.7633 | AB73: 1047.8061 | AC73: 1047.8489 | AE73: 4.8820988
B74: NCW_F_G9 | C74: 75.447991 | D74: 0.3644334 | E74: 9.454923 | F74: 5.5967531 | G74: 0.25840688 | H74: 0 | I74: 0.17985706 | J74: 3.8277567 | K74: 4.6413608 | L74: 0.020030728 | N74: Kspar6_16 | O74: 66.8893 | P74: 0 | Q74: 18.1726 | R74: 0.8724 | S74: 0.0145 | T74: 0.0124 | U74: 0.0033 | V74: 6.7773 | W74: 7.0498 | Y74: 1041.8709 | Z74: 1041.9132 | AA74: 1041.9555 | AB74: 1041.9979 | AC74: 1042.0402 | AE74: 4.0563433
B75: NCW_F_G20 | C75: 75.385569 | D75: 0.33040429 | E75: 9.6104323 | F75: 5.4430373 | G75: 0.25339117 | H75: 0 | I75: 0.12563626 | J75: 3.4213105 | K75: 5.2915535 | L75: 0.0050847727 | N75: Kspar6_16 | O75: 66.8893 | P75: 0 | Q75: 18.1726 | R75: 0.8724 | S75: 0.0145 | T75: 0.0124 | U75: 0.0033 | V75: 6.7773 | W75: 7.0498 | Y75: 1048.4178 | Z75: 1048.4607 | AA75: 1048.5035 | AB75: 1048.5464 | AC75: 1048.5893 | AE75: 4.2659751
B76: NCW_F_G9 | C76: 75.447991 | D76: 0.3644334 | E76: 9.454923 | F76: 5.5967531 | G76: 0.25840688 | H76: 0 | I76: 0.17985706 | J76: 3.8277567 | K76: 4.6413608 | L76: 0.020030728 | N76: Kspar6_17 | O76: 66.863 | P76: 0 | Q76: 18.3565 | R76: 0.7501 | S76: 0.0254 | T76: 0.0136 | U76: 0.0087 | V76: 6.5643 | W76: 7.1143 | Y76: 1039.9572 | Z76: 1039.9994 | AA76: 1040.0416 | AB76: 1040.0838 | AC76: 1040.126 | AE76: 5.4234528
B77: NCW_F_G20 | C77: 75.385569 | D77: 0.33040429 | E77: 9.6104323 | F77: 5.4430373 | G77: 0.25339117 | H77: 0 | I77: 0.12563626 | J77: 3.4213105 | K77: 5.2915535 | L77: 0.0050847727 | N77: Kspar6_17 | O77: 66.863 | P77: 0 | Q77: 18.3565 | R77: 0.7501 | S77: 0.0254 | T77: 0.0136 | U77: 0.0087 | V77: 6.5643 | W77: 7.1143 | Y77: 1046.48 | Z77: 1046.5228 | AA77: 1046.5655 | AB77: 1046.6082 | AC77: 1046.6509 | AE77: 5.6329611
B78: NCW_F_G9 | C78: 75.447991 | D78: 0.3644334 | E78: 9.454923 | F78: 5.5967531 | G78: 0.25840688 | H78: 0 | I78: 0.17985706 | J78: 3.8277567 | K78: 4.6413608 | L78: 0.020030728 | N78: Kspar6_18 | O78: 66.9707 | P78: 0 | Q78: 18.2863 | R78: 0.8565 | S78: 0.0174 | T78: 0 | U78: 0 | V78: 6.7859 | W78: 7.0841 | Y78: 1041.7257 | Z78: 1041.768 | AA78: 1041.8103 | AB78: 1041.8527 | AC78: 1041.895
B79: NCW_F_G20 | C79: 75.385569 | D79: 0.33040429 | E79: 9.6104323 | F79: 5.4430373 | G79: 0.25339117 | H79: 0 | I79: 0.12563626 | J79: 3.4213105 | K79: 5.2915535 | L79: 0.0050847727 | N79: Kspar6_18 | O79: 66.9707 | P79: 0 | Q79: 18.2863 | R79: 0.8565 | S79: 0.0174 | T79: 0 | U79: 0 | V79: 6.7859 | W79: 7.0841 | Y79: 1048.2708 | Z79: 1048.3136 | AA79: 1048.3565 | AB79: 1048.3994 | AC79: 1048.4422
B80: NCW_F_G9 | C80: 75.447991 | D80: 0.3644334 | E80: 9.454923 | F80: 5.5967531 | G80: 0.25840688 | H80: 0 | I80: 0.17985706 | J80: 3.8277567 | K80: 4.6413608 | L80: 0.020030728 | N80: Kspar6_19 | O80: 67.0264 | P80: 0.0144 | Q80: 18.245 | R80: 0.8011 | S80: 0.0015 | T80: 0.0088 | U80: 0.0058 | V80: 6.6588 | W80: 7.0003 | Y80: 1041.3744 | Z80: 1041.4167 | AA80: 1041.459 | AB80: 1041.5013 | AC80: 1041.5436 | AE80: 4.8265505
B81: NCW_F_G20 | C81: 75.385569 | D81: 0.33040429 | E81: 9.6104323 | F81: 5.4430373 | G81: 0.25339117 | H81: 0 | I81: 0.12563626 | J81: 3.4213105 | K81: 5.2915535 | L81: 0.0050847727 | N81: Kspar6_19 | O81: 67.0264 | P81: 0.0144 | Q81: 18.245 | R81: 0.8011 | S81: 0.0015 | T81: 0.0088 | U81: 0.0058 | V81: 6.6588 | W81: 7.0003 | Y81: 1047.9151 | Z81: 1047.9579 | AA81: 1048.0007 | AB81: 1048.0436 | AC81: 1048.0864 | AE81: 5.0361503
B82: NCW_F_G9 | C82: 75.447991 | D82: 0.3644334 | E82: 9.454923 | F82: 5.5967531 | G82: 0.25840688 | H82: 0 | I82: 0.17985706 | J82: 3.8277567 | K82: 4.6413608 | L82: 0.020030728 | N82: Kspar6_20 | O82: 67.1199 | P82: 0 | Q82: 18.313 | R82: 0.8446 | S82: 0 | T82: 0.0179 | U82: 0 | V82: 6.7803 | W82: 7.2133 | Y82: 1040.8614 | Z82: 1040.9037 | AA82: 1040.9459 | AB82: 1040.9882 | AC82: 1041.0304
B83: NCW_F_G20 | C83: 75.385569 | D83: 0.33040429 | E83: 9.6104323 | F83: 5.4430373 | G83: 0.25339117 | H83: 0 | I83: 0.12563626 | J83: 3.4213105 | K83: 5.2915535 | L83: 0.0050847727 | N83: Kspar6_20 | O83: 67.1199 | P83: 0 | Q83: 18.313 | R83: 0.8446 | S83: 0 | T83: 0.0179 | U83: 0 | V83: 6.7803 | W83: 7.2133 | Y83: 1047.3956 | Z83: 1047.4384 | AA83: 1047.4812 | AB83: 1047.524 | AC83: 1047.5668
B84: NCW_F_G9 | C84: 75.447991 | D84: 0.3644334 | E84: 9.454923 | F84: 5.5967531 | G84: 0.25840688 | H84: 0 | I84: 0.17985706 | J84: 3.8277567 | K84: 4.6413608 | L84: 0.020030728 | N84: Kspar7_1 | O84: 67.2304 | P84: 0.0056 | Q84: 18.3475 | R84: 0.8192 | S84: 0 | T84: 0 | U84: 0.0185 | V84: 7.083 | W84: 6.5961 | Y84: 1046.6732 | Z84: 1046.716 | AA84: 1046.7587 | AB84: 1046.8014 | AC84: 1046.8442 | AE84: 5.7114478
B85: NCW_F_G20 | C85: 75.385569 | D85: 0.33040429 | E85: 9.6104323 | F85: 5.4430373 | G85: 0.25339117 | H85: 0 | I85: 0.12563626 | J85: 3.4213105 | K85: 5.2915535 | L85: 0.0050847727 | N85: Kspar7_1 | O85: 67.2304 | P85: 0.0056 | Q85: 18.3475 | R85: 0.8192 | S85: 0 | T85: 0 | U85: 0.0185 | V85: 7.083 | W85: 6.5961 | Y85: 1053.2808 | Z85: 1053.3241 | AA85: 1053.3674 | AB85: 1053.4107 | AC85: 1053.4539 | AE85: 5.9213864
B86: NCW_F_G9 | C86: 75.447991 | D86: 0.3644334 | E86: 9.454923 | F86: 5.5967531 | G86: 0.25840688 | H86: 0 | I86: 0.17985706 | J86: 3.8277567 | K86: 4.6413608 | L86: 0.020030728 | N86: Kspar7_2 | O86: 67.4678 | P86: 0.0152 | Q86: 18.5239 | R86: 0.5885 | S86: 0.0145 | T86: 0 | U86: 0 | V86: 6.9565 | W86: 6.7176 | Y86: 1045.2036 | Z86: 1045.2462 | AA86: 1045.2888 | AB86: 1045.3314 | AC86: 1045.374
B87: NCW_F_G20 | C87: 75.385569 | D87: 0.33040429 | E87: 9.6104323 | F87: 5.4430373 | G87: 0.25339117 | H87: 0 | I87: 0.12563626 | J87: 3.4213105 | K87: 5.2915535 | L87: 0.0050847727 | N87: Kspar7_2 | O87: 67.4678 | P87: 0.0152 | Q87: 18.5239 | R87: 0.5885 | S87: 0.0145 | T87: 0 | U87: 0 | V87: 6.9565 | W87: 6.7176 | Y87: 1051.7926 | Z87: 1051.8357 | AA87: 1051.8789 | AB87: 1051.922 | AC87: 1051.9652
B88: NCW_F_G9 | C88: 75.447991 | D88: 0.3644334 | E88: 9.454923 | F88: 5.5967531 | G88: 0.25840688 | H88: 0 | I88: 0.17985706 | J88: 3.8277567 | K88: 4.6413608 | L88: 0.020030728 | N88: Kspar8_1 | O88: 67.6422 | P88: 0 | Q88: 18.688 | R88: 0.6246 | S88: 0.0363 | T88: 0 | U88: 0.0307 | V88: 7.1413 | W88: 6.6963 | Y88: 1046.3131 | Z88: 1046.3558 | AA88: 1046.3985 | AB88: 1046.4412 | AC88: 1046.4839 | AE88: 6.7449474
B89: NCW_F_G20 | C89: 75.385569 | D89: 0.33040429 | E89: 9.6104323 | F89: 5.4430373 | G89: 0.25339117 | H89: 0 | I89: 0.12563626 | J89: 3.4213105 | K89: 5.2915535 | L89: 0.0050847727 | N89: Kspar8_1 | O89: 67.6422 | P89: 0 | Q89: 18.688 | R89: 0.6246 | S89: 0.0363 | T89: 0 | U89: 0.0307 | V89: 7.1413 | W89: 6.6963 | Y89: 1052.9161 | Z89: 1052.9594 | AA89: 1053.0026 | AB89: 1053.0459 | AC89: 1053.0891 | AE89: 6.9548631
B90: NCW_F_G9 | C90: 75.447991 | D90: 0.3644334 | E90: 9.454923 | F90: 5.5967531 | G90: 0.25840688 | H90: 0 | I90: 0.17985706 | J90: 3.8277567 | K90: 4.6413608 | L90: 0.020030728 | N90: Kspar8_2 | O90: 66.9631 | P90: 0 | Q90: 18.47 | R90: 0.6214 | S90: 0.0182 | T90: 0.009 | U90: 0.0067 | V90: 6.952 | W90: 6.872 | Y90: 1044.1393 | Z90: 1044.1818 | AA90: 1044.2244 | AB90: 1044.2669 | AC90: 1044.3094 | AE90: 5.3731385
B91: NCW_F_G20 | C91: 75.385569 | D91: 0.33040429 | E91: 9.6104323 | F91: 5.4430373 | G91: 0.25339117 | H91: 0 | I91: 0.12563626 | J91: 3.4213105 | K91: 5.2915535 | L91: 0.0050847727 | N91: Kspar8_2 | O91: 66.9631 | P91: 0 | Q91: 18.47 | R91: 0.6214 | S91: 0.0182 | T91: 0.009 | U91: 0.0067 | V91: 6.952 | W91: 6.872 | Y91: 1050.7149 | Z91: 1050.7579 | AA91: 1050.801 | AB91: 1050.8441 | AC91: 1050.8871 | AE91: 5.5829158
B92: NCW_F_G9 | C92: 75.447991 | D92: 0.3644334 | E92: 9.454923 | F92: 5.5967531 | G92: 0.25840688 | H92: 0 | I92: 0.17985706 | J92: 3.8277567 | K92: 4.6413608 | L92: 0.020030728 | N92: Kspar9_1 | O92: 66.5129 | P92: 0.0234 | Q92: 18.2249 | R92: 0.69 | S92: 0.0036 | T92: 0.0054 | U92: 0.115 | V92: 7.0215 | W92: 7.0625 | Y92: 1042.7934 | Z92: 1042.8358 | AA92: 1042.8783 | AB92: 1042.9207 | AC92: 1042.9631 | AE92: 7.7413067
B93: NCW_F_G20 | C93: 75.385569 | D93: 0.33040429 | E93: 9.6104323 | F93: 5.4430373 | G93: 0.25339117 | H93: 0 | I93: 0.12563626 | J93: 3.4213105 | K93: 5.2915535 | L93: 0.0050847727 | N93: Kspar9_1 | O93: 66.5129 | P93: 0.0234 | Q93: 18.2249 | R93: 0.69 | S93: 0.0036 | T93: 0.0054 | U93: 0.115 | V93: 7.0215 | W93: 7.0625 | Y93: 1049.352 | Z93: 1049.3949 | AA93: 1049.4379 | AB93: 1049.4809 | AC93: 1049.5238 | AE93: 7.9509978
B94: NCW_F_G9 | C94: 75.447991 | D94: 0.3644334 | E94: 9.454923 | F94: 5.5967531 | G94: 0.25840688 | H94: 0 | I94: 0.17985706 | J94: 3.8277567 | K94: 4.6413608 | L94: 0.020030728 | N94: Kspar9_2 | O94: 66.8357 | P94: 0.0114 | Q94: 18.4353 | R94: 0.6787 | S94: 0.0007 | T94: 0 | U94: 0.0109 | V94: 6.9123 | W94: 7.045 | Y94: 1042.7526 | Z94: 1042.795 | AA94: 1042.8374 | AB94: 1042.8798 | AC94: 1042.9222 | AE94: 5.7348209
B95: NCW_F_G20 | C95: 75.385569 | D95: 0.33040429 | E95: 9.6104323 | F95: 5.4430373 | G95: 0.25339117 | H95: 0 | I95: 0.12563626 | J95: 3.4213105 | K95: 5.2915535 | L95: 0.0050847727 | N95: Kspar9_2 | O95: 66.8357 | P95: 0.0114 | Q95: 18.4353 | R95: 0.6787 | S95: 0.0007 | T95: 0 | U95: 0.0109 | V95: 6.9123 | W95: 7.045 | Y95: 1049.3106 | Z95: 1049.3535 | AA95: 1049.3965 | AB95: 1049.4394 | AC95: 1049.4824 | AE95: 5.9445094
B96: NCW_F_G9 | C96: 75.447991 | D96: 0.3644334 | E96: 9.454923 | F96: 5.5967531 | G96: 0.25840688 | H96: 0 | I96: 0.17985706 | J96: 3.8277567 | K96: 4.6413608 | L96: 0.020030728 | N96: Kspar10_1 | O96: 66.981 | P96: 0.0258 | Q96: 18.4161 | R96: 0.7097 | S96: 0 | T96: 0.0003 | U96: 0.0194 | V96: 6.6817 | W96: 7.1031 | Y96: 1040.7904 | Z96: 1040.8326 | AA96: 1040.8749 | AB96: 1040.9171 | AC96: 1040.9594 | AE96: 6.2893867
B97: NCW_F_G20 | C97: 75.385569 | D97: 0.33040429 | E97: 9.6104323 | F97: 5.4430373 | G97: 0.25339117 | H97: 0 | I97: 0.12563626 | J97: 3.4213105 | K97: 5.2915535 | L97: 0.0050847727 | N97: Kspar10_1 | O97: 66.981 | P97: 0.0258 | Q97: 18.4161 | R97: 0.7097 | S97: 0 | T97: 0.0003 | U97: 0.0194 | V97: 6.6817 | W97: 7.1031 | Y97: 1047.3237 | Z97: 1047.3665 | AA97: 1047.4093 | AB97: 1047.4521 | AC97: 1047.4948 | AE97: 6.4989488
B98: NCW_F_G9 | C98: 75.447991 | D98: 0.3644334 | E98: 9.454923 | F98: 5.5967531 | G98: 0.25840688 | H98: 0 | I98: 0.17985706 | J98: 3.8277567 | K98: 4.6413608 | L98: 0.020030728 | N98: Kspar10_2 | O98: 67.1597 | P98: 0.0003 | Q98: 18.4439 | R98: 0.6981 | S98: 0 | T98: 0.0121 | U98: 0.0305 | V98: 6.8012 | W98: 7.0107 | Y98: 1042.1353 | Z98: 1042.1777 | AA98: 1042.22 | AB98: 1042.2624 | AC98: 1042.3048 | AE98: 6.6932456
B99: NCW_F_G20 | C99: 75.385569 | D99: 0.33040429 | E99: 9.6104323 | F99: 5.4430373 | G99: 0.25339117 | H99: 0 | I99: 0.12563626 | J99: 3.4213105 | K99: 5.2915535 | L99: 0.0050847727 | N99: Kspar10_2 | O99: 67.1597 | P99: 0.0003 | Q99: 18.4439 | R99: 0.6981 | S99: 0 | T99: 0.0121 | U99: 0.0305 | V99: 6.8012 | W99: 7.0107 | Y99: 1048.6856 | Z99: 1048.7285 | AA99: 1048.7714 | AB99: 1048.8143 | AC99: 1048.8572 | AE99: 6.9028944
... B147: NCW_F_G20 | C147: 75.385569 | D147: 0.33040429 | E147: 9.6104323 | F147: 5.4430373 | G147: 0.25339117 | H147: 0 | I147: 0.12563626 | J147: 3.4213105 | K147: 5.2915535 | L147: 0.0050847727 | N147: Kspar14_1 | O147: 67.099 | P147: 0 | Q147: 18.2758 | R147: 0.7012 | S147: 0 | T147: 0 | U147: 0.0296 | V147: 7.0466 | W147: 6.8411 | Y147: 1051.3943 | Z147: 1051.4374 | AA147: 1051.4805 | AB147: 1051.5236 | AC147: 1051.5668 | AE147: 6.7530914
B148: NCW_F_G9 | C148: 75.447991 | D148: 0.3644334 | E148: 9.454923 | F148: 5.5967531 | G148: 0.25840688 | H148: 0 | I148: 0.17985706 | J148: 3.8277567 | K148: 4.6413608 | L148: 0.020030728 | N148: Kspar14_2 | O148: 67.0526 | P148: 0 | Q148: 18.4884 | R148: 0.8224 | S148: 0 | T148: 0 | U148: 0 | V148: 6.8677 | W148: 6.9113 | Y148: 1043.3795 | Z148: 1043.422 | AA148: 1043.4645 | AB148: 1043.5069 | AC148: 1043.5494
B149: NCW_F_G20 | C149: 75.385569 | D149: 0.33040429 | E149: 9.6104323 | F149: 5.4430373 | G149: 0.25339117 | H149: 0 | I149: 0.12563626 | J149: 3.4213105 | K149: 5.2915535 | L149: 0.0050847727 | N149: Kspar14_2 | O149: 67.0526 | P149: 0 | Q149: 18.4884 | R149: 0.8224 | S149: 0 | T149: 0 | U149: 0 | V149: 6.8677 | W149: 6.9113 | Y149: 1049.9455 | Z149: 1049.9885 | AA149: 1050.0315 | AB149: 1050.0745 | AC149: 1050.1175
B150: NCW_F_G9 | C150: 75.447991 | D150: 0.3644334 | E150: 9.454923 | F150: 5.5967531 | G150: 0.25840688 | H150: 0 | I150: 0.17985706 | J150: 3.8277567 | K150: 4.6413608 | L150: 0.020030728 | N150: Kspar15_1 | O150: 67.4153 | P150: 0.0396 | Q150: 18.5478 | R150: 0.4743 | S150: 0.008 | T150: 0.0047 | U150: 0.0196 | V150: 7.0747 | W150: 6.5894 | Y150: 1046.6604 | Z150: 1046.7031 | AA150: 1046.7459 | AB150: 1046.7886 | AC150: 1046.8313 | AE150: 6.8535496
B151: NCW_F_G20 | C151: 75.385569 | D151: 0.33040429 | E151: 9.6104323 | F151: 5.4430373 | G151: 0.25339117 | H151: 0 | I151: 0.12563626 | J151: 3.4213105 | K151: 5.2915535 | L151: 0.0050847727 | N151: Kspar15_1 | O151: 67.4153 | P151: 0.0396 | Q151: 18.5478 | R151: 0.4743 | S151: 0.008 | T151: 0.0047 | U151: 0.0196 | V151: 7.0747 | W151: 6.5894 | Y151: 1053.2679 | Z151: 1053.3111 | AA151: 1053.3544 | AB151: 1053.3977 | AC151: 1053.441 | AE151: 7.0634875
B152: NCW_F_G9 | C152: 75.447991 | D152: 0.3644334 | E152: 9.454923 | F152: 5.5967531 | G152: 0.25840688 | H152: 0 | I152: 0.17985706 | J152: 3.8277567 | K152: 4.6413608 | L152: 0.020030728 | N152: Kspar15_2 | O152: 66.9703 | P152: 0.0228 | Q152: 18.467 | R152: 0.6015 | S152: 0.0087 | T152: 0.0003 | U152: 0.0291 | V152: 7.0328 | W152: 6.5565 | Y152: 1046.5676 | Z152: 1046.6103 | AA152: 1046.653 | AB152: 1046.6958 | AC152: 1046.7385 | AE152: 6.7482018
B153: NCW_F_G20 | C153: 75.385569 | D153: 0.33040429 | E153: 9.6104323 | F153: 5.4430373 | G153: 0.25339117 | H153: 0 | I153: 0.12563626 | J153: 3.4213105 | K153: 5.2915535 | L153: 0.0050847727 | N153: Kspar15_2 | O153: 66.9703 | P153: 0.0228 | Q153: 18.467 | R153: 0.6015 | S153: 0.0087 | T153: 0.0003 | U153: 0.0291 | V153: 7.0328 | W153: 6.5565 | Y153: 1053.1739 | Z153: 1053.2171 | AA153: 1053.2604 | AB153: 1053.3037 | AC153: 1053.3469 | AE153: 6.9581337
B154: NCW_F_G9 | C154: 75.447991 | D154: 0.3644334 | E154: 9.454923 | F154: 5.5967531 | G154: 0.25840688 | H154: 0 | I154: 0.17985706 | J154: 3.8277567 | K154: 4.6413608 | L154: 0.020030728 | N154: Kspar16_1 | O154: 67.1311 | P154: 0 | Q154: 18.6814 | R154: 0.7544 | S154: 0 | T154: 0 | U154: 0.0118 | V154: 6.7775 | W154: 6.8123 | Y154: 1043.3685 | Z154: 1043.411 | AA154: 1043.4534 | AB154: 1043.4959 | AC154: 1043.5384 | AE154: 5.57804
B155: NCW_F_G20 | C155: 75.385569 | D155: 0.33040429 | E155: 9.6104323 | F155: 5.4430373 | G155: 0.25339117 | H155: 0 | I155: 0.12563626 | J155: 3.4213105 | K155: 5.2915535 | L155: 0.0050847727 | N155: Kspar16_1 | O155: 67.1311 | P155: 0 | Q155: 18.6814 | R155: 0.7544 | S155: 0 | T155: 0 | U155: 0.0118 | V155: 6.7775 | W155: 6.8123 | Y155: 1049.9343 | Z155: 1049.9773 | AA155: 1050.0203 | AB155: 1050.0633 | AC155: 1050.1063 | AE155: 5.7877679
B156: NCW_F_G9 | C156: 75.447991 | D156: 0.3644334 | E156: 9.454923 | F156: 5.5967531 | G156: 0.25840688 | H156: 0 | I156: 0.17985706 | J156: 3.8277567 | K156: 4.6413608 | L156: 0.020030728 | N156: Kspar16_2 | O156: 66.9666 | P156: 0.0278 | Q156: 18.2468 | R156: 0.9707 | S156: 0 | T156: 0.0073 | U156: 0 | V156: 6.6976 | W156: 7.0519 | Y156: 1041.3361 | Z156: 1041.3784 | AA156: 1041.4207 | AB156: 1041.463 | AC156: 1041.5053
B157: NCW_F_G20 | C157: 75.385569 | D157: 0.33040429 | E157: 9.6104323 | F157: 5.4430373 | G157: 0.25339117 | H157: 0 | I157: 0.12563626 | J157: 3.4213105 | K157: 5.2915535 | L157: 0.0050847727 | N157: Kspar16_2 | O157: 66.9666 | P157: 0.0278 | Q157: 18.2468 | R157: 0.9707 | S157: 0 | T157: 0.0073 | U157: 0 | V157: 6.6976 | W157: 7.0519 | Y157: 1047.8763 | Z157: 1047.9191 | AA157: 1047.9619 | AB157: 1048.0048 | AC157: 1048.0476
B158: NCW_F_G9 | C158: 75.447991 | D158: 0.3644334 | E158: 9.454923 | F158: 5.5967531 | G158: 0.25840688 | H158: 0 | I158: 0.17985706 | J158: 3.8277567 | K158: 4.6413608 | L158: 0.020030728 | N158: Kspar17_1 | O158: 67.5199 | P158: 0 | Q158: 18.7051 | R158: 0.4987 | S158: 0 | T158: 0.0018 | U158: 0.0467 | V158: 7.0817 | W158: 6.3797 | Y158: 1047.9254 | Z158: 1047.9683 | AA158: 1048.0111 | AB158: 1048.0539 | AC158: 1048.0968 | AE158: 7.4561551
B159: NCW_F_G20 | C159: 75.385569 | D159: 0.33040429 | E159: 9.6104323 | F159: 5.4430373 | G159: 0.25339117 | H159: 0 | I159: 0.12563626 | J159: 3.4213105 | K159: 5.2915535 | L159: 0.0050847727 | N159: Kspar17_1 | O159: 67.5199 | P159: 0 | Q159: 18.7051 | R159: 0.4987 | S159: 0 | T159: 0.0018 | U159: 0.0467 | V159: 7.0817 | W159: 6.3797 | Y159: 1054.5489 | Z159: 1054.5923 | AA159: 1054.6357 | AB159: 1054.6791 | AC159: 1054.7224 | AE159: 7.666173
B160: NCW_F_G9 | C160: 75.447991 | D160: 0.3644334 | E160: 9.454923 | F160: 5.5967531 | G160: 0.25840688 | H160: 0 | I160: 0.17985706 | J160: 3.8277567 | K160: 4.6413608 | L160: 0.020030728 | N160: Kspar17_2 | O160: 67.5497 | P160: 0 | Q160: 18.5011 | R160: 0.8095 | S160: 0 | T160: 0 | U160: 0.0194 | V160: 7.0791 | W160: 6.3713 | Y160: 1048.1164 | Z160: 1048.1593 | AA160: 1048.2021 | AB160: 1048.245 | AC160: 1048.2878 | AE160: 5.721869
B161: NCW_F_G20 | C161: 75.385569 | D161: 0.33040429 | E161: 9.6104323 | F161: 5.4430373 | G161: 0.25339117 | H161: 0 | I161: 0.12563626 | J161: 3.4213105 | K161: 5.2915535 | L161: 0.0050847727 | N161: Kspar17_2 | O161: 67.5497 | P161: 0 | Q161: 18.5011 | R161: 0.8095 | S161: 0 | T161: 0 | U161: 0.0194 | V161: 7.0791 | W161: 6.3713 | Y161: 1054.7423 | Z161: 1054.7857 | AA161: 1054.8291 | AB161: 1054.8725 | AC161: 1054.9159 | AE161: 5.9318991
B162: NCW_F_G9 | C162: 75.447991 | D162: 0.3644334 | E162: 9.454923 | F162: 5.5967531 | G162: 0.25840688 | H162: 0 | I162: 0.17985706 | J162: 3.8277567 | K162: 4.6413608 | L162: 0.020030728 | N162: Kspar18_1 | O162: 66.6044 | P162: 0.0139 | Q162: 18.2979 | R162: 0.7455 | S162: 0 | T162: 0.0101 | U162: 0 | V162: 6.7427 | W162: 7.4274 | Y162: 1039.248 | Z162: 1039.2901 | AA162: 1039.3323 | AB162: 1039.3744 | AC162: 1039.4165
B163: NCW_F_G20 | C163: 75.385569 | D163: 0.33040429 | E163: 9.6104323 | F163: 5.4430373 | G163: 0.25339117 | H163: 0 | I163: 0.12563626 | J163: 3.4213105 | K163: 5.2915535 | L163: 0.0050847727 | N163: Kspar18_1 | O163: 66.6044 | P163: 0.0139 | Q163: 18.2979 | R163: 0.7455 | S163: 0 | T163: 0.0101 | U163: 0 | V163: 6.7427 | W163: 7.4274 | Y163: 1045.7619 | Z163: 1045.8046 | AA163: 1045.8472 | AB163: 1045.8899 | AC163: 1045.9326
B164: NCW_F_G9 | C164: 75.447991 | D164: 0.3644334 | E164: 9.454923 | F164: 5.5967531 | G164: 0.25840688 | H164: 0 | I164: 0.17985706 | J164: 3.8277567 | K164: 4.6413608 | L164: 0.020030728 | N164: Kspar18_2 | O164: 67.149 | P164: 0 | Q164: 18.3979 | R164: 0.7019 | S164: 0 | T164: 0.0002 | U164: 0.0185 | V164: 6.5398 | W164: 7.1369 | Y164: 1039.5825 | Z164: 1039.6247 | AA164: 1039.6669 | AB164: 1039.709 | AC164: 1039.7512 | AE164: 6.3174432
B165: NCW_F_G20 | C165: 75.385569 | D165: 0.33040429 | E165: 9.6104323 | F165: 5.4430373 | G165: 0.25339117 | H165: 0 | I165: 0.12563626 | J165: 3.4213105 | K165: 5.2915535 | L165: 0.0050847727 | N165: Kspar18_2 | O165: 67.149 | P165: 0 | Q165: 18.3979 | R165: 0.7019 | S165: 0 | T165: 0.0002 | U165: 0.0185 | V165: 6.5398 | W165: 7.1369 | Y165: 1046.1007 | Z165: 1046.1433 | AA165: 1046.186 | AB165: 1046.2287 | AC165: 1046.2714 | AE165: 6.5269272
B166: NCW_F_G9 | C166: 75.447991 | D166: 0.3644334 | E166: 9.454923 | F166: 5.5967531 | G166: 0.25840688 | H166: 0 | I166: 0.17985706 | J166: 3.8277567 | K166: 4.6413608 | L166: 0.020030728 | N166: Kspar18_3 | O166: 67.4128 | P166: 0.0094 | Q166: 18.3388 | R166: 0.8249 | S166: 0.0087 | T166: 0.0037 | U166: 0.0058 | V166: 6.6273 | W166: 7.2373 | Y166: 1039.6209 | Z166: 1039.663 | AA166: 1039.7052 | AB166: 1039.7474 | AC166: 1039.7895 | AE166: 4.8439852
B167: NCW_F_G20 | C167: 75.385569 | D167: 0.33040429 | E167: 9.6104323 | F167: 5.4430373 | G167: 0.25339117 | H167: 0 | I167: 0.12563626 | J167: 3.4213105 | K167: 5.2915535 | L167: 0.0050847727 | N167: Kspar18_3 | O167: 67.4128 | P167: 0.0094 | Q167: 18.3388 | R167: 0.8249 | S167: 0.0087 | T167: 0.0037 | U167: 0.0058 | V167: 6.6273 | W167: 7.2373 | Y167: 1046.1395 | Z167: 1046.1822 | AA167: 1046.2248 | AB167: 1046.2675 | AC167: 1046.3102 | AE167: 5.0534717
B168: NCW_F_G9 | C168: 75.447991 | D168: 0.3644334 | E168: 9.454923 | F168: 5.5967531 | G168: 0.25840688 | H168: 0 | I168: 0.17985706 | J168: 3.8277567 | K168: 4.6413608 | L168: 0.020030728 | N168: Kspar20_1 | O168: 66.3352 | P168: 0.0047 | Q168: 18.0184 | R168: 0.9477 | S168: 0 | T168: 0 | U168: 0.0058 | V168: 6.622 | W168: 7.4348 | Y168: 1038.322 | Z168: 1038.3641 | AA168: 1038.4061 | AB168: 1038.4482 | AC168: 1038.4902 | AE168: 4.5954823
B169: NCW_F_G20 | C169: 75.385569 | D169: 0.33040429 | E169: 9.6104323 | F169: 5.4430373 | G169: 0.25339117 | H169: 0 | I169: 0.12563626 | J169: 3.4213105 | K169: 5.2915535 | L169: 0.0050847727 | N169: Kspar20_1 | O169: 66.3352 | P169: 0.0047 | Q169: 18.0184 | R169: 0.9477 | S169: 0 | T169: 0 | U169: 0.0058 | V169: 6.622 | W169: 7.4348 | Y169: 1044.8243 | Z169: 1044.8669 | AA169: 1044.9094 | AB169: 1044.952 | AC169: 1044.9946 | AE169: 4.8048845
B170: NCW_F_G9 | C170: 75.447991 | D170: 0.3644334 | E170: 9.454923 | F170: 5.5967531 | G170: 0.25840688 | H170: 0 | I170: 0.17985706 | J170: 3.8277567 | K170: 4.6413608 | L170: 0.020030728 | N170: Kspar20_2 | O170: 66.5273 | P170: 0.0033 | Q170: 18.1462 | R170: 0.9057 | S170: 0 | T170: 0 | U170: 0 | V170: 6.5312 | W170: 7.3305 | Y170: 1038.3681 | Z170: 1038.4101 | AA170: 1038.4522 | AB170: 1038.4942 | AC170: 1038.5363
B171: NCW_F_G20 | C171: 75.385569 | D171: 0.33040429 | E171: 9.6104323 | F171: 5.4430373 | G171: 0.25339117 | H171: 0 | I171: 0.12563626 | J171: 3.4213105 | K171: 5.2915535 | L171: 0.0050847727 | N171: Kspar20_2 | O171: 66.5273 | P171: 0.0033 | Q171: 18.1462 | R171: 0.9057 | S171: 0 | T171: 0 | U171: 0 | V171: 6.5312 | W171: 7.3305 | Y171: 1044.8709 | Z171: 1044.9135 | AA171: 1044.9561 | AB171: 1044.9987 | AC171: 1045.0413
B172: NCW_F_G20 | C172: 75.385569 | D172: 0.33040429 | E172: 9.6104323 | F172: 5.4430373 | G172: 0.25339117 | H172: 0 | I172: 0.12563626 | J172: 3.4213105 | K172: 5.2915535 | L172: 0.0050847727 | N172: Kspar21_1 | O172: 67.9868 | P172: 0 | Q172: 18.7708 | R172: 0.5956 | S172: 0.0044 | T172: 0 | U172: 0.0082 | V172: 7.0903 | W172: 6.2146 | Y172: 1055.9255 | Z172: 1055.9689 | AA172: 1056.0124 | AB172: 1056.0559 | AC172: 1056.0994 | AE172: 5.6599409
B173: NCW_F_G9 | C173: 75.447991 | D173: 0.3644334 | E173: 9.454923 | F173: 5.5967531 | G173: 0.25840688 | H173: 0 | I173: 0.17985706 | J173: 3.8277567 | K173: 4.6413608 | L173: 0.020030728 | N173: Kspar21_2 | O173: 67.237 | P173: 0.0178 | Q173: 18.6718 | R173: 0.5634 | S173: 0.0051 | T173: 0 | U173: 0.0318 | V173: 7.1093 | W173: 6.7079 | Y173: 1046.0386 | Z173: 1046.0813 | AA173: 1046.124 | AB173: 1046.1667 | AC173: 1046.2094 | AE173: 6.9813839
B174: NCW_F_G20 | C174: 75.385569 | D174: 0.33040429 | E174: 9.6104323 | F174: 5.4430373 | G174: 0.25339117 | H174: 0 | I174: 0.12563626 | J174: 3.4213105 | K174: 5.2915535 | L174: 0.0050847727 | N174: Kspar21_2 | O174: 67.237 | P174: 0.0178 | Q174: 18.6718 | R174: 0.5634 | S174: 0.0051 | T174: 0 | U174: 0.0318 | V174: 7.1093 | W174: 6.7079 | Y174: 1052.6382 | Z174: 1052.6814 | AA174: 1052.7247 | AB174: 1052.7679 | AC174: 1052.8111 | AE174: 7.1912823
B175: NCW_F_G8 | C175: 73.821851 | D175: 0.21260827 | E175: 11.651179 | F175: 4.2690554 | G175: 0.18507259 | H175: 0.020882084 | I175: 0.14484387 | J175: 6.6916842 | K175: 2.9351611 | L175: 0 | N175: Kspar22_1 | O175: 66.5181 | P175: 0.0453 | Q175: 18.1298 | R175: 1.0302 | S175: 0.0164 | T175: 0 | U175: 0.0024 | V175: 6.6791 | W175: 7.713 | Y175: 892.17396 | Z175: 892.205 | AA175: 892.23605 | AB175: 892.2671 | AC175: 892.29815 | AE175: 7.2864791
B176: NCW_F_G9 | C176: 75.447991 | D176: 0.3644334 | E176: 9.454923 | F176: 5.5967531 | G176: 0.25840688 | H176: 0 | I176: 0.17985706 | J176: 3.8277567 | K176: 4.6413608 | L176: 0.020030728 | N176: Kspar22_1 | O176: 66.5181 | P176: 0.0453 | Q176: 18.1298 | R176: 1.0302 | S176: 0.0164 | T176: 0 | U176: 0.0024 | V176: 6.6791 | W176: 7.713 | Y176: 1037.0032 | Z176: 1037.0451 | AA176: 1037.0871 | AB176: 1037.129 | AC176: 1037.171 | AE176: 3.5789997
B177: NCW_F_G20 | C177: 75.385569 | D177: 0.33040429 | E177: 9.6104323 | F177: 5.4430373 | G177: 0.25339117 | H177: 0 | I177: 0.12563626 | J177: 3.4213105 | K177: 5.2915535 | L177: 0.0050847727 | N177: Kspar22_1 | O177: 66.5181 | P177: 0.0453 | Q177: 18.1298 | R177: 1.0302 | S177: 0.0164 | T177: 0 | U177: 0.0024 | V177: 6.6791 | W177: 7.713 | Y177: 1043.4889 | Z177: 1043.5314 | AA177: 1043.5738 | AB177: 1043.6163 | AC177: 1043.6588 | AE177: 3.788316
B178: NCW_F_G8 | C178: 73.821851 | D178: 0.21260827 | E178: 11.651179 | F178: 4.2690554 | G178: 0.18507259 | H178: 0.020882084 | I178: 0.14484387 | J178: 6.6916842 | K178: 2.9351611 | L178: 0 | N178: Kspar22_2 | O178: 66.6899 | P178: 0.026 | Q178: 18.0828 | R178: 0.9954 | S178: 0.0114 | T178: 0.0006 | U178: 0.0024 | V178: 6.5287 | W178: 7.5075 | Y178: 892.32328 | Z178: 892.35434 | AA178: 892.38539 | AB178: 892.41645 | AC178: 892.44751 | AE178: 7.351506
...

Sheet NCW_F Enclave T and P Calc
A2: Two Feldspar Thermometry
A3: Calculated using Equation 27b of Putirka, 2008 using the Thermobar python package. Only in-equilibrium pairs are shown
A4: Each Kspar composition was matched with every plagioclase composition | W4: Calculated Temperature (K)
A5: Feldspar# | B5: SiO2_Kspar | C5: TiO2_Kspar | D5: Al2O3_Kspar | E5: FeOt_Kspar | F5: MnO_Kspar | G5: MgO_Kspar | H5: CaO_Kspar | I5: Na2O_Kspar | J5: K2O_Kspar | L5: Feldspar# | M5: SiO2_Plag | N5: TiO2_Plag | O5: Al2O3_Plag | P5: FeOt_Plag | Q5: MnO_Plag | R5: MgO_Plag | S5: CaO_Plag | T5: Na2O_Plag | U5: K2O_Plag | W5: 0.5 kbar | X5: 1kbar | Y5: 1.5kbar | Z5: 2 kbar | AA5: 2.5 Kbar
A6: NCW_F_En_Feldspar__16 | B6: 64.0975 | C6: 0.1837 | D6: 20.6059 | E6: 0.4713 | F6: 0 | G6: 0.0445 | H6: 2.3424 | I6: 7.7208 | J6: 3.7218 | L6: NCW_F_En_Feldspar__6 | M6: 56.892 | N6: 0.1371 | O6: 26.3351 | P6: 0.5911 | Q6: 0.0236 | R6: 0.0546 | S6: 8.6469 | T6: 6.2966 | U6: 0.7516 | W6: 1073.2056 | X6: 1076.5582 | Y6: 1079.9108 | Z6: 1083.2635 | AA6: 1086.6161
A7: NCW_F_En_Feldspar__16 | B7: 64.0975 | C7: 0.1837 | D7: 20.6059 | E7: 0.4713 | F7: 0 | G7: 0.0445 | H7: 2.3424 | I7: 7.7208 | J7: 3.7218 | L7: NCW_F_En_Feldspar__9 | M7: 54.6707 | N7: 0.135 | O7: 28.1915 | P7: 0.6859 | Q7: 0 | R7: 0.0612 | S7: 10.6405 | T7: 5.3382 | U7: 0.4234 | W7: 1106.9992 | X7: 1110.4935 | Y7: 1113.9877 | Z7: 1117.482 | AA7: 1120.9762
A8: NCW_F_En_Feldspar__17 | B8: 64.0826 | C8: 0.13 | D8: 21.2484 | E8: 0.6165 | F8: 0 | G8: 0.0675 | H8: 2.7245 | I8: 7.9536 | J8: 3.1254 | L8: NCW_F_En_Feldspar__9 | M8: 54.6707 | N8: 0.135 | O8: 28.1915 | P8: 0.6859 | Q8: 0 | R8: 0.0612 | S8: 10.6405 | T8: 5.3382 | U8: 0.4234 | W8: 1046.8042 | X8: 1050.0462 | Y8: 1053.2882 | Z8: 1056.5302 | AA8: 1059.7722
A9: NCW_F_En_Feldspar__7 | B9: 63.8171 | C9: 0.1096 | D9: 22.0243 | E9: 0.4188 | F9: 0 | G9: 0.0001 | H9: 3.007 | I9: 8.043 | J9: 2.7156 | L9: NCW_F_En_Feldspar__10 | M9: 53.6025 | N9: 0.1515 | O9: 28.7672 | P9: 0.7446 | Q9: 0.0236 | R9: 0.0947 | S9: 11.5519 | T9: 4.739 | U9: 0.2857 | W9: 1015.2837 | X9: 1018.3936 | Y9: 1021.5035 | Z9: 1024.6134 | AA9: 1027.7233
A10: NCW_F_En_Feldspar__16 | B10: 64.0975 | C10: 0.1837 | D10: 20.6059 | E10: 0.4713 | F10: 0 | G10: 0.0445 | H10: 2.3424 | I10: 7.7208 | J10: 3.7218 | L10: NCW_F_En_Feldspar__10 | M10: 53.6025 | N10: 0.1515 | O10: 28.7672 | P10: 0.7446 | Q10: 0.0236 | R10: 0.0947 | S10: 11.5519 | T10: 4.739 | U10: 0.2857 | W10: 1122.5612 | X10: 1126.1207 | Y10: 1129.6801 | Z10: 1133.2396 | AA10: 1136.7991
A11: NCW_F_En_Feldspar__17 | B11: 64.0826 | C11: 0.13 | D11: 21.2484 | E11: 0.6165 | F11: 0 | G11: 0.0675 | H11: 2.7245 | I11: 7.9536 | J11: 3.1254 | L11: NCW_F_En_Feldspar__10 | M11: 53.6025 | N11: 0.1515 | O11: 28.7672 | P11: 0.7446 | Q11: 0.0236 | R11: 0.0947 | S11: 11.5519 | T11: 4.739 | U11: 0.2857 | W11: 1060.1824 | X11: 1063.4805 | Y11: 1066.7785 | Z11: 1070.0766 | AA11: 1073.3747
A12: NCW_F_En_Feldspar__7 | B12: 63.8171 | C12: 0.1096 | D12: 22.0243 | E12: 0.4188 | F12: 0 | G12: 0.0001 | H12: 3.007 | I12: 8.043 | J12: 2.7156 | L12: NCW_F_En_Feldspar__11 | M12: 53.9048 | N12: 0.1646 | O12: 28.1043 | P12: 0.8001 | Q12: 0.0107 | R12: 0.0452 | S12: 11.0519 | T12: 5.0142 | U12: 0.3682 | W12: 1114.7843 | X12: 1118.3111 | Y12: 1121.838 | Z12: 1125.3649 | AA12: 1021.6802
A13: NCW_F_En_Feldspar__16 | B13: 64.0975 | C13: 0.1837 | D13: 20.6059 | E13: 0.4713 | F13: 0 | G13: 0.0445 | H13: 2.3424 | I13: 7.7208 | J13: 3.7218 | L13: NCW_F_En_Feldspar__11 | M13: 53.9048 | N13: 0.1646 | O13: 28.1043 | P13: 0.8001 | Q13: 0.0107 | R13: 0.0452 | S13: 11.0519 | T13: 5.0142 | U13: 0.3682 | W13: 1053.5013 | X13: 1056.7713 | Y13: 1060.0414 | Z13: 1063.3115 | AA13: 1128.8918
A14: NCW_F_En_Feldspar__17 | B14: 64.0826 | C14: 0.13 | D14: 21.2484 | E14: 0.6165 | F14: 0 | G14: 0.0675 | H14: 2.7245 | I14: 7.9536 | J14: 3.1254 | L14: NCW_F_En_Feldspar__11 | M14: 53.9048 | N14: 0.1646 | O14: 28.1043 | P14: 0.8001 | Q14: 0.0107 | R14: 0.0452 | S14: 11.0519 | T14: 5.0142 | U14: 0.3682 | AA14: 1066.5816
A15: NCW_F_En_Feldspar__16 | B15: 64.0975 | C15: 0.1837 | D15: 20.6059 | E15: 0.4713 | F15: 0 | G15: 0.0445 | H15: 2.3424 | I15: 7.7208 | J15: 3.7218 | L15: NCW_F_En_Feldspar__12 | M15: 56.1855 | N15: 0.1089 | O15: 26.4696 | P15: 1.2599 | Q15: 0.0314 | R15: 0.1859 | S15: 8.8925 | T15: 5.8432 | U15: 0.6685 | W15: 1082.5551 | X15: 1085.9469 | Y15: 1089.3388 | Z15: 1092.7306 | AA15: 1096.1224
A16: NCW_F_En_Feldspar__16 | B16: 64.0975 | C16: 0.1837 | D16: 20.6059 | E16: 0.4713 | F16: 0 | G16: 0.0445 | H16: 2.3424 | I16: 7.7208 | J16: 3.7218 | L16: NCW_F_En_Feldspar__13 | M16: 59.446 | N16: 0.1195 | O16: 24.7965 | P16: 0.6383 | Q16: 0.0129 | R16: 0.0934 | S16: 6.6188 | T16: 7.2001 | U16: 0.9635 | W16: 1035.7222 | X16: 1038.9178 | Y16: 1042.1134 | Z16: 1045.3089 | AA16: 1048.5045
A17: NCW_F_En_Feldspar__17 | B17: 64.0826 | C17: 0.13 | D17: 21.2484 | E17: 0.6165 | F17: 0 | G17: 0.0675 | H17: 2.7245 | I17: 7.9536 | J17: 3.1254 | L17: NCW_F_En_Feldspar__13 | M17: 59.446 | N17: 0.1195 | O17: 24.7965 | P17: 0.6383 | Q17: 0.0129 | R17: 0.0934 | S17: 6.6188 | T17: 7.2001 | U17: 0.9635 | W17: 985.06566 | X17: 988.04895 | Y17: 991.03224 | Z17: 994.01553 | AA17: 996.99882
A18: NCW_F_En_Feldspar__7 | B18: 63.8171 | C18: 0.1096 | D18: 22.0243 | E18: 0.4188 | F18: 0 | G18: 0.0001 | H18: 3.007 | I18: 8.043 | J18: 2.7156 | L18: NCW_F_En_Feldspar__14 | M18: 55.9478 | N18: 0.1741 | O18: 27.0196 | P18: 0.8547 | Q18: 0.005 | R18: 0.0866 | S18: 9.3491 | T18: 6.0167 | U18: 0.4771 | W18: 987.89754 | X18: 990.8927 | Y18: 993.88785 | Z18: 996.88301 | AA18: 999.87817
A19: NCW_F_En_Feldspar__16 | B19: 64.0975 | C19: 0.1837 | D19: 20.6059 | E19: 0.4713 | F19: 0 | G19: 0.0445 | H19: 2.3424 | I19: 7.7208 | J19: 3.7218 | L19: NCW_F_En_Feldspar__14 | M19: 55.9478 | N19: 0.1741 | O19: 27.0196 | P19: 0.8547 | Q19: 0.005 | R19: 0.0866 | S19: 9.3491 | T19: 6.0167 | U19: 0.4771 | W19: 1086.8757 | X19: 1090.2856 | Y19: 1093.6956 | Z19: 1097.1055 | AA19: 1100.5154
A20: NCW_F_En_Feldspar__17 | B20: 64.0826 | C20: 0.13 | D20: 21.2484 | E20: 0.6165 | F20: 0 | G20: 0.0675 | H20: 2.7245 | I20: 7.9536 | J20: 3.1254 | L20: NCW_F_En_Feldspar__14 | M20: 55.9478 | N20: 0.1741 | O20: 27.0196 | P20: 0.8547 | Q20: 0.005 | R20: 0.0866 | S20: 9.3491 | T20: 6.0167 | U20: 0.4771 | W20: 1029.451 | X20: 1032.6203 | Y20: 1035.7895 | Z20: 1038.9588 | AA20: 1042.1281
A21: NCW_F_En_Feldspar__7 | B21: 63.8171 | C21: 0.1096 | D21: 22.0243 | E21: 0.4188 | F21: 0 | G21: 0.0001 | H21: 3.007 | I21: 8.043 | J21: 2.7156 | L21: NCW_F_En_Feldspar__15 | M21: 53.8114 | N21: 0.1225 | O21: 28.6513 | P21: 0.6894 | Q21: 0 | R21: 0.0681 | S21: 11.5477 | T21: 4.8965 | U21: 0.3151 | W21: 1120.0844 | X21: 1016.4942 | Y21: 1019.5962 | Z21: 1022.6982 | AA21: 1025.8002
A22: NCW_F_En_Feldspar__17 | B22: 64.0975 | C22: 0.1837 | D22: 20.6059 | E22: 0.4713 | F22: 0 | G22: 0.0445 | H22: 2.3424 | I22: 7.7208 | J22: 3.7218 | L22: NCW_F_En_Feldspar__15 | M22: 53.8114 | N22: 0.1225 | O22: 28.6513 | P22: 0.6894 | Q22: 0 | R22: 0.0681 | S22: 11.5477 | T22: 4.8965 | U22: 0.3151 | W22: 1058.0555 | X22: 1123.6335 | Y22: 1127.1825 | Z22: 1130.7316 | AA22: 1134.2807
A23: NCW_F_En_Feldspar__17 | B23: 64.0826 | C23: 0.13 | D23: 21.2484 | E23: 0.6165 | F23: 0 | G23: 0.0675 | H23: 2.7245 | I23: 7.9536 | J23: 3.1254 | L23: NCW_F_En_Feldspar__15 | M23: 53.8114 | N23: 0.1225 | O23: 28.6513 | P23: 0.6894 | Q23: 0 | R23: 0.0681 | S23: 11.5477 | T23: 4.8965 | U23: 0.3151 | X23: 1061.3447 | Y23: 1064.6339 | Z23: 1067.923 | AA23: 1071.2122
A24: NCW_F_En_Feldspar__16 | B24: 64.0975 | C24: 0.1837 | D24: 20.6059 | E24: 0.4713 | F24: 0 | G24: 0.0445 | H24: 2.3424 | I24: 7.7208 | J24: 3.7218 | L24: NCW_F_En_Feldspar__18 | M24: 58.8098 | N24: 0.1246 | O24: 24.7708 | P24: 0.7783 | Q24: 0.0029 | R24: 0.0817 | S24: 7.1995 | T24: 7.0393 | U24: 0.8527 | W24: 1046.2669 | X24: 1049.5066 | Y24: 1052.7464 | Z24: 1055.9862 | AA24: 1059.2259
A25: NCW_F_En_Feldspar__17 | B25: 64.0826 | C25: 0.13 | D25: 21.2484 | E25: 0.6165 | F25: 0 | G25: 0.0675 | H25: 2.7245 | I25: 7.9536 | J25: 3.1254 | L25: NCW_F_En_Feldspar__18 | M25: 58.8098 | N25: 0.1246 | O25: 24.7708 | P25: 0.7783 | Q25: 0.0029 | R25: 0.0817 | S25: 7.1995 | T25: 7.0393 | U25: 0.8527 | W25: 994.24747 | X25: 997.26924 | Y25: 1000.291 | Z25: 1003.3128 | AA25: 1006.3345
A26: NCW_F_En_Feldspar__7 | B26: 63.8171 | C26: 0.1096 | D26: 22.0243 | E26: 0.4188 | F26: 0 | G26: 0.0001 | H26: 3.007 | I26: 8.043 | J26: 2.7156 | L26: NCW_F_En_Feldspar__19 | M26: 54.0148 | N26: 0.1814 | O26: 28.6093 | P26: 0.7881 | Q26: 0 | R26: 0.1027 | S26: 11.4484 | T26: 4.951 | U26: 0.3188 | W26: 1118.74 | X26: 1015.4627 | Y26: 1018.5604 | Z26: 1021.6581 | AA26: 1024.7558
A27: NCW_F_En_Feldspar__16 | B27: 64.0975 | C27: 0.1837 | D27: 20.6059 | E27: 0.4713 | F27: 0 | G27: 0.0445 | H27: 2.3424 | I27: 7.7208 | J27: 3.7218 | L27: NCW_F_En_Feldspar__19 | M27: 54.0148 | N27: 0.1814 | O27: 28.6093 | P27: 0.7881 | Q27: 0 | R27: 0.1027 | S27: 11.4484 | T27: 4.951 | U27: 0.3188 | W27: 1056.9007 | X27: 1122.2834 | Y27: 1125.8269 | Z27: 1129.3703 | AA27: 1132.9138
A28: NCW_F_En_Feldspar__17 | B28: 64.0826 | C28: 0.13 | D28: 21.2484 | E28: 0.6165 | F28: 0 | G28: 0.0675 | H28: 2.7245 | I28: 7.9536 | J28: 3.1254 | L28: NCW_F_En_Feldspar__19 | M28: 54.0148 | N28: 0.1814 | O28: 28.6093 | P28: 0.7881 | Q28: 0 | R28: 0.1027 | S28: 11.4484 | T28: 4.951 | U28: 0.3188 | X28: 1060.185 | Y28: 1063.4694 | Z28: 1066.7537 | AA28: 1070.038
A29: NCW_F_En_Feldspar__7 | B29: 63.8171 | C29: 0.1096 | D29: 22.0243 | E29: 0.4188 | F29: 0 | G29: 0.0001 | H29: 3.007 | I29: 8.043 | J29: 2.7156 | L29: NCW_F_En_Feldspar__21 | M29: 53.97 | N29: 0.2071 | O29: 28.5654 | P29: 0.8994 | Q29: 0.0064 | R29: 0.0699 | S29: 11.2691 | T29: 5.0941 | U29: 0.3451 | W29: 1115.4306 | X29: 1118.9602 | Y29: 1016.0089 | Z29: 1019.0959 | AA29: 1022.183
A30: NCW_F_En_Feldspar__16 | B30: 64.0975 | C30: 0.1837 | D30: 20.6059 | E30: 0.4713 | F30: 0 | G30: 0.0445 | H30: 2.3424 | I30: 7.7208 | J30: 3.7218 | L30: NCW_F_En_Feldspar__21 | M30: 53.97 | N30: 0.2071 | O30: 28.5654 | P30: 0.8994 | Q30: 0.0064 | R30: 0.0699 | S30: 11.2691 | T30: 5.0941 | U30: 0.3451 | W30: 1054.0569 | X30: 1057.3293 | Y30: 1122.4898 | Z30: 1126.0194 | AA30: 1129.549
A31: NCW_F_En_Feldspar__17 | B31: 64.0826 | C31: 0.13 | D31: 21.2484 | E31: 0.6165 | F31: 0 | G31: 0.0675 | H31: 2.7245 | I31: 7.9536 | J31: 3.1254 | L31: NCW_F_En_Feldspar__21 | M31: 53.97 | N31: 0.2071 | O31: 28.5654 | P31: 0.8994 | Q31: 0.0064 | R31: 0.0699 | S31: 11.2691 | T31: 5.0941 | U31: 0.3451 | Y31: 1060.6017 | Z31: 1063.8741 | AA31: 1067.1465
A32: NCW_F_En_Feldspar__16 | B32: 64.0975 | C32: 0.1837 | D32: 20.6059 | E32: 0.4713 | F32: 0 | G32: 0.0445 | H32: 2.3424 | I32: 7.7208 | J32: 3.7218 | L32: NCW_F_En_Feldspar__22 | M32: 54.32 | N32: 0.1638 | O32: 28.0644 | P32: 0.9267 | Q32: 0 | R32: 0.1192 | S32: 10.8003 | T32: 5.2443 | U32: 0.44 | W32: 1109.1299 | X32: 1112.633 | Y32: 1116.1362 | Z32: 1119.6394 | AA32: 1123.1426
A33: NCW_F_En_Feldspar__17 | B33: 64.0826 | C33: 0.13 | D33: 21.2484 | E33: 0.6165 | F33: 0 | G33: 0.0675 | H33: 2.7245 | I33: 7.9536 | J33: 3.1254 | L33: NCW_F_En_Feldspar__22 | M33: 54.32 | N33: 0.1638 | O33: 28.0644 | P33: 0.9267 | Q33: 0 | R33: 0.1192 | S33: 10.8003 | T33: 5.2443 | U33: 0.44 | X33: 1051.8876 | Y33: 1055.1373 | Z33: 1058.387 | AA33: 1061.6367
A34: NCW_F_En_Feldspar__16 | B34: 64.0975 | C34: 0.1837 | D34: 20.6059 | E34: 0.4713 | F34: 0 | G34: 0.0445 | H34: 2.3424 | I34: 7.7208 | J34: 3.7218 | L34: NCW_F_En_Feldspar__23 | M34: 58.1869 | N34: 0.1345 | O34: 25.6934 | P34: 0.6904 | Q34: 0 | R34: 0.0554 | S34: 7.7051 | T34: 6.6491 | U34: 0.7954 | W34: 1057.8406 | X34: 1061.1288 | Y34: 1064.4171 | Z34: 1067.7054 | AA34: 1070.9936
A35: NCW_F_En_Feldspar__17 | B35: 64.0826 | C35: 0.13 | D35: 21.2484 | E35: 0.6165 | F35: 0 | G35: 0.0675 | H35: 2.7245 | I35: 7.9536 | J35: 3.1254 | L35: NCW_F_En_Feldspar__23 | M35: 58.1869 | N35: 0.1345 | O35: 25.6934 | P35: 0.6904 | Q35: 0 | R35: 0.0554 | S35: 7.7051 | T35: 6.6491 | U35: 0.7954 | Y35: 1010.4338 | Z35: 1013.4977 | AA35: 1016.5616
A36: NCW_F_En_Feldspar__7 | B36: 63.8171 | C36: 0.1096 | D36: 22.0243 | E36: 0.4188 | F36: 0 | G36: 0.0001 | H36: 3.007 | I36: 8.043 | J36: 2.7156 | L36: NCW_F_En_Feldspar__1 | M36: 52.2002 | N36: 0.1125 | O36: 29.71 | P36: 0.6818 | Q36: 0 | R36: 0.1133 | S36: 12.7654 | T36: 4.084 | U36: 0.2359 | W36: 1137.81 | X36: 1141.4334 | Y36: 1033.2148 | Z36: 1036.3734 | AA36: 1039.532
A37: NCW_F_En_Feldspar__16 | B37: 64.0975 | C37: 0.1837 | D37: 20.6059 | E37: 0.4713 | F37: 0 | G37: 0.0445 | H37: 2.3424 | I37: 7.7208 | J37: 3.7218 | L37: NCW_F_En_Feldspar__1 | M37: 52.2002 | N37: 0.1125 | O37: 29.71 | P37: 0.6818 | Q37: 0 | R37: 0.1133 | S37: 12.7654 | T37: 4.084 | U37: 0.2359 | W37: 1073.2566 | X37: 1076.6094 | Y37: 1145.0567 | Z37: 1148.6801 | AA37: 1152.3035
A38: NCW_F_En_Feldspar__17 | B38: 64.0826 | C38: 0.13 | D38: 21.2484 | E38: 0.6165 | F38: 0 | G38: 0.0675 | H38: 2.7245 | I38: 7.9536 | J38: 3.1254 | L38: NCW_F_En_Feldspar__1 | M38: 52.2002 | N38: 0.1125 | O38: 29.71 | P38: 0.6818 | Q38: 0 | R38: 0.1133 | S38: 12.7654 | T38: 4.084 | U38: 0.2359 | Y38: 1079.9623 | Z38: 1083.3151 | AA38: 1086.668
A39: NCW_F_En_Feldspar__16 | B39: 64.0975 | C39: 0.1837 | D39: 20.6059 | E39: 0.4713 | F39: 0 | G39: 0.0445 | H39: 2.3424 | I39: 7.7208 | J39: 3.7218 | L39: NCW_F_En_Feldspar__2 | M39: 52.5851 | N39: 0.1575 | O39: 28.9493 | P39: 1.1041 | Q39: 0.0114 | R39: 0.1292 | S39: 12.0978 | T39: 4.5367 | U39: 0.328 | W39: 1127.5774 | X39: 1131.1579 | Y39: 1134.7384 | Z39: 1138.3189 | AA39: 1141.8993
A40: NCW_F_En_Feldspar__17 | B40: 64.0826 | C40: 0.13 | D40: 21.2484 | E40: 0.6165 | F40: 0 | G40: 0.0675 | H40: 2.7245 | I40: 7.9536 | J40: 3.1254 | L40: NCW_F_En_Feldspar__2 | M40: 52.5851 | N40: 0.1575 | O40: 28.9493 | P40: 1.1041 | Q40: 0.0114 | R40: 0.1292 | S40: 12.0978 | T40: 4.5367 | U40: 0.328 | W40: 1064.487 | X40: 1067.8031 | Y40: 1071.1193 | Z40: 1074.4354 | AA40: 1077.7515
A41: NCW_F_En_Feldspar__16 | B41: 64.0975 | C41: 0.1837 | D41: 20.6059 | E41: 0.4713 | F41: 0 | G41: 0.0445 | H41: 2.3424 | I41: 7.7208 | J41: 3.7218 | L41: NCW_F_En_Feldspar__3 | M41: 54.1446 | N41: 0.1647 | O41: 28.3412 | P41: 0.7974 | Q41: 0.0043 | R41: 0.0633 | S41: 10.9838 | T41: 5.0771 | U41: 0.3868 | W41: 1113.2635 | X41: 1116.784 | Y41: 1120.3045 | Z41: 1123.825 | AA41: 1127.3455
A42: NCW_F_En_Feldspar__17 | B42: 64.0826 | C42: 0.13 | D42: 21.2484 | E42: 0.6165 | F42: 0 | G42: 0.0675 | H42: 2.7245 | I42: 7.9536 | J42: 3.1254 | L42: NCW_F_En_Feldspar__3 | M42: 54.1446 | N42: 0.1647 | O42: 28.3412 | P42: 0.7974 | Q42: 0.0043 | R42: 0.0633 | S42: 10.9838 | T42: 5.0771 | U42: 0.3868 | W42: 1052.1937 | X42: 1055.4583 | Y42: 1058.7229 | Z42: 1061.9875 | AA42: 1065.2521
A45: Clinopyroxene Only Barometry
A46: Calculated using the random forest CPX thermobarometer of Jorgenson et al 2022 | O46: Pressure (Kbar) | S46: Temperature oC
A47: Model results have a error of 320 Mpa and 72 oC
A48: Cpx# | B48: SiO2 | C48: TiO2 | D48: Al2O3 | E48: Fe2O3 | F48: Cr2O3 | G48: FeO | H48: MgO | I48: MnO | J48: CaO | K48: Na2O | L48: K2O | M48: P2O5 | O48: Mean | P48: Median | Q48: Mode | R48: IQR | S48: Mean | T48: Median | U48: Mode | V48: IQR
A49: NCW_F_En_CPX__1 | B49: 50.9653 | C49: 1.2019 | D49: 1.6209 | E49: 0 | F49: 0 | G49: 10.5684 | H49: 14.0054 | I49: 0.3358 | J49: 20.3317 | K49: 0.3026 | L49: 0.0233 | M49: 0.055 | O49: 1 | P49: 0.5 | Q49: 0 | R49: 1.5 | S49: 1068 | T49: 1078 | U49: 1020 | V49: 65
A50: NCW_F_En_CPX__2 | B50: 50.318 | C50: 1.4177 | D50: 2.2436 | E50: 0 | F50: 0 | G50: 10.9869 | H50: 13.1833 | I50: 0.3343 | J50: 20.0629 | K50: 0.4079 | L50: 0.1237 | M50: 0.0372 | O50: 1.9 | P50: 0.5 | Q50: 0 | R50: 2.4 | S50: 1067 | T50: 1079 | U50: 950 | V50: 88
A51: NCW_F_En_CPX__3 | B51: 50.2079 | C51: 1.5741 | D51: 2.5281 | E51: 0 | F51: 0 | G51: 9.4294 | H51: 14.1357 | I51: 0.2739 | J51: 20.7175 | K51: 0.4685 | L51: 0.027 | M51: 0.0518 | O51: 1.3 | P51: 0.5 | Q51: 0 | R51: 1.9 | S51: 1069 | T51: 1076 | U51: 950 | V51: 97
A52: NCW_F_En_CPX__4 | B52: 50.2367 | C52: 1.5635 | D52: 2.6978 | E52: 0 | F52: 0 | G52: 9.4285 | H52: 14.0864 | I52: 0.2135 | J52: 20.5025 | K52: 0.3512 | L52: 0.0756 | M52: 0.0463 | O52: 1 | P52: 0 | Q52: 0 | R52: 1.3 | S52: 1107 | T52: 1120 | U52: 1140 | V52: 38
A53: NCW_F_En_CPX__5 | B53: 50.4978 | C53: 1.5415 | D53: 2.23 | E53: 0 | F53: 0 | G53: 9.6482 | H53: 14.1371 | I53: 0.251 | J53: 20.7014 | K53: 0.3314 | L53: 0.0073 | M53: 0.0065 | O53: 0.7 | P53: 0 | Q53: 0 | R53: 1 | S53: 1084 | T53: 1101 | U53: 1000 | V53: 75
A54: NCW_F_En_CPX__6 | B54: 50.1193 | C54: 1.5859 | D54: 2.4091 | E54: 0 | F54: 0 | G54: 9.2491 | H54: 14.4085 | I54: 0.2279 | J54: 21.0158 | K54: 0.3654 | L54: 0.0073 | M54: 0.022 | O54: 0.9 | P54: 0.5 | Q54: 0 | R54: 1.3 | S54: 1102 | T54: 1115 | U54: 1128 | V54: 39
A55: NCW_F_En_CPX__7 | B55: 50.2603 | C55: 1.5966 | D55: 2.7065 | E55: 0 | F55: 0 | G55: 9.0372 | H55: 14.1642 | I55: 0.2263 | J55: 20.9909 | K55: 0.3979 | L55: 0.0182 | M55: -0.0039 | O55: 1.4 | P55: 0.9 | Q55: 0 | R55: 2 | S55: 1103 | T55: 1114 | U55: 1140 | V55: 42
A56: NCW_F_En_CPX__8 | B56: 51.3963 | C56: 1.1261 | D56: 1.5626 | E56: 0 | F56: 0 | G56: 10.4464 | H56: 14.0744 | I56: 0.3312 | J56: 20.4719 | K56: 0.3687 | L56: 0.0299 | M56: 0.0486 | O56: 0.9 | P56: 0 | Q56: 0 | R56: 1.3 | S56: 1064 | T56: 1071 | U56: 975 | V56: 65
A57: NCW_F_En_CPX__9 | B57: 51.1717 | C57: 1.3584 | D57: 1.96 | E57: 0 | F57: 0 | G57: 9.8644 | H57: 14.1946 | I57: 0.2862 | J57: 20.6048 | K57: 0.357 | L57: 0.0117 | M57: 0.0231 | O57: 0.7 | P57: 0 | Q57: 0 | R57: 1 | S57: 1077 | T57: 1089 | U57: 1050 | V57: 65
A58: NCW_F_En_CPX__10 | B58: 51.0673 | C58: 1.3245 | D58: 1.9415 | E58: 0 | F58: 0 | G58: 10.1776 | H58: 13.8876 | I58: 0.2904 | J58: 20.4988 | K58: 0.3639 | L58: 0.0306 | M58: 0.0161 | O58: 1 | P58: 0 | Q58: 0 | R58: 1 | S58: 1075 | T58: 1083 | U58: 1064 | V58: 62
A59: NCW_F_En_CPX__11 | B59: 50.1705 | C59: 1.707 | D59: 2.6816 | E59: 0 | F59: 0 | G59: 9.608 | H59: 13.8086 | I59: 0.2518 | J59: 20.6268 | K59: 0.3991 | L59: 0.0167 | M59: 0.007 | O59: 1.4 | P59: 0.5 | Q59: 0 | R59: 1.7 | S59: 1083 | T59: 1100 | U59: 1092 | V59: 71

Sheet 87_86Sr Data
E1: Average | F1: 2SD | G1: RSD ppm | H1: N | I1: Average | J1: 2SD | K1: RSD ppm
E2: Long term average NBS987 | I2: NBS987 consensus value
E3: 0.71024802 | F3: 2.8663989e-05 | G3: 40.357718 | H3: 443 | I3: 0.710248 | L3: (Weis 2006, G3)
E4: Long term average in-house carbonate std.
E5: 0.7084053 | F5: 4.2866354e-05 | G5: 60.511058 | H5: 379
E6: Long term average BHVO-2 | I6: BHVO-2 consensus value
E7: 0.70350983 | F7: 4.9296749e-05 | G7: 70.072581 | H7: 36 | I7: 0.703479 | J7: 2e-05 | K7: =J7/I7*1000000 -> 28.430131
B8: Standards
E9: NBS987 corr | H9: avg
B10: Sample Name | C10: Date and Time | E10: Sr87/86 corr | F10: 2SE | G10: ppm | H10: Sr87/86 corr | I10: 2SD | J10: ppm | K10: N
B11: Sr NBS987 40ppb | C11: Analysed on 26 January 2023 at 13:06 | D11: 68132 | E11: 0.7102498 | F11: 8.4e-06 | G11: 11.826825 | H11: =AVERAGE(E11:E18) -> 0.71024897 | I11: =2*STDEV(E11:E18) -> 7.681257e-06 | J11: =I11/H11*1000000 -> 10.814879 | K11: =COUNTA(E11:E18) -> 8 | M11: =(H11-I3)/I3 -> 1.3638402e-06
B12: Sr NBS987 40ppb | C12: Analysed on 26 January 2023 at 14:08 | D12: 68133 | E12: 0.71024935 | F12: 7.6e-06 | G12: 10.700467
B13: Sr NBS987 40ppb | C13: Analysed on 26 January 2023 at 14:49 | D13: 68134 | E13: 0.7102537 | F13: 6.6e-06 | G13: 9.2924542
B14: Sr NBS987 40ppb | C14: Analysed on 26 January 2023 at 15:11 | D14: 68135 | E14: 0.71024975 | F14: 5.8e-06 | G14: 8.1661416
B15: Sr NBS987 40ppb | C15: Analysed on 26 January 2023 at 15:32 | D15: 68136 | E15: 0.71024595 | F15: 5.4e-06 | G15: 7.6030001
B16: Sr NBS987 40ppb | C16: Analysed on 26 January 2023 at 15:32 | D16: 68136 | E16: 0.71024275 | F16: 5.4e-06 | G16: 7.6030343
B17: Sr NBS987 40ppb | C17: Analysed on 26 January 2023 at 15:54 | D17: 68137 | E17: 0.710254 | F17: 6e-06 | G17: 8.4476821
B18: Sr NBS987 40ppb | C18: Analysed on 26 January 2023 at 16:15 | D18: 68138 | E18: 0.71024645 | F18: 6e-06 | G18: 8.4477719
B20: QC carbonate | C20: Analysed on 26 January 2023 at 16:58 | D20: 68140 | E20: 0.70842597 | F20: 6.6e-06 | G20: 9.3164286 | H20: =AVERAGE(E20:E25) -> 0.70841263 | I20: =2*STDEV(E20:E25) -> 1.7224172e-05 | J20: =I20/H20*1000000 -> 24.313756 | K20: =COUNTA(E20:E25) -> 6 | M20: =(H20-E5)/E5 -> 1.0344597e-05
B21: QC carbonate | C21: Analysed on 26 January 2023 at 17:20 | D21: 68141 | E21: 0.70841174 | F21: 6e-06 | G21: 8.4696507
B22: QC carbonate | C22: Analysed on 27 January 2023 at 00:31 | D22: 68161 | E22: 0.70841739 | F22: 8e-06 | G22: 11.292777
B23: QC carbonate | C23: Analysed on 27 January 2023 at 00:52 | D23: 68162 | E23: 0.7084001 | F23: 7.2e-06 | G23: 10.163748
B24: QC carbonate | C24: Analysed on 27 January 2023 at 08:03 | D24: 68182 | E24: 0.70841107 | F24: 8.2e-06 | G24: 11.5752
B25: QC carbonate | C25: Analysed on 27 January 2023 at 08:25 | D25: 68183 | E25: 0.70840948 | F25: 6.8e-06 | G25: 9.5989681
A27: NCW_E | B27: 2B | C27: Analysed on 26 January 2023 at 19:08 | D27: 68146 | E27: 0.70622459 | F27: 5.2e-06 | G27: 7.3630968 | H27: =AVERAGE(E27:E28) -> 0.70622322 | I27: =2*STDEV(E27:E28) -> 3.8547702e-06 | J27: =I27/H27*1000000 -> 5.4582886 | K27: =COUNTA(E27:E28) -> 2
A28: NCW_E | B28: 2B | C28: Analysed on 26 January 2023 at 19:29 | D28: 68147 | E28: 0.70622186 | F28: 6.4e-06 | G28: 9.062308
A29: NCW_F | B29: 3B | C29: Analysed on 26 January 2023 at 20:12 | D29: 68149 | E29: 0.70496715 | F29: 7e-06 | G29: 9.9295407 | H29: =AVERAGE(E29:E30) -> 0.70497187 | I29: =2*STDEV(E29:E30) -> 1.3359221e-05 | J29: =I29/H29*1000000 -> 18.950006 | K29: =COUNTA(E29:E30) -> 2
A30: NCW_F | B30: 3B | C30: Analysed on 26 January 2023 at 20:34 | D30: 68150 | E30: 0.7049766 | F30: 6e-06 | G30: 8.5109208
A31: NCW_H | B31: 4A1 | C31: Analysed on 26 January 2023 at 21:17 | D31: 68152 | E31: 0.7043214 | F31: 5e-06 | G31: 7.0990318 | H31: =AVERAGE(E31:E32) -> 0.70432389 | I31: =2*STDEV(E31:E32) -> 7.0344404e-06 | J31: =I31/H31*1000000 -> 9.9875079 | K31: =COUNTA(E31:E32) -> 2
A32: NCW_H | B32: 4A1 | C32: Analysed on 26 January 2023 at 21:38 | D32: 68153 | E32: 0.70432637 | F32: 6.8e-06 | G32: 9.6546151
A33: SCW_A2 | B33: 7B | C33: Analysed on 26 January 2023 at 22:22 | D33: 68155 | E33: 0.70504324 | F33: 5.6e-06 | G33: 7.9427752 | H33: =AVERAGE(E33:E34) -> 0.70502859 | I33: =2*STDEV(E33:E34) -> 4.1432257e-05 | J33: =I33/H33*1000000 -> 58.766775 | K33: =COUNTA(E33:E34) -> 2
A34: SCW_A2 | B34: 7B | C34: Analysed on 26 January 2023 at 22:43 | D34: 68156 | E34: 0.70501395 | F34: 6e-06 | G34: 8.5104699
A35: BiftuPDC | B35: 9D | C35: Analysed on 26 January 2023 at 23:26 | D35: 68158 | E35: 0.70518504 | F35: 6.6e-06 | G35: 9.3592456 | H35: =AVERAGE(E35:E36) -> 0.70518426 | I35: =2*STDEV(E35:E36) -> 2.2246572e-06 | J35: =I35/H35*1000000 -> 3.1547176 | K35: =COUNTA(E35:E36) -> 2
A36: BiftuPDC | B36: 9D | C36: Analysed on 26 January 2023 at 23:48 | D36: 68159 | E36: 0.70518347 | F36: 6.4e-06 | G36: 9.0756523
A37: WKYP | B37: 34B | C37: Analysed on 27 January 2023 at 01:35 | D37: 68164 | E37: 0.70592778 | F37: 6.8e-06 | G37: 9.6327135 | H37: =AVERAGE(E37:E38) -> 0.7059213 | I37: =2*STDEV(E37:E38) -> 1.8310375e-05 | J37: =I37/H37*1000000 -> 25.938267 | K37: =COUNTA(E37:E38) -> 2
A38: WKYP | B38: 34B | C38: Analysed on 27 January 2023 at 01:57 | D38: 68165 | E38: 0.70591483 | F38: 7.2e-06 | G38: 10.199531
A39: UrjiLava | B39: 37 | C39: Analysed on 27 January 2023 at 02:40 | D39: 68167 | E39: 0.70446908 | F39: 6.6e-06 | G39: 9.3687575 | H39: =AVERAGE(E39:E40) -> 0.70447363 | I39: =2*STDEV(E39:E40) -> 1.2878215e-05 | J39: =I39/H39*1000000 -> 18.28062 | K39: =COUNTA(E39:E40) -> 2
A40: UrjiLava | B40: 37 | C40: Analysed on 27 January 2023 at 03:02 | D40: 68168 | E40: 0.70447819 | F40: 6.2e-06 | G40: 8.8008403
A41: BeddedPumice | B41: 40C1 | C41: Analysed on 27 January 2023 at 03:45 | D41: 68170 | E41: 0.70447743 | F41: 6.6e-06 | G41: 9.3686465 | H41: =AVERAGE(E41:E42) -> 0.70448655 | I41: =2*STDEV(E41:E42) -> 2.5783733e-05 | J41: =I41/H41*1000000 -> 36.599327 | K41: =COUNTA(E41:E42) -> 2
A42: BeddedPumice | B42: 40C1 | C42: Analysed on 27 January 2023 at 04:06 | D42: 68171 | E42: 0.70449566 | F42: 5.4e-06 | G42: 7.6650579
A43: CO6 | B43: 58A | C43: Analysed on 27 January 2023 at 04:49 | D43: 68173 | E43: 0.70450499 | F43: 6.6e-06 | G43: 9.36828 | H43: =AVERAGE(E43:E44) -> 0.70450679 | I43: =2*STDEV(E43:E44) -> 5.0880265e-06 | J43: =I43/H43*1000000 -> 7.2221113 | K43: =COUNTA(E43:E44) -> 2
A44: CO6 | B44: 58A | C44: Analysed on 27 January 2023 at 05:11 | D44: 68174 | E44: 0.70450859 | F44: 6.2e-06 | G44: 8.8004605
A45: US_A | B45: 66B | C45: Analysed on 27 January 2023 at 05:54 | D45: 68176 | E45: 0.70503381 | F45: 7.2e-06 | G45: 10.212276 | H45: =AVERAGE(E45:E46) -> 0.70503056 | I45: =2*STDEV(E45:E46) -> 9.1984098e-06 | J45: =I45/H45*1000000 -> 13.046824 | K45: =COUNTA(E45:E46) -> 2
A46: US_A | B46: 66B | C46: Analysed on 27 January 2023 at 06:15 | D46: 68177 | E46: 0.70502731 | F46: 8e-06 | G46: 11.347078
A47: US_A | B47: 66B bis | C47: Analysed on 27 January 2023 at 06:58 | D47: 68179 | E47: 0.70503056 | F47: 5.6e-06 | G47: 7.9429181 | H47: =AVERAGE(E47:E48) -> 0.70502714 | I47: =2*STDEV(E47:E48) -> 9.6776895e-06 | J47: =I47/H47*1000000 -> 13.726691 | K47: =COUNTA(E47:E48) -> 2
A48: US_A | B48: 66B bis | C48: Analysed on 27 January 2023 at 07:20 | D48: 68180 | E48: 0.70502371 | F48: 6.6e-06 | G48: 9.3613872
