Workbook
Name commodities: Summary!$B$4:$B$169
Name exports: 'Term List'!$A$133:$A$197
Name fromlist: 'Term List'!$F$2:$F$12
Name imports: 'Term List'!$A$2:$A$132
Name tofrom: 'Term List'!$E$2:$E$23
Name tolist: 'Term List'!$G$2:$G$11

Sheet Summary
A1: I/E | B1: Commodities | C1: 1768-69 | D1: 1769-70 | E1: 1770-71 | F1: 1771-72 | G1: 1772-73 | H1: 1773-74 | I1: 1774-75 | J1: 1775-76 | K1: 1776-77 | L1: 1777-78 | M1: 1778-79 | N1: 1779-80 | O1: 1780-81 | P1: 1781-82 | Q1: 1782-83 | R1: 1783-84 | S1: 1784-85 | T1: 1785-86 | U1: 1786-87 | V1: 1787-88 | W1: 1788-89 | X1: 1789-90 | Y1: 1790-91 | Z1: 1791-92 | AA1: 1792-93 | AB1: 1793-94 | AC1: 1794-95 | AD1: 1795-96 | AE1: 1796-97 | AF1: 1797-98 | AG1: 1798-99 | AH1: 1799-1800 | AI1: 1800-01 | AJ1: 1801-02 | AK1: 1802-03 | AL1: 1803-04 | AM1: 1804-05 | AN1: 1805-06 | AO1: 1806-07 | AP1: 1807-08 | AQ1: 1808-09 | AR1: 1809-10 | AS1: 1810-11 | AT1: 1811-12 | AU1: 1812-13 | AV1: 1813-14 | AW1: 1814-15 | AX1: 1815-16 | AY1: 1816-17 | AZ1: 1817-18 | BA1: 1818-19 | BB1: 1819-20 | BC1: 1820-21 | BD1: 1821-22 | BE1: 1822-23 | BF1: 1823-24 | BG1: 1824-25 | BH1: 1825-26 | BI1: 1826-27 | BJ1: 1827-28 | BK1: 1828-29 | BL1: 1829-30 | BM1: 1830-31 | BN1: 1831-32 | BO1: 1832-33 | BP1: 1833-34 | BQ1: 1834-35 | BR1: 1835-36 | BS1: 1836-37 | BT1: 1837-38 | BU1: 1838-39 | BV1: 1839-40 | BW1: 1840-41 | BX1: 1841-42 | BY1: 1842-43 | BZ1: 1843-44 | CA1: 1844-45 | CB1: 1845-46 | CC1: 1846-47 | CD1: 1847-48 | CE1: 1848-49 | CF1: 1849-50 | CG1: 1850-51 | CH1: 1851-52 | CI1: 1852-53 | CJ1: 1853-54 | CK1: 1854-55 | CL1: 1855-56 | CM1: 1856-57 | CN1: 1857-58 | CO1: 1858-59 | CP1: 1859-60 | CQ1: 1860-61 | CR1: 1861-62 | CS1: 1862-63 | CT1: 1863-64 | CU1: 1864-65
B2: Links to Import Table | AH2: Livestock 1799-1801 not incl. | AI2: Table (I) | AJ2: Table (I) | AK2: Table (I) | AL2: Table (I) | AM2: Table (I) | AN2: Table (I) | AO2: Table (I) | AP2: Table (I) | AQ2: Table (I) | AR2: Table (I) | AS2: Table (I) | AT2: Table (I) | AU2: Table (I) | AV2: Table (I) | AW2: Table (I) | AX2: Table (I) | AY2: Table (I) | AZ2: Table (I) | BA2: Table (I) | BB2: Table (I) | BC2: Table (I) | BD2: Table (I) | BE2: Table (I) | BF2: Table (I) | BG2: Table (I) | BH2: Table (I) | BI2: PP 1846 | BJ2: Table (I) | BK2: Table (I) | BN2: Table (I) | BP2: Table (I) | BQ2: Table (I) | BR2: Table (I) | BS2: Table (I) | BT2: Table (I) | BU2: Table (I) | BV2: PP 1846 | BW2: PP 1846 | BX2: PP 1846 | BY2: PP 1846 | BZ2: PP 1846 | CA2: PP 1846
B3: Links to Export Table | AE3: Table (E) | AF3: Table (E) | AH3: Table (E) | AI3: Table (E) | AJ3: Table (E) | AK3: Table (E) | AL3: Table (E) | AM3: Table (E) | AN3: Table (E) | AO3: Table (E) | AP3: Table (E) | AQ3: Table (E) | AR3: Table (E) | AS3: Table (E) | AT3: Table (E) | AU3: Table (E) | AV3: Table (E) | AW3: Table (E) | AX3: Table (E) | AY3: Table (E) | AZ3: Table (E) | BA3: Table (E) | BB3: Table (E) | BC3: Table (E) | BD3: Table (E) | BE3: Table (E) | BF3: Table (E) | BG3: Table (E) | BH3: Table (E) | BJ3: Table (E) | BK3: Table (E) | BN3: Table (E) | BP3: Table (E) | BQ3: Table (E) | BR3: Table (E) | BS3: Table (E) | BT3: Table (E) | BU3: Table (E)
A4: IMP | B4: Beef (barrels) | C4: =SUMIFS(Database!$G:$G,Database!$D:$D,"Import",Database!$E:$E,$B4,Database!$C:$C,C$1,Database!$F:$F,"Total") -> 0 | D4: =SUMIFS(Database!$G:$G,Database!$D:$D,"Import",Database!$E:$E,$B4,Database!$C:$C,D$1,Database!$F:$F,"Total") -> 0 | E4: =SUMIFS(Database!$G:$G,Database!$D:$D,"Import",Database!$E:$E,$B4,Database!$C:$C,E$1,Database!$F:$F,"Total") -> 0 | F4: =SUMIFS(Database!$G:$G,Database!$D:$D,"Import",Database!$E:$E,$B4,Database!$C:$C,F$1,Database!$F:$F,"Total") -> 0 | G4: =SUMIFS(Database!$G:$G,Database!$D:$D,"Import",Database!$E:$E,$B4,Database!$C:$C,G$1,Database!$F:$F,"Total") -> 0 | H4: =SUMIFS(Database!$G:$G,Database!$D:$D,"Import",Database!$E:$E,$B4,Database!$C:$C,H$1,Database!$F:$F,"Total") -> 0 | I4: =SUMIFS(Database!$G:$G,Database!$D:$D,"Import",Database!$E:$E,$B4,Database!$C:$C,I$1,Database!$F:$F,"Total") -> 0 | J4: =SUMIFS(Database!$G:$G,Database!$D:$D,"Import",Database!$E:$E,$B4,Database!$C:$C,J$1,Database!$F:$F,"Total") -> 0 | ... CU4: =SUMIFS(Database!$G:$G,Database!$D:$D,"Import",Database!$E:$E,$B4,Database!$C:$C,CU$1,Database!$F:$F,"Total") -> 0
A5: IMP | B5: Beer (hogsheads) | C5: =SUMIFS(Database!$G:$G,Database!$D:$D,"Import",Database!$E:$E,$B5,Database!$C:$C,C$1,Database!$F:$F,"Total") -> 0 | D5: =SUMIFS(Database!$G:$G,Database!$D:$D,"Import",Database!$E:$E,$B5,Database!$C:$C,D$1,Database!$F:$F,"Total") -> 0 | E5: =SUMIFS(Database!$G:$G,Database!$D:$D,"Import",Database!$E:$E,$B5,Database!$C:$C,E$1,Database!$F:$F,"Total") -> 0 | F5: =SUMIFS(Database!$G:$G,Database!$D:$D,"Import",Database!$E:$E,$B5,Database!$C:$C,F$1,Database!$F:$F,"Total") -> 0 | G5: =SUMIFS(Database!$G:$G,Database!$D:$D,"Import",Database!$E:$E,$B5,Database!$C:$C,G$1,Database!$F:$F,"Total") -> 0 | H5: =SUMIFS(Database!$G:$G,Database!$D:$D,"Import",Database!$E:$E,$B5,Database!$C:$C,H$1,Database!$F:$F,"Total") -> 0 | I5: =SUMIFS(Database!$G:$G,Database!$D:$D,"Import",Database!$E:$E,$B5,Database!$C:$C,I$1,Database!$F:$F,"Total") -> 0 | J5: =SUMIFS(Database!$G:$G,Database!$D:$D,"Import",Database!$E:$E,$B5,Database!$C:$C,J$1,Database!$F:$F,"Total") -> 0 | ... CU5: =SUMIFS(Database!$G:$G,Database!$D:$D,"Import",Database!$E:$E,$B5,Database!$C:$C,CU$1,Database!$F:$F,"Total") -> 0
A6: IMP | B6: Beer and cider (gallons) | C6: =SUMIFS(Database!$G:$G,Database!$D:$D,"Import",Database!$E:$E,$B6,Database!$C:$C,C$1,Database!$F:$F,"Total") -> 0 | D6: =SUMIFS(Database!$G:$G,Database!$D:$D,"Import",Database!$E:$E,$B6,Database!$C:$C,D$1,Database!$F:$F,"Total") -> 0 | E6: =SUMIFS(Database!$G:$G,Database!$D:$D,"Import",Database!$E:$E,$B6,Database!$C:$C,E$1,Database!$F:$F,"Total") -> 0 | F6: =SUMIFS(Database!$G:$G,Database!$D:$D,"Import",Database!$E:$E,$B6,Database!$C:$C,F$1,Database!$F:$F,"Total") -> 0 | G6: =SUMIFS(Database!$G:$G,Database!$D:$D,"Import",Database!$E:$E,$B6,Database!$C:$C,G$1,Database!$F:$F,"Total") -> 0 | H6: =SUMIFS(Database!$G:$G,Database!$D:$D,"Import",Database!$E:$E,$B6,Database!$C:$C,H$1,Database!$F:$F,"Total") -> 0 | I6: =SUMIFS(Database!$G:$G,Database!$D:$D,"Import",Database!$E:$E,$B6,Database!$C:$C,I$1,Database!$F:$F,"Total") -> 0 | J6: =SUMIFS(Database!$G:$G,Database!$D:$D,"Import",Database!$E:$E,$B6,Database!$C:$C,J$1,Database!$F:$F,"Total") -> 0 | ... CU6: =SUMIFS(Database!$G:$G,Database!$D:$D,"Import",Database!$E:$E,$B6,Database!$C:$C,CU$1,Database!$F:$F,"Total") -> 0
A7: IMP | B7: Beer and cider (tuns) | C7: =SUMIFS(Database!$G:$G,Database!$D:$D,"Import",Database!$E:$E,$B7,Database!$C:$C,C$1,Database!$F:$F,"Total") -> 0 | D7: =SUMIFS(Database!$G:$G,Database!$D:$D,"Import",Database!$E:$E,$B7,Database!$C:$C,D$1,Database!$F:$F,"Total") -> 0 | E7: =SUMIFS(Database!$G:$G,Database!$D:$D,"Import",Database!$E:$E,$B7,Database!$C:$C,E$1,Database!$F:$F,"Total") -> 0 | F7: =SUMIFS(Database!$G:$G,Database!$D:$D,"Import",Database!$E:$E,$B7,Database!$C:$C,F$1,Database!$F:$F,"Total") -> 0 | G7: =SUMIFS(Database!$G:$G,Database!$D:$D,"Import",Database!$E:$E,$B7,Database!$C:$C,G$1,Database!$F:$F,"Total") -> 0 | H7: =SUMIFS(Database!$G:$G,Database!$D:$D,"Import",Database!$E:$E,$B7,Database!$C:$C,H$1,Database!$F:$F,"Total") -> 0 | I7: =SUMIFS(Database!$G:$G,Database!$D:$D,"Import",Database!$E:$E,$B7,Database!$C:$C,I$1,Database!$F:$F,"Total") -> 0 | J7: =SUMIFS(Database!$G:$G,Database!$D:$D,"Import",Database!$E:$E,$B7,Database!$C:$C,J$1,Database!$F:$F,"Total") -> 0 | ... CU7: =SUMIFS(Database!$G:$G,Database!$D:$D,"Import",Database!$E:$E,$B7,Database!$C:$C,CU$1,Database!$F:$F,"Total") -> 0
A8: IMP | B8: Boots and shoes (dozens) | C8: =SUMIFS(Database!$G:$G,Database!$D:$D,"Import",Database!$E:$E,$B8,Database!$C:$C,C$1,Database!$F:$F,"Total") -> 0 | D8: =SUMIFS(Database!$G:$G,Database!$D:$D,"Import",Database!$E:$E,$B8,Database!$C:$C,D$1,Database!$F:$F,"Total") -> 0 | E8: =SUMIFS(Database!$G:$G,Database!$D:$D,"Import",Database!$E:$E,$B8,Database!$C:$C,E$1,Database!$F:$F,"Total") -> 0 | F8: =SUMIFS(Database!$G:$G,Database!$D:$D,"Import",Database!$E:$E,$B8,Database!$C:$C,F$1,Database!$F:$F,"Total") -> 0 | G8: =SUMIFS(Database!$G:$G,Database!$D:$D,"Import",Database!$E:$E,$B8,Database!$C:$C,G$1,Database!$F:$F,"Total") -> 0 | H8: =SUMIFS(Database!$G:$G,Database!$D:$D,"Import",Database!$E:$E,$B8,Database!$C:$C,H$1,Database!$F:$F,"Total") -> 0 | I8: =SUMIFS(Database!$G:$G,Database!$D:$D,"Import",Database!$E:$E,$B8,Database!$C:$C,I$1,Database!$F:$F,"Total") -> 0 | J8: =SUMIFS(Database!$G:$G,Database!$D:$D,"Import",Database!$E:$E,$B8,Database!$C:$C,J$1,Database!$F:$F,"Total") -> 0 | ... CU8: =SUMIFS(Database!$G:$G,Database!$D:$D,"Import",Database!$E:$E,$B8,Database!$C:$C,CU$1,Database!$F:$F,"Total") -> 0
A9: IMP | B9: Brandy (gallons) | C9: =SUMIFS(Database!$G:$G,Database!$D:$D,"Import",Database!$E:$E,$B9,Database!$C:$C,C$1,Database!$F:$F,"Total") -> 0 | D9: =SUMIFS(Database!$G:$G,Database!$D:$D,"Import",Database!$E:$E,$B9,Database!$C:$C,D$1,Database!$F:$F,"Total") -> 0 | E9: =SUMIFS(Database!$G:$G,Database!$D:$D,"Import",Database!$E:$E,$B9,Database!$C:$C,E$1,Database!$F:$F,"Total") -> 0 | F9: =SUMIFS(Database!$G:$G,Database!$D:$D,"Import",Database!$E:$E,$B9,Database!$C:$C,F$1,Database!$F:$F,"Total") -> 0 | G9: =SUMIFS(Database!$G:$G,Database!$D:$D,"Import",Database!$E:$E,$B9,Database!$C:$C,G$1,Database!$F:$F,"Total") -> 0 | H9: =SUMIFS(Database!$G:$G,Database!$D:$D,"Import",Database!$E:$E,$B9,Database!$C:$C,H$1,Database!$F:$F,"Total") -> 0 | I9: =SUMIFS(Database!$G:$G,Database!$D:$D,"Import",Database!$E:$E,$B9,Database!$C:$C,I$1,Database!$F:$F,"Total") -> 0 | J9: =SUMIFS(Database!$G:$G,Database!$D:$D,"Import",Database!$E:$E,$B9,Database!$C:$C,J$1,Database!$F:$F,"Total") -> 0 | ... CU9: =SUMIFS(Database!$G:$G,Database!$D:$D,"Import",Database!$E:$E,$B9,Database!$C:$C,CU$1,Database!$F:$F,"Total") -> 0
A10: IMP | B10: Bread (bags) | C10: =SUMIFS(Database!$G:$G,Database!$D:$D,"Import",Database!$E:$E,$B10,Database!$C:$C,C$1,Database!$F:$F,"Total") -> 0 | D10: =SUMIFS(Database!$G:$G,Database!$D:$D,"Import",Database!$E:$E,$B10,Database!$C:$C,D$1,Database!$F:$F,"Total") -> 0 | E10: =SUMIFS(Database!$G:$G,Database!$D:$D,"Import",Database!$E:$E,$B10,Database!$C:$C,E$1,Database!$F:$F,"Total") -> 0 | F10: =SUMIFS(Database!$G:$G,Database!$D:$D,"Import",Database!$E:$E,$B10,Database!$C:$C,F$1,Database!$F:$F,"Total") -> 0 | G10: =SUMIFS(Database!$G:$G,Database!$D:$D,"Import",Database!$E:$E,$B10,Database!$C:$C,G$1,Database!$F:$F,"Total") -> 0 | H10: =SUMIFS(Database!$G:$G,Database!$D:$D,"Import",Database!$E:$E,$B10,Database!$C:$C,H$1,Database!$F:$F,"Total") -> 0 | I10: =SUMIFS(Database!$G:$G,Database!$D:$D,"Import",Database!$E:$E,$B10,Database!$C:$C,I$1,Database!$F:$F,"Total") -> 0 | J10: =SUMIFS(Database!$G:$G,Database!$D:$D,"Import",Database!$E:$E,$B10,Database!$C:$C,J$1,Database!$F:$F,"Total") -> 0 | ... CU10: =SUMIFS(Database!$G:$G,Database!$D:$D,"Import",Database!$E:$E,$B10,Database!$C:$C,CU$1,Database!$F:$F,"Total") -> 0
A11: IMP | B11: Bread (barrels) | C11: =SUMIFS(Database!$G:$G,Database!$D:$D,"Import",Database!$E:$E,$B11,Database!$C:$C,C$1,Database!$F:$F,"Total") -> 0 | D11: =SUMIFS(Database!$G:$G,Database!$D:$D,"Import",Database!$E:$E,$B11,Database!$C:$C,D$1,Database!$F:$F,"Total") -> 0 | E11: =SUMIFS(Database!$G:$G,Database!$D:$D,"Import",Database!$E:$E,$B11,Database!$C:$C,E$1,Database!$F:$F,"Total") -> 0 | F11: =SUMIFS(Database!$G:$G,Database!$D:$D,"Import",Database!$E:$E,$B11,Database!$C:$C,F$1,Database!$F:$F,"Total") -> 0 | G11: =SUMIFS(Database!$G:$G,Database!$D:$D,"Import",Database!$E:$E,$B11,Database!$C:$C,G$1,Database!$F:$F,"Total") -> 0 | H11: =SUMIFS(Database!$G:$G,Database!$D:$D,"Import",Database!$E:$E,$B11,Database!$C:$C,H$1,Database!$F:$F,"Total") -> 0 | I11: =SUMIFS(Database!$G:$G,Database!$D:$D,"Import",Database!$E:$E,$B11,Database!$C:$C,I$1,Database!$F:$F,"Total") -> 0 | J11: =SUMIFS(Database!$G:$G,Database!$D:$D,"Import",Database!$E:$E,$B11,Database!$C:$C,J$1,Database!$F:$F,"Total") -> 0 | ... CU11: =SUMIFS(Database!$G:$G,Database!$D:$D,"Import",Database!$E:$E,$B11,Database!$C:$C,CU$1,Database!$F:$F,"Total") -> 0
A12: IMP | B12: Bread (kegs) | C12: =SUMIFS(Database!$G:$G,Database!$D:$D,"Import",Database!$E:$E,$B12,Database!$C:$C,C$1,Database!$F:$F,"Total") -> 0 | D12: =SUMIFS(Database!$G:$G,Database!$D:$D,"Import",Database!$E:$E,$B12,Database!$C:$C,D$1,Database!$F:$F,"Total") -> 0 | E12: =SUMIFS(Database!$G:$G,Database!$D:$D,"Import",Database!$E:$E,$B12,Database!$C:$C,E$1,Database!$F:$F,"Total") -> 0 | F12: =SUMIFS(Database!$G:$G,Database!$D:$D,"Import",Database!$E:$E,$B12,Database!$C:$C,F$1,Database!$F:$F,"Total") -> 0 | G12: =SUMIFS(Database!$G:$G,Database!$D:$D,"Import",Database!$E:$E,$B12,Database!$C:$C,G$1,Database!$F:$F,"Total") -> 0 | H12: =SUMIFS(Database!$G:$G,Database!$D:$D,"Import",Database!$E:$E,$B12,Database!$C:$C,H$1,Database!$F:$F,"Total") -> 0 | I12: =SUMIFS(Database!$G:$G,Database!$D:$D,"Import",Database!$E:$E,$B12,Database!$C:$C,I$1,Database!$F:$F,"Total") -> 0 | J12: =SUMIFS(Database!$G:$G,Database!$D:$D,"Import",Database!$E:$E,$B12,Database!$C:$C,J$1,Database!$F:$F,"Total") -> 0 | ... CU12: =SUMIFS(Database!$G:$G,Database!$D:$D,"Import",Database!$E:$E,$B12,Database!$C:$C,CU$1,Database!$F:$F,"Total") -> 0
A13: IMP | B13: Bread (lb) | C13: =SUMIFS(Database!$G:$G,Database!$D:$D,"Import",Database!$E:$E,$B13,Database!$C:$C,C$1,Database!$F:$F,"Total") -> 0 | D13: =SUMIFS(Database!$G:$G,Database!$D:$D,"Import",Database!$E:$E,$B13,Database!$C:$C,D$1,Database!$F:$F,"Total") -> 0 | E13: =SUMIFS(Database!$G:$G,Database!$D:$D,"Import",Database!$E:$E,$B13,Database!$C:$C,E$1,Database!$F:$F,"Total") -> 0 | F13: =SUMIFS(Database!$G:$G,Database!$D:$D,"Import",Database!$E:$E,$B13,Database!$C:$C,F$1,Database!$F:$F,"Total") -> 0 | G13: =SUMIFS(Database!$G:$G,Database!$D:$D,"Import",Database!$E:$E,$B13,Database!$C:$C,G$1,Database!$F:$F,"Total") -> 0 | H13: =SUMIFS(Database!$G:$G,Database!$D:$D,"Import",Database!$E:$E,$B13,Database!$C:$C,H$1,Database!$F:$F,"Total") -> 0 | I13: =SUMIFS(Database!$G:$G,Database!$D:$D,"Import",Database!$E:$E,$B13,Database!$C:$C,I$1,Database!$F:$F,"Total") -> 0 | J13: =SUMIFS(Database!$G:$G,Database!$D:$D,"Import",Database!$E:$E,$B13,Database!$C:$C,J$1,Database!$F:$F,"Total") -> 0 | ... CU13: =SUMIFS(Database!$G:$G,Database!$D:$D,"Import",Database!$E:$E,$B13,Database!$C:$C,CU$1,Database!$F:$F,"Total") -> 0
A14: IMP | B14: Bread (quintals) | C14: =SUMIFS(Database!$G:$G,Database!$D:$D,"Import",Database!$E:$E,$B14,Database!$C:$C,C$1,Database!$F:$F,"Total") -> 0 | D14: =SUMIFS(Database!$G:$G,Database!$D:$D,"Import",Database!$E:$E,$B14,Database!$C:$C,D$1,Database!$F:$F,"Total") -> 0 | E14: =SUMIFS(Database!$G:$G,Database!$D:$D,"Import",Database!$E:$E,$B14,Database!$C:$C,E$1,Database!$F:$F,"Total") -> 0 | F14: =SUMIFS(Database!$G:$G,Database!$D:$D,"Import",Database!$E:$E,$B14,Database!$C:$C,F$1,Database!$F:$F,"Total") -> 0 | G14: =SUMIFS(Database!$G:$G,Database!$D:$D,"Import",Database!$E:$E,$B14,Database!$C:$C,G$1,Database!$F:$F,"Total") -> 0 | H14: =SUMIFS(Database!$G:$G,Database!$D:$D,"Import",Database!$E:$E,$B14,Database!$C:$C,H$1,Database!$F:$F,"Total") -> 0 | I14: =SUMIFS(Database!$G:$G,Database!$D:$D,"Import",Database!$E:$E,$B14,Database!$C:$C,I$1,Database!$F:$F,"Total") -> 0 | J14: =SUMIFS(Database!$G:$G,Database!$D:$D,"Import",Database!$E:$E,$B14,Database!$C:$C,J$1,Database!$F:$F,"Total") -> 0 | ... CU14: =SUMIFS(Database!$G:$G,Database!$D:$D,"Import",Database!$E:$E,$B14,Database!$C:$C,CU$1,Database!$F:$F,"Total") -> 0
A15: IMP | B15: Butter (firkins) | C15: =SUMIFS(Database!$G:$G,Database!$D:$D,"Import",Database!$E:$E,$B15,Database!$C:$C,C$1,Database!$F:$F,"Total") -> 0 | D15: =SUMIFS(Database!$G:$G,Database!$D:$D,"Import",Database!$E:$E,$B15,Database!$C:$C,D$1,Database!$F:$F,"Total") -> 0 | E15: =SUMIFS(Database!$G:$G,Database!$D:$D,"Import",Database!$E:$E,$B15,Database!$C:$C,E$1,Database!$F:$F,"Total") -> 0 | F15: =SUMIFS(Database!$G:$G,Database!$D:$D,"Import",Database!$E:$E,$B15,Database!$C:$C,F$1,Database!$F:$F,"Total") -> 0 | G15: =SUMIFS(Database!$G:$G,Database!$D:$D,"Import",Database!$E:$E,$B15,Database!$C:$C,G$1,Database!$F:$F,"Total") -> 0 | H15: =SUMIFS(Database!$G:$G,Database!$D:$D,"Import",Database!$E:$E,$B15,Database!$C:$C,H$1,Database!$F:$F,"Total") -> 0 | I15: =SUMIFS(Database!$G:$G,Database!$D:$D,"Import",Database!$E:$E,$B15,Database!$C:$C,I$1,Database!$F:$F,"Total") -> 0 | J15: =SUMIFS(Database!$G:$G,Database!$D:$D,"Import",Database!$E:$E,$B15,Database!$C:$C,J$1,Database!$F:$F,"Total") -> 0 | ... CU15: =SUMIFS(Database!$G:$G,Database!$D:$D,"Import",Database!$E:$E,$B15,Database!$C:$C,CU$1,Database!$F:$F,"Total") -> 0
... A108: IMP | B108: Wines (tuns) | C108: =SUMIFS(Database!$G:$G,Database!$D:$D,"Import",Database!$E:$E,$B108,Database!$C:$C,C$1,Database!$F:$F,"Total") -> 0 | D108: =SUMIFS(Database!$G:$G,Database!$D:$D,"Import",Database!$E:$E,$B108,Database!$C:$C,D$1,Database!$F:$F,"Total") -> 0 | E108: =SUMIFS(Database!$G:$G,Database!$D:$D,"Import",Database!$E:$E,$B108,Database!$C:$C,E$1,Database!$F:$F,"Total") -> 0 | F108: =SUMIFS(Database!$G:$G,Database!$D:$D,"Import",Database!$E:$E,$B108,Database!$C:$C,F$1,Database!$F:$F,"Total") -> 0 | G108: =SUMIFS(Database!$G:$G,Database!$D:$D,"Import",Database!$E:$E,$B108,Database!$C:$C,G$1,Database!$F:$F,"Total") -> 0 | H108: =SUMIFS(Database!$G:$G,Database!$D:$D,"Import",Database!$E:$E,$B108,Database!$C:$C,H$1,Database!$F:$F,"Total") -> 0 | I108: =SUMIFS(Database!$G:$G,Database!$D:$D,"Import",Database!$E:$E,$B108,Database!$C:$C,I$1,Database!$F:$F,"Total") -> 0 | J108: =SUMIFS(Database!$G:$G,Database!$D:$D,"Import",Database!$E:$E,$B108,Database!$C:$C,J$1,Database!$F:$F,"Total") -> 0 | ... CU108: =SUMIFS(Database!$G:$G,Database!$D:$D,"Import",Database!$E:$E,$B108,Database!$C:$C,CU$1,Database!$F:$F,"Total") -> 0
A109: EXP | B109: Arrow root (barrels) | C109: =SUMIFS(Database!$G:$G,Database!$D:$D,"Export",Database!$E:$E,$B109,Database!$C:$C,C$1,Database!$F:$F,"Total") -> 0 | D109: =SUMIFS(Database!$G:$G,Database!$D:$D,"Export",Database!$E:$E,$B109,Database!$C:$C,D$1,Database!$F:$F,"Total") -> 0 | E109: =SUMIFS(Database!$G:$G,Database!$D:$D,"Export",Database!$E:$E,$B109,Database!$C:$C,E$1,Database!$F:$F,"Total") -> 0 | F109: =SUMIFS(Database!$G:$G,Database!$D:$D,"Export",Database!$E:$E,$B109,Database!$C:$C,F$1,Database!$F:$F,"Total") -> 0 | G109: =SUMIFS(Database!$G:$G,Database!$D:$D,"Export",Database!$E:$E,$B109,Database!$C:$C,G$1,Database!$F:$F,"Total") -> 0 | H109: =SUMIFS(Database!$G:$G,Database!$D:$D,"Export",Database!$E:$E,$B109,Database!$C:$C,H$1,Database!$F:$F,"Total") -> 0 | I109: =SUMIFS(Database!$G:$G,Database!$D:$D,"Export",Database!$E:$E,$B109,Database!$C:$C,I$1,Database!$F:$F,"Total") -> 0 | J109: =SUMIFS(Database!$G:$G,Database!$D:$D,"Export",Database!$E:$E,$B109,Database!$C:$C,J$1,Database!$F:$F,"Total") -> 0 | ... CU109: =SUMIFS(Database!$G:$G,Database!$D:$D,"Export",Database!$E:$E,$B109,Database!$C:$C,CU$1,Database!$F:$F,"Total") -> 0
A110: EXP | B110: Arrow root (casks) | C110: =SUMIFS(Database!$G:$G,Database!$D:$D,"Export",Database!$E:$E,$B110,Database!$C:$C,C$1,Database!$F:$F,"Total") -> 0 | D110: =SUMIFS(Database!$G:$G,Database!$D:$D,"Export",Database!$E:$E,$B110,Database!$C:$C,D$1,Database!$F:$F,"Total") -> 0 | E110: =SUMIFS(Database!$G:$G,Database!$D:$D,"Export",Database!$E:$E,$B110,Database!$C:$C,E$1,Database!$F:$F,"Total") -> 0 | F110: =SUMIFS(Database!$G:$G,Database!$D:$D,"Export",Database!$E:$E,$B110,Database!$C:$C,F$1,Database!$F:$F,"Total") -> 0 | G110: =SUMIFS(Database!$G:$G,Database!$D:$D,"Export",Database!$E:$E,$B110,Database!$C:$C,G$1,Database!$F:$F,"Total") -> 0 | H110: =SUMIFS(Database!$G:$G,Database!$D:$D,"Export",Database!$E:$E,$B110,Database!$C:$C,H$1,Database!$F:$F,"Total") -> 0 | I110: =SUMIFS(Database!$G:$G,Database!$D:$D,"Export",Database!$E:$E,$B110,Database!$C:$C,I$1,Database!$F:$F,"Total") -> 0 | J110: =SUMIFS(Database!$G:$G,Database!$D:$D,"Export",Database!$E:$E,$B110,Database!$C:$C,J$1,Database!$F:$F,"Total") -> 0 | ... CU110: =SUMIFS(Database!$G:$G,Database!$D:$D,"Export",Database!$E:$E,$B110,Database!$C:$C,CU$1,Database!$F:$F,"Total") -> 0
A111: EXP | B111: Arrow root (kegs) | C111: =SUMIFS(Database!$G:$G,Database!$D:$D,"Export",Database!$E:$E,$B111,Database!$C:$C,C$1,Database!$F:$F,"Total") -> 0 | D111: =SUMIFS(Database!$G:$G,Database!$D:$D,"Export",Database!$E:$E,$B111,Database!$C:$C,D$1,Database!$F:$F,"Total") -> 0 | E111: =SUMIFS(Database!$G:$G,Database!$D:$D,"Export",Database!$E:$E,$B111,Database!$C:$C,E$1,Database!$F:$F,"Total") -> 0 | F111: =SUMIFS(Database!$G:$G,Database!$D:$D,"Export",Database!$E:$E,$B111,Database!$C:$C,F$1,Database!$F:$F,"Total") -> 0 | G111: =SUMIFS(Database!$G:$G,Database!$D:$D,"Export",Database!$E:$E,$B111,Database!$C:$C,G$1,Database!$F:$F,"Total") -> 0 | H111: =SUMIFS(Database!$G:$G,Database!$D:$D,"Export",Database!$E:$E,$B111,Database!$C:$C,H$1,Database!$F:$F,"Total") -> 0 | I111: =SUMIFS(Database!$G:$G,Database!$D:$D,"Export",Database!$E:$E,$B111,Database!$C:$C,I$1,Database!$F:$F,"Total") -> 0 | J111: =SUMIFS(Database!$G:$G,Database!$D:$D,"Export",Database!$E:$E,$B111,Database!$C:$C,J$1,Database!$F:$F,"Total") -> 0 | ... CU111: =SUMIFS(Database!$G:$G,Database!$D:$D,"Export",Database!$E:$E,$B111,Database!$C:$C,CU$1,Database!$F:$F,"Total") -> 0
A112: EXP | B112: Brandy (casks) | C112: =SUMIFS(Database!$G:$G,Database!$D:$D,"Export",Database!$E:$E,$B112,Database!$C:$C,C$1,Database!$F:$F,"Total") -> 0 | D112: =SUMIFS(Database!$G:$G,Database!$D:$D,"Export",Database!$E:$E,$B112,Database!$C:$C,D$1,Database!$F:$F,"Total") -> 0 | E112: =SUMIFS(Database!$G:$G,Database!$D:$D,"Export",Database!$E:$E,$B112,Database!$C:$C,E$1,Database!$F:$F,"Total") -> 0 | F112: =SUMIFS(Database!$G:$G,Database!$D:$D,"Export",Database!$E:$E,$B112,Database!$C:$C,F$1,Database!$F:$F,"Total") -> 0 | G112: =SUMIFS(Database!$G:$G,Database!$D:$D,"Export",Database!$E:$E,$B112,Database!$C:$C,G$1,Database!$F:$F,"Total") -> 0 | H112: =SUMIFS(Database!$G:$G,Database!$D:$D,"Export",Database!$E:$E,$B112,Database!$C:$C,H$1,Database!$F:$F,"Total") -> 0 | I112: =SUMIFS(Database!$G:$G,Database!$D:$D,"Export",Database!$E:$E,$B112,Database!$C:$C,I$1,Database!$F:$F,"Total") -> 0 | J112: =SUMIFS(Database!$G:$G,Database!$D:$D,"Export",Database!$E:$E,$B112,Database!$C:$C,J$1,Database!$F:$F,"Total") -> 0 | ... CU112: =SUMIFS(Database!$G:$G,Database!$D:$D,"Export",Database!$E:$E,$B112,Database!$C:$C,CU$1,Database!$F:$F,"Total") -> 0
A113: EXP | B113: Bread (barrels) | C113: =SUMIFS(Database!$G:$G,Database!$D:$D,"Export",Database!$E:$E,$B113,Database!$C:$C,C$1,Database!$F:$F,"Total") -> 0 | D113: =SUMIFS(Database!$G:$G,Database!$D:$D,"Export",Database!$E:$E,$B113,Database!$C:$C,D$1,Database!$F:$F,"Total") -> 0 | E113: =SUMIFS(Database!$G:$G,Database!$D:$D,"Export",Database!$E:$E,$B113,Database!$C:$C,E$1,Database!$F:$F,"Total") -> 0 | F113: =SUMIFS(Database!$G:$G,Database!$D:$D,"Export",Database!$E:$E,$B113,Database!$C:$C,F$1,Database!$F:$F,"Total") -> 0 | G113: =SUMIFS(Database!$G:$G,Database!$D:$D,"Export",Database!$E:$E,$B113,Database!$C:$C,G$1,Database!$F:$F,"Total") -> 0 | H113: =SUMIFS(Database!$G:$G,Database!$D:$D,"Export",Database!$E:$E,$B113,Database!$C:$C,H$1,Database!$F:$F,"Total") -> 0 | I113: =SUMIFS(Database!$G:$G,Database!$D:$D,"Export",Database!$E:$E,$B113,Database!$C:$C,I$1,Database!$F:$F,"Total") -> 0 | J113: =SUMIFS(Database!$G:$G,Database!$D:$D,"Export",Database!$E:$E,$B113,Database!$C:$C,J$1,Database!$F:$F,"Total") -> 0 | ... CU113: =SUMIFS(Database!$G:$G,Database!$D:$D,"Export",Database!$E:$E,$B113,Database!$C:$C,CU$1,Database!$F:$F,"Total") -> 0
A114: EXP | B114: Butter (firkins) | C114: =SUMIFS(Database!$G:$G,Database!$D:$D,"Export",Database!$E:$E,$B114,Database!$C:$C,C$1,Database!$F:$F,"Total") -> 0 | D114: =SUMIFS(Database!$G:$G,Database!$D:$D,"Export",Database!$E:$E,$B114,Database!$C:$C,D$1,Database!$F:$F,"Total") -> 0 | E114: =SUMIFS(Database!$G:$G,Database!$D:$D,"Export",Database!$E:$E,$B114,Database!$C:$C,E$1,Database!$F:$F,"Total") -> 0 | F114: =SUMIFS(Database!$G:$G,Database!$D:$D,"Export",Database!$E:$E,$B114,Database!$C:$C,F$1,Database!$F:$F,"Total") -> 0 | G114: =SUMIFS(Database!$G:$G,Database!$D:$D,"Export",Database!$E:$E,$B114,Database!$C:$C,G$1,Database!$F:$F,"Total") -> 0 | H114: =SUMIFS(Database!$G:$G,Database!$D:$D,"Export",Database!$E:$E,$B114,Database!$C:$C,H$1,Database!$F:$F,"Total") -> 0 | I114: =SUMIFS(Database!$G:$G,Database!$D:$D,"Export",Database!$E:$E,$B114,Database!$C:$C,I$1,Database!$F:$F,"Total") -> 0 | J114: =SUMIFS(Database!$G:$G,Database!$D:$D,"Export",Database!$E:$E,$B114,Database!$C:$C,J$1,Database!$F:$F,"Total") -> 0 | ... CU114: =SUMIFS(Database!$G:$G,Database!$D:$D,"Export",Database!$E:$E,$B114,Database!$C:$C,CU$1,Database!$F:$F,"Total") -> 0
A115: EXP | B115: Cabinet wood (pieces) | C115: =SUMIFS(Database!$G:$G,Database!$D:$D,"Export",Database!$E:$E,$B115,Database!$C:$C,C$1,Database!$F:$F,"Total") -> 0 | D115: =SUMIFS(Database!$G:$G,Database!$D:$D,"Export",Database!$E:$E,$B115,Database!$C:$C,D$1,Database!$F:$F,"Total") -> 0 | E115: =SUMIFS(Database!$G:$G,Database!$D:$D,"Export",Database!$E:$E,$B115,Database!$C:$C,E$1,Database!$F:$F,"Total") -> 0 | F115: =SUMIFS(Database!$G:$G,Database!$D:$D,"Export",Database!$E:$E,$B115,Database!$C:$C,F$1,Database!$F:$F,"Total") -> 0 | G115: =SUMIFS(Database!$G:$G,Database!$D:$D,"Export",Database!$E:$E,$B115,Database!$C:$C,G$1,Database!$F:$F,"Total") -> 0 | H115: =SUMIFS(Database!$G:$G,Database!$D:$D,"Export",Database!$E:$E,$B115,Database!$C:$C,H$1,Database!$F:$F,"Total") -> 0 | I115: =SUMIFS(Database!$G:$G,Database!$D:$D,"Export",Database!$E:$E,$B115,Database!$C:$C,I$1,Database!$F:$F,"Total") -> 0 | J115: =SUMIFS(Database!$G:$G,Database!$D:$D,"Export",Database!$E:$E,$B115,Database!$C:$C,J$1,Database!$F:$F,"Total") -> 0 | ... CU115: =SUMIFS(Database!$G:$G,Database!$D:$D,"Export",Database!$E:$E,$B115,Database!$C:$C,CU$1,Database!$F:$F,"Total") -> 0
A116: IMP | B116: Castor oil (casks) | C116: =SUMIFS(Database!$G:$G,Database!$D:$D,"Export",Database!$E:$E,$B116,Database!$C:$C,C$1,Database!$F:$F,"Total") -> 0 | D116: =SUMIFS(Database!$G:$G,Database!$D:$D,"Export",Database!$E:$E,$B116,Database!$C:$C,D$1,Database!$F:$F,"Total") -> 0 | E116: =SUMIFS(Database!$G:$G,Database!$D:$D,"Export",Database!$E:$E,$B116,Database!$C:$C,E$1,Database!$F:$F,"Total") -> 0 | F116: =SUMIFS(Database!$G:$G,Database!$D:$D,"Export",Database!$E:$E,$B116,Database!$C:$C,F$1,Database!$F:$F,"Total") -> 0 | G116: =SUMIFS(Database!$G:$G,Database!$D:$D,"Export",Database!$E:$E,$B116,Database!$C:$C,G$1,Database!$F:$F,"Total") -> 0 | H116: =SUMIFS(Database!$G:$G,Database!$D:$D,"Export",Database!$E:$E,$B116,Database!$C:$C,H$1,Database!$F:$F,"Total") -> 0 | I116: =SUMIFS(Database!$G:$G,Database!$D:$D,"Export",Database!$E:$E,$B116,Database!$C:$C,I$1,Database!$F:$F,"Total") -> 0 | J116: =SUMIFS(Database!$G:$G,Database!$D:$D,"Export",Database!$E:$E,$B116,Database!$C:$C,J$1,Database!$F:$F,"Total") -> 0 | ... CU116: =SUMIFS(Database!$G:$G,Database!$D:$D,"Export",Database!$E:$E,$B116,Database!$C:$C,CU$1,Database!$F:$F,"Total") -> 0
A117: EXP | B117: Cedar (logs) | C117: =SUMIFS(Database!$G:$G,Database!$D:$D,"Export",Database!$E:$E,$B117,Database!$C:$C,C$1,Database!$F:$F,"Total") -> 0 | D117: =SUMIFS(Database!$G:$G,Database!$D:$D,"Export",Database!$E:$E,$B117,Database!$C:$C,D$1,Database!$F:$F,"Total") -> 0 | E117: =SUMIFS(Database!$G:$G,Database!$D:$D,"Export",Database!$E:$E,$B117,Database!$C:$C,E$1,Database!$F:$F,"Total") -> 0 | F117: =SUMIFS(Database!$G:$G,Database!$D:$D,"Export",Database!$E:$E,$B117,Database!$C:$C,F$1,Database!$F:$F,"Total") -> 0 | G117: =SUMIFS(Database!$G:$G,Database!$D:$D,"Export",Database!$E:$E,$B117,Database!$C:$C,G$1,Database!$F:$F,"Total") -> 0 | H117: =SUMIFS(Database!$G:$G,Database!$D:$D,"Export",Database!$E:$E,$B117,Database!$C:$C,H$1,Database!$F:$F,"Total") -> 0 | I117: =SUMIFS(Database!$G:$G,Database!$D:$D,"Export",Database!$E:$E,$B117,Database!$C:$C,I$1,Database!$F:$F,"Total") -> 0 | J117: =SUMIFS(Database!$G:$G,Database!$D:$D,"Export",Database!$E:$E,$B117,Database!$C:$C,J$1,Database!$F:$F,"Total") -> 0 | ... CU117: =SUMIFS(Database!$G:$G,Database!$D:$D,"Export",Database!$E:$E,$B117,Database!$C:$C,CU$1,Database!$F:$F,"Total") -> 0
A118: EXP | B118: Coals (casks) | C118: =SUMIFS(Database!$G:$G,Database!$D:$D,"Export",Database!$E:$E,$B118,Database!$C:$C,C$1,Database!$F:$F,"Total") -> 0 | D118: =SUMIFS(Database!$G:$G,Database!$D:$D,"Export",Database!$E:$E,$B118,Database!$C:$C,D$1,Database!$F:$F,"Total") -> 0 | E118: =SUMIFS(Database!$G:$G,Database!$D:$D,"Export",Database!$E:$E,$B118,Database!$C:$C,E$1,Database!$F:$F,"Total") -> 0 | F118: =SUMIFS(Database!$G:$G,Database!$D:$D,"Export",Database!$E:$E,$B118,Database!$C:$C,F$1,Database!$F:$F,"Total") -> 0 | G118: =SUMIFS(Database!$G:$G,Database!$D:$D,"Export",Database!$E:$E,$B118,Database!$C:$C,G$1,Database!$F:$F,"Total") -> 0 | H118: =SUMIFS(Database!$G:$G,Database!$D:$D,"Export",Database!$E:$E,$B118,Database!$C:$C,H$1,Database!$F:$F,"Total") -> 0 | I118: =SUMIFS(Database!$G:$G,Database!$D:$D,"Export",Database!$E:$E,$B118,Database!$C:$C,I$1,Database!$F:$F,"Total") -> 0 | J118: =SUMIFS(Database!$G:$G,Database!$D:$D,"Export",Database!$E:$E,$B118,Database!$C:$C,J$1,Database!$F:$F,"Total") -> 0 | ... CU118: =SUMIFS(Database!$G:$G,Database!$D:$D,"Export",Database!$E:$E,$B118,Database!$C:$C,CU$1,Database!$F:$F,"Total") -> 0
A119: EXP | B119: Coffee (bags) | C119: =SUMIFS(Database!$G:$G,Database!$D:$D,"Export",Database!$E:$E,$B119,Database!$C:$C,C$1,Database!$F:$F,"Total") -> 0 | D119: =SUMIFS(Database!$G:$G,Database!$D:$D,"Export",Database!$E:$E,$B119,Database!$C:$C,D$1,Database!$F:$F,"Total") -> 0 | E119: =SUMIFS(Database!$G:$G,Database!$D:$D,"Export",Database!$E:$E,$B119,Database!$C:$C,E$1,Database!$F:$F,"Total") -> 0 | F119: =SUMIFS(Database!$G:$G,Database!$D:$D,"Export",Database!$E:$E,$B119,Database!$C:$C,F$1,Database!$F:$F,"Total") -> 0 | G119: =SUMIFS(Database!$G:$G,Database!$D:$D,"Export",Database!$E:$E,$B119,Database!$C:$C,G$1,Database!$F:$F,"Total") -> 0 | H119: =SUMIFS(Database!$G:$G,Database!$D:$D,"Export",Database!$E:$E,$B119,Database!$C:$C,H$1,Database!$F:$F,"Total") -> 0 | I119: =SUMIFS(Database!$G:$G,Database!$D:$D,"Export",Database!$E:$E,$B119,Database!$C:$C,I$1,Database!$F:$F,"Total") -> 0 | J119: =SUMIFS(Database!$G:$G,Database!$D:$D,"Export",Database!$E:$E,$B119,Database!$C:$C,J$1,Database!$F:$F,"Total") -> 0 | ... CU119: =SUMIFS(Database!$G:$G,Database!$D:$D,"Export",Database!$E:$E,$B119,Database!$C:$C,CU$1,Database!$F:$F,"Total") -> 0
A120: EXP | B120: Coffee (barrels) | C120: =SUMIFS(Database!$G:$G,Database!$D:$D,"Export",Database!$E:$E,$B120,Database!$C:$C,C$1,Database!$F:$F,"Total") -> 0 | D120: =SUMIFS(Database!$G:$G,Database!$D:$D,"Export",Database!$E:$E,$B120,Database!$C:$C,D$1,Database!$F:$F,"Total") -> 0 | E120: =SUMIFS(Database!$G:$G,Database!$D:$D,"Export",Database!$E:$E,$B120,Database!$C:$C,E$1,Database!$F:$F,"Total") -> 0 | F120: =SUMIFS(Database!$G:$G,Database!$D:$D,"Export",Database!$E:$E,$B120,Database!$C:$C,F$1,Database!$F:$F,"Total") -> 0 | G120: =SUMIFS(Database!$G:$G,Database!$D:$D,"Export",Database!$E:$E,$B120,Database!$C:$C,G$1,Database!$F:$F,"Total") -> 0 | H120: =SUMIFS(Database!$G:$G,Database!$D:$D,"Export",Database!$E:$E,$B120,Database!$C:$C,H$1,Database!$F:$F,"Total") -> 0 | I120: =SUMIFS(Database!$G:$G,Database!$D:$D,"Export",Database!$E:$E,$B120,Database!$C:$C,I$1,Database!$F:$F,"Total") -> 0 | J120: =SUMIFS(Database!$G:$G,Database!$D:$D,"Export",Database!$E:$E,$B120,Database!$C:$C,J$1,Database!$F:$F,"Total") -> 0 | ... CU120: =SUMIFS(Database!$G:$G,Database!$D:$D,"Export",Database!$E:$E,$B120,Database!$C:$C,CU$1,Database!$F:$F,"Total") -> 0
... A169: EXP | B169: Wine (quarter casks) | C169: =SUMIFS(Database!$G:$G,Database!$D:$D,"Export",Database!$E:$E,$B169,Database!$C:$C,C$1,Database!$F:$F,"Total") -> 0 | D169: =SUMIFS(Database!$G:$G,Database!$D:$D,"Export",Database!$E:$E,$B169,Database!$C:$C,D$1,Database!$F:$F,"Total") -> 0 | E169: =SUMIFS(Database!$G:$G,Database!$D:$D,"Export",Database!$E:$E,$B169,Database!$C:$C,E$1,Database!$F:$F,"Total") -> 0 | F169: =SUMIFS(Database!$G:$G,Database!$D:$D,"Export",Database!$E:$E,$B169,Database!$C:$C,F$1,Database!$F:$F,"Total") -> 0 | G169: =SUMIFS(Database!$G:$G,Database!$D:$D,"Export",Database!$E:$E,$B169,Database!$C:$C,G$1,Database!$F:$F,"Total") -> 0 | H169: =SUMIFS(Database!$G:$G,Database!$D:$D,"Export",Database!$E:$E,$B169,Database!$C:$C,H$1,Database!$F:$F,"Total") -> 0 | I169: =SUMIFS(Database!$G:$G,Database!$D:$D,"Export",Database!$E:$E,$B169,Database!$C:$C,I$1,Database!$F:$F,"Total") -> 0 | J169: =SUMIFS(Database!$G:$G,Database!$D:$D,"Export",Database!$E:$E,$B169,Database!$C:$C,J$1,Database!$F:$F,"Total") -> 0 | ... CU169: =SUMIFS(Database!$G:$G,Database!$D:$D,"Export",Database!$E:$E,$B169,Database!$C:$C,CU$1,Database!$F:$F,"Total") -> 0

Sheet Database
A1: Year Start | B1: Year End | C1: Year Range | D1: I/E | E1: Commodity | F1: To/From | G1: Amount | H1: From | I1: To
A2: 1796 | B2: 1797 | C2: =IF(LEFT(A2,2)=LEFT(B2,2),_xlfn.TEXTJOIN("-",TRUE,A2,RIGHT(B2,2)),_xlfn.TEXTJOIN("-",TRUE,A2,B2)) -> 1796-97 | D2: Export | E2: Sugar (hogsheads) | F2: Jamaica: from/to Br Plantations | G2: 54 | H2: Jamaica (Total) | I2: Br Plantations
A3: 1796 | B3: 1797 | C3: 1796-97 | D3: Export | E3: Sugar (tierces) | F3: Jamaica: from/to Br Plantations | G3: 63 | H3: Jamaica (Total) | I3: Br Plantations
A4: 1796 | B4: 1797 | C4: 1796-97 | D4: Export | E4: Sugar (barrels) | F4: Jamaica: from/to Br Plantations | G4: 267 | H4: Jamaica (Total) | I4: Br Plantations
A5: 1796 | B5: 1797 | C5: 1796-97 | D5: Export | E5: Rum (puncheons) | F5: Jamaica: from/to Br Plantations | G5: 5262 | H5: Jamaica (Total) | I5: Br Plantations
A6: 1796 | B6: 1797 | C6: 1796-97 | D6: Export | E6: Rum (hogsheads) | F6: Jamaica: from/to Br Plantations | G6: 729 | H6: Jamaica (Total) | I6: Br Plantations
A7: 1796 | B7: 1797 | C7: 1796-97 | D7: Export | E7: Ginger (bags) | F7: Jamaica: from/to Br Plantations | G7: 111 | H7: Jamaica (Total) | I7: Br Plantations
A8: 1796 | B8: 1797 | C8: 1796-97 | D8: Export | E8: Ginger (casks) | F8: Jamaica: from/to Br Plantations | G8: 0 | H8: Jamaica (Total) | I8: Br Plantations
A9: 1796 | B9: 1797 | C9: 1796-97 | D9: Export | E9: Pimento (bags) | F9: Jamaica: from/to Br Plantations | G9: 20 | H9: Jamaica (Total) | I9: Br Plantations
A10: 1796 | B10: 1797 | C10: 1796-97 | D10: Export | E10: Pimento (casks) | F10: Jamaica: from/to Br Plantations | G10: 0 | H10: Jamaica (Total) | I10: Br Plantations
A11: 1796 | B11: 1797 | C11: 1796-97 | D11: Export | E11: Coffee (lb) | F11: Jamaica: from/to Br Plantations | G11: 26439 | H11: Jamaica (Total) | I11: Br Plantations
A12: 1796 | B12: 1797 | C12: 1796-97 | D12: Export | E12: Sugar (hogsheads) | F12: Jamaica: from/to GB | G12: 75273 | H12: Jamaica (Total) | I12: GB
A13: 1796 | B13: 1797 | C13: 1796-97 | D13: Export | E13: Sugar (tierces) | F13: Jamaica: from/to GB | G13: 9036 | H13: Jamaica (Total) | I13: GB
A14: 1796 | B14: 1797 | C14: 1796-97 | D14: Export | E14: Sugar (barrels) | F14: Jamaica: from/to GB | G14: 378 | H14: Jamaica (Total) | I14: GB
... A133: 1797 | B133: 1798 | C133: 1797-98 | D133: Export | E133: Coffee (lb) | F133: Total | G133: 7894306 | H133: Jamaica (Total) | I133: All Exports (Total)
A134: 1799 | B134: =A134+1 -> 1800 | C134: 1799-1800 | D134: Export | E134: Sugar (hogsheads) | F134: Kingston: from/to Br Plantations | G134: 132 | H134: Kingston | I134: Br Plantations
A135: 1799 | B135: =A135+1 -> 1800 | C135: 1799-1800 | D135: Export | E135: Sugar (tierces) | F135: Kingston: from/to Br Plantations | G135: 17 | H135: Kingston | I135: Br Plantations
A136: 1799 | B136: =A136+1 -> 1800 | C136: 1799-1800 | D136: Export | E136: Sugar (barrels) | F136: Kingston: from/to Br Plantations | G136: 10 | H136: Kingston | I136: Br Plantations
A137: 1799 | B137: =A137+1 -> 1800 | C137: 1799-1800 | D137: Export | E137: Rum (puncheons) | F137: Kingston: from/to Br Plantations | G137: 776 | H137: Kingston | I137: Br Plantations
A138: 1799 | B138: =A138+1 -> 1800 | C138: 1799-1800 | D138: Export | E138: Rum (hogsheads) | F138: Kingston: from/to Br Plantations | G138: 80 | H138: Kingston | I138: Br Plantations
A139: 1799 | B139: =A139+1 -> 1800 | C139: 1799-1800 | D139: Export | E139: Ginger (bags) | F139: Kingston: from/to Br Plantations | G139: 0 | H139: Kingston | I139: Br Plantations
A140: 1799 | B140: =A140+1 -> 1800 | C140: 1799-1800 | D140: Export | E140: Ginger (casks) | F140: Kingston: from/to Br Plantations | G140: 0 | H140: Kingston | I140: Br Plantations
A141: 1799 | B141: =A141+1 -> 1800 | C141: 1799-1800 | D141: Export | E141: Pimento (bags) | F141: Kingston: from/to Br Plantations | G141: 0 | H141: Kingston | I141: Br Plantations
A142: 1799 | B142: =A142+1 -> 1800 | C142: 1799-1800 | D142: Export | E142: Pimento (casks) | F142: Kingston: from/to Br Plantations | G142: 0 | H142: Kingston | I142: Br Plantations
A143: 1799 | B143: =A143+1 -> 1800 | C143: 1799-1800 | D143: Export | E143: Coffee (lb) | F143: Kingston: from/to Br Plantations | G143: 29948 | H143: Kingston | I143: Br Plantations
A144: 1799 | B144: =A144+1 -> 1800 | C144: 1799-1800 | D144: Export | E144: Sugar (hogsheads) | F144: Kingston: from/to GB | G144: 38869 | H144: Kingston | I144: GB
A145: 1799 | B145: =A145+1 -> 1800 | C145: 1799-1800 | D145: Export | E145: Sugar (tierces) | F145: Kingston: from/to GB | G145: 3344 | H145: Kingston | I145: GB
... A243: 1799 | B243: =A243+1 -> 1800 | C243: 1799-1800 | D243: Export | E243: Coffee (lb) | F243: Total | G243: 11116474 | H243: Jamaica (Total) | I243: All Exports (Total)
A244: 1799 | B244: 1801 | C244: 1799-1801 | D244: Import | E244: Livestock: horses | F244: Kingston: from/to Foreign Plantations | G244: 1094 | H244: Foreign Plantations | I244: Kingston
A245: 1799 | B245: 1801 | C245: 1799-1801 | D245: Import | E245: Livestock: mules | F245: Kingston: from/to Foreign Plantations | G245: 2975 | H245: Foreign Plantations | I245: Kingston
A246: 1799 | B246: 1801 | C246: 1799-1801 | D246: Import | E246: Livestock: asses | F246: Kingston: from/to Foreign Plantations | G246: 329 | H246: Foreign Plantations | I246: Kingston
A247: 1799 | B247: 1801 | C247: 1799-1801 | D247: Import | E247: Livestock: cattle | F247: Kingston: from/to Foreign Plantations | G247: 3074 | H247: Foreign Plantations | I247: Kingston
A248: 1799 | B248: 1801 | C248: 1799-1801 | D248: Import | E248: Livestock: horses | F248: Kingston: Total | G248: 1094 | H248: All Imports (Total) | I248: Kingston
A249: 1799 | B249: 1801 | C249: 1799-1801 | D249: Import | E249: Livestock: mules | F249: Kingston: Total | G249: 2975 | H249: All Imports (Total) | I249: Kingston
A250: 1799 | B250: 1801 | C250: 1799-1801 | D250: Import | E250: Livestock: asses | F250: Kingston: Total | G250: 329 | H250: All Imports (Total) | I250: Kingston
A251: 1799 | B251: 1801 | C251: 1799-1801 | D251: Import | E251: Livestock: cattle | F251: Kingston: Total | G251: 3074 | H251: All Imports (Total) | I251: Kingston
A252: 1799 | B252: 1801 | C252: 1799-1801 | D252: Import | E252: Livestock: horses | F252: Outports: from/to Foreign Plantations | G252: 16 | H252: Foreign Plantations | I252: Outports
A253: 1799 | B253: 1801 | C253: 1799-1801 | D253: Import | E253: Livestock: mules | F253: Outports: from/to Foreign Plantations | G253: 94 | H253: Foreign Plantations | I253: Outports
A254: 1799 | B254: 1801 | C254: 1799-1801 | D254: Import | E254: Livestock: asses | F254: Outports: from/to Foreign Plantations | G254: 0 | H254: Foreign Plantations | I254: Outports
A255: 1799 | B255: 1801 | C255: 1799-1801 | D255: Import | E255: Livestock: cattle | F255: Outports: from/to Foreign Plantations | G255: 31 | H255: Foreign Plantations | I255: Outports
...

Sheet Ref List
A1: # | B1: Folder | C1: Image | D1: Start Yr | E1: End Yr | F1: Table Title | G1: Sheet | H1: I/E | I1: Notes
A2: 1 | B2: JHA 11 | C2: 183000 | D2: 1771 | E2: 1773 | F2: Schedule No. 1: An account of the total import from North-America into the British West-Indian islands, in the years 1771, 1772, and 1773 | G2: 1771-73 (I_WI)
A3: 2 | B3: JHA 10 | C3: 124011 124015 | D3: 1796 | E3: 1797 | F3: Account of the produce, the growth of Jamaica, exported (2 page) | G3: 1796-97 (E_J)
A4: 3 | B4: JHA 10 | C4: 124015 | D4: 1796 | E4: 1797 | F4: Account of sundries, the growth, produce, or manufacture of the West-India islands and southern continent of America, imported | G4: 1796-7 (I_WI) | I4: Whose exports?
A5: 4 | B5: JHA 10 | C5: 154505 | D5: 1797 | E5: 1798 | F5: Account of sundry articles, the produce of the island of Jamaica, exported | G5: 1797-98 (E_J)
A6: 5 | B6: JHA 10 | C6: 121816 | D6: 1799 | E6: 1800 | F6: A list of sugar, rum, &c exported from Jamaica | G6: 1799-1800 (E)
A7: 6 | B7: JHA 10 | C7: 121816 | D7: 1799 | E7: 1801 | F7: A list of horned cattle, horses, &c imported into Jamaica (1 Jul 1799 - 1 Jan 1801) | G7: 1799-1801 (I)
A8: 7 | B8: JHA 10 | C8: 122124 | D8: 1800 | E8: 1801 | F8: A list of sugar, rum, &c exported from Jamaica | G8: 1800-01 (E)
A9: 8 | B9: JHA 10 | C9: 122124 | D9: 1800 | E9: 1801 | F9: A list of cattle imported into the island of Jamaica | G9: 1800-01 (I)
A10: 9 | B10: JHA 11 | C10: 183132 | D10: 1801 | E10: 1802 | F10: Account of sugar, rum, &c, exported from this island | G10: 1801-2 (E) | H10: E
A11: 10 | B11: JHA 11 | C11: 183135 | D11: 1801 | E11: 1802 | F11: An account of all the articles imported into this island from his majesty's colonies in America | G11: 1801-2 (I) | H11: I
A12: 11 | B12: JHA 11 | C12: 183135 | D12: 1801 | E12: 1802 | F12: Articles exported to his majesty's colonies | G12: 1801-2 (E) | H12: E
A13: 12 | B13: JHA 11 | C13: 183138 | D13: 1801 | E13: 1802 | F13: Account of horses, mules, &c imported into this island | G13: 1801-2 (I) | H13: I
A14: 13 | B14: JHA 11 | C14: 183147 | D14: 1801 | E14: 1802 | F14: An account of the provisions, lumber, &c imported into this island from the United States of America | G14: 1801-2 (I) | H14: I
A15: 14 | B15: JHA 11 | C15: 183142 | D15: 1801 | E15: 1802 | F15: Produce exported to the United States | H15: E | I15: Data available in general exports table
A16: 15 | B16: JHA 11 | C16: 183008 | D16: 1801 | E16: 1804 | F16: Schedule No. 2: An account of the provisions imported into this island from the United States of America, in British bottoms
A17: 16 | B17: JHA 11 | C17: 152235 | D17: 1801 | E17: 1804 | F17: Schedule No. 2: Lumber imported (from USA)
A18: 17 | B18: JHA 11 | C18: 152241 | D18: 1801 | E18: 1804 | F18: Schedule No. 2: An account of the provisions imported into this island from his majesty's colonies in America
A19: 18 | B19: JHA 11 | C19: 152237 | D19: 1801 | E19: 1804 | F19: Schedule No. 3: An account of the different articles exported from this island to the United States of America, in American bottoms
A20: 19 | B20: JHA 11 | C20: 115001 | D20: 1801 | E20: 1804 | F20: Schedule No. 3: An account of the different articles exported from this island to the United States of America, in British bottoms
A21: 20 | B21: JHA 11 | C21: 115005 | D21: 1801 | E21: 1804 | F21: Schedule No. 3: An account of the different articles exported from this island to his majesty's colonies in America
A22: 21 | B22: JHA 11 | C22: 115009 | D22: 1801 | E22: 1804 | F22: Schedule No. 3: Articles exported to his majesty's colonies in America, cont.
A23: 22 | B23: JHA 11 | C23: 183206 | D23: 1802 | E23: 1803 | F23: List of sugar, rum, &c exported from the island of Jamaica | G23: 1802-3 (E) | H23: E
A24: 23 | B24: JHA 11 | C24: 183208 | D24: 1802 | E24: 1803 | F24: Imports to the island of Jamaica from his majesty's colonies in America | G24: 1802-3 (I) | H24: I
A25: 24 | B25: JHA 11 | C25: 183211 | D25: 1802 | E25: 1803 | F25: Exports from the island of Jamaica to his majesty's colonies in America | G25: 1802-3 (E) | H25: E | I25: Only adds molasses
A26: 25 | B26: JHA 11 | C26: 183215 | D26: 1802 | E26: 1803 | F26: Account of produce exported from the island of Jamaica to the United States of America | G26: 1802-3 (E) | H26: E | I26: Only adds molasses
A27: 26 | B27: JHA 11 | C27: 183219 | D27: 1802 | E27: 1803 | F27: Account of the provisions and lumber imported into the island of Jamaica from the United States of America | G27: 1802-3 (I) | H27: I
A28: 27 | B28: JHA 11 | C28: 183228 | D28: 1802 | E28: 1803 | F28: List of horses, mules, &c imported into the island of Jamaica | G28: 1802-3 (I) | H28: I
A29: 28 | B29: JHA 11 | C29: 183230 | D29: 1802 | E29: 1803 | F29: Account of the tonnage of vessels which have traded to the island of Jamaica, and of all sugar-vessels trading round the island | G29: //
A30: 29 | B30: JHA 11 | C30: 183248 | D30: 1803 | E30: 1804 | F30: Account of all the provisions and lumber imported into this island from the United States of America | G30: 1803-4 (I) | H30: I
A31: 30 | B31: JHA 11 | C31: 183250 | D31: 1803 | E31: 1804 | F31: Account of all the provisions and lumber imported into this island from the United States of America, in British vessels | G31: 1803-4 (I) | H31: I
A32: 31 | B32: JHA 11 | C32: 183253 | D32: 1803 | E32: 1804 | F32: Exports to the United States of America, in British vessels | H32: E | I32: Data available in general exports table
A33: 32 | B33: JHA 11 | C33: 183255 | D33: 1803 | E33: 1804 | F33: Exports to the United States, in America vessels | H33: E | I33: Data available in general exports table
A34: 33 | B34: JHA 11 | C34: 183301 | D34: 1803 | E34: 1804 | F34: Account of all the articles imported into this island from his majesty's colonies in America | G34: 1803-4 (I) | H34: I
A35: 34 | B35: JHA 11 | C35: 183304 | D35: 1803 | E35: 1804 | F35: Account of sugar, rum, &c, exported from this island | G35: 1803-4 (E) | H35: E
A36: 35 | B36: JHA 11 | C36: 183306 | D36: 1803 | E36: 1804 | F36: Exports to his majesty's colonies in America | H36: E | I36: Discrepancies - see general exports table
A37: 36 | B37: JHA 11 | C37: 183309 | D37: 1803 | E37: 1804 | F37: Account of the tonnage of all vessels trading to this island, and of all droggers trading round this island | G37: //
A38: 37 | B38: JHA 11 | C38: 183315 | D38: 1803 | E38: 1804 | F38: Account of horses, mules, &c imported into this island | G38: 1803-4 (I) | H38: I
A39: 38 | B39: JHA11 | C39: 183322 | D39: 1803 | E39: 1804 | F39: Account of herrings imported from Great-Britain and Ireland | G39: 1803-4 (I) | H39: I
A40: 39 | B40: JHA 11 | C40: 183402 | D40: 1804 | E40: 1805 | F40: Account of horses, mules, &c imported into the island of Jamaica | G40: 1804-5 (I) | H40: I
...

Sheet Term List
A1: Summary Table | C1: Additional | E1: To/From | F1: From | G1: To
A2: Beef (barrels) | C2: Beef (half barrels) | E2: Jamaica: from/to Br Plantations | F2: All Imports (Total) | G2: All Exports (Total)
A3: Beer (hogsheads) | C3: Beef and pork (barrels) | E3: Jamaica: from/to Foreign Plantations | F3: Br Plantations | G3: Br Plantations
A4: Beer and cider (gallons) | C4: Boards and timber (feet) | E4: Jamaica: from/to GB | F4: Europe | G4: Europe
A5: Beer and cider (tuns) | C5: Bread (cwt) | E5: Jamaica: from/to Ireland | F5: Foreign Plantations | G5: Foreign Plantations
A6: Boots and shoes (dozens) | C6: Bread (half barrels) | E6: Jamaica: from/to US | F6: GB | G6: GB
A7: Brandy (gallons) | C7: Bread (quarters) | E7: Kingston: from/to Br Plantations | F7: GB & Ireland | G7: Ireland
A8: Bread (bags) | C8: Bread and flour (barrels) | E8: Kingston: from/to Europe | F8: Ireland | G8: Jamaica (Total)
A9: Bread (barrels) | C9: Bread and flour (kegs) | E9: Kingston: from/to Foreign Plantations | F9: Jamaica (Total) | G9: Kingston
A10: Bread (kegs) | C10: Butter (half firkins) | E10: Kingston: from/to GB | F10: Kingston | G10: Outports
A11: Bread (lb) | C11: Butter (lb) | E11: Kingston: from/to GB & Ireland | F11: Outports | G11: US
A12: Bread (quintals) | C12: Casks | E12: Kingston: from/to Ireland | F12: US
A13: Butter (firkins) | C13: Cocoa (bags) | E13: Kingston: from/to US
A14: Butter and lard (firkins) | C14: Cocoa (casks) | E14: Kingston: Total
A15: Butter and lard (lb) | C15: Corn meal (hogsheads) | E15: Outports: from/to Br Plantations
A16: Candles (boxes) | C16: Fish (half barrels) | E16: Outports: from/to Europe
A17: Candles (lb) | C17: Fish (kits) | E17: Outports: from/to Foreign Plantations
A18: Cedar posts | C18: Fish (tierces) | E18: Outports: from/to GB
A19: Chairs (dozens) | C19: Fish, dry (boxes) | E19: Outports: from/to GB & Ireland
A20: Corn (bushels and barrels) | C20: Fish, dry (casks) | E20: Outports: from/to Ireland
A21: Corn (bushels) | C21: Fish, dry (hogsheads) | E21: Outports: from/to US
A22: Corn (casks) | C22: Fish, dry (quintals) | E22: Outports: Total
A23: Corn (bags) | C23: Fish, pickled (barrels) | E23: Total
A24: Corn and beans (casks) | C24: Fish, pickled (kegs)
A25: Corn and beans (bushels) | C25: House frames
A26: Corn and pease (casks) | C26: Indigo (bags)
A27: Corn and pease (bushels) | C27: Indigo (casks)
A28: Corn, pease, and beans (casks) | C28: Iron (tons)
A29: Corn, pease, and beans (bags) | C29: Livestock: oxen
A30: Corn, pease, and beans (bushels) | C30: Livestock: sheep and hogs
A31: Corn, beans, oats, etc. (bushels) | C31: Masts
A32: Corn, pease, oats, etc. (bushels) | C32: Molasses (puncheons)
A33: Corn, pease, oats, etc. (barrels) | C33: Oil (barrels)
A34: Corn and meal (bushels) | C34: Ox-bows and yokes
A35: Corn and meal (bags) | C35: Pease (casks)
... A42: Fish, pickled (kegs) | C42: Tar, pitch, and turpentine (barrels)
A43: Fish, pickled (kits)
A44: Fish, dry (hogsheads)
A45: Fish, dry (casks)
A46: Fish, dry (boxes)
...

Sheet Unit Calc
A2: Bread | B2: 1 cwt (imp. hundredweight) = 4 quarters = 112 lbs 1 quarter = 28 lbs
E3: Cwt | F3: Qrtr | G3: Lbs
A4: Woods | B4: 1 ton = 20 cwt = 2240 lbs | D4: Enter
E5: =E4 -> 0 | F5: =F4/4 -> 0 | G5: =G4/112 -> 0
D6: Cwt | E6: =SUM($E5:$G5) -> 0
E7: =E4*112 -> 0 | F7: =F4*(112/4) -> 0 | G7: =G4 -> 0
G8: =SUM(E7:G7) -> 0 | H8: Lbs
D11: Enter | H11: Lbs
D12: Cwt/qtr/lbs | E12: =IF(G11>=112,QUOTIENT(G11,112),0) -> 0 | F12: =IF(G11>=28,QUOTIENT(MOD(G11,112),28),0) -> 0 | G12: =IF(G11>=28,MOD(G11,28),G11) -> 0

Sheet Lookup
B2: I/E | C2: Commodity (drop-down)
B3: Import | C3: Flour (barrels)
E5: 1768-69 | F5: 1769-70 | G5: 1770-71 | H5: 1771-72 | I5: 1772-73 | J5: 1773-74 | K5: 1774-75 | L5: 1775-76 | M5: 1776-77 | N5: 1777-78 | O5: 1778-79 | P5: 1779-80 | Q5: 1780-81 | R5: 1781-82 | S5: 1782-83 | T5: 1783-84 | U5: 1784-85 | V5: 1785-86 | W5: 1786-87 | X5: 1787-88 | Y5: 1788-89 | Z5: 1789-90 | AA5: 1790-91 | AB5: 1791-92 | AC5: 1792-93 | AD5: 1793-94 | AE5: 1794-95 | AF5: 1795-96 | AG5: 1796-97 | AH5: 1797-98 | AI5: 1798-99 | AJ5: 1799-1800 | AK5: 1800-01 | AL5: 1801-02 | AM5: 1802-03 | AN5: 1803-04 | AO5: 1804-05 | AP5: 1805-06 | AQ5: 1806-07 | AR5: 1807-08 | AS5: 1808-09 | AT5: 1810-11 | AU5: 1811-12 | AV5: 1812-13 | AW5: 1813-14 | AX5: 1814-15 | AY5: 1815-16 | AZ5: 1816-17 | BA5: 1817-18 | BB5: 1818-19 | BC5: 1819-20 | BD5: 1820-21 | BE5: 1821-22 | BF5: 1822-23 | BG5: 1823-24 | BH5: 1824-25 | BI5: 1825-26 | BJ5: 1826-27 | BK5: 1827-28 | BL5: 1828-29 | BM5: 1829-30 | BN5: 1830-31 | BO5: 1831-32 | BP5: 1832-33 | BQ5: 1833-34 | BR5: 1834-35 | BS5: 1835-36 | BT5: 1836-37 | BU5: 1837-38 | BV5: 1838-39 | BW5: 1839-40 | BX5: 1840-41 | BY5: 1841-42 | BZ5: 1842-43 | CA5: 1843-44 | CB5: 1844-45 | CC5: 1845-46 | CD5: 1846-47 | CE5: 1847-48 | CF5: 1848-49 | CG5: 1849-50 | CH5: 1850-51 | CI5: 1851-52 | CJ5: 1852-53 | CK5: 1853-54 | CL5: 1854-55 | CM5: 1855-56 | CN5: 1856-57 | CO5: 1857-58 | CP5: 1858-59 | CQ5: 1859-60 | CR5: 1860-61 | CS5: 1861-62 | CT5: 1862-63 | CU5: 1863-64 | CV5: 1864-65
C6: Kingston: from/to GB | E6: =SUMIFS(Database!$G:$G,Database!$E:$E,Lookup!$C$3,Database!$C:$C,Lookup!E$5,Database!$F:$F,Lookup!$C6,Database!$D:$D,Lookup!$B$3) -> 0 | F6: =SUMIFS(Database!$G:$G,Database!$E:$E,Lookup!$C$3,Database!$C:$C,Lookup!F$5,Database!$F:$F,Lookup!$C6,Database!$D:$D,Lookup!$B$3) -> 0 | G6: =SUMIFS(Database!$G:$G,Database!$E:$E,Lookup!$C$3,Database!$C:$C,Lookup!G$5,Database!$F:$F,Lookup!$C6,Database!$D:$D,Lookup!$B$3) -> 0 | H6: =SUMIFS(Database!$G:$G,Database!$E:$E,Lookup!$C$3,Database!$C:$C,Lookup!H$5,Database!$F:$F,Lookup!$C6,Database!$D:$D,Lookup!$B$3) -> 0 | I6: =SUMIFS(Database!$G:$G,Database!$E:$E,Lookup!$C$3,Database!$C:$C,Lookup!I$5,Database!$F:$F,Lookup!$C6,Database!$D:$D,Lookup!$B$3) -> 0 | J6: =SUMIFS(Database!$G:$G,Database!$E:$E,Lookup!$C$3,Database!$C:$C,Lookup!J$5,Database!$F:$F,Lookup!$C6,Database!$D:$D,Lookup!$B$3) -> 0 | K6: =SUMIFS(Database!$G:$G,Database!$E:$E,Lookup!$C$3,Database!$C:$C,Lookup!K$5,Database!$F:$F,Lookup!$C6,Database!$D:$D,Lookup!$B$3) -> 0 | L6: =SUMIFS(Database!$G:$G,Database!$E:$E,Lookup!$C$3,Database!$C:$C,Lookup!L$5,Database!$F:$F,Lookup!$C6,Database!$D:$D,Lookup!$B$3) -> 0 | ... CV6: =SUMIFS(Database!$G:$G,Database!$E:$E,Lookup!$C$3,Database!$C:$C,Lookup!CV$5,Database!$F:$F,Lookup!$C6,Database!$D:$D,Lookup!$B$3) -> 0
C7: Kingston: from/to Ireland | E7: =SUMIFS(Database!$G:$G,Database!$E:$E,Lookup!$C$3,Database!$C:$C,Lookup!E$5,Database!$F:$F,Lookup!$C7,Database!$D:$D,Lookup!$B$3) -> 0 | F7: =SUMIFS(Database!$G:$G,Database!$E:$E,Lookup!$C$3,Database!$C:$C,Lookup!F$5,Database!$F:$F,Lookup!$C7,Database!$D:$D,Lookup!$B$3) -> 0 | G7: =SUMIFS(Database!$G:$G,Database!$E:$E,Lookup!$C$3,Database!$C:$C,Lookup!G$5,Database!$F:$F,Lookup!$C7,Database!$D:$D,Lookup!$B$3) -> 0 | H7: =SUMIFS(Database!$G:$G,Database!$E:$E,Lookup!$C$3,Database!$C:$C,Lookup!H$5,Database!$F:$F,Lookup!$C7,Database!$D:$D,Lookup!$B$3) -> 0 | I7: =SUMIFS(Database!$G:$G,Database!$E:$E,Lookup!$C$3,Database!$C:$C,Lookup!I$5,Database!$F:$F,Lookup!$C7,Database!$D:$D,Lookup!$B$3) -> 0 | J7: =SUMIFS(Database!$G:$G,Database!$E:$E,Lookup!$C$3,Database!$C:$C,Lookup!J$5,Database!$F:$F,Lookup!$C7,Database!$D:$D,Lookup!$B$3) -> 0 | K7: =SUMIFS(Database!$G:$G,Database!$E:$E,Lookup!$C$3,Database!$C:$C,Lookup!K$5,Database!$F:$F,Lookup!$C7,Database!$D:$D,Lookup!$B$3) -> 0 | L7: =SUMIFS(Database!$G:$G,Database!$E:$E,Lookup!$C$3,Database!$C:$C,Lookup!L$5,Database!$F:$F,Lookup!$C7,Database!$D:$D,Lookup!$B$3) -> 0 | ... CV7: =SUMIFS(Database!$G:$G,Database!$E:$E,Lookup!$C$3,Database!$C:$C,Lookup!CV$5,Database!$F:$F,Lookup!$C7,Database!$D:$D,Lookup!$B$3) -> 0
C8: Kingston: from/to GB & Ireland | E8: =SUMIFS(Database!$G:$G,Database!$E:$E,Lookup!$C$3,Database!$C:$C,Lookup!E$5,Database!$F:$F,Lookup!$C8,Database!$D:$D,Lookup!$B$3) -> 0 | F8: =SUMIFS(Database!$G:$G,Database!$E:$E,Lookup!$C$3,Database!$C:$C,Lookup!F$5,Database!$F:$F,Lookup!$C8,Database!$D:$D,Lookup!$B$3) -> 0 | G8: =SUMIFS(Database!$G:$G,Database!$E:$E,Lookup!$C$3,Database!$C:$C,Lookup!G$5,Database!$F:$F,Lookup!$C8,Database!$D:$D,Lookup!$B$3) -> 0 | H8: =SUMIFS(Database!$G:$G,Database!$E:$E,Lookup!$C$3,Database!$C:$C,Lookup!H$5,Database!$F:$F,Lookup!$C8,Database!$D:$D,Lookup!$B$3) -> 0 | I8: =SUMIFS(Database!$G:$G,Database!$E:$E,Lookup!$C$3,Database!$C:$C,Lookup!I$5,Database!$F:$F,Lookup!$C8,Database!$D:$D,Lookup!$B$3) -> 0 | J8: =SUMIFS(Database!$G:$G,Database!$E:$E,Lookup!$C$3,Database!$C:$C,Lookup!J$5,Database!$F:$F,Lookup!$C8,Database!$D:$D,Lookup!$B$3) -> 0 | K8: =SUMIFS(Database!$G:$G,Database!$E:$E,Lookup!$C$3,Database!$C:$C,Lookup!K$5,Database!$F:$F,Lookup!$C8,Database!$D:$D,Lookup!$B$3) -> 0 | L8: =SUMIFS(Database!$G:$G,Database!$E:$E,Lookup!$C$3,Database!$C:$C,Lookup!L$5,Database!$F:$F,Lookup!$C8,Database!$D:$D,Lookup!$B$3) -> 0 | ... CV8: =SUMIFS(Database!$G:$G,Database!$E:$E,Lookup!$C$3,Database!$C:$C,Lookup!CV$5,Database!$F:$F,Lookup!$C8,Database!$D:$D,Lookup!$B$3) -> 0
C9: Kingston: from/to Europe | E9: =SUMIFS(Database!$G:$G,Database!$E:$E,Lookup!$C$3,Database!$C:$C,Lookup!E$5,Database!$F:$F,Lookup!$C9,Database!$D:$D,Lookup!$B$3) -> 0 | F9: =SUMIFS(Database!$G:$G,Database!$E:$E,Lookup!$C$3,Database!$C:$C,Lookup!F$5,Database!$F:$F,Lookup!$C9,Database!$D:$D,Lookup!$B$3) -> 0 | G9: =SUMIFS(Database!$G:$G,Database!$E:$E,Lookup!$C$3,Database!$C:$C,Lookup!G$5,Database!$F:$F,Lookup!$C9,Database!$D:$D,Lookup!$B$3) -> 0 | H9: =SUMIFS(Database!$G:$G,Database!$E:$E,Lookup!$C$3,Database!$C:$C,Lookup!H$5,Database!$F:$F,Lookup!$C9,Database!$D:$D,Lookup!$B$3) -> 0 | I9: =SUMIFS(Database!$G:$G,Database!$E:$E,Lookup!$C$3,Database!$C:$C,Lookup!I$5,Database!$F:$F,Lookup!$C9,Database!$D:$D,Lookup!$B$3) -> 0 | J9: =SUMIFS(Database!$G:$G,Database!$E:$E,Lookup!$C$3,Database!$C:$C,Lookup!J$5,Database!$F:$F,Lookup!$C9,Database!$D:$D,Lookup!$B$3) -> 0 | K9: =SUMIFS(Database!$G:$G,Database!$E:$E,Lookup!$C$3,Database!$C:$C,Lookup!K$5,Database!$F:$F,Lookup!$C9,Database!$D:$D,Lookup!$B$3) -> 0 | L9: =SUMIFS(Database!$G:$G,Database!$E:$E,Lookup!$C$3,Database!$C:$C,Lookup!L$5,Database!$F:$F,Lookup!$C9,Database!$D:$D,Lookup!$B$3) -> 0 | ... CV9: =SUMIFS(Database!$G:$G,Database!$E:$E,Lookup!$C$3,Database!$C:$C,Lookup!CV$5,Database!$F:$F,Lookup!$C9,Database!$D:$D,Lookup!$B$3) -> 0
C10: Kingston: from/to Br Plantations | E10: =SUMIFS(Database!$G:$G,Database!$E:$E,Lookup!$C$3,Database!$C:$C,Lookup!E$5,Database!$F:$F,Lookup!$C10,Database!$D:$D,Lookup!$B$3) -> 0 | F10: =SUMIFS(Database!$G:$G,Database!$E:$E,Lookup!$C$3,Database!$C:$C,Lookup!F$5,Database!$F:$F,Lookup!$C10,Database!$D:$D,Lookup!$B$3) -> 0 | G10: =SUMIFS(Database!$G:$G,Database!$E:$E,Lookup!$C$3,Database!$C:$C,Lookup!G$5,Database!$F:$F,Lookup!$C10,Database!$D:$D,Lookup!$B$3) -> 0 | H10: =SUMIFS(Database!$G:$G,Database!$E:$E,Lookup!$C$3,Database!$C:$C,Lookup!H$5,Database!$F:$F,Lookup!$C10,Database!$D:$D,Lookup!$B$3) -> 0 | I10: =SUMIFS(Database!$G:$G,Database!$E:$E,Lookup!$C$3,Database!$C:$C,Lookup!I$5,Database!$F:$F,Lookup!$C10,Database!$D:$D,Lookup!$B$3) -> 0 | J10: =SUMIFS(Database!$G:$G,Database!$E:$E,Lookup!$C$3,Database!$C:$C,Lookup!J$5,Database!$F:$F,Lookup!$C10,Database!$D:$D,Lookup!$B$3) -> 0 | K10: =SUMIFS(Database!$G:$G,Database!$E:$E,Lookup!$C$3,Database!$C:$C,Lookup!K$5,Database!$F:$F,Lookup!$C10,Database!$D:$D,Lookup!$B$3) -> 0 | L10: =SUMIFS(Database!$G:$G,Database!$E:$E,Lookup!$C$3,Database!$C:$C,Lookup!L$5,Database!$F:$F,Lookup!$C10,Database!$D:$D,Lookup!$B$3) -> 0 | ... CV10: =SUMIFS(Database!$G:$G,Database!$E:$E,Lookup!$C$3,Database!$C:$C,Lookup!CV$5,Database!$F:$F,Lookup!$C10,Database!$D:$D,Lookup!$B$3) -> 0
C11: Kingston: from/to US | E11: =SUMIFS(Database!$G:$G,Database!$E:$E,Lookup!$C$3,Database!$C:$C,Lookup!E$5,Database!$F:$F,Lookup!$C11,Database!$D:$D,Lookup!$B$3) -> 0 | F11: =SUMIFS(Database!$G:$G,Database!$E:$E,Lookup!$C$3,Database!$C:$C,Lookup!F$5,Database!$F:$F,Lookup!$C11,Database!$D:$D,Lookup!$B$3) -> 0 | G11: =SUMIFS(Database!$G:$G,Database!$E:$E,Lookup!$C$3,Database!$C:$C,Lookup!G$5,Database!$F:$F,Lookup!$C11,Database!$D:$D,Lookup!$B$3) -> 0 | H11: =SUMIFS(Database!$G:$G,Database!$E:$E,Lookup!$C$3,Database!$C:$C,Lookup!H$5,Database!$F:$F,Lookup!$C11,Database!$D:$D,Lookup!$B$3) -> 0 | I11: =SUMIFS(Database!$G:$G,Database!$E:$E,Lookup!$C$3,Database!$C:$C,Lookup!I$5,Database!$F:$F,Lookup!$C11,Database!$D:$D,Lookup!$B$3) -> 0 | J11: =SUMIFS(Database!$G:$G,Database!$E:$E,Lookup!$C$3,Database!$C:$C,Lookup!J$5,Database!$F:$F,Lookup!$C11,Database!$D:$D,Lookup!$B$3) -> 0 | K11: =SUMIFS(Database!$G:$G,Database!$E:$E,Lookup!$C$3,Database!$C:$C,Lookup!K$5,Database!$F:$F,Lookup!$C11,Database!$D:$D,Lookup!$B$3) -> 0 | L11: =SUMIFS(Database!$G:$G,Database!$E:$E,Lookup!$C$3,Database!$C:$C,Lookup!L$5,Database!$F:$F,Lookup!$C11,Database!$D:$D,Lookup!$B$3) -> 0 | ... CV11: =SUMIFS(Database!$G:$G,Database!$E:$E,Lookup!$C$3,Database!$C:$C,Lookup!CV$5,Database!$F:$F,Lookup!$C11,Database!$D:$D,Lookup!$B$3) -> 0
