Workbook
Name commodities: Summary!$B$4:$B$169
Name exports: 'Term List'!$A$133:$A$197
Name fromlist: 'Term List'!$F$2:$F$12
Name imports: 'Term List'!$A$2:$A$132
Name tofrom: 'Term List'!$E$2:$E$23
Name tolist: 'Term List'!$G$2:$G$11

Sheet Summary
A1: I/E | B1: Commodities | C1: 1768-69 | D1: 1769-70 | E1: 1770-71 | F1: 1771-72 | G1: 1772-73 | H1: 1773-74 | I1: 1774-75 | J1: 1775-76 | K1: 1776-77 | L1: 1777-78 | M1: 1778-79 | N1: 1779-80 | O1: 1780-81 | P1: 1781-82 | Q1: 1782-83 | R1: 1783-84 | S1: 1784-85 | T1: 1785-86 | U1: 1786-87 | V1: 1787-88 | W1: 1788-89 | X1: 1789-90 | Y1: 1790-91 | Z1: 1791-92 | AA1: 1792-93 | AB1: 1793-94 | AC1: 1794-95 | AD1: 1795-96 | AE1: 1796-97 | AF1: 1797-98 | AG1: 1798-99 | AH1: 1799-1800 | AI1: 1800-01 | AJ1: 1801-02 | AK1: 1802-03 | AL1: 1803-04 | AM1: 1804-05 | AN1: 1805-06 | AO1: 1806-07 | AP1: 1807-08 | AQ1: 1808-09 | AR1: 1809-10 | AS1: 1810-11 | AT1: 1811-12 | AU1: 1812-13 | AV1: 1813-14 | AW1: 1814-15 | AX1: 1815-16 | AY1: 1816-17 | AZ1: 1817-18 | BA1: 1818-19 | BB1: 1819-20 | BC1: 1820-21 | BD1: 1821-22 | BE1: 1822-23 | BF1: 1823-24 | BG1: 1824-25 | BH1: 1825-26 | BI1: 1826-27 | BJ1: 1827-28 | BK1: 1828-29 | BL1: 1829-30 | BM1: 1830-31 | BN1: 1831-32 | BO1: 1832-33 | BP1: 1833-34 | BQ1: 1834-35 | BR1: 1835-36 | BS1: 1836-37 | BT1: 1837-38 | BU1: 1838-39 | BV1: 1839-40 | BW1: 1840-41 | BX1: 1841-42 | BY1: 1842-43 | BZ1: 1843-44 | CA1: 1844-45 | CB1: 1845-46 | CC1: 1846-47 | CD1: 1847-48 | CE1: 1848-49 | CF1: 1849-50 | CG1: 1850-51 | CH1: 1851-52 | CI1: 1852-53 | CJ1: 1853-54 | CK1: 1854-55 | CL1: 1855-56 | CM1: 1856-57 | CN1: 1857-58 | CO1: 1858-59 | CP1: 1859-60 | CQ1: 1860-61 | CR1: 1861-62 | CS1: 1862-63 | CT1: 1863-64 | CU1: 1864-65
B2: Links to Import Table | AH2: Livestock 1799-1801 not incl. | AI2: Table (I) | AJ2: Table (I) | AK2: Table (I) | AL2: Table (I) | AM2: Table (I) | AN2: Table (I) | AO2: Table (I) | AP2: Table (I) | AQ2: Table (I) | AR2: Table (I) | AS2: Table (I) | AT2: Table (I) | AU2: Table (I) | AV2: Table (I) | AW2: Table (I) | AX2: Table (I) | AY2: Table (I) | AZ2: Table (I) | BA2: Table (I) | BB2: Table (I) | BC2: Table (I) | BD2: Table (I) | BE2: Table (I) | BF2: Table (I) | BG2: Table (I) | BH2: Table (I) | BI2: PP 1846 | BJ2: Table (I) | BK2: Table (I) | BN2: Table (I) | BP2: Table (I) | BQ2: Table (I) | BR2: Table (I) | BS2: Table (I) | BT2: Table (I) | BU2: Table (I) | BV2: PP 1846 | BW2: PP 1846 | BX2: PP 1846 | BY2: PP 1846 | BZ2: PP 1846 | CA2: PP 1846
B3: Links to Export Table | AE3: Table (E) | AF3: Table (E) | AH3: Table (E) | AI3: Table (E) | AJ3: Table (E) | AK3: Table (E) | AL3: Table (E) | AM3: Table (E) | AN3: Table (E) | AO3: Table (E) | AP3: Table (E) | AQ3: Table (E) | AR3: Table (E) | AS3: Table (E) | AT3: Table (E) | AU3: Table (E) | AV3: Table (E) | AW3: Table (E) | AX3: Table (E) | AY3: Table (E) | AZ3: Table (E) | BA3: Table (E) | BB3: Table (E) | BC3: Table (E) | BD3: Table (E) | BE3: Table (E) | BF3: Table (E) | BG3: Table (E) | BH3: Table (E) | BJ3: Table (E) | BK3: Table (E) | BN3: Table (E) | BP3: Table (E) | BQ3: Table (E) | BR3: Table (E) | BS3: Table (E) | BT3: Table (E) | BU3: Table (E)
A4: IMP | B4: Beef (barrels) | C4: =SUMIFS(Database!$G:$G,Database!$D:$D,"Import",Database!$E:$E,$B4,Database!$C:$C,C$1,Database!$F:$F,"Total") -> 0 | D4: =SUMIFS(Database!$G:$G,Database!$D:$D,"Import",Database!$E:$E,$B4,Database!$C:$C,D$1,Database!$F:$F,"Total") -> 0 | E4: =SUMIFS(Database!$G:$G,Database!$D:$D,"Import",Database!$E:$E,$B4,Database!$C:$C,E$1,Database!$F:$F,"Total") -> 0 | F4: =SUMIFS(Database!$G:$G,Database!$D:$D,"Import",Database!$E:$E,$B4,Database!$C:$C,F$1,Database!$F:$F,"Total") -> 0 | G4: =SUMIFS(Database!$G:$G,Database!$D:$D,"Import",Database!$E:$E,$B4,Database!$C:$C,G$1,Database!$F:$F,"Total") -> 0 | H4: =SUMIFS(Database!$G:$G,Database!$D:$D,"Import",Database!$E:$E,$B4,Database!$C:$C,H$1,Database!$F:$F,"Total") -> 0 | I4: =SUMIFS(Database!$G:$G,Database!$D:$D,"Import",Database!$E:$E,$B4,Database!$C:$C,I$1,Database!$F:$F,"Total") -> 0 | J4: =SUMIFS(Database!$G:$G,Database!$D:$D,"Import",Database!$E:$E,$B4,Database!$C:$C,J$1,Database!$F:$F,"Total") -> 0 | ... CU4: =SUMIFS(Database!$G:$G,Database!$D:$D,"Import",Database!$E:$E,$B4,Database!$C:$C,CU$1,Database!$F:$F,"Total") -> 0
A5: IMP | B5: Beer (hogsheads) | C5: =SUMIFS(Database!$G:$G,Database!$D:$D,"Import",Database!$E:$E,$B5,Database!$C:$C,C$1,Database!$F:$F,"Total") -> 0 | D5: =SUMIFS(Database!$G:$G,Database!$D:$D,"Import",Database!$E:$E,$B5,Database!$C:$C,D$1,Database!$F:$F,"Total") -> 0 | E5: =SUMIFS(Database!$G:$G,Database!$D:$D,"Import",Database!$E:$E,$B5,Database!$C:$C,E$1,Database!$F:$F,"Total") -> 0 | F5: =SUMIFS(Database!$G:$G,Database!$D:$D,"Import",Database!$E:$E,$B5,Database!$C:$C,F$1,Database!$F:$F,"Total") -> 0 | G5: =SUMIFS(Database!$G:$G,Database!$D:$D,"Import",Database!$E:$E,$B5,Database!$C:$C,G$1,Database!$F:$F,"Total") -> 0 | H5: =SUMIFS(Database!$G:$G,Database!$D:$D,"Import",Database!$E:$E,$B5,Database!$C:$C,H$1,Database!$F:$F,"Total") -> 0 | I5: =SUMIFS(Database!$G:$G,Database!$D:$D,"Import",Database!$E:$E,$B5,Database!$C:$C,I$1,Database!$F:$F,"Total") -> 0 | J5: =SUMIFS(Database!$G:$G,Database!$D:$D,"Import",Database!$E:$E,$B5,Database!$C:$C,J$1,Database!$F:$F,"Total") -> 0 | ... CU5: =SUMIFS(Database!$G:$G,Database!$D:$D,"Import",Database!$E:$E,$B5,Database!$C:$C,CU$1,Database!$F:$F,"Total") -> 0
A6: IMP | B6: Beer and cider (gallons) | C6: =SUMIFS(Database!$G:$G,Database!$D:$D,"Import",Database!$E:$E,$B6,Database!$C:$C,C$1,Database!$F:$F,"Total") -> 0 | D6: =SUMIFS(Database!$G:$G,Database!$D:$D,"Import",Database!$E:$E,$B6,Database!$C:$C,D$1,Database!$F:$F,"Total") -> 0 | E6: =SUMIFS(Database!$G:$G,Database!$D:$D,"Import",Database!$E:$E,$B6,Database!$C:$C,E$1,Database!$F:$F,"Total") -> 0 | F6: =SUMIFS(Database!$G:$G,Database!$D:$D,"Import",Database!$E:$E,$B6,Database!$C:$C,F$1,Database!$F:$F,"Total") -> 0 | G6: =SUMIFS(Database!$G:$G,Database!$D:$D,"Import",Database!$E:$E,$B6,Database!$C:$C,G$1,Database!$F:$F,"Total") -> 0 | H6: =SUMIFS(Database!$G:$G,Database!$D:$D,"Import",Database!$E:$E,$B6,Database!$C:$C,H$1,Database!$F:$F,"Total") -> 0 | I6: =SUMIFS(Database!$G:$G,Database!$D:$D,"Import",Database!$E:$E,$B6,Database!$C:$C,I$1,Database!$F:$F,"Total") -> 0 | J6: =SUMIFS(Database!$G:$G,Database!$D:$D,"Import",Database!$E:$E,$B6,Database!$C:$C,J$1,Database!$F:$F,"Total") -> 0 | ... CU6: =SUMIFS(Database!$G:$G,Database!$D:$D,"Import",Database!$E:$E,$B6,Database!$C:$C,CU$1,Database!$F:$F,"Total") -> 0
A7: IMP | B7: Beer and cider (tuns) | C7: =SUMIFS(Database!$G:$G,Database!$D:$D,"Import",Database!$E:$E,$B7,Database!$C:$C,C$1,Database!$F:$F,"Total") -> 0 | D7: =SUMIFS(Database!$G:$G,Database!$D:$D,"Import",Database!$E:$E,$B7,Database!$C:$C,D$1,Database!$F:$F,"Total") -> 0 | E7: =SUMIFS(Database!$G:$G,Database!$D:$D,"Import",Database!$E:$E,$B7,Database!$C:$C,E$1,Database!$F:$F,"Total") -> 0 | F7: =SUMIFS(Database!$G:$G,Database!$D:$D,"Import",Database!$E:$E,$B7,Database!$C:$C,F$1,Database!$F:$F,"Total") -> 0 | G7: =SUMIFS(Database!$G:$G,Database!$D:$D,"Import",Database!$E:$E,$B7,Database!$C:$C,G$1,Database!$F:$F,"Total") -> 0 | H7: =SUMIFS(Database!$G:$G,Database!$D:$D,"Import",Database!$E:$E,$B7,Database!$C:$C,H$1,Database!$F:$F,"Total") -> 0 | I7: =SUMIFS(Database!$G:$G,Database!$D:$D,"Import",Database!$E:$E,$B7,Database!$C:$C,I$1,Database!$F:$F,"Total") -> 0 | J7: =SUMIFS(Database!$G:$G,Database!$D:$D,"Import",Database!$E:$E,$B7,Database!$C:$C,J$1,Database!$F:$F,"Total") -> 0 | ... CU7: =SUMIFS(Database!$G:$G,Database!$D:$D,"Import",Database!$E:$E,$B7,Database!$C:$C,CU$1,Database!$F:$F,"Total") -> 0
A8: IMP | B8: Boots and shoes (dozens) | C8: =SUMIFS(Database!$G:$G,Database!$D:$D,"Import",Database!$E:$E,$B8,Database!$C:$C,C$1,Database!$F:$F,"Total") -> 0 | D8: =SUMIFS(Database!$G:$G,Database!$D:$D,"Import",Database!$E:$E,$B8,Database!$C:$C,D$1,Database!$F:$F,"Total") -> 0 | E8: =SUMIFS(Database!$G:$G,Database!$D:$D,"Import",Database!$E:$E,$B8,Database!$C:$C,E$1,Database!$F:$F,"Total") -> 0 | F8: =SUMIFS(Database!$G:$G,Database!$D:$D,"Import",Database!$E:$E,$B8,Database!$C:$C,F$1,Database!$F:$F,"Total") -> 0 | G8: =SUMIFS(Database!$G:$G,Database!$D:$D,"Import",Database!$E:$E,$B8,Database!$C:$C,G$1,Database!$F:$F,"Total") -> 0 | H8: =SUMIFS(Database!$G:$G,Database!$D:$D,"Import",Database!$E:$E,$B8,Database!$C:$C,H$1,Database!$F:$F,"Total") -> 0 | I8: =SUMIFS(Database!$G:$G,Database!$D:$D,"Import",Database!$E:$E,$B8,Database!$C:$C,I$1,Database!$F:$F,"Total") -> 0 | J8: =SUMIFS(Database!$G:$G,Database!$D:$D,"Import",Database!$E:$E,$B8,Database!$C:$C,J$1,Database!$F:$F,"Total") -> 0 | ... CU8: =SUMIFS(Database!$G:$G,Database!$D:$D,"Import",Database!$E:$E,$B8,Database!$C:$C,CU$1,Database!$F:$F,"Total") -> 0
A9: IMP | B9: Brandy (gallons) | C9: =SUMIFS(Database!$G:$G,Database!$D:$D,"Import",Database!$E:$E,$B9,Database!$C:$C,C$1,Database!$F:$F,"Total") -> 0 | D9: =SUMIFS(Database!$G:$G,Database!$D:$D,"Import",Database!$E:$E,$B9,Database!$C:$C,D$1,Database!$F:$F,"Total") -> 0 | E9: =SUMIFS(Database!$G:$G,Database!$D:$D,"Import",Database!$E:$E,$B9,Database!$C:$C,E$1,Database!$F:$F,"Total") -> 0 | F9: =SUMIFS(Database!$G:$G,Database!$D:$D,"Import",Database!$E:$E,$B9,Database!$C:$C,F$1,Database!$F:$F,"Total") -> 0 | G9: =SUMIFS(Database!$G:$G,Database!$D:$D,"Import",Database!$E:$E,$B9,Database!$C:$C,G$1,Database!$F:$F,"Total") -> 0 | H9: =SUMIFS(Database!$G:$G,Database!$D:$D,"Import",Database!$E:$E,$B9,Database!$C:$C,H$1,Database!$F:$F,"Total") -> 0 | I9: =SUMIFS(Database!$G:$G,Database!$D:$D,"Import",Database!$E:$E,$B9,Database!$C:$C,I$1,Database!$F:$F,"Total") -> 0 | J9: =SUMIFS(Database!$G:$G,Database!$D:$D,"Import",Database!$E:$E,$B9,Database!$C:$C,J$1,Database!$F:$F,"Total") -> 0 | ... CU9: =SUMIFS(Database!$G:$G,Database!$D:$D,"Import",Database!$E:$E,$B9,Database!$C:$C,CU$1,Database!$F:$F,"Total") -> 0
A10: IMP | B10: Bread (bags) | C10: =SUMIFS(Database!$G:$G,Database!$D:$D,"Import",Database!$E:$E,$B10,Database!$C:$C,C$1,Database!$F:$F,"Total") -> 0 | D10: =SUMIFS(Database!$G:$G,Database!$D:$D,"Import",Database!$E:$E,$B10,Database!$C:$C,D$1,Database!$F:$F,"Total") -> 0 | E10: =SUMIFS(Database!$G:$G,Database!$D:$D,"Import",Database!$E:$E,$B10,Database!$C:$C,E$1,Database!$F:$F,"Total") -> 0 | F10: =SUMIFS(Database!$G:$G,Database!$D:$D,"Import",Database!$E:$E,$B10,Database!$C:$C,F$1,Database!$F:$F,"Total") -> 0 | G10: =SUMIFS(Database!$G:$G,Database!$D:$D,"Import",Database!$E:$E,$B10,Database!$C:$C,G$1,Database!$F:$F,"Total") -> 0 | H10: =SUMIFS(Database!$G:$G,Database!$D:$D,"Import",Database!$E:$E,$B10,Database!$C:$C,H$1,Database!$F:$F,"Total") -> 0 | I10: =SUMIFS(Database!$G:$G,Database!$D:$D,"Import",Database!$E:$E,$B10,Database!$C:$C,I$1,Database!$F:$F,"Total") -> 0 | J10: =SUMIFS(Database!$G:$G,Database!$D:$D,"Import",Database!$E:$E,$B10,Database!$C:$C,J$1,Database!$F:$F,"Total") -> 0 | ... CU10: =SUMIFS(Database!$G:$G,Database!$D:$D,"Import",Database!$E:$E,$B10,Database!$C:$C,CU$1,Database!$F:$F,"Total") -> 0
A11: IMP | B11: Bread (barrels) | C11: =SUMIFS(Database!$G:$G,Database!$D:$D,"Import",Database!$E:$E,$B11,Database!$C:$C,C$1,Database!$F:$F,"Total") -> 0 | D11: =SUMIFS(Database!$G:$G,Database!$D:$D,"Import",Database!$E:$E,$B11,Database!$C:$C,D$1,Database!$F:$F,"Total") -> 0 | E11: =SUMIFS(Database!$G:$G,Database!$D:$D,"Import",Database!$E:$E,$B11,Database!$C:$C,E$1,Database!$F:$F,"Total") -> 0 | F11: =SUMIFS(Database!$G:$G,Database!$D:$D,"Import",Database!$E:$E,$B11,Database!$C:$C,F$1,Database!$F:$F,"Total") -> 0 | G11: =SUMIFS(Database!$G:$G,Database!$D:$D,"Import",Database!$E:$E,$B11,Database!$C:$C,G$1,Database!$F:$F,"Total") -> 0 | H11: =SUMIFS(Database!$G:$G,Database!$D:$D,"Import",Database!$E:$E,$B11,Database!$C:$C,H$1,Database!$F:$F,"Total") -> 0 | I11: =SUMIFS(Database!$G:$G,Database!$D:$D,"Import",Database!$E:$E,$B11,Database!$C:$C,I$1,Database!$F:$F,"Total") -> 0 | J11: =SUMIFS(Database!$G:$G,Database!$D:$D,"Import",Database!$E:$E,$B11,Database!$C:$C,J$1,Database!$F:$F,"Total") -> 0 | ... CU11: =SUMIFS(Database!$G:$G,Database!$D:$D,"Import",Database!$E:$E,$B11,Database!$C:$C,CU$1,Database!$F:$F,"Total") -> 0
A12: IMP | B12: Bread (kegs) | C12: =SUMIFS(Database!$G:$G,Database!$D:$D,"Import",Database!$E:$E,$B12,Database!$C:$C,C$1,Database!$F:$F,"Total") -> 0 | D12: =SUMIFS(Database!$G:$G,Database!$D:$D,"Import",Database!$E:$E,$B12,Database!$C:$C,D$1,Database!$F:$F,"Total") -> 0 | E12: =SUMIFS(Database!$G:$G,Database!$D:$D,"Import",Database!$E:$E,$B12,Database!$C:$C,E$1,Database!$F:$F,"Total") -> 0 | F12: =SUMIFS(Database!$G:$G,Database!$D:$D,"Import",Database!$E:$E,$B12,Database!$C:$C,F$1,Database!$F:$F,"Total") -> 0 | G12: =SUMIFS(Database!$G:$G,Database!$D:$D,"Import",Database!$E:$E,$B12,Database!$C:$C,G$1,Database!$F:$F,"Total") -> 0 | H12: =SUMIFS(Database!$G:$G,Database!$D:$D,"Import",Database!$E:$E,$B12,Database!$C:$C,H$1,Database!$F:$F,"Total") -> 0 | I12: =SUMIFS(Database!$G:$G,Database!$D:$D,"Import",Database!$E:$E,$B12,Database!$C:$C,I$1,Database!$F:$F,"Total") -> 0 | J12: =SUMIFS(Database!$G:$G,Database!$D:$D,"Import",Database!$E:$E,$B12,Database!$C:$C,J$1,Database!$F:$F,"Total") -> 0 | ... CU12: =SUMIFS(Database!$G:$G,Database!$D:$D,"Import",Database!$E:$E,$B12,Database!$C:$C,CU$1,Database!$F:$F,"Total") -> 0
A13: IMP | B13: Bread (lb) | C13: =SUMIFS(Database!$G:$G,Database!$D:$D,"Import",Database!$E:$E,$B13,Database!$C:$C,C$1,Database!$F:$F,"Total") -> 0 | D13: =SUMIFS(Database!$G:$G,Database!$D:$D,"Import",Database!$E:$E,$B13,Database!$C:$C,D$1,Database!$F:$F,"Total") -> 0 | E13: =SUMIFS(Database!$G:$G,Database!$D:$D,"Import",Database!$E:$E,$B13,Database!$C:$C,E$1,Database!$F:$F,"Total") -> 0 | F13: =SUMIFS(Database!$G:$G,Database!$D:$D,"Import",Database!$E:$E,$B13,Database!$C:$C,F$1,Database!$F:$F,"Total") -> 0 | G13: =SUMIFS(Database!$G:$G,Database!$D:$D,"Import",Database!$E:$E,$B13,Database!$C:$C,G$1,Database!$F:$F,"Total") -> 0 | H13: =SUMIFS(Database!$G:$G,Database!$D:$D,"Import",Database!$E:$E,$B13,Database!$C:$C,H$1,Database!$F:$F,"Total") -> 0 | I13: =SUMIFS(Database!$G:$G,Database!$D:$D,"Import",Database!$E:$E,$B13,Database!$C:$C,I$1,Database!$F:$F,"Total") -> 0 | J13: =SUMIFS(Database!$G:$G,Database!$D:$D,"Import",Database!$E:$E,$B13,Database!$C:$C,J$1,Database!$F:$F,"Total") -> 0 | ... CU13: =SUMIFS(Database!$G:$G,Database!$D:$D,"Import",Database!$E:$E,$B13,Database!$C:$C,CU$1,Database!$F:$F,"Total") -> 0
A14: IMP | B14: Bread (quintals) | C14: =SUMIFS(Database!$G:$G,Database!$D:$D,"Import",Database!$E:$E,$B14,Database!$C:$C,C$1,Database!$F:$F,"Total") -> 0 | D14: =SUMIFS(Database!$G:$G,Database!$D:$D,"Import",Database!$E:$E,$B14,Database!$C:$C,D$1,Database!$F:$F,"Total") -> 0 | E14: =SUMIFS(Database!$G:$G,Database!$D:$D,"Import",Database!$E:$E,$B14,Database!$C:$C,E$1,Database!$F:$F,"Total") -> 0 | F14: =SUMIFS(Database!$G:$G,Database!$D:$D,"Import",Database!$E:$E,$B14,Database!$C:$C,F$1,Database!$F:$F,"Total") -> 0 | G14: =SUMIFS(Database!$G:$G,Database!$D:$D,"Import",Database!$E:$E,$B14,Database!$C:$C,G$1,Database!$F:$F,"Total") -> 0 | H14: =SUMIFS(Database!$G:$G,Database!$D:$D,"Import",Database!$E:$E,$B14,Database!$C:$C,H$1,Database!$F:$F,"Total") -> 0 | I14: =SUMIFS(Database!$G:$G,Database!$D:$D,"Import",Database!$E:$E,$B14,Database!$C:$C,I$1,Database!$F:$F,"Total") -> 0 | J14: =SUMIFS(Database!$G:$G,Database!$D:$D,"Import",Database!$E:$E,$B14,Database!$C:$C,J$1,Database!$F:$F,"Total") -> 0 | ... CU14: =SUMIFS(Database!$G:$G,Database!$D:$D,"Import",Database!$E:$E,$B14,Database!$C:$C,CU$1,Database!$F:$F,"Total") -> 0
A15: IMP | B15: Butter (firkins) | C15: =SUMIFS(Database!$G:$G,Database!$D:$D,"Import",Database!$E:$E,$B15,Database!$C:$C,C$1,Database!$F:$F,"Total") -> 0 | D15: =SUMIFS(Database!$G:$G,Database!$D:$D,"Import",Database!$E:$E,$B15,Database!$C:$C,D$1,Database!$F:$F,"Total") -> 0 | E15: =SUMIFS(Database!$G:$G,Database!$D:$D,"Import",Database!$E:$E,$B15,Database!$C:$C,E$1,Database!$F:$F,"Total") -> 0 | F15: =SUMIFS(Database!$G:$G,Database!$D:$D,"Import",Database!$E:$E,$B15,Database!$C:$C,F$1,Database!$F:$F,"Total") -> 0 | G15: =SUMIFS(Database!$G:$G,Database!$D:$D,"Import",Database!$E:$E,$B15,Database!$C:$C,G$1,Database!$F:$F,"Total") -> 0 | H15: =SUMIFS(Database!$G:$G,Database!$D:$D,"Import",Database!$E:$E,$B15,Database!$C:$C,H$1,Database!$F:$F,"Total") -> 0 | I15: =SUMIFS(Database!$G:$G,Database!$D:$D,"Import",Database!$E:$E,$B15,Database!$C:$C,I$1,Database!$F:$F,"Total") -> 0 | J15: =SUMIFS(Database!$G:$G,Database!$D:$D,"Import",Database!$E:$E,$B15,Database!$C:$C,J$1,Database!$F:$F,"Total") -> 0 | ... CU15: =SUMIFS(Database!$G:$G,Database!$D:$D,"Import",Database!$E:$E,$B15,Database!$C:$C,CU$1,Database!$F:$F,"Total") -> 0
... A108: IMP | B108: Wines (tuns) | C108: =SUMIFS(Database!$G:$G,Database!$D:$D,"Import",Database!$E:$E,$B108,Database!$C:$C,C$1,Database!$F:$F,"Total") -> 0 | D108: =SUMIFS(Database!$G:$G,Database!$D:$D,"Import",Database!$E:$E,$B108,Database!$C:$C,D$1,Database!$F:$F,"Total") -> 0 | E108: =SUMIFS(Database!$G:$G,Database!$D:$D,"Import",Database!$E:$E,$B108,Database!$C:$C,E$1,Database!$F:$F,"Total") -> 0 | F108: =SUMIFS(Database!$G:$G,Database!$D:$D,"Import",Database!$E:$E,$B108,Database!$C:$C,F$1,Database!$F:$F,"Total") -> 0 | G108: =SUMIFS(Database!$G:$G,Database!$D:$D,"Import",Database!$E:$E,$B108,Database!$C:$C,G$1,Database!$F:$F,"Total") -> 0 | H108: =SUMIFS(Database!$G:$G,Database!$D:$D,"Import",Database!$E:$E,$B108,Database!$C:$C,H$1,Database!$F:$F,"Total") -> 0 | I108: =SUMIFS(Database!$G:$G,Database!$D:$D,"Import",Database!$E:$E,$B108,Database!$C:$C,I$1,Database!$F:$F,"Total") -> 0 | J108: =SUMIFS(Database!$G:$G,Database!$D:$D,"Import",Database!$E:$E,$B108,Database!$C:$C,J$1,Database!$F:$F,"Total") -> 0 | ... CU108: =SUMIFS(Database!$G:$G,Database!$D:$D,"Import",Database!$E:$E,$B108,Database!$C:$C,CU$1,Database!$F:$F,"Total") -> 0
A109: EXP | B109: Arrow root (barrels) | C109: =SUMIFS(Database!$G:$G,Database!$D:$D,"Export",Database!$E:$E,$B109,Database!$C:$C,C$1,Database!$F:$F,"Total") -> 0 | D109: =SUMIFS(Database!$G:$G,Database!$D:$D,"Export",Database!$E:$E,$B109,Database!$C:$C,D$1,Database!$F:$F,"Total") -> 0 | E109: =SUMIFS(Database!$G:$G,Database!$D:$D,"Export",Database!$E:$E,$B109,Database!$C:$C,E$1,Database!$F:$F,"Total") -> 0 | F109: =SUMIFS(Database!$G:$G,Database!$D:$D,"Export",Database!$E:$E,$B109,Database!$C:$C,F$1,Database!$F:$F,"Total") -> 0 | G109: =SUMIFS(Database!$G:$G,Database!$D:$D,"Export",Database!$E:$E,$B109,Database!$C:$C,G$1,Database!$F:$F,"Total") -> 0 | H109: =SUMIFS(Database!$G:$G,Database!$D:$D,"Export",Database!$E:$E,$B109,Database!$C:$C,H$1,Database!$F:$F,"Total") -> 0 | I109: =SUMIFS(Database!$G:$G,Database!$D:$D,"Export",Database!$E:$E,$B109,Database!$C:$C,I$1,Database!$F:$F,"Total") -> 0 | J109: =SUMIFS(Database!$G:$G,Database!$D:$D,"Export",Database!$E:$E,$B109,Database!$C:$C,J$1,Database!$F:$F,"Total") -> 0 | ... CU109: =SUMIFS(Database!$G:$G,Database!$D:$D,"Export",Database!$E:$E,$B109,Database!$C:$C,CU$1,Database!$F:$F,"Total") -> 0
A110: EXP | B110: Arrow root (casks) | C110: =SUMIFS(Database!$G:$G,Database!$D:$D,"Export",Database!$E:$E,$B110,Database!$C:$C,C$1,Database!$F:$F,"Total") -> 0 | D110: =SUMIFS(Database!$G:$G,Database!$D:$D,"Export",Database!$E:$E,$B110,Database!$C:$C,D$1,Database!$F:$F,"Total") -> 0 | E110: =SUMIFS(Database!$G:$G,Database!$D:$D,"Export",Database!$E:$E,$B110,Database!$C:$C,E$1,Database!$F:$F,"Total") -> 0 | F110: =SUMIFS(Database!$G:$G,Database!$D:$D,"Export",Database!$E:$E,$B110,Database!$C:$C,F$1,Database!$F:$F,"Total") -> 0 | G110: =SUMIFS(Database!$G:$G,Database!$D:$D,"Export",Database!$E:$E,$B110,Database!$C:$C,G$1,Database!$F:$F,"Total") -> 0 | H110: =SUMIFS(Database!$G:$G,Database!$D:$D,"Export",Database!$E:$E,$B110,Database!$C:$C,H$1,Database!$F:$F,"Total") -> 0 | I110: =SUMIFS(Database!$G:$G,Database!$D:$D,"Export",Database!$E:$E,$B110,Database!$C:$C,I$1,Database!$F:$F,"Total") -> 0 | J110: =SUMIFS(Database!$G:$G,Database!$D:$D,"Export",Database!$E:$E,$B110,Database!$C:$C,J$1,Database!$F:$F,"Total") -> 0 | ... CU110: =SUMIFS(Database!$G:$G,Database!$D:$D,"Export",Database!$E:$E,$B110,Database!$C:$C,CU$1,Database!$F:$F,"Total") -> 0
A111: EXP | B111: Arrow root (kegs) | C111: =SUMIFS(Database!$G:$G,Database!$D:$D,"Export",Database!$E:$E,$B111,Database!$C:$C,C$1,Database!$F:$F,"Total") -> 0 | D111: =SUMIFS(Database!$G:$G,Database!$D:$D,"Export",Database!$E:$E,$B111,Database!$C:$C,D$1,Database!$F:$F,"Total") -> 0 | E111: =SUMIFS(Database!$G:$G,Database!$D:$D,"Export",Database!$E:$E,$B111,Database!$C:$C,E$1,Database!$F:$F,"Total") -> 0 | F111: =SUMIFS(Database!$G:$G,Database!$D:$D,"Export",Database!$E:$E,$B111,Database!$C:$C,F$1,Database!$F:$F,"Total") -> 0 | G111: =SUMIFS(Database!$G:$G,Database!$D:$D,"Export",Database!$E:$E,$B111,Database!$C:$C,G$1,Database!$F:$F,"Total") -> 0 | H111: =SUMIFS(Database!$G:$G,Database!$D:$D,"Export",Database!$E:$E,$B111,Database!$C:$C,H$1,Database!$F:$F,"Total") -> 0 | I111: =SUMIFS(Database!$G:$G,Database!$D:$D,"Export",Database!$E:$E,$B111,Database!$C:$C,I$1,Database!$F:$F,"Total") -> 0 | J111: =SUMIFS(Database!$G:$G,Database!$D:$D,"Export",Database!$E:$E,$B111,Database!$C:$C,J$1,Database!$F:$F,"Total") -> 0 | ... CU111: =SUMIFS(Database!$G:$G,Database!$D:$D,"Export",Database!$E:$E,$B111,Database!$C:$C,CU$1,Database!$F:$F,"Total") -> 0
A112: EXP | B112: Brandy (casks) | C112: =SUMIFS(Database!$G:$G,Database!$D:$D,"Export",Database!$E:$E,$B112,Database!$C:$C,C$1,Database!$F:$F,"Total") -> 0 | D112: =SUMIFS(Database!$G:$G,Database!$D:$D,"Export",Database!$E:$E,$B112,Database!$C:$C,D$1,Database!$F:$F,"Total") -> 0 | E112: =SUMIFS(Database!$G:$G,Database!$D:$D,"Export",Database!$E:$E,$B112,Database!$C:$C,E$1,Database!$F:$F,"Total") -> 0 | F112: =SUMIFS(Database!$G:$G,Database!$D:$D,"Export",Database!$E:$E,$B112,Database!$C:$C,F$1,Database!$F:$F,"Total") -> 0 | G112: =SUMIFS(Database!$G:$G,Database!$D:$D,"Export",Database!$E:$E,$B112,Database!$C:$C,G$1,Database!$F:$F,"Total") -> 0 | H112: =SUMIFS(Database!$G:$G,Database!$D:$D,"Export",Database!$E:$E,$B112,Database!$C:$C,H$1,Database!$F:$F,"Total") -> 0 | I112: =SUMIFS(Database!$G:$G,Database!$D:$D,"Export",Database!$E:$E,$B112,Database!$C:$C,I$1,Database!$F:$F,"Total") -> 0 | J112: =SUMIFS(Database!$G:$G,Database!$D:$D,"Export",Database!$E:$E,$B112,Database!$C:$C,J$1,Database!$F:$F,"Total") -> 0 | ... CU112: =SUMIFS(Database!$G:$G,Database!$D:$D,"Export",Database!$E:$E,$B112,Database!$C:$C,CU$1,Database!$F:$F,"Total") -> 0
A113: EXP | B113: Bread (barrels) | C113: =SUMIFS(Database!$G:$G,Database!$D:$D,"Export",Database!$E:$E,$B113,Database!$C:$C,C$1,Database!$F:$F,"Total") -> 0 | D113: =SUMIFS(Database!$G:$G,Database!$D:$D,"Export",Database!$E:$E,$B113,Database!$C:$C,D$1,Database!$F:$F,"Total") -> 0 | E113: =SUMIFS(Database!$G:$G,Database!$D:$D,"Export",Database!$E:$E,$B113,Database!$C:$C,E$1,Database!$F:$F,"Total") -> 0 | F113: =SUMIFS(Database!$G:$G,Database!$D:$D,"Export",Database!$E:$E,$B113,Database!$C:$C,F$1,Database!$F:$F,"Total") -> 0 | G113: =SUMIFS(Database!$G:$G,Database!$D:$D,"Export",Database!$E:$E,$B113,Database!$C:$C,G$1,Database!$F:$F,"Total") -> 0 | H113: =SUMIFS(Database!$G:$G,Database!$D:$D,"Export",Database!$E:$E,$B113,Database!$C:$C,H$1,Database!$F:$F,"Total") -> 0 | I113: =SUMIFS(Database!$G:$G,Database!$D:$D,"Export",Database!$E:$E,$B113,Database!$C:$C,I$1,Database!$F:$F,"Total") -> 0 | J113: =SUMIFS(Database!$G:$G,Database!$D:$D,"Export",Database!$E:$E,$B113,Database!$C:$C,J$1,Database!$F:$F,"Total") -> 0 | ... CU113: =SUMIFS(Database!$G:$G,Database!$D:$D,"Export",Database!$E:$E,$B113,Database!$C:$C,CU$1,Database!$F:$F,"Total") -> 0
A114: EXP | B114: Butter (firkins) | C114: =SUMIFS(Database!$G:$G,Database!$D:$D,"Export",Database!$E:$E,$B114,Database!$C:$C,C$1,Database!$F:$F,"Total") -> 0 | D114: =SUMIFS(Database!$G:$G,Database!$D:$D,"Export",Database!$E:$E,$B114,Database!$C:$C,D$1,Database!$F:$F,"Total") -> 0 | E114: =SUMIFS(Database!$G:$G,Database!$D:$D,"Export",Database!$E:$E,$B114,Database!$C:$C,E$1,Database!$F:$F,"Total") -> 0 | F114: =SUMIFS(Database!$G:$G,Database!$D:$D,"Export",Database!$E:$E,$B114,Database!$C:$C,F$1,Database!$F:$F,"Total") -> 0 | G114: =SUMIFS(Database!$G:$G,Database!$D:$D,"Export",Database!$E:$E,$B114,Database!$C:$C,G$1,Database!$F:$F,"Total") -> 0 | H114: =SUMIFS(Database!$G:$G,Database!$D:$D,"Export",Database!$E:$E,$B114,Database!$C:$C,H$1,Database!$F:$F,"Total") -> 0 | I114: =SUMIFS(Database!$G:$G,Database!$D:$D,"Export",Database!$E:$E,$B114,Database!$C:$C,I$1,Database!$F:$F,"Total") -> 0 | J114: =SUMIFS(Database!$G:$G,Database!$D:$D,"Export",Database!$E:$E,$B114,Database!$C:$C,J$1,Database!$F:$F,"Total") -> 0 | ... CU114: =SUMIFS(Database!$G:$G,Database!$D:$D,"Export",Database!$E:$E,$B114,Database!$C:$C,CU$1,Database!$F:$F,"Total") -> 0
A115: EXP | B115: Cabinet wood (pieces) | C115: =SUMIFS(Database!$G:$G,Database!$D:$D,"Export",Database!$E:$E,$B115,Database!$C:$C,C$1,Database!$F:$F,"Total") -> 0 | D115: =SUMIFS(Database!$G:$G,Database!$D:$D,"Export",Database!$E:$E,$B115,Database!$C:$C,D$1,Database!$F:$F,"Total") -> 0 | E115: =SUMIFS(Database!$G:$G,Database!$D:$D,"Export",Database!$E:$E,$B115,Database!$C:$C,E$1,Database!$F:$F,"Total") -> 0 | F115: =SUMIFS(Database!$G:$G,Database!$D:$D,"Export",Database!$E:$E,$B115,Database!$C:$C,F$1,Database!$F:$F,"Total") -> 0 | G115: =SUMIFS(Database!$G:$G,Database!$D:$D,"Export",Database!$E:$E,$B115,Database!$C:$C,G$1,Database!$F:$F,"Total") -> 0 | H115: =SUMIFS(Database!$G:$G,Database!$D:$D,"Export",Database!$E:$E,$B115,Database!$C:$C,H$1,Database!$F:$F,"Total") -> 0 | I115: =SUMIFS(Database!$G:$G,Database!$D:$D,"Export",Database!$E:$E,$B115,Database!$C:$C,I$1,Database!$F:$F,"Total") -> 0 | J115: =SUMIFS(Database!$G:$G,Database!$D:$D,"Export",Database!$E:$E,$B115,Database!$C:$C,J$1,Database!$F:$F,"Total") -> 0 | ... CU115: =SUMIFS(Database!$G:$G,Database!$D:$D,"Export",Database!$E:$E,$B115,Database!$C:$C,CU$1,Database!$F:$F,"Total") -> 0
A116: IMP | B116: Castor oil (casks) | C116: =SUMIFS(Database!$G:$G,Database!$D:$D,"Export",Database!$E:$E,$B116,Database!$C:$C,C$1,Database!$F:$F,"Total") -> 0 | D116: =SUMIFS(Database!$G:$G,Database!$D:$D,"Export",Database!$E:$E,$B116,Database!$C:$C,D$1,Database!$F:$F,"Total") -> 0 | E116: =SUMIFS(Database!$G:$G,Database!$D:$D,"Export",Database!$E:$E,$B116,Database!$C:$C,E$1,Database!$F:$F,"Total") -> 0 | F116: =SUMIFS(Database!$G:$G,Database!$D:$D,"Export",Database!$E:$E,$B116,Database!$C:$C,F$1,Database!$F:$F,"Total") -> 0 | G116: =SUMIFS(Database!$G:$G,Database!$D:$D,"Export",Database!$E:$E,$B116,Database!$C:$C,G$1,Database!$F:$F,"Total") -> 0 | H116: =SUMIFS(Database!$G:$G,Database!$D:$D,"Export",Database!$E:$E,$B116,Database!$C:$C,H$1,Database!$F:$F,"Total") -> 0 | I116: =SUMIFS(Database!$G:$G,Database!$D:$D,"Export",Database!$E:$E,$B116,Database!$C:$C,I$1,Database!$F:$F,"Total") -> 0 | J116: =SUMIFS(Database!$G:$G,Database!$D:$D,"Export",Database!$E:$E,$B116,Database!$C:$C,J$1,Database!$F:$F,"Total") -> 0 | ... CU116: =SUMIFS(Database!$G:$G,Database!$D:$D,"Export",Database!$E:$E,$B116,Database!$C:$C,CU$1,Database!$F:$F,"Total") -> 0
A117: EXP | B117: Cedar (logs) | C117: =SUMIFS(Database!$G:$G,Database!$D:$D,"Export",Database!$E:$E,$B117,Database!$C:$C,C$1,Database!$F:$F,"Total") -> 0 | D117: =SUMIFS(Database!$G:$G,Database!$D:$D,"Export",Database!$E:$E,$B117,Database!$C:$C,D$1,Database!$F:$F,"Total") -> 0 | E117: =SUMIFS(Database!$G:$G,Database!$D:$D,"Export",Database!$E:$E,$B117,Database!$C:$C,E$1,Database!$F:$F,"Total") -> 0 | F117: =SUMIFS(Database!$G:$G,Database!$D:$D,"Export",Database!$E:$E,$B117,Database!$C:$C,F$1,Database!$F:$F,"Total") -> 0 | G117: =SUMIFS(Database!$G:$G,Database!$D:$D,"Export",Database!$E:$E,$B117,Database!$C:$C,G$1,Database!$F:$F,"Total") -> 0 | H117: =SUMIFS(Database!$G:$G,Database!$D:$D,"Export",Database!$E:$E,$B117,Database!$C:$C,H$1,Database!$F:$F,"Total") -> 0 | I117: =SUMIFS(Database!$G:$G,Database!$D:$D,"Export",Database!$E:$E,$B117,Database!$C:$C,I$1,Database!$F:$F,"Total") -> 0 | J117: =SUMIFS(Database!$G:$G,Database!$D:$D,"Export",Database!$E:$E,$B117,Database!$C:$C,J$1,Database!$F:$F,"Total") -> 0 | ... CU117: =SUMIFS(Database!$G:$G,Database!$D:$D,"Export",Database!$E:$E,$B117,Database!$C:$C,CU$1,Database!$F:$F,"Total") -> 0
A118: EXP | B118: Coals (casks) | C118: =SUMIFS(Database!$G:$G,Database!$D:$D,"Export",Database!$E:$E,$B118,Database!$C:$C,C$1,Database!$F:$F,"Total") -> 0 | D118: =SUMIFS(Database!$G:$G,Database!$D:$D,"Export",Database!$E:$E,$B118,Database!$C:$C,D$1,Database!$F:$F,"Total") -> 0 | E118: =SUMIFS(Database!$G:$G,Database!$D:$D,"Export",Database!$E:$E,$B118,Database!$C:$C,E$1,Database!$F:$F,"Total") -> 0 | F118: =SUMIFS(Database!$G:$G,Database!$D:$D,"Export",Database!$E:$E,$B118,Database!$C:$C,F$1,Database!$F:$F,"Total") -> 0 | G118: =SUMIFS(Database!$G:$G,Database!$D:$D,"Export",Database!$E:$E,$B118,Database!$C:$C,G$1,Database!$F:$F,"Total") -> 0 | H118: =SUMIFS(Database!$G:$G,Database!$D:$D,"Export",Database!$E:$E,$B118,Database!$C:$C,H$1,Database!$F:$F,"Total") -> 0 | I118: =SUMIFS(Database!$G:$G,Database!$D:$D,"Export",Database!$E:$E,$B118,Database!$C:$C,I$1,Database!$F:$F,"Total") -> 0 | J118: =SUMIFS(Database!$G:$G,Database!$D:$D,"Export",Database!$E:$E,$B118,Database!$C:$C,J$1,Database!$F:$F,"Total") -> 0 | ... CU118: =SUMIFS(Database!$G:$G,Database!$D:$D,"Export",Database!$E:$E,$B118,Database!$C:$C,CU$1,Database!$F:$F,"Total") -> 0
A119: EXP | B119: Coffee (bags) | C119: =SUMIFS(Database!$G:$G,Database!$D:$D,"Export",Database!$E:$E,$B119,Database!$C:$C,C$1,Database!$F:$F,"Total") -> 0 | D119: =SUMIFS(Database!$G:$G,Database!$D:$D,"Export",Database!$E:$E,$B119,Database!$C:$C,D$1,Database!$F:$F,"Total") -> 0 | E119: =SUMIFS(Database!$G:$G,Database!$D:$D,"Export",Database!$E:$E,$B119,Database!$C:$C,E$1,Database!$F:$F,"Total") -> 0 | F119: =SUMIFS(Database!$G:$G,Database!$D:$D,"Export",Database!$E:$E,$B119,Database!$C:$C,F$1,Database!$F:$F,"Total") -> 0 | G119: =SUMIFS(Database!$G:$G,Database!$D:$D,"Export",Database!$E:$E,$B119,Database!$C:$C,G$1,Database!$F:$F,"Total") -> 0 | H119: =SUMIFS(Database!$G:$G,Database!$D:$D,"Export",Database!$E:$E,$B119,Database!$C:$C,H$1,Database!$F:$F,"Total") -> 0 | I119: =SUMIFS(Database!$G:$G,Database!$D:$D,"Export",Database!$E:$E,$B119,Database!$C:$C,I$1,Database!$F:$F,"Total") -> 0 | J119: =SUMIFS(Database!$G:$G,Database!$D:$D,"Export",Database!$E:$E,$B119,Database!$C:$C,J$1,Database!$F:$F,"Total") -> 0 | ... CU119: =SUMIFS(Database!$G:$G,Database!$D:$D,"Export",Database!$E:$E,$B119,Database!$C:$C,CU$1,Database!$F:$F,"Total") -> 0
A120: EXP | B120: Coffee (barrels) | C120: =SUMIFS(Database!$G:$G,Database!$D:$D,"Export",Database!$E:$E,$B120,Database!$C:$C,C$1,Database!$F:$F,"Total") -> 0 | D120: =SUMIFS(Database!$G:$G,Database!$D:$D,"Export",Database!$E:$E,$B120,Database!$C:$C,D$1,Database!$F:$F,"Total") -> 0 | E120: =SUMIFS(Database!$G:$G,Database!$D:$D,"Export",Database!$E:$E,$B120,Database!$C:$C,E$1,Database!$F:$F,"Total") -> 0 | F120: =SUMIFS(Database!$G:$G,Database!$D:$D,"Export",Database!$E:$E,$B120,Database!$C:$C,F$1,Database!$F:$F,"Total") -> 0 | G120: =SUMIFS(Database!$G:$G,Database!$D:$D,"Export",Database!$E:$E,$B120,Database!$C:$C,G$1,Database!$F:$F,"Total") -> 0 | H120: =SUMIFS(Database!$G:$G,Database!$D:$D,"Export",Database!$E:$E,$B120,Database!$C:$C,H$1,Database!$F:$F,"Total") -> 0 | I120: =SUMIFS(Database!$G:$G,Database!$D:$D,"Export",Database!$E:$E,$B120,Database!$C:$C,I$1,Database!$F:$F,"Total") -> 0 | J120: =SUMIFS(Database!$G:$G,Database!$D:$D,"Export",Database!$E:$E,$B120,Database!$C:$C,J$1,Database!$F:$F,"Total") -> 0 | ... CU120: =SUMIFS(Database!$G:$G,Database!$D:$D,"Export",Database!$E:$E,$B120,Database!$C:$C,CU$1,Database!$F:$F,"Total") -> 0
... A169: EXP | B169: Wine (quarter casks) | C169: =SUMIFS(Database!$G:$G,Database!$D:$D,"Export",Database!$E:$E,$B169,Database!$C:$C,C$1,Database!$F:$F,"Total") -> 0 | D169: =SUMIFS(Database!$G:$G,Database!$D:$D,"Export",Database!$E:$E,$B169,Database!$C:$C,D$1,Database!$F:$F,"Total") -> 0 | E169: =SUMIFS(Database!$G:$G,Database!$D:$D,"Export",Database!$E:$E,$B169,Database!$C:$C,E$1,Database!$F:$F,"Total") -> 0 | F169: =SUMIFS(Database!$G:$G,Database!$D:$D,"Export",Database!$E:$E,$B169,Database!$C:$C,F$1,Database!$F:$F,"Total") -> 0 | G169: =SUMIFS(Database!$G:$G,Database!$D:$D,"Export",Database!$E:$E,$B169,Database!$C:$C,G$1,Database!$F:$F,"Total") -> 0 | H169: =SUMIFS(Database!$G:$G,Database!$D:$D,"Export",Database!$E:$E,$B169,Database!$C:$C,H$1,Database!$F:$F,"Total") -> 0 | I169: =SUMIFS(Database!$G:$G,Database!$D:$D,"Export",Database!$E:$E,$B169,Database!$C:$C,I$1,Database!$F:$F,"Total") -> 0 | J169: =SUMIFS(Database!$G:$G,Database!$D:$D,"Export",Database!$E:$E,$B169,Database!$C:$C,J$1,Database!$F:$F,"Total") -> 0 | ... CU169: =SUMIFS(Database!$G:$G,Database!$D:$D,"Export",Database!$E:$E,$B169,Database!$C:$C,CU$1,Database!$F:$F,"Total") -> 0

Sheet Database
A1: Year Start | B1: Year End | C1: Year Range | D1: I/E | E1: Commodity | F1: To/From | G1: Amount | H1: From | I1: To
A2: 1796 | B2: 1797 | C2: =IF(LEFT(A2,2)=LEFT(B2,2),_xlfn.TEXTJOIN("-",TRUE,A2,RIGHT(B2,2)),_xlfn.TEXTJOIN("-",TRUE,A2,B2)) -> 1796-97 | D2: Export | E2: Sugar (hogsheads) | F2: Jamaica: from/to Br Plantations | G2: 54 | H2: Jamaica (Total) | I2: Br Plantations
A3: 1796 | B3: 1797 | C3: 1796-97 | D3: Export | E3: Sugar (tierces) | F3: Jamaica: from/to Br Plantations | G3: 63 | H3: Jamaica (Total) | I3: Br Plantations
A4: 1796 | B4: 1797 | C4: 1796-97 | D4: Export | E4: Sugar (barrels) | F4: Jamaica: from/to Br Plantations | G4: 267 | H4: Jamaica (Total) | I4: Br Plantations
A5: 1796 | B5: 1797 | C5: 1796-97 | D5: Export | E5: Rum (puncheons) | F5: Jamaica: from/to Br Plantations | G5: 5262 | H5: Jamaica (Total) | I5: Br Plantations
A6: 1796 | B6: 1797 | C6: 1796-97 | D6: Export | E6: Rum (hogsheads) | F6: Jamaica: from/to Br Plantations | G6: 729 | H6: Jamaica (Total) | I6: Br Plantations
A7: 1796 | B7: 1797 | C7: 1796-97 | D7: Export | E7: Ginger (bags) | F7: Jamaica: from/to Br Plantations | G7: 111 | H7: Jamaica (Total) | I7: Br Plantations
A8: 1796 | B8: 1797 | C8: 1796-97 | D8: Export | E8: Ginger (casks) | F8: Jamaica: from/to Br Plantations | G8: 0 | H8: Jamaica (Total) | I8: Br Plantations
A9: 1796 | B9: 1797 | C9: 1796-97 | D9: Export | E9: Pimento (bags) | F9: Jamaica: from/to Br Plantations | G9: 20 | H9: Jamaica (Total) | I9: Br Plantations
A10: 1796 | B10: 1797 | C10: 1796-97 | D10: Export | E10: Pimento (casks) | F10: Jamaica: from/to Br Plantations | G10: 0 | H10: Jamaica (Total) | I10: Br Plantations
A11: 1796 | B11: 1797 | C11: 1796-97 | D11: Export | E11: Coffee (lb) | F11: Jamaica: from/to Br Plantations | G11: 26439 | H11: Jamaica (Total) | I11: Br Plantations
A12: 1796 | B12: 1797 | C12: 1796-97 | D12: Export | E12: Sugar (hogsheads) | F12: Jamaica: from/to GB | G12: 75273 | H12: Jamaica (Total) | I12: GB
A13: 1796 | B13: 1797 | C13: 1796-97 | D13: Export | E13: Sugar (tierces) | F13: Jamaica: from/to GB | G13: 9036 | H13: Jamaica (Total) | I13: GB
A14: 1796 | B14: 1797 | C14: 1796-97 | D14: Export | E14: Sugar (barrels) | F14: Jamaica: from/to GB | G14: 378 | H14: Jamaica (Total) | I14: GB
... A133: 1797 | B133: 1798 | C133: 1797-98 | D133: Export | E133: Coffee (lb) | F133: Total | G133: 7894306 | H133: Jamaica (Total) | I133: All Exports (Total)
A134: 1799 | B134: =A134+1 -> 1800 | C134: 1799-1800 | D134: Export | E134: Sugar (hogsheads) | F134: Kingston: from/to Br Plantations | G134: 132 | H134: Kingston | I134: Br Plantations
A135: 1799 | B135: =A135+1 -> 1800 | C135: 1799-1800 | D135: Export | E135: Sugar (tierces) | F135: Kingston: from/to Br Plantations | G135: 17 | H135: Kingston | I135: Br Plantations
A136: 1799 | B136: =A136+1 -> 1800 | C136: 1799-1800 | D136: Export | E136: Sugar (barrels) | F136: Kingston: from/to Br Plantations | G136: 10 | H136: Kingston | I136: Br Plantations
A137: 1799 | B137: =A137+1 -> 1800 | C137: 1799-1800 | D137: Export | E137: Rum (puncheons) | F137: Kingston: from/to Br Plantations | G137: 776 | H137: Kingston | I137: Br Plantations
A138: 1799 | B138: =A138+1 -> 1800 | C138: 1799-1800 | D138: Export | E138: Rum (hogsheads) | F138: Kingston: from/to Br Plantations | G138: 80 | H138: Kingston | I138: Br Plantations
A139: 1799 | B139: =A139+1 -> 1800 | C139: 1799-1800 | D139: Export | E139: Ginger (bags) | F139: Kingston: from/to Br Plantations | G139: 0 | H139: Kingston | I139: Br Plantations
A140: 1799 | B140: =A140+1 -> 1800 | C140: 1799-1800 | D140: Export | E140: Ginger (casks) | F140: Kingston: from/to Br Plantations | G140: 0 | H140: Kingston | I140: Br Plantations
A141: 1799 | B141: =A141+1 -> 1800 | C141: 1799-1800 | D141: Export | E141: Pimento (bags) | F141: Kingston: from/to Br Plantations | G141: 0 | H141: Kingston | I141: Br Plantations
A142: 1799 | B142: =A142+1 -> 1800 | C142: 1799-1800 | D142: Export | E142: Pimento (casks) | F142: Kingston: from/to Br Plantations | G142: 0 | H142: Kingston | I142: Br Plantations
A143: 1799 | B143: =A143+1 -> 1800 | C143: 1799-1800 | D143: Export | E143: Coffee (lb) | F143: Kingston: from/to Br Plantations | G143: 29948 | H143: Kingston | I143: Br Plantations
A144: 1799 | B144: =A144+1 -> 1800 | C144: 1799-1800 | D144: Export | E144: Sugar (hogsheads) | F144: Kingston: from/to GB | G144: 38869 | H144: Kingston | I144: GB
A145: 1799 | B145: =A145+1 -> 1800 | C145: 1799-1800 | D145: Export | E145: Sugar (tierces) | F145: Kingston: from/to GB | G145: 3344 | H145: Kingston | I145: GB
... A243: 1799 | B243: =A243+1 -> 1800 | C243: 1799-1800 | D243: Export | E243: Coffee (lb) | F243: Total | G243: 11116474 | H243: Jamaica (Total) | I243: All Exports (Total)
A244: 1799 | B244: 1801 | C244: 1799-1801 | D244: Import | E244: Livestock: horses | F244: Kingston: from/to Foreign Plantations | G244: 1094 | H244: Foreign Plantations | I244: Kingston
A245: 1799 | B245: 1801 | C245: 1799-1801 | D245: Import | E245: Livestock: mules | F245: Kingston: from/to Foreign Plantations | G245: 2975 | H245: Foreign Plantations | I245: Kingston
A246: 1799 | B246: 1801 | C246: 1799-1801 | D246: Import | E246: Livestock: asses | F246: Kingston: from/to Foreign Plantations | G246: 329 | H246: Foreign Plantations | I246: Kingston
A247: 1799 | B247: 1801 | C247: 1799-1801 | D247: Import | E247: Livestock: cattle | F247: Kingston: from/to Foreign Plantations | G247: 3074 | H247: Foreign Plantations | I247: Kingston
A248: 1799 | B248: 1801 | C248: 1799-1801 | D248: Import | E248: Livestock: horses | F248: Kingston: Total | G248: 1094 | H248: All Imports (Total) | I248: Kingston
A249: 1799 | B249: 1801 | C249: 1799-1801 | D249: Import | E249: Livestock: mules | F249: Kingston: Total | G249: 2975 | H249: All Imports (Total) | I249: Kingston
A250: 1799 | B250: 1801 | C250: 1799-1801 | D250: Import | E250: Livestock: asses | F250: Kingston: Total | G250: 329 | H250: All Imports (Total) | I250: Kingston
A251: 1799 | B251: 1801 | C251: 1799-1801 | D251: Import | E251: Livestock: cattle | F251: Kingston: Total | G251: 3074 | H251: All Imports (Total) | I251: Kingston
A252: 1799 | B252: 1801 | C252: 1799-1801 | D252: Import | E252: Livestock: horses | F252: Outports: from/to Foreign Plantations | G252: 16 | H252: Foreign Plantations | I252: Outports
A253: 1799 | B253: 1801 | C253: 1799-1801 | D253: Import | E253: Livestock: mules | F253: Outports: from/to Foreign Plantations | G253: 94 | H253: Foreign Plantations | I253: Outports
A254: 1799 | B254: 1801 | C254: 1799-1801 | D254: Import | E254: Livestock: asses | F254: Outports: from/to Foreign Plantations | G254: 0 | H254: Foreign Plantations | I254: Outports
A255: 1799 | B255: 1801 | C255: 1799-1801 | D255: Import | E255: Livestock: cattle | F255: Outports: from/to Foreign Plantations | G255: 31 | H255: Foreign Plantations | I255: Outports
... A263: 1799 | B263: 1801 | C263: 1799-1801 | D263: Import | E263: Livestock: cattle | F263: Total | G263: 3105 | H263: All Imports (Total) | I263: Jamaica (Total)
A264: 1800 | B264: =A264+1 -> 1801 | C264: 1800-01 | D264: Export | E264: Sugar (hogsheads) | F264: Kingston: from/to Br Plantations | G264: 105 | H264: Kingston | I264: Br Plantations
A265: 1800 | B265: =A265+1 -> 1801 | C265: 1800-01 | D265: Export | E265: Sugar (tierces) | F265: Kingston: from/to Br Plantations | G265: 23 | H265: Kingston | I265: Br Plantations
A266: 1800 | B266: =A266+1 -> 1801 | C266: 1800-01 | D266: Export | E266: Sugar (barrels) | F266: Kingston: from/to Br Plantations | G266: 218 | H266: Kingston | I266: Br Plantations
A267: 1800 | B267: =A267+1 -> 1801 | C267: 1800-01 | D267: Export | E267: Rum (puncheons) | F267: Kingston: from/to Br Plantations | G267: 2200 | H267: Kingston | I267: Br Plantations
A268: 1800 | B268: =A268+1 -> 1801 | C268: 1800-01 | D268: Export | E268: Rum (hogsheads) | F268: Kingston: from/to Br Plantations | G268: 206 | H268: Kingston | I268: Br Plantations
A269: 1800 | B269: =A269+1 -> 1801 | C269: 1800-01 | D269: Export | E269: Ginger (bags) | F269: Kingston: from/to Br Plantations | G269: 0 | H269: Kingston | I269: Br Plantations
A270: 1800 | B270: =A270+1 -> 1801 | C270: 1800-01 | D270: Export | E270: Ginger (casks) | F270: Kingston: from/to Br Plantations | G270: 0 | H270: Kingston | I270: Br Plantations
A271: 1800 | B271: =A271+1 -> 1801 | C271: 1800-01 | D271: Export | E271: Pimento (bags) | F271: Kingston: from/to Br Plantations | G271: 0 | H271: Kingston | I271: Br Plantations
A272: 1800 | B272: =A272+1 -> 1801 | C272: 1800-01 | D272: Export | E272: Pimento (casks) | F272: Kingston: from/to Br Plantations | G272: 0 | H272: Kingston | I272: Br Plantations
A273: 1800 | B273: =A273+1 -> 1801 | C273: 1800-01 | D273: Export | E273: Coffee (lb) | F273: Kingston: from/to Br Plantations | G273: 20152 | H273: Kingston | I273: Br Plantations
A274: 1800 | B274: =A274+1 -> 1801 | C274: 1800-01 | D274: Import | E274: Livestock: horses | F274: Kingston: from/to Foreign Plantations | G274: 2205 | H274: Foreign Plantations | I274: Kingston
A275: 1800 | B275: =A275+1 -> 1801 | C275: 1800-01 | D275: Import | E275: Livestock: mules | F275: Kingston: from/to Foreign Plantations | G275: 4231 | H275: Foreign Plantations | I275: Kingston
... A10058: 1825 | B10058: =A10058+1 -> 1826 | C10058: 1825-26 | D10058: Import | E10058: Fish, pickled (tierces) | F10058: Total | G10058: 173 | H10058: All Imports (Total) | I10058: Jamaica (Total)
A10059: 1826 | B10059: 1827 | C10059: 1826-27 | D10059: Import | E10059: Flour (barrels) | F10059: Total | G10059: 63229 | H10059: Br Plantations | I10059: Kingston
A10060: 1826 | B10060: 1827 | C10060: 1826-27 | D10060: Import | E10060: Bread (lb) | F10060: Total | G10060: 830193 | H10060: Europe | I10060: Kingston
A10061: 1826 | B10061: 1827 | C10061: 1826-27 | D10061: Import | E10061: Corn meal (barrels) | F10061: Total | G10061: 8935 | H10061: Foreign Plantations | I10061: Kingston
A10062: 1826 | B10062: 1827 | C10062: 1826-27 | D10062: Import | E10062: Rice (lb) | F10062: Total | G10062: 1221034 | H10062: GB & Ireland | I10062: Kingston
A10063: 1826 | B10063: 1827 | C10063: 1826-27 | D10063: Import | E10063: Corn (bushels) | F10063: Total | G10063: 39531 | H10063: All Imports (Total) | I10063: Kingston
A10064: 1826 | B10064: 1827 | C10064: 1826-27 | D10064: Import | E10064: Pickled fish (barrels) | F10064: Total | G10064: 87213 | H10064: Br Plantations | I10064: Outports
A10065: 1826 | B10065: 1827 | C10065: 1826-27 | D10065: Import | E10065: Fish (quintals) | F10065: Total | G10065: 66766 | H10065: Foreign Plantations | I10065: Outports
A10066: 1826 | B10066: 1827 | C10066: 1826-27 | D10066: Import | E10066: Staves (red oak) | F10066: Total | G10066: 3629602 | H10066: GB & Ireland | I10066: Outports
A10067: 1826 | B10067: 1827 | C10067: 1826-27 | D10067: Import | E10067: Staves (white oak) | F10067: Total | G10067: 1807100 | H10067: All Imports (Total) | I10067: Outports
A10068: 1826 | B10068: 1827 | C10068: 1826-27 | D10068: Import | E10068: Staves and heading | F10068: Total | G10068: 5436702 | H10068: All Imports (Total) | I10068: Jamaica (Total)
A10069: 1826 | B10069: 1827 | C10069: 1826-27 | D10069: Import | E10069: Lumber (feet) | F10069: Total | G10069: 8630145 | H10069: Br Plantations | I10069: Kingston
A10070: 1826 | B10070: 1827 | C10070: 1826-27 | D10070: Import | E10070: Shingles | F10070: Total | G10070: 6578604 | H10070: Europe | I10070: Kingston
... A10075: 1826 | B10075: 1827 | C10075: 1826-27 | D10075: Import | E10075: Livestock: Cattle | F10075: Total | G10075: 54 | H10075: Foreign Plantations | I10075: Outports
A10076: 1827 | B10076: =A10076+1 -> 1828 | C10076: 1827-28 | D10076: Import | E10076: Fish, dry (quintals) | F10076: Kingston: from/to Br Plantations | G10076: 38710 | H10076: GB & Ireland | I10076: Outports
A10077: 1827 | B10077: =A10077+1 -> 1828 | C10077: 1827-28 | D10077: Import | E10077: Fish, dry (quintals) | F10077: Kingston: from/to Europe | G10077: 0 | H10077: All Imports (Total) | I10077: Outports
A10078: 1827 | B10078: =A10078+1 -> 1828 | C10078: 1827-28 | D10078: Import | E10078: Fish, dry (quintals) | F10078: Kingston: from/to Foreign Plantations | G10078: 0 | H10078: All Imports (Total) | I10078: Jamaica (Total)
A10079: 1827 | B10079: =A10079+1 -> 1828 | C10079: 1827-28 | D10079: Import | E10079: Fish, dry (quintals) | F10079: Kingston: from/to GB & Ireland | G10079: 0 | H10079: Br Plantations | I10079: Kingston
A10080: 1827 | B10080: =A10080+1 -> 1828 | C10080: 1827-28 | D10080: Import | E10080: Fish, dry (quintals) | F10080: Kingston: Total | G10080: 38710 | H10080: Europe | I10080: Kingston
A10081: 1827 | B10081: =A10081+1 -> 1828 | C10081: 1827-28 | D10081: Import | E10081: Fish, dry (quintals) | F10081: Outports: from/to Br Plantations | G10081: 346164 | H10081: Foreign Plantations | I10081: Kingston
A10082: 1827 | B10082: =A10082+1 -> 1828 | C10082: 1827-28 | D10082: Import | E10082: Fish, dry (quintals) | F10082: Outports: from/to Foreign Plantations | G10082: 0 | H10082: GB & Ireland | I10082: Kingston
A10083: 1827 | B10083: =A10083+1 -> 1828 | C10083: 1827-28 | D10083: Import | E10083: Fish, dry (quintals) | F10083: Outports: from/to GB & Ireland | G10083: 0 | H10083: Kingston | I10083: Br Plantations
A10084: 1827 | B10084: =A10084+1 -> 1828 | C10084: 1827-28 | D10084: Import | E10084: Fish, dry (quintals) | F10084: Outports: Total | G10084: 346164 | H10084: Kingston | I10084: Br Plantations
A10085: 1827 | B10085: =A10085+1 -> 1828 | C10085: 1827-28 | D10085: Import | E10085: Fish, dry (quintals) | F10085: Total | G10085: 384874 | H10085: Kingston | I10085: Br Plantations
A10086: 1827 | B10086: =A10086+1 -> 1828 | C10086: 1827-28 | D10086: Import | E10086: Fish, pickled (barrels) | F10086: Kingston: from/to Br Plantations | G10086: 26581 | H10086: Kingston | I10086: Br Plantations
A10087: 1827 | B10087: =A10087+1 -> 1828 | C10087: 1827-28 | D10087: Import | E10087: Fish, pickled (barrels) | F10087: Kingston: from/to Europe | G10087: 0 | H10087: Kingston | I10087: Br Plantations
... A12956: 1838 | B12956: =A12956+1 -> 1839 | C12956: 1838-39 | D12956: Import | E12956: Livestock: Asses | F12956: Total | G12956: 324 | H12956: All Imports (Total) | I12956: Jamaica (Total)
A12957: 1838 | B12957: 1839 | C12957: 1838-39 | D12957: Import | E12957: Livestock: Cattle | F12957: Total | G12957: 1776 | H12957: All Imports (Total) | I12957: Jamaica (Total)
A12958: 1839 | B12958: 1840 | C12958: 1839-40 | D12958: Import | E12958: Flour (barrels) | F12958: Total | G12958: 131581 | H12958: All Imports (Total) | I12958: Jamaica (Total)
A12959: 1839 | B12959: 1840 | C12959: 1839-40 | D12959: Import | E12959: Bread (lb) | F12959: Total | G12959: 4620158 | H12959: All Imports (Total) | I12959: Jamaica (Total)
A12960: 1839 | B12960: 1840 | C12960: 1839-40 | D12960: Import | E12960: Corn meal (barrels) | F12960: Total | G12960: 101747 | H12960: All Imports (Total) | I12960: Jamaica (Total)
A12961: 1839 | B12961: 1840 | C12961: 1839-40 | D12961: Import | E12961: Rice (lb) | F12961: Total | G12961: 8074331 | H12961: All Imports (Total) | I12961: Jamaica (Total)
A12962: 1839 | B12962: 1840 | C12962: 1839-40 | D12962: Import | E12962: Corn (bushels) | F12962: Total | G12962: 75433 | H12962: All Imports (Total) | I12962: Jamaica (Total)
A12963: 1839 | B12963: 1840 | C12963: 1839-40 | D12963: Import | E12963: Beef (barrels) | F12963: Total | G12963: 3134 | H12963: All Imports (Total) | I12963: Jamaica (Total)
A12964: 1839 | B12964: 1840 | C12964: 1839-40 | D12964: Import | E12964: Pork (barrels) | F12964: Total | G12964: 21182 | H12964: All Imports (Total) | I12964: Jamaica (Total)
A12965: 1839 | B12965: 1840 | C12965: 1839-40 | D12965: Import | E12965: Pickled fish (barrels) | F12965: Total | G12965: 28365 | H12965: All Imports (Total) | I12965: Jamaica (Total)
A12966: 1839 | B12966: 1840 | C12966: 1839-40 | D12966: Import | E12966: Fish (quintals) | F12966: Total | G12966: 130077 | H12966: All Imports (Total) | I12966: Jamaica (Total)
A12967: 1839 | B12967: 1840 | C12967: 1839-40 | D12967: Import | E12967: Butter and lard (firkins) | F12967: Total | G12967: 21150 | H12967: All Imports (Total) | I12967: Jamaica (Total)
A12968: 1839 | B12968: 1840 | C12968: 1839-40 | D12968: Import | E12968: Soap (boxes) | F12968: Total | G12968: 38864 | H12968: All Imports (Total) | I12968: Jamaica (Total)
... A13088: 1843 | B13088: 1844 | C13088: 1843-44 | D13088: Import | E13088: Wines (tuns) | F13088: Total | G13088: 308 | H13088: All Imports (Total) | I13088: Jamaica (Total)
A13089: =B13089-1 -> 1843 | B13089: 1844 | C13089: =IF(LEFT(A13089,2)=LEFT(B13089,2),_xlfn.TEXTJOIN("-",TRUE,A13089,RIGHT(B13089,2)),_xlfn.TEXTJOIN("-",TRUE,A13089,B13089)) -> 1843-44 | D13089: Import | E13089: Wines (gallons) | F13089: Total | G13089: 135 | H13089: All Imports (Total) | I13089: Jamaica (Total)
A13090: 1844 | B13090: 1845 | C13090: 1844-45 | D13090: Import | E13090: Flour (barrels) | F13090: Total | G13090: 117027 | H13090: All Imports (Total) | I13090: Jamaica (Total)
A13091: 1844 | B13091: 1845 | C13091: 1844-45 | D13091: Import | E13091: Bread (lb) | F13091: Total | G13091: 1282923 | H13091: All Imports (Total) | I13091: Jamaica (Total)
A13092: 1844 | B13092: 1845 | C13092: 1844-45 | D13092: Import | E13092: Corn meal (barrels) | F13092: Total | G13092: 19070 | H13092: All Imports (Total) | I13092: Jamaica (Total)
A13093: 1844 | B13093: 1845 | C13093: 1844-45 | D13093: Import | E13093: Rice (lb) | F13093: Total | G13093: 3655393 | H13093: All Imports (Total) | I13093: Jamaica (Total)
A13094: 1844 | B13094: 1845 | C13094: 1844-45 | D13094: Import | E13094: Corn (bushels) | F13094: Total | G13094: 75916 | H13094: All Imports (Total) | I13094: Jamaica (Total)
A13095: 1844 | B13095: 1845 | C13095: 1844-45 | D13095: Import | E13095: Beef (barrels) | F13095: Total | G13095: 2622 | H13095: All Imports (Total) | I13095: Jamaica (Total)
...

Sheet Ref List
A1: # | B1: Folder | C1: Image | D1: Start Yr | E1: End Yr | F1: Table Title | G1: Sheet | H1: I/E | I1: Notes
A2: 1 | B2: JHA 11 | C2: 183000 | D2: 1771 | E2: 1773 | F2: Schedule No. 1: An account of the total import from North-America into the British West-Indian islands, in the years 1771, 1772, and 1773 | G2: 1771-73 (I_WI)
A3: 2 | B3: JHA 10 | C3: 124011 124015 | D3: 1796 | E3: 1797 | F3: Account of the produce, the growth of Jamaica, exported (2 page) | G3: 1796-97 (E_J)
A4: 3 | B4: JHA 10 | C4: 124015 | D4: 1796 | E4: 1797 | F4: Account of sundries, the growth, produce, or manufacture of the West-India islands and southern continent of America, imported | G4: 1796-7 (I_WI) | I4: Whose exports?
A5: 4 | B5: JHA 10 | C5: 154505 | D5: 1797 | E5: 1798 | F5: Account of sundry articles, the produce of the island of Jamaica, exported | G5: 1797-98 (E_J)
A6: 5 | B6: JHA 10 | C6: 121816 | D6: 1799 | E6: 1800 | F6: A list of sugar, rum, &c exported from Jamaica | G6: 1799-1800 (E)
A7: 6 | B7: JHA 10 | C7: 121816 | D7: 1799 | E7: 1801 | F7: A list of horned cattle, horses, &c imported into Jamaica (1 Jul 1799 - 1 Jan 1801) | G7: 1799-1801 (I)
A8: 7 | B8: JHA 10 | C8: 122124 | D8: 1800 | E8: 1801 | F8: A list of sugar, rum, &c exported from Jamaica | G8: 1800-01 (E)
A9: 8 | B9: JHA 10 | C9: 122124 | D9: 1800 | E9: 1801 | F9: A list of cattle imported into the island of Jamaica | G9: 1800-01 (I)
A10: 9 | B10: JHA 11 | C10: 183132 | D10: 1801 | E10: 1802 | F10: Account of sugar, rum, &c, exported from this island | G10: 1801-2 (E) | H10: E
A11: 10 | B11: JHA 11 | C11: 183135 | D11: 1801 | E11: 1802 | F11: An account of all the articles imported into this island from his majesty's colonies in America | G11: 1801-2 (I) | H11: I
A12: 11 | B12: JHA 11 | C12: 183135 | D12: 1801 | E12: 1802 | F12: Articles exported to his majesty's colonies | G12: 1801-2 (E) | H12: E
A13: 12 | B13: JHA 11 | C13: 183138 | D13: 1801 | E13: 1802 | F13: Account of horses, mules, &c imported into this island | G13: 1801-2 (I) | H13: I
A14: 13 | B14: JHA 11 | C14: 183147 | D14: 1801 | E14: 1802 | F14: An account of the provisions, lumber, &c imported into this island from the United States of America | G14: 1801-2 (I) | H14: I
A15: 14 | B15: JHA 11 | C15: 183142 | D15: 1801 | E15: 1802 | F15: Produce exported to the United States | H15: E | I15: Data available in general exports table
A16: 15 | B16: JHA 11 | C16: 183008 | D16: 1801 | E16: 1804 | F16: Schedule No. 2: An account of the provisions imported into this island from the United States of America, in British bottoms
A17: 16 | B17: JHA 11 | C17: 152235 | D17: 1801 | E17: 1804 | F17: Schedule No. 2: Lumber imported (from USA)
A18: 17 | B18: JHA 11 | C18: 152241 | D18: 1801 | E18: 1804 | F18: Schedule No. 2: An account of the provisions imported into this island from his majesty's colonies in America
A19: 18 | B19: JHA 11 | C19: 152237 | D19: 1801 | E19: 1804 | F19: Schedule No. 3: An account of the different articles exported from this island to the United States of America, in American bottoms
A20: 19 | B20: JHA 11 | C20: 115001 | D20: 1801 | E20: 1804 | F20: Schedule No. 3: An account of the different articles exported from this island to the United States of America, in British bottoms
A21: 20 | B21: JHA 11 | C21: 115005 | D21: 1801 | E21: 1804 | F21: Schedule No. 3: An account of the different articles exported from this island to his majesty's colonies in America
A22: 21 | B22: JHA 11 | C22: 115009 | D22: 1801 | E22: 1804 | F22: Schedule No. 3: Articles exported to his majesty's colonies in America, cont.
A23: 22 | B23: JHA 11 | C23: 183206 | D23: 1802 | E23: 1803 | F23: List of sugar, rum, &c exported from the island of Jamaica | G23: 1802-3 (E) | H23: E
A24: 23 | B24: JHA 11 | C24: 183208 | D24: 1802 | E24: 1803 | F24: Imports to the island of Jamaica from his majesty's colonies in America | G24: 1802-3 (I) | H24: I
A25: 24 | B25: JHA 11 | C25: 183211 | D25: 1802 | E25: 1803 | F25: Exports from the island of Jamaica to his majesty's colonies in America | G25: 1802-3 (E) | H25: E | I25: Only adds molasses
A26: 25 | B26: JHA 11 | C26: 183215 | D26: 1802 | E26: 1803 | F26: Account of produce exported from the island of Jamaica to the United States of America | G26: 1802-3 (E) | H26: E | I26: Only adds molasses
A27: 26 | B27: JHA 11 | C27: 183219 | D27: 1802 | E27: 1803 | F27: Account of the provisions and lumber imported into the island of Jamaica from the United States of America | G27: 1802-3 (I) | H27: I
A28: 27 | B28: JHA 11 | C28: 183228 | D28: 1802 | E28: 1803 | F28: List of horses, mules, &c imported into the island of Jamaica | G28: 1802-3 (I) | H28: I
A29: 28 | B29: JHA 11 | C29: 183230 | D29: 1802 | E29: 1803 | F29: Account of the tonnage of vessels which have traded to the island of Jamaica, and of all sugar-vessels trading round the island | G29: //
A30: 29 | B30: JHA 11 | C30: 183248 | D30: 1803 | E30: 1804 | F30: Account of all the provisions and lumber imported into this island from the United States of America | G30: 1803-4 (I) | H30: I
A31: 30 | B31: JHA 11 | C31: 183250 | D31: 1803 | E31: 1804 | F31: Account of all the provisions and lumber imported into this island from the United States of America, in British vessels | G31: 1803-4 (I) | H31: I
A32: 31 | B32: JHA 11 | C32: 183253 | D32: 1803 | E32: 1804 | F32: Exports to the United States of America, in British vessels | H32: E | I32: Data available in general exports table
A33: 32 | B33: JHA 11 | C33: 183255 | D33: 1803 | E33: 1804 | F33: Exports to the United States, in America vessels | H33: E | I33: Data available in general exports table
A34: 33 | B34: JHA 11 | C34: 183301 | D34: 1803 | E34: 1804 | F34: Account of all the articles imported into this island from his majesty's colonies in America | G34: 1803-4 (I) | H34: I
A35: 34 | B35: JHA 11 | C35: 183304 | D35: 1803 | E35: 1804 | F35: Account of sugar, rum, &c, exported from this island | G35: 1803-4 (E) | H35: E
A36: 35 | B36: JHA 11 | C36: 183306 | D36: 1803 | E36: 1804 | F36: Exports to his majesty's colonies in America | H36: E | I36: Discrepancies - see general exports table
A37: 36 | B37: JHA 11 | C37: 183309 | D37: 1803 | E37: 1804 | F37: Account of the tonnage of all vessels trading to this island, and of all droggers trading round this island | G37: //
A38: 37 | B38: JHA 11 | C38: 183315 | D38: 1803 | E38: 1804 | F38: Account of horses, mules, &c imported into this island | G38: 1803-4 (I) | H38: I
A39: 38 | B39: JHA11 | C39: 183322 | D39: 1803 | E39: 1804 | F39: Account of herrings imported from Great-Britain and Ireland | G39: 1803-4 (I) | H39: I
A40: 39 | B40: JHA 11 | C40: 183402 | D40: 1804 | E40: 1805 | F40: Account of horses, mules, &c imported into the island of Jamaica | G40: 1804-5 (I) | H40: I
A41: 40 | B41: JHA 11 | C41: 183402 | D41: 1804 | E41: 1805 | F41: Account of herrings imported into the island of Jamaica from Great-Britain and Ireland | G41: 1804-5 (I) | H41: I
A42: 41 | B42: JHA 11 | C42: 183411 | D42: 1804 | E42: 1805 | F42: Account of sugar, rum, &c, exported from the island of Jamaica | G42: 1804-5 (E) | H42: E
A43: 42 | B43: JHA 11 | C43: 183414 | D43: 1804 | E43: 1805 | F43: Exports from the island of Jamaica to the British plantations | H43: E | I43: Data available in general exports table
A44: 43 | B44: JHA 11 | C44: 183416 | D44: 1804 | E44: 1805 | F44: Account of the tonnage of vessels trading to and within the island of Jamaica | G44: //
A45: 44 | B45: JHA 11 | C45: 183420 | D45: 1804 | E45: 1805 | F45: Account of provisions and lumber imported into the island of Jamaica from the British plantations | G45: 1804-5 (I) | H45: I
A46: 45 | B46: JHA 11 | C46: 183423 | D46: 1804 | E46: 1805 | F46: Account of provisions and lumber imported into the island of Jamaica from the United States of America | G46: 1804-5 (I) | H46: I
A47: 46 | B47: JHA 11 | C47: 183434 | D47: 1804 | E47: 1805 | F47: Exports from the island of Jamaica to the United States of America | H47: E | I47: Data available in general exports table
A48: 47 | B48: JHA 11 | C48: 183459 | D48: 1805 | E48: 1805 | F48: Salted provisions imported into the island of Jamaica (1 Jun - 1 Dec 1805) | H48: I | I48: Doesn't fit dates (covered by other tables)
A49: 48 | B49: JHA 11 | C49: 183613 | D49: 1805 | E49: 1806 | F49: Account of horses, mules, &c imported into the island of Jamaica | G49: 1805-6 (I) | H49: I
A50: 49 | B50: JHA 11 | C50: 183613 | D50: 1805 | E50: 1806 | F50: Account of herrings imported into the island of Jamaica from Great-Britain and Ireland | G50: 1805-6 (I) | H50: I
A51: 50 | B51: JHA 11 | C51: 183616 | D51: 1805 | E51: 1806 | F51: Exports from the island of Jamaica to the British plantations | H51: E | I51: Data available in general exports table
A52: 51 | B52: JHA 11 | C52: 183621 | D52: 1805 | E52: 1806 | F52: Account of the provisions imported into the island of Jamaica, from the British plantations | G52: 1805-6 (I) | H52: I
A53: 52 | B53: JHA 11 | C53: 183621 | D53: 1805 | E53: 1806 | F53: Account of provisions and lumber imported into the island of Jamaica, from the United States of America | G53: 1805-6 (I) | H53: I
A54: 53 | B54: JHA 11 | C54: 183630 | D54: 1805 | E54: 1806 | F54: Account of the sugar, rum, &c. exported from the island of Jamaica | G54: 1805-6 (E) | H54: E
A55: 54 | B55: JHA 11 | C55: 183633 | D55: 1805 | E55: 1806 | F55: Exports to the United States of America | H55: E | I55: Discrepancies - see general exports table
A56: 55 | B56: JHA 11 | C56: 183636 | D56: 1805 | E56: 1806 | F56: Account of the tonnage of vessels trading to and within the island of Jamaica | G56: //
A57: 56 | B57: JHA 11 | C57: 183714 | D57: 1806 | E57: 1807 | F57: Imports of horses, mules, &c | G57: 1806-7 (I) | H57: I
A58: 57 | B58: JHA 11 | C58: 183714 | D58: 1806 | E58: 1807 | F58: Account of herrings imported into the island of Jamaica from Great-Britain and Ireland | G58: 1806-7 (I) | H58: I
A59: 58 | B59: JHA 11 | C59: 183717 | D59: 1806 | E59: 1807 | F59: Account of the tonnage of vessels trading to the island of Jamaica | G59: //
A60: 59 | B60: JHA 11 | C60: 183722 | D60: 1806 | E60: 1807 | F60: General exports from the island of Jamaica | G60: 1806-7 (E) | H60: E
A61: 60 | B61: JHA 11 | C61: 183725 | D61: 1806 | E61: 1807 | F61: Exports from the island of Jamaica to the United States of America | H61: E | I61: Data available in general exports table
A62: 61 | B62: JHA 11 | C62: 183729 | D62: 1806 | E62: 1807 | F62: Exports from the island of Jamaica to the British plantations | H62: E | I62: Data available in general exports table
A63: 62 | B63: JHA 11 | C63: 183738 | D63: 1806 | E63: 1807 | F63: Imports to the island of Jamaica from the British plantations | G63: 1806-7 (I) | H63: I
A64: 63 | B64: JHA 11 | C64: 183741 | D64: 1806 | E64: 1807 | F64: Imports to the island of Jamaica from the United States of America | G64: 1806-7 (I) | H64: I
A65: 64 | B65: JHA 12 | C65: 120109 | D65: 1807 | E65: 1808 | F65: Tea imported to Jamaica | G65: 1807-8 (I) | H65: I | I65: Tea origin?
A66: 65 | B66: JHA 12 | C66: 120109 | D66: 1807 | E66: 1808 | F66: Tonnage of vessels trading to Jamaica | G66: //
A67: 66 | B67: JHA 12 | C67: 120109 | D67: 1807 | E67: 1808 | F67: Horses, mules etc imported to Jamaica | G67: 1807-8 (I) | H67: I
A68: 67 | B68: JHA 12 | C68: 120114 | D68: 1807 | E68: 1808 | F68: Sugar, rum, etc. exported from Jamaica | G68: 1807-8 (E) | H68: E
A69: 68 | B69: JHA 12 | C69: 120121 | D69: 1807 | E69: 1808 | F69: Provisions, lumber, etc. imported into Jamaica from the USA | G69: 1807-8 (I) | H69: I
A70: 69 | B70: JHA 12 | C70: 120121 | D70: 1807 | E70: 1808 | F70: Provisions, lumber, etc. imported into Jamaica from the British colonies in America | G70: 1807-8 (I) | H70: I
A71: 70 | B71: JHA 12 | C71: 120133 | D71: 1807 | E71: 1808 | F71: Produce exported from Jamaica to the USA | H71: E | I71: Data available in general exports table
A72: 71 | B72: JHA 12 | C72: 120133 | D72: 1807 | E72: 1808 | F72: Produce exported to the British colonies | H72: E | I72: Discrepancies - see general exports table
A73: 72 | B73: JHA 12 | C73: 120133 | D73: 1807 | E73: 1808 | F73: Herrings imported from GB and Ireland | G73: 1807-8 (I) | H73: I
A74: 73 | B74: JHA 12 | C74: 120227 | D74: 1808 | E74: 1809 | F74: Herrings, etc. imported from GB and Ireland | G74: 1808-9 (I) | H74: I
A75: 74 | B75: JHA 12 | C75: 120227 | D75: 1808 | E75: 1809 | F75: Tonnage of trading vessels | G75: //
A76: 75 | B76: JHA 12 | C76: 120227 | D76: 1808 | E76: 1809 | F76: Horses, mules etc imported to Jamaica | G76: 1808-9 (I) | H76: I
A77: 76 | B77: JHA 12 | C77: 120232 | D77: 1808 | E77: 1809 | F77: General export from Jamaica | G77: 1808-9 (E) | H77: E
A78: 77 | B78: JHA 12 | C78: 120240 | D78: 1808 | E78: 1809 | F78: Imports to Jamaica from the USA | G78: 1808-9 (I) | H78: I
A79: 78 | B79: JHA 12 | C79: 120240 | D79: 1808 | E79: 1809 | F79: Imports to Jamaica from the British plantations | G79: 1808-9 (I) | H79: I
A80: 79 | B80: JHA 12 | C80: 120246 | D80: 1808 | E80: 1809 | F80: Produce exported from Jamaica to the USA | H80: E | I80: Data available in general exports table
A81: 80 | B81: JHA 12 | C81: 120246 | D81: 1808 | E81: 1809 | F81: Exports to the British plantations | H81: E | I81: Data available in general exports table
A82: 81 | B82: JHA 12 | C82: 120306 | D82: 1809 | E82: 1810 | F82: Tonnage of trading vessels | G82: //
A83: 82 | B83: JHA 12 | C83: 120306 | D83: 1809 | E83: 1810 | F83: Horses, mules etc imported to Jamaica | G83: 1809-10 (I) | H83: I
A84: 83 | B84: JHA 12 | C84: 120306 | D84: 1809 | E84: 1810 | F84: Herrings and pilchards imported from GB and Ireland | G84: 1809-10 (I) | H84: I
A85: 84 | B85: JHA 12 | C85: 120312 | D85: 1809 | E85: 1810 | F85: General exports from the island of Jamaica | G85: 1809-10 (E) | H85: E
A86: 85 | B86: JHA 12 | C86: 120318 | D86: 1809 | E86: 1810 | F86: Imports to Jamaica from the USA | G86: 1809-10 (I) | H86: I
A87: 86 | B87: JHA 12 | C87: 120318 | D87: 1809 | E87: 1810 | F87: Imports to Jamaica from the British plantations | G87: 1809-10 (I) | H87: I
A88: 87 | B88: JHA 12 | C88: 120328 | D88: 1809 | E88: 1810 | F88: Produce exported from Jamaica to the USA | H88: E | I88: Discrepancies - see general exports table
A89: 88 | B89: JHA 12 | C89: 120328 | D89: 1809 | E89: 1810 | F89: Exports to the British plantations | H89: E | I89: Data available in general exports table
A90: 89 | B90: JHA 12 | C90: 120403 | D90: 1810 | E90: 1811 | F90: Tonnage of trading vessels | G90: //
A91: 90 | B91: JHA 12 | C91: 120403 | D91: 1810 | E91: 1811 | F91: Horses, mules etc imported to Jamaica | G91: 1810-11 (I) | H91: I
A92: 91 | B92: JHA 12 | C92: 120403 | D92: 1810 | E92: 1811 | F92: Herrings, etc. imported from GB and Ireland | G92: 1810-11 (I) | H92: I
A93: 92 | B93: JHA 12 | C93: 120433 | D93: 1810 | E93: 1811 | F93: Imports to Jamaica from the USA | G93: 1810-11 (I) | H93: I
A94: 93 | B94: JHA 12 | C94: 120433 | D94: 1810 | E94: 1811 | F94: Imports to Jamaica from the British plantations | G94: 1810-11 (I) | H94: I
A95: 94 | B95: JHA 12 | C95: 120438 | D95: 1810 | E95: 1811 | F95: General exports from Jamaica | G95: 1810-11 (E) | H95: E
A96: 95 | B96: JHA 12 | C96: 120438 | D96: 1810 | E96: 1811 | F96: Produce exported from Jamaica to the USA | H96: E | I96: Data available in general exports table
A97: 96 | B97: JHA 12 | C97: 120438 | D97: 1810 | E97: 1811 | F97: Exports to the British plantations | H97: E | I97: Data available in general exports table
A98: 97 | B98: JHA 12 | C98: 120511 | D98: 1811 | E98: 1812 | F98: Tonnage of trading vessels | G98: //
A99: 98 | B99: JHA 12 | C99: 120511 | D99: 1811 | E99: 1812 | F99: Horses, mules etc imported to Jamaica | G99: 1811-12 (I) | H99: I
A100: 99 | B100: JHA 12 | C100: 120511 | D100: 1811 | E100: 1812 | F100: Produce exported from Jamaica to the USA | H100: E | I100: Data available in general exports table
...

Sheet Term List
A1: Summary Table | C1: Additional | E1: To/From | F1: From | G1: To
A2: Beef (barrels) | C2: Beef (half barrels) | E2: Jamaica: from/to Br Plantations | F2: All Imports (Total) | G2: All Exports (Total)
A3: Beer (hogsheads) | C3: Beef and pork (barrels) | E3: Jamaica: from/to Foreign Plantations | F3: Br Plantations | G3: Br Plantations
A4: Beer and cider (gallons) | C4: Boards and timber (feet) | E4: Jamaica: from/to GB | F4: Europe | G4: Europe
A5: Beer and cider (tuns) | C5: Bread (cwt) | E5: Jamaica: from/to Ireland | F5: Foreign Plantations | G5: Foreign Plantations
A6: Boots and shoes (dozens) | C6: Bread (half barrels) | E6: Jamaica: from/to US | F6: GB | G6: GB
A7: Brandy (gallons) | C7: Bread (quarters) | E7: Kingston: from/to Br Plantations | F7: GB & Ireland | G7: Ireland
A8: Bread (bags) | C8: Bread and flour (barrels) | E8: Kingston: from/to Europe | F8: Ireland | G8: Jamaica (Total)
A9: Bread (barrels) | C9: Bread and flour (kegs) | E9: Kingston: from/to Foreign Plantations | F9: Jamaica (Total) | G9: Kingston
A10: Bread (kegs) | C10: Butter (half firkins) | E10: Kingston: from/to GB | F10: Kingston | G10: Outports
A11: Bread (lb) | C11: Butter (lb) | E11: Kingston: from/to GB & Ireland | F11: Outports | G11: US
A12: Bread (quintals) | C12: Casks | E12: Kingston: from/to Ireland | F12: US
A13: Butter (firkins) | C13: Cocoa (bags) | E13: Kingston: from/to US
A14: Butter and lard (firkins) | C14: Cocoa (casks) | E14: Kingston: Total
A15: Butter and lard (lb) | C15: Corn meal (hogsheads) | E15: Outports: from/to Br Plantations
A16: Candles (boxes) | C16: Fish (half barrels) | E16: Outports: from/to Europe
A17: Candles (lb) | C17: Fish (kits) | E17: Outports: from/to Foreign Plantations
A18: Cedar posts | C18: Fish (tierces) | E18: Outports: from/to GB
A19: Chairs (dozens) | C19: Fish, dry (boxes) | E19: Outports: from/to GB & Ireland
A20: Corn (bushels and barrels) | C20: Fish, dry (casks) | E20: Outports: from/to Ireland
A21: Corn (bushels) | C21: Fish, dry (hogsheads) | E21: Outports: from/to US
A22: Corn (casks) | C22: Fish, dry (quintals) | E22: Outports: Total
A23: Corn (bags) | C23: Fish, pickled (barrels) | E23: Total
A24: Corn and beans (casks) | C24: Fish, pickled (kegs)
A25: Corn and beans (bushels) | C25: House frames
A26: Corn and pease (casks) | C26: Indigo (bags)
A27: Corn and pease (bushels) | C27: Indigo (casks)
A28: Corn, pease, and beans (casks) | C28: Iron (tons)
A29: Corn, pease, and beans (bags) | C29: Livestock: oxen
A30: Corn, pease, and beans (bushels) | C30: Livestock: sheep and hogs
A31: Corn, beans, oats, etc. (bushels) | C31: Masts
A32: Corn, pease, oats, etc. (bushels) | C32: Molasses (puncheons)
A33: Corn, pease, oats, etc. (barrels) | C33: Oil (barrels)
A34: Corn and meal (bushels) | C34: Ox-bows and yokes
A35: Corn and meal (bags) | C35: Pease (casks)
... A42: Fish, pickled (kegs) | C42: Tar, pitch, and turpentine (barrels)
A43: Fish, pickled (kits)
A44: Fish, dry (hogsheads)
A45: Fish, dry (casks)
A46: Fish, dry (boxes)
A47: Fish, dry (quintals)
A48: Flour (barrels)
A49: Gin (gallons)
A50: Hams and Cheese (lb)
A51: Handspikes
A52: Herrings (barrels)
A53: Hoops
A54: Hoops (bundles)
... A169: Wine (quarter casks)

Sheet Unit Calc
A2: Bread | B2: 1 cwt (imp. hundredweight) = 4 quarters = 112 lbs 1 quarter = 28 lbs
E3: Cwt | F3: Qrtr | G3: Lbs
A4: Woods | B4: 1 ton = 20 cwt = 2240 lbs | D4: Enter
E5: =E4 -> 0 | F5: =F4/4 -> 0 | G5: =G4/112 -> 0
D6: Cwt | E6: =SUM($E5:$G5) -> 0
E7: =E4*112 -> 0 | F7: =F4*(112/4) -> 0 | G7: =G4 -> 0
G8: =SUM(E7:G7) -> 0 | H8: Lbs
D11: Enter | H11: Lbs
D12: Cwt/qtr/lbs | E12: =IF(G11>=112,QUOTIENT(G11,112),0) -> 0 | F12: =IF(G11>=28,QUOTIENT(MOD(G11,112),28),0) -> 0 | G12: =IF(G11>=28,MOD(G11,28),G11) -> 0

Sheet Lookup
B2: I/E | C2: Commodity (drop-down)
B3: Import | C3: Flour (barrels)
E5: 1768-69 | F5: 1769-70 | G5: 1770-71 | H5: 1771-72 | I5: 1772-73 | J5: 1773-74 | K5: 1774-75 | L5: 1775-76 | M5: 1776-77 | N5: 1777-78 | O5: 1778-79 | P5: 1779-80 | Q5: 1780-81 | R5: 1781-82 | S5: 1782-83 | T5: 1783-84 | U5: 1784-85 | V5: 1785-86 | W5: 1786-87 | X5: 1787-88 | Y5: 1788-89 | Z5: 1789-90 | AA5: 1790-91 | AB5: 1791-92 | AC5: 1792-93 | AD5: 1793-94 | AE5: 1794-95 | AF5: 1795-96 | AG5: 1796-97 | AH5: 1797-98 | AI5: 1798-99 | AJ5: 1799-1800 | AK5: 1800-01 | AL5: 1801-02 | AM5: 1802-03 | AN5: 1803-04 | AO5: 1804-05 | AP5: 1805-06 | AQ5: 1806-07 | AR5: 1807-08 | AS5: 1808-09 | AT5: 1810-11 | AU5: 1811-12 | AV5: 1812-13 | AW5: 1813-14 | AX5: 1814-15 | AY5: 1815-16 | AZ5: 1816-17 | BA5: 1817-18 | BB5: 1818-19 | BC5: 1819-20 | BD5: 1820-21 | BE5: 1821-22 | BF5: 1822-23 | BG5: 1823-24 | BH5: 1824-25 | BI5: 1825-26 | BJ5: 1826-27 | BK5: 1827-28 | BL5: 1828-29 | BM5: 1829-30 | BN5: 1830-31 | BO5: 1831-32 | BP5: 1832-33 | BQ5: 1833-34 | BR5: 1834-35 | BS5: 1835-36 | BT5: 1836-37 | BU5: 1837-38 | BV5: 1838-39 | BW5: 1839-40 | BX5: 1840-41 | BY5: 1841-42 | BZ5: 1842-43 | CA5: 1843-44 | CB5: 1844-45 | CC5: 1845-46 | CD5: 1846-47 | CE5: 1847-48 | CF5: 1848-49 | CG5: 1849-50 | CH5: 1850-51 | CI5: 1851-52 | CJ5: 1852-53 | CK5: 1853-54 | CL5: 1854-55 | CM5: 1855-56 | CN5: 1856-57 | CO5: 1857-58 | CP5: 1858-59 | CQ5: 1859-60 | CR5: 1860-61 | CS5: 1861-62 | CT5: 1862-63 | CU5: 1863-64 | CV5: 1864-65
C6: Kingston: from/to GB | E6: =SUMIFS(Database!$G:$G,Database!$E:$E,Lookup!$C$3,Database!$C:$C,Lookup!E$5,Database!$F:$F,Lookup!$C6,Database!$D:$D,Lookup!$B$3) -> 0 | F6: =SUMIFS(Database!$G:$G,Database!$E:$E,Lookup!$C$3,Database!$C:$C,Lookup!F$5,Database!$F:$F,Lookup!$C6,Database!$D:$D,Lookup!$B$3) -> 0 | G6: =SUMIFS(Database!$G:$G,Database!$E:$E,Lookup!$C$3,Database!$C:$C,Lookup!G$5,Database!$F:$F,Lookup!$C6,Database!$D:$D,Lookup!$B$3) -> 0 | H6: =SUMIFS(Database!$G:$G,Database!$E:$E,Lookup!$C$3,Database!$C:$C,Lookup!H$5,Database!$F:$F,Lookup!$C6,Database!$D:$D,Lookup!$B$3) -> 0 | I6: =SUMIFS(Database!$G:$G,Database!$E:$E,Lookup!$C$3,Database!$C:$C,Lookup!I$5,Database!$F:$F,Lookup!$C6,Database!$D:$D,Lookup!$B$3) -> 0 | J6: =SUMIFS(Database!$G:$G,Database!$E:$E,Lookup!$C$3,Database!$C:$C,Lookup!J$5,Database!$F:$F,Lookup!$C6,Database!$D:$D,Lookup!$B$3) -> 0 | K6: =SUMIFS(Database!$G:$G,Database!$E:$E,Lookup!$C$3,Database!$C:$C,Lookup!K$5,Database!$F:$F,Lookup!$C6,Database!$D:$D,Lookup!$B$3) -> 0 | L6: =SUMIFS(Database!$G:$G,Database!$E:$E,Lookup!$C$3,Database!$C:$C,Lookup!L$5,Database!$F:$F,Lookup!$C6,Database!$D:$D,Lookup!$B$3) -> 0 | ... CV6: =SUMIFS(Database!$G:$G,Database!$E:$E,Lookup!$C$3,Database!$C:$C,Lookup!CV$5,Database!$F:$F,Lookup!$C6,Database!$D:$D,Lookup!$B$3) -> 0
C7: Kingston: from/to Ireland | E7: =SUMIFS(Database!$G:$G,Database!$E:$E,Lookup!$C$3,Database!$C:$C,Lookup!E$5,Database!$F:$F,Lookup!$C7,Database!$D:$D,Lookup!$B$3) -> 0 | F7: =SUMIFS(Database!$G:$G,Database!$E:$E,Lookup!$C$3,Database!$C:$C,Lookup!F$5,Database!$F:$F,Lookup!$C7,Database!$D:$D,Lookup!$B$3) -> 0 | G7: =SUMIFS(Database!$G:$G,Database!$E:$E,Lookup!$C$3,Database!$C:$C,Lookup!G$5,Database!$F:$F,Lookup!$C7,Database!$D:$D,Lookup!$B$3) -> 0 | H7: =SUMIFS(Database!$G:$G,Database!$E:$E,Lookup!$C$3,Database!$C:$C,Lookup!H$5,Database!$F:$F,Lookup!$C7,Database!$D:$D,Lookup!$B$3) -> 0 | I7: =SUMIFS(Database!$G:$G,Database!$E:$E,Lookup!$C$3,Database!$C:$C,Lookup!I$5,Database!$F:$F,Lookup!$C7,Database!$D:$D,Lookup!$B$3) -> 0 | J7: =SUMIFS(Database!$G:$G,Database!$E:$E,Lookup!$C$3,Database!$C:$C,Lookup!J$5,Database!$F:$F,Lookup!$C7,Database!$D:$D,Lookup!$B$3) -> 0 | K7: =SUMIFS(Database!$G:$G,Database!$E:$E,Lookup!$C$3,Database!$C:$C,Lookup!K$5,Database!$F:$F,Lookup!$C7,Database!$D:$D,Lookup!$B$3) -> 0 | L7: =SUMIFS(Database!$G:$G,Database!$E:$E,Lookup!$C$3,Database!$C:$C,Lookup!L$5,Database!$F:$F,Lookup!$C7,Database!$D:$D,Lookup!$B$3) -> 0 | ... CV7: =SUMIFS(Database!$G:$G,Database!$E:$E,Lookup!$C$3,Database!$C:$C,Lookup!CV$5,Database!$F:$F,Lookup!$C7,Database!$D:$D,Lookup!$B$3) -> 0
C8: Kingston: from/to GB & Ireland | E8: =SUMIFS(Database!$G:$G,Database!$E:$E,Lookup!$C$3,Database!$C:$C,Lookup!E$5,Database!$F:$F,Lookup!$C8,Database!$D:$D,Lookup!$B$3) -> 0 | F8: =SUMIFS(Database!$G:$G,Database!$E:$E,Lookup!$C$3,Database!$C:$C,Lookup!F$5,Database!$F:$F,Lookup!$C8,Database!$D:$D,Lookup!$B$3) -> 0 | G8: =SUMIFS(Database!$G:$G,Database!$E:$E,Lookup!$C$3,Database!$C:$C,Lookup!G$5,Database!$F:$F,Lookup!$C8,Database!$D:$D,Lookup!$B$3) -> 0 | H8: =SUMIFS(Database!$G:$G,Database!$E:$E,Lookup!$C$3,Database!$C:$C,Lookup!H$5,Database!$F:$F,Lookup!$C8,Database!$D:$D,Lookup!$B$3) -> 0 | I8: =SUMIFS(Database!$G:$G,Database!$E:$E,Lookup!$C$3,Database!$C:$C,Lookup!I$5,Database!$F:$F,Lookup!$C8,Database!$D:$D,Lookup!$B$3) -> 0 | J8: =SUMIFS(Database!$G:$G,Database!$E:$E,Lookup!$C$3,Database!$C:$C,Lookup!J$5,Database!$F:$F,Lookup!$C8,Database!$D:$D,Lookup!$B$3) -> 0 | K8: =SUMIFS(Database!$G:$G,Database!$E:$E,Lookup!$C$3,Database!$C:$C,Lookup!K$5,Database!$F:$F,Lookup!$C8,Database!$D:$D,Lookup!$B$3) -> 0 | L8: =SUMIFS(Database!$G:$G,Database!$E:$E,Lookup!$C$3,Database!$C:$C,Lookup!L$5,Database!$F:$F,Lookup!$C8,Database!$D:$D,Lookup!$B$3) -> 0 | ... CV8: =SUMIFS(Database!$G:$G,Database!$E:$E,Lookup!$C$3,Database!$C:$C,Lookup!CV$5,Database!$F:$F,Lookup!$C8,Database!$D:$D,Lookup!$B$3) -> 0
C9: Kingston: from/to Europe | E9: =SUMIFS(Database!$G:$G,Database!$E:$E,Lookup!$C$3,Database!$C:$C,Lookup!E$5,Database!$F:$F,Lookup!$C9,Database!$D:$D,Lookup!$B$3) -> 0 | F9: =SUMIFS(Database!$G:$G,Database!$E:$E,Lookup!$C$3,Database!$C:$C,Lookup!F$5,Database!$F:$F,Lookup!$C9,Database!$D:$D,Lookup!$B$3) -> 0 | G9: =SUMIFS(Database!$G:$G,Database!$E:$E,Lookup!$C$3,Database!$C:$C,Lookup!G$5,Database!$F:$F,Lookup!$C9,Database!$D:$D,Lookup!$B$3) -> 0 | H9: =SUMIFS(Database!$G:$G,Database!$E:$E,Lookup!$C$3,Database!$C:$C,Lookup!H$5,Database!$F:$F,Lookup!$C9,Database!$D:$D,Lookup!$B$3) -> 0 | I9: =SUMIFS(Database!$G:$G,Database!$E:$E,Lookup!$C$3,Database!$C:$C,Lookup!I$5,Database!$F:$F,Lookup!$C9,Database!$D:$D,Lookup!$B$3) -> 0 | J9: =SUMIFS(Database!$G:$G,Database!$E:$E,Lookup!$C$3,Database!$C:$C,Lookup!J$5,Database!$F:$F,Lookup!$C9,Database!$D:$D,Lookup!$B$3) -> 0 | K9: =SUMIFS(Database!$G:$G,Database!$E:$E,Lookup!$C$3,Database!$C:$C,Lookup!K$5,Database!$F:$F,Lookup!$C9,Database!$D:$D,Lookup!$B$3) -> 0 | L9: =SUMIFS(Database!$G:$G,Database!$E:$E,Lookup!$C$3,Database!$C:$C,Lookup!L$5,Database!$F:$F,Lookup!$C9,Database!$D:$D,Lookup!$B$3) -> 0 | ... CV9: =SUMIFS(Database!$G:$G,Database!$E:$E,Lookup!$C$3,Database!$C:$C,Lookup!CV$5,Database!$F:$F,Lookup!$C9,Database!$D:$D,Lookup!$B$3) -> 0
C10: Kingston: from/to Br Plantations | E10: =SUMIFS(Database!$G:$G,Database!$E:$E,Lookup!$C$3,Database!$C:$C,Lookup!E$5,Database!$F:$F,Lookup!$C10,Database!$D:$D,Lookup!$B$3) -> 0 | F10: =SUMIFS(Database!$G:$G,Database!$E:$E,Lookup!$C$3,Database!$C:$C,Lookup!F$5,Database!$F:$F,Lookup!$C10,Database!$D:$D,Lookup!$B$3) -> 0 | G10: =SUMIFS(Database!$G:$G,Database!$E:$E,Lookup!$C$3,Database!$C:$C,Lookup!G$5,Database!$F:$F,Lookup!$C10,Database!$D:$D,Lookup!$B$3) -> 0 | H10: =SUMIFS(Database!$G:$G,Database!$E:$E,Lookup!$C$3,Database!$C:$C,Lookup!H$5,Database!$F:$F,Lookup!$C10,Database!$D:$D,Lookup!$B$3) -> 0 | I10: =SUMIFS(Database!$G:$G,Database!$E:$E,Lookup!$C$3,Database!$C:$C,Lookup!I$5,Database!$F:$F,Lookup!$C10,Database!$D:$D,Lookup!$B$3) -> 0 | J10: =SUMIFS(Database!$G:$G,Database!$E:$E,Lookup!$C$3,Database!$C:$C,Lookup!J$5,Database!$F:$F,Lookup!$C10,Database!$D:$D,Lookup!$B$3) -> 0 | K10: =SUMIFS(Database!$G:$G,Database!$E:$E,Lookup!$C$3,Database!$C:$C,Lookup!K$5,Database!$F:$F,Lookup!$C10,Database!$D:$D,Lookup!$B$3) -> 0 | L10: =SUMIFS(Database!$G:$G,Database!$E:$E,Lookup!$C$3,Database!$C:$C,Lookup!L$5,Database!$F:$F,Lookup!$C10,Database!$D:$D,Lookup!$B$3) -> 0 | ... CV10: =SUMIFS(Database!$G:$G,Database!$E:$E,Lookup!$C$3,Database!$C:$C,Lookup!CV$5,Database!$F:$F,Lookup!$C10,Database!$D:$D,Lookup!$B$3) -> 0
C11: Kingston: from/to US | E11: =SUMIFS(Database!$G:$G,Database!$E:$E,Lookup!$C$3,Database!$C:$C,Lookup!E$5,Database!$F:$F,Lookup!$C11,Database!$D:$D,Lookup!$B$3) -> 0 | F11: =SUMIFS(Database!$G:$G,Database!$E:$E,Lookup!$C$3,Database!$C:$C,Lookup!F$5,Database!$F:$F,Lookup!$C11,Database!$D:$D,Lookup!$B$3) -> 0 | G11: =SUMIFS(Database!$G:$G,Database!$E:$E,Lookup!$C$3,Database!$C:$C,Lookup!G$5,Database!$F:$F,Lookup!$C11,Database!$D:$D,Lookup!$B$3) -> 0 | H11: =SUMIFS(Database!$G:$G,Database!$E:$E,Lookup!$C$3,Database!$C:$C,Lookup!H$5,Database!$F:$F,Lookup!$C11,Database!$D:$D,Lookup!$B$3) -> 0 | I11: =SUMIFS(Database!$G:$G,Database!$E:$E,Lookup!$C$3,Database!$C:$C,Lookup!I$5,Database!$F:$F,Lookup!$C11,Database!$D:$D,Lookup!$B$3) -> 0 | J11: =SUMIFS(Database!$G:$G,Database!$E:$E,Lookup!$C$3,Database!$C:$C,Lookup!J$5,Database!$F:$F,Lookup!$C11,Database!$D:$D,Lookup!$B$3) -> 0 | K11: =SUMIFS(Database!$G:$G,Database!$E:$E,Lookup!$C$3,Database!$C:$C,Lookup!K$5,Database!$F:$F,Lookup!$C11,Database!$D:$D,Lookup!$B$3) -> 0 | L11: =SUMIFS(Database!$G:$G,Database!$E:$E,Lookup!$C$3,Database!$C:$C,Lookup!L$5,Database!$F:$F,Lookup!$C11,Database!$D:$D,Lookup!$B$3) -> 0 | ... CV11: =SUMIFS(Database!$G:$G,Database!$E:$E,Lookup!$C$3,Database!$C:$C,Lookup!CV$5,Database!$F:$F,Lookup!$C11,Database!$D:$D,Lookup!$B$3) -> 0
C12: Kingston: from/to Foreign Plantations | E12: =SUMIFS(Database!$G:$G,Database!$E:$E,Lookup!$C$3,Database!$C:$C,Lookup!E$5,Database!$F:$F,Lookup!$C12,Database!$D:$D,Lookup!$B$3) -> 0 | F12: =SUMIFS(Database!$G:$G,Database!$E:$E,Lookup!$C$3,Database!$C:$C,Lookup!F$5,Database!$F:$F,Lookup!$C12,Database!$D:$D,Lookup!$B$3) -> 0 | G12: =SUMIFS(Database!$G:$G,Database!$E:$E,Lookup!$C$3,Database!$C:$C,Lookup!G$5,Database!$F:$F,Lookup!$C12,Database!$D:$D,Lookup!$B$3) -> 0 | H12: =SUMIFS(Database!$G:$G,Database!$E:$E,Lookup!$C$3,Database!$C:$C,Lookup!H$5,Database!$F:$F,Lookup!$C12,Database!$D:$D,Lookup!$B$3) -> 0 | I12: =SUMIFS(Database!$G:$G,Database!$E:$E,Lookup!$C$3,Database!$C:$C,Lookup!I$5,Database!$F:$F,Lookup!$C12,Database!$D:$D,Lookup!$B$3) -> 0 | J12: =SUMIFS(Database!$G:$G,Database!$E:$E,Lookup!$C$3,Database!$C:$C,Lookup!J$5,Database!$F:$F,Lookup!$C12,Database!$D:$D,Lookup!$B$3) -> 0 | K12: =SUMIFS(Database!$G:$G,Database!$E:$E,Lookup!$C$3,Database!$C:$C,Lookup!K$5,Database!$F:$F,Lookup!$C12,Database!$D:$D,Lookup!$B$3) -> 0 | L12: =SUMIFS(Database!$G:$G,Database!$E:$E,Lookup!$C$3,Database!$C:$C,Lookup!L$5,Database!$F:$F,Lookup!$C12,Database!$D:$D,Lookup!$B$3) -> 0 | ... CV12: =SUMIFS(Database!$G:$G,Database!$E:$E,Lookup!$C$3,Database!$C:$C,Lookup!CV$5,Database!$F:$F,Lookup!$C12,Database!$D:$D,Lookup!$B$3) -> 0
C13: Kingston: Total | E13: =SUMIFS(Database!$G:$G,Database!$E:$E,Lookup!$C$3,Database!$C:$C,Lookup!E$5,Database!$F:$F,Lookup!$C13,Database!$D:$D,Lookup!$B$3) -> 0 | F13: =SUMIFS(Database!$G:$G,Database!$E:$E,Lookup!$C$3,Database!$C:$C,Lookup!F$5,Database!$F:$F,Lookup!$C13,Database!$D:$D,Lookup!$B$3) -> 0 | G13: =SUMIFS(Database!$G:$G,Database!$E:$E,Lookup!$C$3,Database!$C:$C,Lookup!G$5,Database!$F:$F,Lookup!$C13,Database!$D:$D,Lookup!$B$3) -> 0 | H13: =SUMIFS(Database!$G:$G,Database!$E:$E,Lookup!$C$3,Database!$C:$C,Lookup!H$5,Database!$F:$F,Lookup!$C13,Database!$D:$D,Lookup!$B$3) -> 0 | I13: =SUMIFS(Database!$G:$G,Database!$E:$E,Lookup!$C$3,Database!$C:$C,Lookup!I$5,Database!$F:$F,Lookup!$C13,Database!$D:$D,Lookup!$B$3) -> 0 | J13: =SUMIFS(Database!$G:$G,Database!$E:$E,Lookup!$C$3,Database!$C:$C,Lookup!J$5,Database!$F:$F,Lookup!$C13,Database!$D:$D,Lookup!$B$3) -> 0 | K13: =SUMIFS(Database!$G:$G,Database!$E:$E,Lookup!$C$3,Database!$C:$C,Lookup!K$5,Database!$F:$F,Lookup!$C13,Database!$D:$D,Lookup!$B$3) -> 0 | L13: =SUMIFS(Database!$G:$G,Database!$E:$E,Lookup!$C$3,Database!$C:$C,Lookup!L$5,Database!$F:$F,Lookup!$C13,Database!$D:$D,Lookup!$B$3) -> 0 | ... CV13: =SUMIFS(Database!$G:$G,Database!$E:$E,Lookup!$C$3,Database!$C:$C,Lookup!CV$5,Database!$F:$F,Lookup!$C13,Database!$D:$D,Lookup!$B$3) -> 0
C14: Outports: from/to GB | E14: =SUMIFS(Database!$G:$G,Database!$E:$E,Lookup!$C$3,Database!$C:$C,Lookup!E$5,Database!$F:$F,Lookup!$C14,Database!$D:$D,Lookup!$B$3) -> 0 | F14: =SUMIFS(Database!$G:$G,Database!$E:$E,Lookup!$C$3,Database!$C:$C,Lookup!F$5,Database!$F:$F,Lookup!$C14,Database!$D:$D,Lookup!$B$3) -> 0 | G14: =SUMIFS(Database!$G:$G,Database!$E:$E,Lookup!$C$3,Database!$C:$C,Lookup!G$5,Database!$F:$F,Lookup!$C14,Database!$D:$D,Lookup!$B$3) -> 0 | H14: =SUMIFS(Database!$G:$G,Database!$E:$E,Lookup!$C$3,Database!$C:$C,Lookup!H$5,Database!$F:$F,Lookup!$C14,Database!$D:$D,Lookup!$B$3) -> 0 | I14: =SUMIFS(Database!$G:$G,Database!$E:$E,Lookup!$C$3,Database!$C:$C,Lookup!I$5,Database!$F:$F,Lookup!$C14,Database!$D:$D,Lookup!$B$3) -> 0 | J14: =SUMIFS(Database!$G:$G,Database!$E:$E,Lookup!$C$3,Database!$C:$C,Lookup!J$5,Database!$F:$F,Lookup!$C14,Database!$D:$D,Lookup!$B$3) -> 0 | K14: =SUMIFS(Database!$G:$G,Database!$E:$E,Lookup!$C$3,Database!$C:$C,Lookup!K$5,Database!$F:$F,Lookup!$C14,Database!$D:$D,Lookup!$B$3) -> 0 | L14: =SUMIFS(Database!$G:$G,Database!$E:$E,Lookup!$C$3,Database!$C:$C,Lookup!L$5,Database!$F:$F,Lookup!$C14,Database!$D:$D,Lookup!$B$3) -> 0 | ... CV14: =SUMIFS(Database!$G:$G,Database!$E:$E,Lookup!$C$3,Database!$C:$C,Lookup!CV$5,Database!$F:$F,Lookup!$C14,Database!$D:$D,Lookup!$B$3) -> 0
C15: Outports: from/to Ireland | E15: =SUMIFS(Database!$G:$G,Database!$E:$E,Lookup!$C$3,Database!$C:$C,Lookup!E$5,Database!$F:$F,Lookup!$C15,Database!$D:$D,Lookup!$B$3) -> 0 | F15: =SUMIFS(Database!$G:$G,Database!$E:$E,Lookup!$C$3,Database!$C:$C,Lookup!F$5,Database!$F:$F,Lookup!$C15,Database!$D:$D,Lookup!$B$3) -> 0 | G15: =SUMIFS(Database!$G:$G,Database!$E:$E,Lookup!$C$3,Database!$C:$C,Lookup!G$5,Database!$F:$F,Lookup!$C15,Database!$D:$D,Lookup!$B$3) -> 0 | H15: =SUMIFS(Database!$G:$G,Database!$E:$E,Lookup!$C$3,Database!$C:$C,Lookup!H$5,Database!$F:$F,Lookup!$C15,Database!$D:$D,Lookup!$B$3) -> 0 | I15: =SUMIFS(Database!$G:$G,Database!$E:$E,Lookup!$C$3,Database!$C:$C,Lookup!I$5,Database!$F:$F,Lookup!$C15,Database!$D:$D,Lookup!$B$3) -> 0 | J15: =SUMIFS(Database!$G:$G,Database!$E:$E,Lookup!$C$3,Database!$C:$C,Lookup!J$5,Database!$F:$F,Lookup!$C15,Database!$D:$D,Lookup!$B$3) -> 0 | K15: =SUMIFS(Database!$G:$G,Database!$E:$E,Lookup!$C$3,Database!$C:$C,Lookup!K$5,Database!$F:$F,Lookup!$C15,Database!$D:$D,Lookup!$B$3) -> 0 | L15: =SUMIFS(Database!$G:$G,Database!$E:$E,Lookup!$C$3,Database!$C:$C,Lookup!L$5,Database!$F:$F,Lookup!$C15,Database!$D:$D,Lookup!$B$3) -> 0 | ... CV15: =SUMIFS(Database!$G:$G,Database!$E:$E,Lookup!$C$3,Database!$C:$C,Lookup!CV$5,Database!$F:$F,Lookup!$C15,Database!$D:$D,Lookup!$B$3) -> 0
C16: Outports: from/to GB & Ireland | E16: =SUMIFS(Database!$G:$G,Database!$E:$E,Lookup!$C$3,Database!$C:$C,Lookup!E$5,Database!$F:$F,Lookup!$C16,Database!$D:$D,Lookup!$B$3) -> 0 | F16: =SUMIFS(Database!$G:$G,Database!$E:$E,Lookup!$C$3,Database!$C:$C,Lookup!F$5,Database!$F:$F,Lookup!$C16,Database!$D:$D,Lookup!$B$3) -> 0 | G16: =SUMIFS(Database!$G:$G,Database!$E:$E,Lookup!$C$3,Database!$C:$C,Lookup!G$5,Database!$F:$F,Lookup!$C16,Database!$D:$D,Lookup!$B$3) -> 0 | H16: =SUMIFS(Database!$G:$G,Database!$E:$E,Lookup!$C$3,Database!$C:$C,Lookup!H$5,Database!$F:$F,Lookup!$C16,Database!$D:$D,Lookup!$B$3) -> 0 | I16: =SUMIFS(Database!$G:$G,Database!$E:$E,Lookup!$C$3,Database!$C:$C,Lookup!I$5,Database!$F:$F,Lookup!$C16,Database!$D:$D,Lookup!$B$3) -> 0 | J16: =SUMIFS(Database!$G:$G,Database!$E:$E,Lookup!$C$3,Database!$C:$C,Lookup!J$5,Database!$F:$F,Lookup!$C16,Database!$D:$D,Lookup!$B$3) -> 0 | K16: =SUMIFS(Database!$G:$G,Database!$E:$E,Lookup!$C$3,Database!$C:$C,Lookup!K$5,Database!$F:$F,Lookup!$C16,Database!$D:$D,Lookup!$B$3) -> 0 | L16: =SUMIFS(Database!$G:$G,Database!$E:$E,Lookup!$C$3,Database!$C:$C,Lookup!L$5,Database!$F:$F,Lookup!$C16,Database!$D:$D,Lookup!$B$3) -> 0 | ... CV16: =SUMIFS(Database!$G:$G,Database!$E:$E,Lookup!$C$3,Database!$C:$C,Lookup!CV$5,Database!$F:$F,Lookup!$C16,Database!$D:$D,Lookup!$B$3) -> 0
C17: Outports: from/to Europe | E17: =SUMIFS(Database!$G:$G,Database!$E:$E,Lookup!$C$3,Database!$C:$C,Lookup!E$5,Database!$F:$F,Lookup!$C17,Database!$D:$D,Lookup!$B$3) -> 0 | F17: =SUMIFS(Database!$G:$G,Database!$E:$E,Lookup!$C$3,Database!$C:$C,Lookup!F$5,Database!$F:$F,Lookup!$C17,Database!$D:$D,Lookup!$B$3) -> 0 | G17: =SUMIFS(Database!$G:$G,Database!$E:$E,Lookup!$C$3,Database!$C:$C,Lookup!G$5,Database!$F:$F,Lookup!$C17,Database!$D:$D,Lookup!$B$3) -> 0 | H17: =SUMIFS(Database!$G:$G,Database!$E:$E,Lookup!$C$3,Database!$C:$C,Lookup!H$5,Database!$F:$F,Lookup!$C17,Database!$D:$D,Lookup!$B$3) -> 0 | I17: =SUMIFS(Database!$G:$G,Database!$E:$E,Lookup!$C$3,Database!$C:$C,Lookup!I$5,Database!$F:$F,Lookup!$C17,Database!$D:$D,Lookup!$B$3) -> 0 | J17: =SUMIFS(Database!$G:$G,Database!$E:$E,Lookup!$C$3,Database!$C:$C,Lookup!J$5,Database!$F:$F,Lookup!$C17,Database!$D:$D,Lookup!$B$3) -> 0 | K17: =SUMIFS(Database!$G:$G,Database!$E:$E,Lookup!$C$3,Database!$C:$C,Lookup!K$5,Database!$F:$F,Lookup!$C17,Database!$D:$D,Lookup!$B$3) -> 0 | L17: =SUMIFS(Database!$G:$G,Database!$E:$E,Lookup!$C$3,Database!$C:$C,Lookup!L$5,Database!$F:$F,Lookup!$C17,Database!$D:$D,Lookup!$B$3) -> 0 | ... CV17: =SUMIFS(Database!$G:$G,Database!$E:$E,Lookup!$C$3,Database!$C:$C,Lookup!CV$5,Database!$F:$F,Lookup!$C17,Database!$D:$D,Lookup!$B$3) -> 0
... C27: Total | E27: =SUMIFS(Database!$G:$G,Database!$E:$E,Lookup!$C$3,Database!$C:$C,Lookup!E$5,Database!$F:$F,Lookup!$C27,Database!$D:$D,Lookup!$B$3) -> 0 | F27: =SUMIFS(Database!$G:$G,Database!$E:$E,Lookup!$C$3,Database!$C:$C,Lookup!F$5,Database!$F:$F,Lookup!$C27,Database!$D:$D,Lookup!$B$3) -> 0 | G27: =SUMIFS(Database!$G:$G,Database!$E:$E,Lookup!$C$3,Database!$C:$C,Lookup!G$5,Database!$F:$F,Lookup!$C27,Database!$D:$D,Lookup!$B$3) -> 0 | H27: =SUMIFS(Database!$G:$G,Database!$E:$E,Lookup!$C$3,Database!$C:$C,Lookup!H$5,Database!$F:$F,Lookup!$C27,Database!$D:$D,Lookup!$B$3) -> 0 | I27: =SUMIFS(Database!$G:$G,Database!$E:$E,Lookup!$C$3,Database!$C:$C,Lookup!I$5,Database!$F:$F,Lookup!$C27,Database!$D:$D,Lookup!$B$3) -> 0 | J27: =SUMIFS(Database!$G:$G,Database!$E:$E,Lookup!$C$3,Database!$C:$C,Lookup!J$5,Database!$F:$F,Lookup!$C27,Database!$D:$D,Lookup!$B$3) -> 0 | K27: =SUMIFS(Database!$G:$G,Database!$E:$E,Lookup!$C$3,Database!$C:$C,Lookup!K$5,Database!$F:$F,Lookup!$C27,Database!$D:$D,Lookup!$B$3) -> 0 | L27: =SUMIFS(Database!$G:$G,Database!$E:$E,Lookup!$C$3,Database!$C:$C,Lookup!L$5,Database!$F:$F,Lookup!$C27,Database!$D:$D,Lookup!$B$3) -> 0 | ... CV27: =SUMIFS(Database!$G:$G,Database!$E:$E,Lookup!$C$3,Database!$C:$C,Lookup!CV$5,Database!$F:$F,Lookup!$C27,Database!$D:$D,Lookup!$B$3) -> 0

Sheet Sample Import
A1: Import: | B1: Beef (barrels) | C1: Beer (hogsheads) | D1: Beer and cider (gallons) | E1: Beer and cider (tuns) | F1: Boots and shoes (dozens) | G1: Brandy (gallons) | H1: Bread (bags) | I1: Bread (barrels) | J1: Bread (kegs) | K1: Bread (lb) | L1: Bread (quintals) | M1: Butter (firkins) | N1: Butter and lard (firkins) | O1: Butter and lard (lb) | P1: Candles (boxes) | Q1: Candles (lb) | R1: Cedar posts | S1: Chairs (dozens) | T1: Corn (bushels and barrels) | U1: Corn (bushels) | V1: Corn (casks) | W1: Corn (bags) | X1: Corn and beans (casks) | Y1: Corn and beans (bushels) | Z1: Corn and pease (casks) | AA1: Corn and pease (bushels) | AB1: Corn, pease, and beans (casks) | AC1: Corn, pease, and beans (bags) | AD1: Corn, pease, and beans (bushels) | AE1: Corn, beans, oats, etc. (bushels) | AF1: Corn, pease, oats, etc. (bushels) | AG1: Corn, pease, oats, etc. (barrels) | AH1: Corn and meal (bushels) | AI1: Corn and meal (bags) | AJ1: Corn and meal (barrels) | AK1: Corn meal (barrels) | AL1: Corn meal and flour (barrels) | AM1: Corn meal and flour (hogsheads) | AN1: Fish, pickled (tierces) | AO1: Fish, pickled (barrels) | AP1: Fish, pickled (kegs) | AQ1: Fish, pickled (kits) | AR1: Fish, dry (hogsheads) | AS1: Fish, dry (casks) | AT1: Fish, dry (boxes) | AU1: Fish, dry (quintals) | AV1: Flour (barrels) | AW1: Gin (gallons) | AX1: Hams and Cheese (lb) | AY1: Handspikes | AZ1: Herrings (barrels) | BA1: Hoops | BB1: Hoops (bundles) | BC1: Lard (firkins) | BD1: Livestock: asses | BE1: Livestock: cattle | BF1: Livestock: horses | BG1: Livestock: mules | BH1: Logwood (tons) | BI1: Lumber (feet) | BJ1: Mahogany (boards) | BK1: Mahogany (feet) | BL1: Mahogany (logs) | BM1: Mahogany (planks) | BN1: Naval stores (barrels) | BO1: Oil (casks) | BP1: Onions (lb) | BQ1: Pease (bags) | BR1: Pease (barrels) | BS1: Pease (bushels) | BT1: Pease and beans (barrels) | BU1: Pease and beans (bags) | BV1: Pease and beans (bushels) | BW1: Pease and beans (casks) | BX1: Pilchards (barrels) | BY1: Pork (barrels) | BZ1: Porter, beer, and cider (tuns) | CA1: Porter, beer, and cider (gallons) | CB1: Potatoes (bushels) | CC1: Potatoes (casks) | CD1: Punchpacks | CE1: Rice (bags) | CF1: Rice (barrels) | CG1: Rice (casks and bags) | CH1: Rice (casks and barrels) | CI1: Rice (lb) | CJ1: Rice (tierces) | CK1: Salt (bushels) | CL1: Shingles | CM1: Soap (boxes) | CN1: Soap (lb) | CO1: Spars | CP1: Spirits (gallons) | CQ1: Staves | CR1: Staves (red oak) | CS1: Staves (white oak) | CT1: Staves and heading | CU1: Sugar, refined (lb) | CV1: Tar (barrels) | CW1: Tea (lb) | CX1: Tobacco (lb) | CY1: Tobacco (casks) | CZ1: Turpentine (gallons) | DA1: Wines (gallons) | DB1: Wines (tuns)
A2: Kingston: from/to GB
A3: Kingston: from/to Ireland
A4: Kingston: from/to GB & Ireland
A5: Kingston: from/to Europe
A6: Kingston: from/to Br Plantations
A7: Kingston: from/to US
A8: Kingston: from/to Foreign Plantations
A9: Kingston: Total | B9: =SUM(B1:B8) -> 0 | C9: =SUM(C1:C8) -> 0 | D9: =SUM(D1:D8) -> 0 | E9: =SUM(E1:E8) -> 0 | F9: =SUM(F1:F8) -> 0 | G9: =SUM(G1:G8) -> 0 | H9: =SUM(H1:H8) -> 0 | I9: =SUM(I1:I8) -> 0 | ... DJ9: =SUM(DJ1:DJ8) -> 0
A10: Outports: from/to GB
A11: Outports: from/to Ireland
A12: Outports: from/to GB & Ireland
A13: Outports: from/to Europe
A14: Outports: from/to Br Plantations
A15: Outports: from/to US
A16: Outports: from/to Foreign Plantations
A17: Outports: Total | B17: =SUM(B10:B16) -> 0 | C17: =SUM(C10:C16) -> 0 | D17: =SUM(D10:D16) -> 0 | E17: =SUM(E10:E16) -> 0 | F17: =SUM(F10:F16) -> 0 | G17: =SUM(G10:G16) -> 0 | H17: =SUM(H10:H16) -> 0 | I17: =SUM(I10:I16) -> 0 | ... DJ17: =SUM(DJ10:DJ16) -> 0
A18: Total | B18: =SUM(B9,B17) -> 0 | C18: =SUM(C9,C17) -> 0 | D18: =SUM(D9,D17) -> 0 | E18: =SUM(E9,E17) -> 0 | F18: =SUM(F9,F17) -> 0 | G18: =SUM(G9,G17) -> 0 | H18: =SUM(H9,H17) -> 0 | I18: =SUM(I9,I17) -> 0 | ... DJ18: =SUM(DJ9,DJ17) -> 0

Sheet Sample Export
A1: Export: [YEARS] | B1: Arrow root (barrels) | C1: Arrow root (casks) | D1: Arrow root (kegs) | E1: Brandy (casks) | F1: Bread (barrels) | G1: Butter (firkins) | H1: Cabinet wood (pieces) | I1: Castor oil (casks) | J1: Cedar (logs) | K1: Coals (casks) | L1: Coffee (bags) | M1: Coffee (barrels) | N1: Coffee (casks) | O1: Coffee (lb) | P1: Coffee (tierces) | Q1: Cordage (coils) | R1: Cotton (bales) | S1: Cotton (bags) | T1: Ebony (tons) | U1: Fish, pickled (barrels) | V1: Flour (barrels) | W1: Fustic (tons) | X1: Ginger (bags) | Y1: Ginger (barrels) | Z1: Ginger (casks) | AA1: Hides | AB1: Lancewood spars | AC1: Lignum vitae (tons) | AD1: Lime juice (casks) | AE1: Lime juice (puncheons) | AF1: Livestock: cattle | AG1: Logwood (tons) | AH1: Lumber (feet) | AI1: Mahogany (logs) | AJ1: Mahogany and cedar (logs) | AK1: Molasses (casks) | AL1: Nicaragua wood (tons) | AM1: Pimento (bags) | AN1: Pimento (barrels) | AO1: Pimento (casks) | AP1: Pimento (lb) | AQ1: Provisions (barrels) | AR1: Rice (tierces) | AS1: Rum (barrels) | AT1: Rum (casks) | AU1: Rum (hogsheads) | AV1: Rum (kegs) | AW1: Rum (puncheons) | AX1: Sail canvas (pieces) | AY1: Salt (barrels) | AZ1: Shingles | BA1: Slaves | BB1: Sugar (barrels) | BC1: Sugar (hogsheads) | BD1: Sugar (tierces) | BE1: Sweet meats (packages) | BF1: Turmeric (casks) | BG1: Turmeric (bags) | BH1: Wine (hogsheads) | BI1: Wine (pipes) | BJ1: Wine (quarter casks)
A2: Kingston: from/to GB
A3: Kingston: from/to Ireland
A4: Kingston: from/to GB & Ireland
A5: Kingston: from/to Europe
A6: Kingston: from/to Br Plantations
A7: Kingston: from/to US
A8: Kingston: from/to Foreign Plantations
A9: Kingston: Total | B9: =SUM(B1:B8) -> 0 | C9: =SUM(C1:C8) -> 0 | D9: =SUM(D1:D8) -> 0 | E9: =SUM(E1:E8) -> 0 | F9: =SUM(F1:F8) -> 0 | G9: =SUM(G1:G8) -> 0 | H9: =SUM(H1:H8) -> 0 | I9: =SUM(I1:I8) -> 0 | ... BR9: =SUM(BR1:BR8) -> 0
A10: Outports: from/to GB
A11: Outports: from/to Ireland
A12: Outports: from/to GB & Ireland
A13: Outports: from/to Europe
A14: Outports: from/to Br Plantations
A15: Outports: from/to US
A16: Outports: from/to Foreign Plantations
A17: Outports: Total | B17: =SUM(B10:B16) -> 0 | C17: =SUM(C10:C16) -> 0 | D17: =SUM(D10:D16) -> 0 | E17: =SUM(E10:E16) -> 0 | F17: =SUM(F10:F16) -> 0 | G17: =SUM(G10:G16) -> 0 | H17: =SUM(H10:H16) -> 0 | I17: =SUM(I10:I16) -> 0 | ... BR17: =SUM(BR10:BR16) -> 0
A18: Total | B18: =SUM(B9,B17) -> 0 | C18: =SUM(C9,C17) -> 0 | D18: =SUM(D9,D17) -> 0 | E18: =SUM(E9,E17) -> 0 | F18: =SUM(F9,F17) -> 0 | G18: =SUM(G9,G17) -> 0 | H18: =SUM(H9,H17) -> 0 | I18: =SUM(I9,I17) -> 0 | ... BR18: =SUM(BR9,BR17) -> 0

Sheet Imports (1815-45)
A1: Parliamentary Papers 1846 Imports, Year Ending: | B1: Flour (barrels) | C1: Bread (lb) | D1: Corn meal (barrels) | E1: Rice (lb) | F1: Corn (bushels) | G1: Pease, beans, and oats (bushels) | H1: Beef (barrels) | I1: Pork (barrels) | J1: Pickled fish (barrels) | K1: Fish (quintals) | L1: Butter and lard (firkins) | M1: Soap (boxes) | N1: Candles (boxes) | O1: Brandy (gallons) | P1: Gin (gallons) | Q1: Staves (red oak) | R1: Staves (white oak) | S1: Lumber (feet) | T1: Shingles | U1: Hoops | V1: Livestock: Horses | W1: Livestock: Mules | X1: Livestock: Asses | Y1: Livestock: Cattle | Z1: Malt (tuns) | AA1: Malt (gallons) | AB1: Wines (tuns) | AC1: Wines (gallons)
A2: 1816 | B2: 60947 | C2: 1275925 | D2: 16643 | E2: 2670580 | F2: 36135 | G2: 3491 | H2: 0 | I2: 0 | J2: 60670 | K2: 48348 | L2: 0 | M2: 0 | N2: 0 | O2: 0 | P2: 0 | Q2: 6250629 | R2: 3125314 | S2: 9192775 | T2: 10071830 | U2: 0 | V2: 2035 | W2: 6211 | X2: 501 | Y2: 5675 | AA2: 0
A3: 1817 | B3: 61802 | C3: 798908 | D3: 8926 | E3: 2361080 | F3: 25524 | G3: 903 | H3: 0 | I3: 0 | J3: 67153 | K3: 51668 | L3: 0 | M3: 0 | N3: 0 | O3: 0 | P3: 0 | Q3: 3575210 | R3: 1787619 | S3: 12118211 | T3: 15018392 | U3: 0 | V3: 1181 | W3: 2871 | X3: 263 | Y3: 3895
A4: 1818 | B4: 50856 | C4: 875957 | D4: 10258 | E4: 1619050 | F4: 32095 | G4: 1462 | H4: 0 | I4: 0 | J4: 73413 | K4: 60881 | L4: 0 | M4: 0 | N4: 0 | O4: 0 | P4: 0 | Q4: 2918088 | R4: 1171011 | S4: 7523611 | T4: 10329918 | U4: 0 | V4: 1213 | W4: 3843 | X4: 802 | Y4: 2696
A5: 1819 | B5: 62932 | C5: 899368 | D5: 12680 | E5: 2609130 | F5: 26760 | G5: 5722 | H5: 0 | I5: 0 | J5: 84510 | K5: 63586 | L5: 0 | M5: 0 | N5: 0 | O5: 0 | P5: 0 | Q5: 3088998 | R5: 1940199 | S5: 7318635 | T5: 8895711 | U5: 0 | V5: 1672 | W5: 32802 | X5: 1025 | Y5: 1525
A6: 1820 | B6: 69420 | C6: 888616 | D6: 8717 | E6: 2728680 | F6: 31314 | G6: 8867 | H6: 0 | I6: 0 | J6: 84376 | K6: 58987 | L6: 0 | M6: 0 | N6: 0 | O6: 0 | P6: 0 | Q6: 5699853 | R6: 2519855 | S6: 9112506 | T6: 11360313 | U6: 0 | V6: 1563 | W6: 2420 | X6: 777 | Y6: 1303
A7: 1821 | B7: 74378 | C7: 450529 | D7: 9010 | E7: 1524720 | F7: 31987 | G7: 2176 | H7: 0 | I7: 0 | J7: 75479 | K7: 58136 | L7: 0 | M7: 0 | N7: 0 | O7: 0 | P7: 0 | Q7: 4456031 | R7: 2228608 | S7: 8541753 | T7: 9920739 | U7: 0 | V7: 1629 | W7: 2143 | X7: 691 | Y7: 1963
A8: 1822 | B8: 70035 | C8: 805167 | D8: 14063 | E8: 3928340 | F8: 28173 | G8: 2688 | H8: 0 | I8: 0 | J8: 90392 | K8: 52818 | L8: 0 | M8: 0 | N8: 0 | O8: 0 | P8: 0 | Q8: 2288132 | R8: 1111066 | S8: 6565138 | T8: 7671315 | U8: 0 | V8: 1679 | W8: 736 | X8: 276 | Y8: 891
A9: 1823 | B9: 55182 | C9: 920786 | D9: 8710 | E9: 1297130 | F9: 51582 | G9: 7969 | H9: 0 | I9: 0 | J9: 79271 | K9: 55879 | L9: 0 | M9: 0 | N9: 0 | O9: 0 | P9: 0 | Q9: 2115651 | R9: 1072826 | S9: 7011249 | T9: 8363115 | U9: 0 | V9: 413 | W9: 179 | X9: 177 | Y9: 172
A10: 1824 | B10: 70063 | C10: 916664 | D10: 16994 | E10: 3126110 | F10: 54218 | G10: 9557 | H10: 0 | I10: 0 | J10: 82279 | K10: 77057 | L10: 0 | M10: 0 | N10: 0 | O10: 0 | P10: 0 | Q10: 3950936 | R10: 1975471 | S10: 2711659 | T10: 7977680 | U10: 0 | V10: 404 | W10: 197 | X10: 361 | Y10: 37
A11: 1825 | B11: 65940 | C11: 827940 | D11: 20760 | E11: 2237830 | F11: 69832 | G11: 7129 | H11: 0 | I11: 0 | J11: 77753 | K11: 63138 | L11: 0 | M11: 0 | N11: 0 | O11: 0 | P11: 0 | Q11: 2986087 | R11: 1181041 | S11: 5488075 | T11: 5623219 | U11: 0 | V11: 420 | W11: 204 | X11: 86 | Y11: 20
A12: 1826 | B12: 60405 | C12: 903182 | D12: 10095 | E12: 1683813 | F12: 12517 | G12: 0 | H12: 0 | I12: 0 | J12: 83265 | K12: 65383 | L12: 0 | M12: 0 | N12: 0 | O12: 0 | P12: 0 | Q12: 3103627 | R12: 1701806 | S12: 4660205 | T12: 9118659 | U12: 111980 | V12: 635 | W12: 258 | X12: 61 | Y12: 116
A13: 1827 | B13: 63229 | C13: 830193 | D13: 8985 | E13: 1221034 | F13: 39531 | G13: 0 | H13: 0 | I13: 0 | J13: 87213 | K13: 66766 | L13: 0 | M13: 0 | N13: 0 | O13: 0 | P13: 0 | Q13: 3629602 | R13: 1807100 | S13: 8630145 | T13: 6578604 | U13: 115010 | V13: 386 | W13: 315 | X13: 48 | Y13: 54
A14: 1828 | B14: 58166.5 | C14: 660187 | D14: 14874 | E14: 1809356 | F14: 41276 | G14: 0 | H14: 0 | I14: 0 | J14: 91473 | K14: 384874 | L14: 0 | M14: 0 | N14: 0 | O14: 0 | P14: 0 | Q14: 3963372 | R14: 1981686 | S14: 1177207 | T14: 552131 | U14: 101091 | V14: 787 | W14: 443 | X14: 8 | Y14: 107
... A16: 1834 | B16: 53998.5 | C16: 969712 | D16: 13132 | E16: 2342980 | F16: 17231.5 | G16: 0 | H16: 3904.5 | I16: 15665 | J16: 69734 | K16: 68352 | L16: 13717.5 | M16: 18866 | N16: 17178.5 | O16: 26946 | P16: 2091 | Q16: 2908532 | R16: 1212171 | S16: 5989691 | T16: 8690801 | U16: 906739 | V16: 997 | W16: 277 | X16: 470 | Y16: 255
A17: 1835 | B17: 80547.5 | D17: 7934 | E17: 1349816 | F17: 25923 | G17: 0 | H17: 2672.25 | I17: 8212 | J17: 70413 | K17: 65628 | L17: 12354 | M17: 23213.5 | N17: 9134 | O17: 41945 | P17: 5950.5 | Q17: 2367111 | R17: 1370521 | S17: 6248776 | T17: 5469194 | U17: 685423 | V17: 663 | W17: 57 | X17: 328 | Y17: 46
A18: 1836 | B18: 56351 | C18: 427669 | D18: 6884 | E18: 1628264 | F18: 41016 | G18: 0 | H18: 5100.5 | I18: 3380.5 | J18: 46386 | K18: 50365 | L18: 23338.5 | M18: 23376 | N18: 18130 | O18: 52421 | P18: 20915 | Q18: 2688233 | R18: 1058453 | S18: 6701217 | T18: 6861241 | U18: 351814 | V18: 1733 | W18: 206 | X18: 124 | Y18: 144
A19: 1837 | B19: 76573 | C19: 821066 | D19: 11015 | E19: 2029582 | F19: 50736 | G19: 0 | H19: 2690 | I19: 8646 | J19: 43102 | K19: 86719 | L19: 11053 | M19: 20591 | N19: 15441 | O19: 32421 | P19: 46211 | Q19: 2405020 | R19: 1606239 | S19: 9239118 | T19: 11817410 | U19: 670300 | V19: 3004 | W19: 1320 | X19: 533 | Y19: 886
A20: 1838 | B20: 69111 | C20: 780611 | D20: 11569 | E20: 2918132 | F20: 33011 | G20: 0 | H20: 2671 | I20: 9299 | J20: 42209 | K20: 89835 | L20: 17997 | M20: 11350 | N20: 8812 | O20: 28654 | P20: 7133 | Q20: 2017480 | R20: 1283571 | S20: 16006072 | T20: 9407611 | U20: 825631 | V20: 3190 | W20: 988 | X20: 399 | Y20: 2667
A21: 1839 | B21: 64361 | C21: 281853 | D21: 8425 | E21: 1735983 | F21: 49464 | G21: 0 | H21: 6548 | I21: 14653 | J21: 24517 | K21: 192985 | L21: 21836 | M21: 33557 | N21: 22872 | O21: 37129 | P21: 8740 | Q21: 1587500 | R21: 1107055 | S21: 8374771 | T21: 7910965 | U21: 860287 | V21: 4910 | W21: 629 | X21: 321 | Y21: 1803
A22: 1840 | B22: 131581 | C22: 4620158 | D22: 101747 | E22: 8074331 | F22: 75433 | G22: 0 | H22: 3134 | I22: 21182 | J22: 28365 | K22: 130077 | L22: 21150 | M22: 38864 | N22: 13634 | O22: 64003 | P22: 5981 | Q22: 5056565 | R22: 502389 | S22: 6356325 | T22: 8331318 | U22: 1015381 | V22: 2184 | W22: 168 | X22: 255 | Y22: 151
A23: 1841 | B23: 127820 | C23: 1116917 | D23: 25995 | E23: 3280167 | F23: 83718 | G23: 0 | H23: 3455 | I23: 21185 | J23: 32370 | K23: 141120 | L23: 21046 | M23: 47101 | N23: 13292 | O23: 36658 | P23: 19963 | Q23: 1064823 | R23: 509192 | S23: 10108327 | T23: 14815163 | U23: 928053 | V23: 1739 | W23: 37 | X23: 375 | Y23: 489 | Z23: 1301 | AA23: 246 | AB23: 294 | AC23: 214
A24: 1842 | B24: 97486 | C24: 1076343 | D24: 11272 | E24: 3822147 | F24: 78895 | G24: 0 | H24: 4099 | I24: 35313 | J24: 50663 | K24: 150015 | L24: 29086 | M24: 28650 | N24: 17273 | O24: 53603 | P24: 22312 | Q24: 1810100 | R24: 887983 | S24: 11014909 | T24: 14920553 | U24: 839123 | V24: 1630 | W24: 71 | X24: 480 | Y24: 689 | Z24: 0 | AA24: 0 | AB24: 559 | AC24: 141
A25: 1843 | B25: 106369 | C25: 1573779 | D25: 13268 | E25: 1824447 | F25: 68637 | G25: 0 | H25: 2198 | I25: 25308 | J25: 40559 | K25: 140652 | L25: 34588 | M25: 35870 | N25: 30967 | O25: 35171 | P25: 14381 | Q25: 2149992 | R25: 1313327 | S25: 7158512 | T25: 9828010 | U25: 1074302 | V25: 1849 | W25: 69 | X25: 411 | Y25: 1639 | Z25: 0 | AA25: 0 | AB25: 220 | AC25: 103
A26: 1844 | B26: 139610 | C26: 1966359 | D26: 32337 | E26: 2181941 | F26: 79863 | G26: 0 | H26: 3901 | I26: 29803 | J26: 37061 | K26: 142598 | L26: 26472 | M26: 30934 | N26: 16028 | O26: 23284 | P26: 5216 | Q26: 567374 | R26: 159888 | S26: 7526293 | T26: 6743092 | U26: 1140555 | V26: 1010 | W26: 85 | X26: 286 | Y26: 1583 | Z26: 997 | AA26: 173 | AB26: 308 | AC26: 135
A27: 1845 | B27: 117027 | C27: 1282923 | D27: 19070 | E27: 3655393 | F27: 75946 | G27: 0 | H27: 2622 | I27: 15213 | J27: 35346 | K27: 177658 | L27: 29776 | M27: 52277 | N27: 21045 | O27: 52931 | P27: 4526 | Q27: 965901 | R27: 602630 | S27: 9008221 | T27: 7668018 | U27: 951435 | V27: 456 | W27: 90 | X27: 266 | Y27: 1937 | Z27: 0 | AA27: 0 | AB27: 0 | AC27: 0

Sheet table E (1771-1845)
A1: Year End | B1: Commodity | C1: Amount
A2: 1772 | B2: Sugar (hogsheads) | C2: 76109
A3: 1773 | B3: Sugar (hogsheads) | C3: 80738
A4: 1774 | B4: Sugar (hogsheads) | C4: 75781
A5: 1775 | B5: Sugar (hogsheads) | C5: 81401
A6: 1776 | B6: Sugar (hogsheads) | C6: 89340
A7: 1777 | B7: Sugar (hogsheads) | C7: 91021
A8: 1778 | B8: Sugar (hogsheads) | C8: 91131
A9: 1779 | B9: Sugar (hogsheads) | C9: 91020
A10: 1780 | B10: Sugar (hogsheads) | C10: 82136

Sheet Exports (1771-1845)
A1: Parliamentary Papers 1846 Exports, Year Ending: | B1: Sugar (hogsheads) | C1: Rum (puncheons) | D1: Molasses (casks) | E1: Ginger (lb) | F1: Pimento (lb) | G1: Coffee (lb) | H1: Remarks
A2: 1772 | B2: 76109
A3: 1773 | B3: 80738
A4: 1774 | B4: 75781
A5: 1775 | B5: 81401
A6: 1776 | B6: 89340
A7: 1777 | B7: 91021
A8: 1778 | B8: 91131
A9: 1779 | B9: 91020
A10: 1780 | B10: 82136
A11: 1781
A12: 1782
A13: 1783
A14: 1784
A15: 1785
A16: 1786
A17: 1787
A18: 1788
A19: 1789
A20: 1790
A21: 1791
A22: 1792
... A71: 1845

Sheet 1838-9 (E)
A1: Export: 1838-39 | B1: Sugar (hogsheads) | C1: Sugar (tierces) | D1: Sugar (barrels) | E1: Rum (puncheons) | F1: Rum (hogsheads) | G1: Rum (casks) | H1: Coffee (tierces) | I1: Coffee (casks) | J1: Coffee (barrels) | K1: Coffee (bags) | L1: Molasses (casks) | M1: Ginger (barrels) | N1: Ginger (bags) | O1: Pimento (barrels) | P1: Pimento (bags) | Q1: Cotton (bales) | R1: Hides | S1: Logwood (tons) | T1: Fustic (tons) | U1: Nicaragua wood (tons) | V1: Lignum vitae (tons) | W1: Ebony (tons) | X1: Mahogany (logs) | Y1: Cedar (logs) | Z1: Lancewood spars
A2: Kingston: from/to GB
A3: Kingston: from/to Ireland
A4: Kingston: from/to GB & Ireland
A5: Kingston: from/to Europe
A6: Kingston: from/to Br Plantations
A7: Kingston: from/to US
A8: Kingston: from/to Spanish Main
A9: Kingston: from/to Foreign Plantations
A10: Kingston: Total | B10: 4064 | C10: 673 | D10: 626 | E10: 1392 | F10: 220 | G10: 26 | H10: 6165 | I10: 534 | J10: 1844 | K10: 185 | L10: 0 | M10: 166 | N10: 0 | O10: 42 | P10: 3155 | Q10: 1498 | R10: 2094 | S10: 1345 | T10: 350 | U10: 67 | V10: 179 | W10: 50 | X10: 64 | Y10: 36 | Z10: =162 -> 162
A11: Outports: from/to GB
A12: Outports: from/to Ireland
A13: Outports: from/to GB & Ireland
A14: Outports: from/to Br Plantations
A15: Outports: from/to US
A16: Outports: from/to Spanish Main
A17: Outports: from/to Foreign Plantations
A18: Outports: Total | B18: =4153+647+2732+2263+2018+3015+7433+4374+2987+1636+6897 -> 38155 | C18: =745+100+379+533+451+471+1099+358+386+135+632 -> 5289 | D18: =290+11+17+13+140+39+190+47+74+8+134 -> 963 | E18: =1420+260+1119+921+775+1905+3098+1016+1117+568+1888 -> 14087 | F18: =50+5+63+30+34+102+102+62+10+22 -> 480 | G18: =5+3+1+169+8 -> 186 | H18: =142+12+54+122+354+183+34+2905+539 -> 4345 | I18: =22+24+12+65+20+6+316+25 -> 490 | J18: =53+3+21+4+1+5+240+17+28 -> 372 | K18: =1+1 -> 2 | L18: =18+1 -> 19 | M18: =6+18+7+87+1651+1171+628+1419 -> 4987 | N18: =3+305+31+2 -> 341 | O18: =3+25+4+14+6+40+90 -> 182 | P18: =133+201+868+1030+7572+6129+111+1738+1922 -> 19704 | Q18: =2+3 -> 5 | R18: =78+334+9383+835+845+69+749+1157+159 -> 13609 | S18: =291+9+185+255+225+269+979+336+1606+3790+725 -> 8670 | T18: =14+11+29+55+115+116+371+23+55+88+34 -> 911 | U18: 46 | V18: =1+6+29+2+47 -> 85 | W18: =25+1+10+83+6 -> 125 | X18: =49+502+2302+8+20+5 -> 2886 | Y18: =784+11 -> 795 | Z18: =165+725+360+2701+5370+910+590+1006 -> 11827
A19: Total | B19: =SUM(B10,B18) -> 42219 | C19: =SUM(C10,C18) -> 5962 | D19: =SUM(D10,D18) -> 1589 | E19: =SUM(E10,E18) -> 15479 | F19: =SUM(F10,F18) -> 700 | G19: =SUM(G10,G18) -> 212 | H19: =SUM(H10,H18) -> 10510 | I19: =SUM(I10,I18) -> 1024 | ... AD19: =SUM(AD10,AD18) -> 0

Sheet 1838-9 (I)
A1: Import: 1838-39 | B1: Brandy (gallons) | C1: Gin (gallons) | D1: Flour (barrels) | E1: Corn meal (barrels) | F1: Bread (barrels) | G1: Bread (bags) | H1: Bread (lb) | I1: Rice (casks and bags) | J1: Rice (lb) | K1: Corn (bushels and barrels) | L1: Fish, dry (casks) | M1: Fish, dry (boxes) | N1: Fish, pickled (tierces) | O1: Fish, pickled (barrels) | P1: Fish, pickled (kits) | Q1: Staves (red oak) | R1: Staves (white oak) | S1: Shingles | T1: Lumber (feet) | U1: Hoops | V1: Beef (barrels) | W1: Pork (barrels) | X1: Butter and lard (firkins) | Y1: Candles (boxes) | Z1: Soap (boxes) | AA1: Livestock: Horses | AB1: Livestock: Mules | AC1: Livestock: Asses | AD1: Livestock: Cattle
A2: Kingston: from/to GB
A3: Kingston: from/to Ireland
A4: Kingston: from/to GB & Ireland
A5: Kingston: from/to Europe
A6: Kingston: from/to Br Plantations
A7: Kingston: from/to US
A8: Kingston: from/to Spanish Main
A9: Kingston: from/to Foreign Plantations
A10: Kingston: Total | B10: 13197 | C10: 7515 | D10: 48000 | E10: 4996 | F10: 7464 | G10: 573 | H10: =10*112 -> 1120 | I10: 6647 | J10: 6064 | K10: 39797 | L10: 12322 | M10: 9720 | N10: 2414 | O10: 7804 | P10: 2972 | Q10: 491949 | R10: 429792 | S10: 3315450 | T10: 3617474 | U10: 356950 | V10: 5289 | W10: 10286 | X10: 12607 | Y10: 19023 | Z10: 27796 | AA10: 2554 | AB10: 399 | AC10: 317 | AD10: 1478
A11: Outports: from/to GB
A12: Outports: from/to Ireland
A13: Outports: from/to GB & Ireland
A14: Outports: from/to Br Plantations
A15: Outports: from/to US
A16: Outports: from/to Spanish Main
A17: Outports: from/to Foreign Plantations
A18: Outports: Total | B18: =86+204+106+677+1673+2155+49+116+700+166 -> 5932 | C18: =4+99+146+298+499+59+120 -> 1225 | D18: =117+291+46+111+162+5590+8890+128+657+519+14 -> 16525 | E18: =5+1651+1252+96+350+65+10 -> 3429 | F18: =10+30+9+468+1457+43+206+137 -> 2360 | G18: =10+40+40+20 -> 110 | H18: =(21+30+20+5+144+1048+135+98)*112 -> 168112 | I18: =25+25+1063+514+95+223 -> 1945 | J18: =18147+1456+2734+13582+182488+135478+20212+42565+4057+20400 -> 441119 | K18: =1126+798+1448+816+4177+104+384+254+560 -> 9667 | L18: =127+416+169+306+196+3062+3210+40+368+81 -> 7975 | M18: =171+206+128+246+77+4623+3294+30+319+119 -> 9213 | N18: =88+14+218+3+182 -> 505 | O18: =708+846+1111+1388+211+3316+3945+679+704+1322+576 -> 14806 | P18: =9+101+99+78+10+222+272+2+49 -> 842 | Q18: =34250+39640+84060+84060+6500+218535+265220+100903+197319+64+65000 -> 1095551 | R18: =24000+11450+36600+43258+3750+133956+259719+37736+92768+26026+8000 -> 677263 | S18: =390850+173000+100000+320326+95000+1179925+1176040+372000+442900+218218+127256 -> 4595515 | T18: =340288+185000+327581+327581+62634+1339872+1196180+292021+529491+150149+6500 -> 4757297 | U18: =123200+600+852+21377+160+168750+127+19300+93925+72072+2974 -> 503337 | V18: =87+48+20+34+12+374+324+14+62+176+108 -> 1259 | W18: =104+50+151+82+110+704+2562+24+163+313+104 -> 4367 | X18: =144+43+83+91+20+389+1780+25+244+256+154 -> 3229 | Y18: =87+48+64+91+54+1397+1408+6+320+281+93 -> 3849 | Z18: =168+40+25+84+32+941+3564+32+312+406+177 -> 5781 | AA18: =189+112+590+1148+216+101 -> 2356 | AB18: =9+11+43+52+62+1+52 -> 230 | AC18: =3+1+3 -> 7 | AD18: =153+42+4+3+40+56 -> 298
A19: Total | B19: =SUM(B10,B18) -> 19129 | C19: =SUM(C10,C18) -> 8740 | D19: =SUM(D10,D18) -> 64525 | E19: =SUM(E10,E18) -> 8425 | F19: =SUM(F10,F18) -> 9824 | G19: =SUM(G10,G18) -> 683 | H19: =SUM(H10,H18) -> 169232 | I19: =SUM(I10,I18) -> 8592 | ... AD19: =SUM(AD10,AD18) -> 1776

Sheet 1837-8 (E)
A1: Export: 1837-38 | B1: Sugar (hogsheads) | C1: Sugar (tierces) | D1: Sugar (barrels) | E1: Rum (puncheons) | F1: Rum (hogsheads) | G1: Rum (casks) | H1: Coffee (tierces) | I1: Coffee (barrels) | J1: Coffee (casks) | K1: Coffee (bags) | L1: Molasses (casks) | M1: Ginger (barrels) | N1: Ginger (bags) | O1: Pimento (barrels) | P1: Pimento (bags) | Q1: Cotton (bales) | R1: Hides | S1: Logwood (tons) | T1: Fustic (tons) | U1: Nicaragua wood (tons) | V1: Lignum vitae (tons) | W1: Ebony (tons) | X1: Mahogany (logs) | Y1: Cedar (logs) | Z1: Lancewood spars
A2: Kingston: from/to GB
A3: Kingston: from/to Ireland
A4: Kingston: from/to GB & Ireland
A5: Kingston: from/to Europe
A6: Kingston: from/to Br Plantations
A7: Kingston: from/to US
A8: Kingston: from/to Spanish Main
A9: Kingston: from/to Foreign Plantations
A10: Kingston: Total | B10: 4774 | C10: 673 | D10: 1374.5 | E10: 2268 | F10: 201 | G10: =20.25 -> 20.25 | H10: 6220 | I10: 2853.5 | J10: 554.25 | K10: 289 | L10: 0 | M10: =123 -> 123 | N10: 0 | O10: 32 | P10: 4320 | Q10: 43 | R10: 7554 | S10: 803 | T10: 75 | U10: 160 | V10: 66 | W10: 4 | X10: 297 | Y10: 0 | Z10: 380
A11: Outports: from/to GB
A12: Outports: from/to Ireland
A13: Outports: from/to GB & Ireland
A14: Outports: from/to Br Plantations
A15: Outports: from/to US
A16: Outports: from/to Spanish Main
A17: Outports: from/to Foreign Plantations
A18: Outports: Total | B18: =5350+1760+3110+4860+2848+7198+8921+5864+1940+2340+53 -> 44244 | C18: =1318+301+895+1131+579+931+1188+498+303+388+770 -> 8302 | D18: =321+45+11+52+407+166+551+17+60+22+171 -> 1823 | E18: =1751+514+1491+1986+1046+2602+5685+1462+1002+682+3297 -> 21518 | F18: =55+29+89+32+150+248+4+12 -> 619 | G18: =32+119+5.5+63+417+97+17+22+10 -> 782.5 | H18: =930+33+174+170+1363+34+4+6039+785 -> 9532 | I18: =30+4+132+13+125.5+108+43+607+73 -> 1135.5 | J18: =11+3+245+13+9+3+2 -> 286 | K18: =12+3+41+5 -> 61 | L18: =4+15+6+2+89 -> 116 | M18: =24+84+459+2177+443+1881 -> 5068 | N18: =1+4+1 -> 6 | O18: =14+27+10+2+19+39+3+2*1.5 -> 117 | P18: =237+162+432+371+3277+615+3644+146+474+3796+93 -> 13247 | Q18: 5 | R18: =294+261+303+2340+387+493+302+215 -> 4595 | S18: =259+35+151.5+167+133.5+240+845+310+771+1915+774 -> 5601 | T18: =4+16+22+253+41+40+12.5 -> 388.5 | U18: =29+40+18+33.5 -> 120.5 | V18: =14+48+8+4 -> 74 | W18: =1.5+4+4+10.5 -> 20 | X18: =8+804 -> 812 | Y18: 210 | Z18: =150+840+981+2794+5093+1830+72+461 -> 12221
A19: Total | B19: =SUM(B10,B18) -> 49018 | C19: =SUM(C10,C18) -> 8975 | D19: =SUM(D10,D18) -> 3197.5 | E19: =SUM(E10,E18) -> 23786 | F19: =SUM(F10,F18) -> 820 | G19: =SUM(G10,G18) -> 802.75 | H19: =SUM(H10,H18) -> 15752 | I19: =SUM(I10,I18) -> 3989 | ... AD19: =SUM(AD10,AD18) -> 0

Sheet 1837-8 (I)
A1: Import: 1837-38 | B1: Brandy (gallons) | C1: Gin (gallons) | D1: Flour (barrels) | E1: Corn meal (barrels) | F1: Bread (barrels) | G1: Bread (bags) | H1: Bread (lb) | I1: Rice (casks and bags) | J1: Rice (lb) | K1: Corn (bushels and barrels) | L1: Fish, dry (casks) | M1: Fish, dry (boxes) | N1: Fish, pickled (tierces) | O1: Fish, pickled (barrels) | P1: Fish, pickled (kits) | Q1: Staves (red oak) | R1: Staves (white oak) | S1: Shingles | T1: Lumber (feet) | U1: Hoops | V1: Beef (barrels) | W1: Pork (barrels) | X1: Butter and lard (firkins) | Y1: Candles (boxes) | Z1: Soap (boxes) | AA1: Livestock: Horses | AB1: Livestock: Mules | AC1: Livestock: Asses | AD1: Livestock: Cattle
A2: Kingston: from/to GB
A3: Kingston: from/to Ireland
A4: Kingston: from/to GB & Ireland
A5: Kingston: from/to Europe
A6: Kingston: from/to Br Plantations
A7: Kingston: from/to US
A8: Kingston: from/to Spanish Main
A9: Kingston: from/to Foreign Plantations
A10: Kingston: Total | B10: 24557 | C10: 6654 | D10: 60468 | E10: 8303 | F10: 5661 | G10: 355 | H10: 0 | I10: 17105 | J10: 12350 | K10: 24228 | L10: 6626 | M10: 7159 | N10: 776 | O10: 18042 | P10: 646 | Q10: 439171 | R10: 189455 | S10: 3995958 | T10: 3472378 | U10: 742300 | V10: 1977 | W10: 7384 | X10: 17113 | Y10: 7975 | Z10: 10341 | AA10: 1019 | AB10: =431 -> 431 | AC10: 334 | AD10: 1899
A11: Outports: from/to GB
A12: Outports: from/to Ireland
A13: Outports: from/to GB & Ireland
A14: Outports: from/to Br Plantations
A15: Outports: from/to US
A16: Outports: from/to Spanish Main
A17: Outports: from/to Foreign Plantations
A18: Outports: Total | B18: =271+110+116+1518+1615+39+18+32+378 -> 4097 | C18: =36+56+15+8+119+39+40+54+112 -> 479 | D18: =52+35+8+112+98+2158+5571+73+467+61+8 -> 8643 | E18: =30+20+373+2667+20+122+34 -> 3266 | F18: =30+40+1090+20+42 -> 1222 | G18: 38 | H18: =(14+3+188+866+4)*112 -> 120400 | I18: =30+14+27+16+494+1 -> 582 | J18: =15397+2796+5484+17112+135624+48585+27734 -> 252732 | K18: =374+380+270+390+4267+900+999+1149+84 -> 8813 | L18: =252+419+170+44+428+1329+105+257+3 -> 3007 | M18: =163+455+50+11+483+898+46+122 -> 2228 | N18: 70 | O18: =602+2269+1585+3668+596+1785+7997+2105+1354+1554 -> 23515 | P18: =60+99+55+207+109+35+73+20 -> 658 | Q18: =18360+67000+182237+173817+264135+795170+60000+17600 -> 1578319 | R18: =322260+28000+67060+95996+123604+373896+18000+65300 -> 1094116 | S18: =539000+303938+143000+1154265+2487370+257380+526700 -> 5411653 | T18: =365353+279000+8167544+72687+5390+471986+2223496+488815+327179+2000+130244 -> 12533694 | U18: =71950+1296+2048+851+700+2784+1801+713+1191 -> 83334 | V18: =95+75+30+14+398+27+7+48 -> 694 | W18: =87+59+27+14+12+1379+140+56+141 -> 1915 | X18: =85+85+55+2+30+350+64+30+183 -> 884 | Y18: =82+76+51+40+444+32+55+57 -> 837 | Z18: =90+51+74+636+59+40+59 -> 1009 | AA18: =20+21+12+248+27+198+1095+281+124+145 -> 2171 | AB18: =15+1+37+20+349+89+46 -> 557 | AC18: =12+2+8+36+7 -> 65 | AD18: =77+31+30+1+68+362+36+45+118 -> 768
A19: Total | B19: =SUM(B10,B18) -> 28654 | C19: =SUM(C10,C18) -> 7133 | D19: =SUM(D10,D18) -> 69111 | E19: =SUM(E10,E18) -> 11569 | F19: =SUM(F10,F18) -> 6883 | G19: =SUM(G10,G18) -> 393 | H19: =SUM(H10,H18) -> 120400 | I19: =SUM(I10,I18) -> 17687 | ... AD19: =SUM(AD10,AD18) -> 2667

Sheet 1836-7 (E)
A1: Export: 1836-7 | B1: Sugar (hogsheads) | C1: Sugar (tierces) | D1: Sugar (barrels) | E1: Rum (puncheons) | F1: Rum (hogsheads) | G1: Rum (casks) | H1: Coffee (tierces) | I1: Coffee (barrels) | J1: Coffee (casks) | K1: Coffee (bags) | L1: Molasses (casks) | M1: Ginger (barrels) | N1: Ginger (bags) | O1: Pimento (barrels) | P1: Pimento (bags) | Q1: Cotton (bales) | R1: Hides | S1: Logwood (tons) | T1: Fustic (tons) | U1: Nicaragua wood (tons) | V1: Lignum vitae (tons) | W1: Ebony (tons) | X1: Mahogany (logs) | Y1: Cedar (logs) | Z1: Lancewood spars
A2: Kingston: from/to GB
A3: Kingston: from/to Ireland
A4: Kingston: from/to GB & Ireland
A5: Kingston: from/to Europe
A6: Kingston: from/to Br Plantations
A7: Kingston: from/to US
A8: Kingston: from/to Spanish Main
A9: Kingston: from/to Foreign Plantations
A10: Kingston: Total | B10: 7632 | C10: 2143.5 | D10: 670 | E10: 2609 | F10: 275 | G10: 56.5 | H10: 5284 | I10: 1774.5 | J10: 110 | K10: 540.5 | L10: 0 | M10: 532.5 | N10: 1 | O10: 285 | P10: 6490 | Q10: 0 | R10: 11530 | S10: 1059.5 | T10: 79.5 | U10: 44 | V10: 64 | W10: 46 | X10: 330 | Y10: 863 | Z10: 1873
A11: Outports: from/to GB
A12: Outports: from/to Ireland
A13: Outports: from/to GB & Ireland
A14: Outports: from/to Br Plantations
A15: Outports: from/to US
A16: Outports: from/to Spanish Main
A17: Outports: from/to Foreign Plantations
A18: Outports: Total | B18: =4288+1361+2692+4559+3081+7513+9281+5286+2996+2688+4843 -> 48588 | C18: =1036+267+371+547+389+947+1368+566+362+355+407 -> 6615 | D18: =72+64+11+136+25+158+385+102.5+113+53+108 -> 1227.5 | E18: =1396+277+1134+1608+1135+2929+5075+1422+1228+707+224 -> 17135 | F18: =75+83+44+103+176+232+109+6+1572 -> 2400 | G18: =5+9+1+239+14+48+6+9 -> 331 | H18: =146+6+99+105+562+67+29+3673+2 -> 4689 | I18: =1+7+32+77+13+365+372 -> 867 | J18: =8+357+26+3+161+25+6 -> 586 | K18: =10+2+2+1+5+28 -> 48 | L18: =7+16+40+113 -> 176 | M18: =23+95+2+267+1981+4107+690+634+41 -> 7840 | N18: =3+90+6+1 -> 100 | O18: =1+7+7+18+6 -> 39 | P18: =141+1262+406+2618+15560+12973+4924+161+1212+2599+94 -> 41950 | Q18: =1+45+2 -> 48 | R18: =27+104+63+375+1066+1650+121+180+840+36 -> 4462 | S18: =161+2486+128+114+370+970+362+1213+577 -> 6381 | T18: =12.5+10+11+186+10+70+68+4+3+50+8 -> 432.5 | U18: =40+48+17+25 -> 130 | V18: =3.5+11+27 -> 41.5 | W18: =30+10+2.5+4.5+16+6 -> 69 | X18: =60+1+1645+118+401+30 -> 2255 | Y18: =2951+53 -> 3004 | Z18: =121+1875+2060+1183+7820+1896+1142+602 -> 16699
A19: Total | B19: =SUM(B10,B18) -> 56220 | C19: =SUM(C10,C18) -> 8758.5 | D19: =SUM(D10,D18) -> 1897.5 | E19: =SUM(E10,E18) -> 19744 | F19: =SUM(F10,F18) -> 2675 | G19: =SUM(G10,G18) -> 387.5 | H19: =SUM(H10,H18) -> 9973 | I19: =SUM(I10,I18) -> 2641.5 | ... AD19: =SUM(AD10,AD18) -> 0

Sheet 1836-7 (I)
A1: Import: 1836-37 | B1: Brandy (gallons) | C1: Gin (gallons) | D1: Flour (barrels) | E1: Corn meal (barrels) | F1: Bread (barrels) | G1: Bread (bags) | H1: Bread (lb) | I1: Rice (casks and bags) | J1: Rice (lb) | K1: Corn, pease, oats, etc. (barrels) | L1: Fish, dry (casks) | M1: Fish, dry (boxes) | N1: Fish, pickled (tierces) | O1: Fish, pickled (barrels) | P1: Fish, pickled (kits) | Q1: Staves (red oak) | R1: Staves (white oak) | S1: Shingles | T1: Lumber (feet) | U1: Hoops | V1: Beef (barrels) | W1: Pork (barrels) | X1: Butter and lard (firkins) | Y1: Candles (boxes) | Z1: Soap (boxes) | AA1: Livestock: Horses | AB1: Livestock: Mules | AC1: Livestock: Asses | AD1: Livestock: Cattle
A2: Kingston: from/to GB
A3: Kingston: from/to Ireland
A4: Kingston: from/to GB & Ireland
A5: Kingston: from/to Europe
A6: Kingston: from/to Br Plantations
A7: Kingston: from/to US
A8: Kingston: from/to Spanish Main
A9: Kingston: from/to Foreign Plantations
A10: Kingston: Total | B10: 25201 | C10: 44282 | E10: 8470 | F10: =6665 -> 6665 | G10: 265 | H10: =443*112 -> 49616 | I10: 9416 | J10: 141790 | K10: 10568 | L10: 6876 | M10: 6591 | N10: 278 | O10: 21653 | P10: 445 | Q10: 1071799 | R10: 787151 | S10: 6182822 | T10: 4528904 | U10: 226250 | V10: 1851 | W10: 7188 | X10: 13206 | Y10: 13729 | Z10: 18253 | AA10: 782 | AB10: 157 | AC10: 520 | AD10: 651
A11: Outports: from/to GB
A12: Outports: from/to Ireland
A13: Outports: from/to GB & Ireland
A14: Outports: from/to Br Plantations
A15: Outports: from/to US
A16: Outports: from/to Spanish Main
A17: Outports: from/to Foreign Plantations
A18: Outports: Total | B18: =433+177+195+247+2690+1527+424+57+1199+271 -> 7220 | C18: =72+115+28+103+980+355+249+57 -> 1959 | E18: =10+591+1927+10+7 -> 2545 | F18: =75+912+22+40 -> 1049 | G18: =5+70+10 -> 85 | H18: =(52+315+699+6+300)*112 -> 153664 | I18: =48+20+25+152+125+373+4 -> 747 | J18: =5898+12242+39188+128815+130446+29825+3016+13912 -> 363342 | K18: =552+320+122+25+1524+3132+504+165 -> 6344 | L18: =769+415+190+109+146+936+114+211 -> 2890 | M18: =361+189+100+155+208+141+773+49+124 -> 2100 | N18: =29+3 -> 32 | O18: =76+1566+1966+2173+617+2038+6950+2763+783+1691 -> 20623 | P18: =50+60+79+208+238+20+23 -> 678 | Q18: =125630+21000+219345+137270+5000+157453+495523+62400+109600 -> 1333221 | R18: =40354+11600+96956+113850+1000+161870+331158+37600+24700 -> 819088 | S18: =59075+278000+646532+56320+310250+1234290+2426525+329000+270596+24000 -> 5634588 | T18: =626446+137000+372979+66000+214000+914146+1682419+290431+213595+72000+18198 -> 4607214 | U18: =51000+1958+59000+2000+3500+142500+133025+698+1669+49700 -> 445050 | V18: =5+64+81+62+22+397+47+113+28 -> 819 | W18: =10+50+82+105+29+888+106+165+23 -> 1458 | X18: =56+95+96+46+186+124+6+202+36 -> 847 | Y18: =30+44+104+22+226+983+49+28+197+36 -> 1719 | Z18: =25+37+289+8+1520+105+17+297+43 -> 2341 | AA18: =94+60+120+467+1214+165+37+65 -> 2222 | AB18: =1+141+103+65+762+90+1 -> 1163 | AC18: =13 -> 13 | AD18: =28+58+149 -> 235
A19: Total | B19: =SUM(B10,B18) -> 32421 | C19: =SUM(C10,C18) -> 46241 | D19: =76573 -> 76573 | E19: =SUM(E10,E18) -> 11015 | F19: =SUM(F10,F18) -> 7714 | G19: =SUM(G10,G18) -> 350 | H19: =SUM(H10,H18) -> 203280 | I19: =SUM(I10,I18) -> 10163 | J19: =SUM(J10,J18) -> 505132 | K19: =SUM(K10,K18) -> 16912 | L19: =SUM(L10,L18) -> 9766 | ... AD19: =SUM(AD10,AD18) -> 886

Sheet 1835-6 (E)
A1: Export: | B1: Sugar (hogsheads) | C1: Sugar (tierces) | D1: Sugar (barrels) | E1: Rum (puncheons) | F1: Rum (hogsheads) | G1: Rum (casks) | H1: Coffee (tierces) | I1: Coffee (barrels) | J1: Coffee (casks) | K1: Coffee (bags) | L1: Molasses (casks) | M1: Ginger (barrels) | N1: Ginger (bags) | O1: Pimento (barrels) | P1: Pimento (bags) | Q1: Cotton (bales) | R1: Hides | S1: Logwood (tons) | T1: Fustic (tons) | U1: Nicaragua wood (tons) | V1: Lignum vitae (tons) | W1: Ebony (tons) | X1: Mahogany (logs) | Y1: Cedar (logs) | Z1: Lancewood spars
A2: Kingston: from/to GB
A3: Kingston: from/to Ireland
A4: Kingston: from/to GB & Ireland
A5: Kingston: from/to Europe
A6: Kingston: from/to Br Plantations
A7: Kingston: from/to US
A8: Kingston: from/to Spanish Main
A9: Kingston: from/to Foreign Plantations
A10: Kingston: Total | B10: 16925 | C10: 1436 | D10: 2356 | E10: 4901 | F10: 268 | G10: 97 | H10: 7093 | I10: 2234 | J10: 194 | K10: 149 | L10: 0 | M10: 267 | N10: 0 | O10: =513 -> 513 | P10: 11489 | Q10: 227 | R10: 4604 | S10: 1722 | T10: 137 | U10: 455 | V10: 98 | W10: 134 | X10: 696 | Y10: 135 | Z10: 5572
A11: Outports: from/to GB
A12: Outports: from/to Ireland
A13: Outports: from/to GB & Ireland
A14: Outports: from/to Br Plantations
A15: Outports: from/to US
A16: Outports: from/to Spanish Main
A17: Outports: from/to Foreign Plantations
A18: Outports: Total | B18: =4892+1434+1985+6013+2876+8000+8912+5228+2656+2366 -> 44362 | C18: =1104+254+380+797+300+925+1441+482+444+535 -> 6662 | D18: =257+45+6+47+102+107+697+24+44+83 -> 1412 | E18: =1192+323+681+1904+1108+2784+4247+1363+815+654 -> 15071 | F18: =7+7+22+70+44+239+281+96+13+10 -> 789 | G18: =44+8+6+1+266+7+30+9 -> 371 | H18: =236+28+96+359+907+454+10+107+7102 -> 9299 | I18: =9+37+72+224+23+14+7+680 -> 1066 | J18: =137+34+113+73+59+1+15 -> 432 | K18: =4+1+3 -> 8 | L18: =44+42+78+16 -> 180 | M18: =2+57+1+4+96+1813+1791.5+645+775 -> 5184.5 | N18: =1+80+9 -> 90 | O18: =2+13+5+31 -> 51 | P18: =134+956+185+3927+19429+13284+5665+130+2216+5217 -> 51143 | Q18: =1+12 -> 13 | R18: =110+173+114+716+1610+212+99+1963 -> 4997 | S18: =181+10+72.5+282+160.5+300+1020+205+489+1285 -> 4005 | T18: =4.5+4+17+80+204+63+2+45 -> 419.5 | U18: =28+26+11.5+45 -> 110.5 | V18: =2+4.5+70+5+22 -> 103.5 | W18: =8+16.5+69+1+80 -> 174.5 | X18: =26+3483+656+276 -> 4441 | Y18: =32+1042+50+19 -> 1143 | Z18: =13+729+596+1821+783+8356+19410+2194+720+2554 -> 37176
A19: Total | B19: =SUM(B10,B18) -> 61287 | C19: =SUM(C10,C18) -> 8098 | D19: =SUM(D10,D18) -> 3768 | E19: =SUM(E10,E18) -> 19972 | F19: =SUM(F10,F18) -> 1057 | G19: =SUM(G10,G18) -> 468 | H19: =SUM(H10,H18) -> 16392 | I19: =SUM(I10,I18) -> 3300 | ... AD19: =SUM(AD10,AD18) -> 0

Sheet 1835-6 (I)
A1: Import: 1835-36 | B1: Brandy (gallons) | C1: Gin (gallons) | D1: Flour (barrels) | E1: Corn meal (barrels) | F1: Bread (barrels) | G1: Bread (bags) | H1: Bread (lb) | I1: Rice (casks and barrels) | J1: Rice (bags) | K1: Rice (lb) | L1: Corn, pease, oats, etc. (barrels) | M1: Fish, dry (casks) | N1: Fish, dry (boxes) | O1: Fish, pickled (tierces) | P1: Fish, pickled (barrels) | Q1: Fish, pickled (kits) | R1: Staves (red oak) | S1: Staves (white oak) | T1: Shingles | U1: Lumber (feet) | V1: Hoops | W1: Hoops (bundles) | X1: Beef (barrels) | Y1: Pork (barrels) | Z1: Butter and lard (firkins) | AA1: Candles (boxes) | AB1: Soap (boxes) | AC1: Livestock: Horses | AD1: Livestock: Mules | AE1: Livestock: Asses | AF1: Livestock: Cattle
A2: Kingston: from/to GB
A3: Kingston: from/to Ireland
A4: Kingston: from/to GB & Ireland
A5: Kingston: from/to Europe
A6: Kingston: from/to Br Plantations
A7: Kingston: from/to US
A8: Kingston: from/to Spanish Main
A9: Kingston: from/to Foreign Plantations
A10: Kingston: Total | B10: 47591 | C10: 20451 | D10: 49657 | E10: 4952 | F10: 3892 | G10: 0 | H10: 0 | I10: 5465 | J10: 0 | K10: 231152 | L10: 9148 | M10: 4467 | N10: 5032 | O10: 230 | P10: 21390 | Q10: 386 | R10: 891889 | S10: 290170 | T10: 3285895 | U10: 3066988 | V10: 226230 | W10: 0 | X10: 4442 | Y10: 1818 | Z10: 20627 | AA10: 16630 | AB10: 22030 | AC10: 617 | AD10: 114 | AE10: 392 | AF10: 124
A11: Outports: from/to GB
A12: Outports: from/to Ireland
A13: Outports: from/to GB & Ireland
A14: Outports: from/to Br Plantations
A15: Outports: from/to US
A16: Outports: from/to Spanish Main
A17: Outports: from/to Foreign Plantations
A18: Outports: Total | B18: 4833 | C18: 494 | D18: 6694 | E18: 1932 | F18: 517 | G18: 110 | H18: 84672 | I18: =3+10+10+236+35+8 -> 302 | J18: 60 | K18: =4356+740+5957+6200+107437+172496+19415+6461 -> 323062 | L18: =240+516+580+2669+370+50+99 -> 4524 | M18: =328+450+134+47+803+107+122+2 -> 1993 | N18: =1074+644+20+187+164+496+52+16 -> 2653 | O18: 77 | P18: =25+3400+365+3096+501+3451+7121+2182+1498+2450 -> 24089 | Q18: =16+130+56+99+146+42+20 -> 509 | R18: =194736+49700+91110+140000+481434+437964+289900+111500 -> 1796344 | S18: =58000+12500+18000+73000+205212+315561+88040+18000 -> 788313 | T18: =601931+492500+199630+35000+660050+1075605+184430+329200 -> 3578346 | U18: =408750+198700+244284+242000+500+693426+1252913+208964+377692+7000 -> 3634229 | V18: =178+1498+1655+3800+1504+429+1720 -> 10784 | W18: =1600+2992 -> 4592 | X18: =77+51+33+5+352+25.5+16+99 -> 658.5 | Y18: =42+54.5+39+42+1146+49.5+13.5+176 -> 1562.5 | Z18: =11+57.5+52+7+1724+595+63+10+192 -> 2711.5 | AA18: =34+46+45+107+1449+37+28+54 -> 1800 | AB18: =52+48+63+24+937+56+2+164 -> 1346 | AC18: =2+147+23+163+447+116+216+2 -> 1116 | AD18: =6+1+85 -> 92 | AE18: 32 | AF18: =16+4 -> 20
A19: Total | B19: =SUM(B10,B18) -> 52424 | C19: =SUM(C10,C18) -> 20945 | D19: =SUM(D10,D18) -> 56351 | E19: =SUM(E10,E18) -> 6884 | F19: =SUM(F10,F18) -> 4409 | G19: =SUM(G10,G18) -> 110 | H19: =SUM(H10,H18) -> 84672 | I19: =SUM(I10,I18) -> 5767 | ... AF19: =SUM(AF10,AF18) -> 144

Sheet 1834-5 (E)
A1: Export: 1834-35 | B1: Sugar (hogsheads) | C1: Sugar (tierces) | D1: Sugar (barrels) | E1: Rum (puncheons) | F1: Rum (hogsheads) | G1: Rum (casks) | H1: Coffee (tierces) | I1: Coffee (barrels) | J1: Coffee (bags) | K1: Coffee (casks) | L1: Pimento (barrels) | M1: Pimento (bags) | N1: Ginger (barrels) | O1: Ginger (bags) | P1: Molasses (casks) | Q1: Cotton (bales) | R1: Hides | S1: Logwood (tons) | T1: Fustic (tons) | U1: Nicaragua wood (tons) | V1: Lignum vitae (tons) | W1: Ebony (tons) | X1: Mahogany (logs) | Y1: Cedar (logs) | Z1: Lancewood spars
A2: Kingston: from/to GB
A3: Kingston: from/to Ireland
A4: Kingston: from/to GB & Ireland
A5: Kingston: from/to Europe
A6: Kingston: from/to Br Plantations
A7: Kingston: from/to US
A8: Kingston: from/to Spanish Main
A9: Kingston: from/to Foreign Plantations
A10: Kingston: Total | B10: 17940 | C10: 1418.5 | D10: 1861.5 | E10: 6361 | F10: 312 | G10: 162 | H10: 9145.5 | I10: 3230 | J10: 378 | K10: 40 | L10: 288 | M10: 4032 | N10: 314.5 | O10: 2 | P10: 14 | Q10: 198 | R10: 8105 | S10: 1617 | T10: =910.5 -> 910.5 | U10: 569 | V10: 75 | W10: 541 | X10: 1007 | Y10: 254 | Z10: 4047
A11: Outports: from/to GB
A12: Outports: from/to Ireland
A13: Outports: from/to GB & Ireland
A14: Outports: from/to Br Plantations
A15: Outports: from/to US
A16: Outports: from/to Spanish Main
A17: Outports: from/to Foreign Plantations
A18: Outports: Total | B18: =6988+1705+3418+5404+2807+10892+9562+5576+3300+2247 -> 51899 | C18: =1250+320+430+806+328+1410+1498+461+504+435 -> 7442 | D18: =226+88+11+121+20+268+555+50+16+7 -> 1362 | E18: =2510+429+1478+1609+894+3925+5462+1803+1401+508 -> 20019 | F18: =111+7+61+243+55+509+268+71+46+11 -> 1382 | G18: =154+1+124+4+31+308+7+29 -> 658 | H18: =374+23+162.5+196+538+10+41+17+2809 -> 4170.5 | I18: =34+13+17+87+157+28+29.5+31+330 -> 726.5 | J18: =242+1+2+4+30+28 -> 307 | K18: =12+228+7+145 -> 392 | L18: =10+7+3+17+22+22 -> 81 | M18: =221+1771+350+4830+12978+10033+4015+96+734+4814 -> 39842 | N18: =60+2+55+216+1793+1298+432+680 -> 4536 | O18: =2+2+87+1+11 -> 103 | P18: =12+10+26+2+106+109+19+25+25 -> 334 | Q18: =880+20 -> 900 | R18: =164+60+86+166+419+1466+536+241+132 -> 3270 | S18: =307+37+145+165+128+138+794+359+836+1519 -> 4428 | T18: =96+7+34+84.5+145+34+95 -> 495.5 | U18: =55+12+103+48+90+45 -> 353 | V18: =2+3+153+15+10 -> 183 | W18: =107+5+35+8+3+79 -> 237 | X18: =1+41+12+37+1+28+402+54+10+45 -> 631 | Y18: =175+2000+460+1+12 -> 2648 | Z18: =504+1942+671+1904+820+6339+7279+618+1165+1027 -> 22269
A19: Total | B19: =SUM(B10,B18) -> 69839 | C19: =SUM(C10,C18) -> 8860.5 | D19: =SUM(D10,D18) -> 3223.5 | E19: =SUM(E10,E18) -> 26380 | F19: =SUM(F10,F18) -> 1694 | G19: =SUM(G10,G18) -> 820 | H19: =SUM(H10,H18) -> 13316 | I19: =SUM(I10,I18) -> 3956.5 | ... AD19: =SUM(AD10,AD18) -> 0

Sheet 1834-5 (I)
A1: Import: 1834-35 | B1: Brandy (gallons) | C1: Gin (gallons) | D1: Flour (barrels) | E1: Corn meal (barrels) | F1: Bread (barrels) | G1: Bread (lb) | H1: Rice (casks and bags) | I1: Rice (lb) | J1: Bread (bags) | K1: Corn, pease, oats, etc. (bushels) | L1: Fish, dry (casks) | M1: Fish, dry (boxes) | N1: Fish, pickled (tierces) | O1: Fish, pickled (barrels) | P1: Fish, pickled (kits) | Q1: Staves (red oak) | R1: Staves (white oak) | S1: Shingles | T1: Lumber (feet) | U1: Hoops | V1: Beef (barrels) | W1: Pork (barrels) | X1: Butter (firkins) | Y1: Candles (boxes) | Z1: Soap (boxes) | AA1: Livestock: Horses | AB1: Livestock: Mules | AC1: Livestock: Asses | AD1: Livestock: Cattle
A2: Kingston: from/to GB
A3: Kingston: from/to Ireland
A4: Kingston: from/to GB & Ireland
A5: Kingston: from/to Europe
A6: Kingston: from/to Br Plantations
A7: Kingston: from/to US
A8: Kingston: from/to Spanish Main
A9: Kingston: from/to Foreign Plantations
A10: Kingston: Total | C10: 134.5 | D10: 71386.5 | E10: 5421 | F10: 5280 | G10: =515*112 -> 57680 | H10: 3934.25 | I10: 14301 | J10: 2040504 | K10: 20110 | L10: 5175 | M10: 4960 | N10: 202 | O10: 33416.5 | P10: 406 | Q10: 492606 | R10: 428887 | S10: 3455658 | T10: 3319559 | U10: 669909 | V10: 1788.75 | W10: 6307.5 | X10: 10954 | Y10: 7698 | Z10: 20937.5 | AA10: 444 | AB10: 57 | AC10: 328 | AD10: 44
A11: Outports: from/to GB
A12: Outports: from/to Ireland
A13: Outports: from/to GB & Ireland
A14: Outports: from/to Br Plantations
A15: Outports: from/to US
A16: Outports: from/to Spanish Main
A17: Outports: from/to Foreign Plantations
A18: Outports: Total | C18: =61+50+176+402+59+68 -> 816 | D18: =248+202+25+64+12+3162+4940+92+302+112 -> 9159 | E18: =21+1613+791+26+50+21 -> 2522 | F18: =17.5+20+4+715+120+3 -> 879.5 | G18: =(26+1340)*112 -> 152992 | H18: =16.25+900+3230+15+392+81 -> 4634.25 | I18: =5+17+15+88+30+115 -> 270 | J18: =35661+11300+2240+117650+85093+66692+13670+40 -> 332346 | K18: =538+465+8+2170+1911+570+108+43 -> 5813 | L18: =368+416+311+808+90+161 -> 2154 | M18: =437+571+200+776+95+27 -> 2106 | N18: =20+3946+65 -> 4031 | O18: =7124+2277+1024+505+4366+9059+3620+1073+1310 -> 30358 | P18: =52+46+7+50+57+20 -> 232 | Q18: =51446+31500+159297+102900+385910+1020455+50200+72800 -> 1874508 | R18: =66600+80475+55700+249540+409222+31100+49000 -> 941637 | S18: =268297+80000+9780+822770+487389+162500+182800 -> 2013536 | T18: =384544+84000+65950+82626+516859+350210+999448+267330+175250+3000 -> 2929217 | U18: =553+1500+2193+1750+530+27+3229+3067+1230+1435 -> 15514 | V18: =150+79+98.5+30+27+311+75+3+110 -> 883.5 | W18: =148+101+99.5+40+332+925+96+47+116 -> 1904.5 | X18: =100+77+96.5+43+56.5+780+128+108+11 -> 1400 | Y18: =102+63+68+53+150+715+93+116+96 -> 1456 | Z18: =1022+86+66+42+108+505+100+238+109 -> 2276 | AA18: =28+2+36+74+66+1+6+6 -> 219 | AB18: 0 | AC18: 0 | AD18: 2
A19: Total | C19: =SUM(C10,C18) -> 950.5 | D19: =SUM(D10,D18) -> 80545.5 | E19: =SUM(E10,E18) -> 7943 | F19: =SUM(F10,F18) -> 6159.5 | G19: =SUM(G10,G18) -> 210672 | H19: =SUM(H10,H18) -> 8568.5 | I19: =SUM(I10,I18) -> 14571 | J19: =SUM(J10,J18) -> 2372850 | ... AD19: =SUM(AD10,AD18) -> 46

Sheet 1833-4 (E)
A1: Export: 1833-34 | B1: Sugar (hogsheads) | C1: Sugar (tierces) | D1: Sugar (barrels) | E1: Rum (puncheons) | F1: Rum (hogsheads) | G1: Rum (casks) | H1: Coffee (tierces) | I1: Coffee (barrels) | J1: Coffee (bags) | K1: Molasses (casks) | L1: Pimento (barrels) | M1: Pimento (bags) | N1: Ginger (barrels) | O1: Ginger (bags) | P1: Cotton (bales) | Q1: Hides | R1: Logwood (tons) | S1: Fustic (tons) | T1: Nicaragua wood (tons) | U1: Lignum vitae (tons) | V1: Ebony (tons) | W1: Mahogany (logs) | X1: Cedar (logs) | Y1: Lancewood spars
A2: Kingston: from/to GB | B2: 17352 | C2: 1191 | D2: 762 | E2: 5232 | F2: 345 | G2: 150 | H2: 11745 | I2: 4038.5 | J2: 124 | K2: 1 | L2: 148 | M2: 2440 | N2: 481.5 | O2: 5.5 | P2: 78 | Q2: 4929 | R2: =2111+13/20 -> 2111.65 | S2: =722+3/20 -> 722.15 | T2: =431+5/20 -> 431.25 | U2: =131+6/20 -> 131.3 | V2: 612 | W2: 124 | X2: 7 | Y2: 2504
A3: Kingston: from/to Ireland | B3: 383 | C3: 26 | D3: 102.5 | E3: 200 | F3: 1 | G3: 0 | H3: 64 | I3: 15.5 | J3: 1 | K3: 0 | L3: 0 | M3: 70 | N3: 0 | O3: 0 | P3: 0 | Q3: 0 | R3: =53.5 -> 53.5 | S3: 0 | T3: 25 | U3: 0 | V3: 0 | W3: 0 | X3: 0 | Y3: 0
A4: Kingston: from/to GB & Ireland
A5: Kingston: from/to Europe | B5: 0 | C5: 0 | D5: 0 | E5: 74 | F5: 0 | G5: 0 | H5: 0 | I5: 0 | J5: 0 | K5: 0 | L5: 0 | M5: 105 | N5: 0 | O5: 0 | P5: 0 | Q5: 0 | R5: 0 | S5: 0 | T5: 0 | U5: 0 | V5: 0 | W5: 0 | X5: 0 | Y5: 0
A6: Kingston: from/to Br Plantations | B6: 247 | C6: 70 | D6: 592.5 | E6: 1434 | F6: 147 | G6: 17 | H6: 64 | I6: 163 | J6: 67 | K6: 3 | L6: 0 | M6: 197 | N6: 5 | O6: 0 | P6: 0 | Q6: 0 | R6: 6.25 | S6: 0 | T6: 0 | U6: =41+18/20 -> 41.9 | V6: 0 | W6: 1 | X6: 1 | Y6: 0
A7: Kingston: from/to US | B7: 45 | C7: 21 | D7: 137.5 | E7: 14 | F7: 0 | G7: 0 | H7: 84 | I7: 108 | J7: 0 | K7: 16 | L7: 80 | M7: 5959 | N7: 6 | O7: 0 | P7: 0 | Q7: 2928 | R7: =152+11/20 -> 152.55 | S7: 313 | T7: 0 | U7: 13 | V7: 0 | W7: 0 | X7: 0 | Y7: 0
A8: Kingston: from/to Spanish Main
A9: Kingston: from/to Foreign Plantations | B9: 0 | C9: 0 | D9: 34 | E9: 128 | F9: 80 | G9: 104 | H9: 0 | I9: 2 | J9: 0 | K9: 0 | L9: 0 | M9: 57 | N9: 0 | O9: 0 | P9: 0 | Q9: 0 | R9: 9 | S9: 12 | T9: 0 | U9: 0 | V9: 6.5 | W9: 0 | X9: 0 | Y9: 0
A10: Kingston: Total | B10: =SUM(B2:B9) -> 18027 | C10: =SUM(C2:C9) -> 1308 | D10: =SUM(D2:D9) -> 1628.5 | E10: =SUM(E2:E9) -> 7082 | F10: =SUM(F2:F9) -> 573 | G10: =SUM(G2:G9) -> 271 | H10: =SUM(H2:H9) -> 11957 | I10: =SUM(I2:I9) -> 4327 | ... AB10: =SUM(AB2:AB9) -> 0
A11: Outports: from/to GB
A12: Outports: from/to Ireland
A13: Outports: from/to GB & Ireland
A14: Outports: from/to Br Plantations
A15: Outports: from/to US
A16: Outports: from/to Spanish Main
A17: Outports: from/to Foreign Plantations
A18: Outports: Total | B18: 60684 | C18: 8856 | D18: 1645 | E18: 23118 | F18: 2042 | G18: 672 | H18: 11020 | I18: 3147 | J18: 1131 | K18: 487 | L18: 643 | M18: 14708 | N18: 6070 | O18: 174 | P18: 0 | Q18: 3121 | R18: 7066.25 | S18: 2041.5 | T18: 82.5 | U18: =64+6/20 -> 64.3 | V18: 276.5 | W18: 682 | X18: 1530 | Y18: 16310
A19: Total | B19: =SUM(B10,B18) -> 78711 | C19: =SUM(C10,C18) -> 10164 | D19: =SUM(D10,D18) -> 3273.5 | E19: =SUM(E10,E18) -> 30200 | F19: =SUM(F10,F18) -> 2615 | G19: =SUM(G10,G18) -> 943 | H19: =SUM(H10,H18) -> 22977 | I19: =SUM(I10,I18) -> 7474 | ... AB19: =SUM(AB10,AB18) -> 0

Sheet 1833-4 (I)
A1: Import: 1833-34 | B1: Brandy (gallons) | C1: Gin (gallons) | D1: Flour (barrels) | E1: Corn meal (barrels) | F1: Bread (barrels) | G1: Bread (bags) | H1: Bread (lb) | I1: Rice (casks and bags) | J1: Rice (lb) | K1: Corn, pease, oats, etc. (bushels) | L1: Fish, dry (casks) | M1: Fish, dry (boxes) | N1: Fish, pickled (tierces) | O1: Fish, pickled (barrels) | P1: Fish, pickled (kits) | Q1: Staves (red oak) | R1: Staves (white oak) | S1: Shingles | T1: Lumber (feet) | U1: Hoops | V1: Beef (barrels) | W1: Pork (barrels) | X1: Butter and lard (firkins) | Y1: Candles (boxes) | Z1: Soap (boxes) | AA1: Livestock: Horses | AB1: Livestock: Mules | AC1: Livestock: Asses | AD1: Livestock: Cattle
A2: Kingston: from/to GB
A3: Kingston: from/to Ireland
A4: Kingston: from/to GB & Ireland | B4: 19072 | C4: 1574 | D4: 10716 | F4: 0 | G4: 107 | H4: =70*112 -> 7840 | I4: 1349 | J4: 285076 | K4: 1918 | L4: 0 | M4: 1 | N4: 0 | O4: 12458 | P4: 0 | Q4: 0 | R4: 0 | S4: 0 | T4: 0 | U4: 440750 | V4: 2551.5 | W4: 13436 | X4: 12192.5 | Y4: 15487 | Z4: 15396 | AA4: 33 | AB4: 0 | AC4: 0 | AD4: 0
A5: Kingston: from/to Europe | B5: 0 | C5: 0 | D5: 0 | E5: 0 | F5: 0 | G5: 0 | H5: 0 | I5: 0 | J5: 0
A6: Kingston: from/to Br Plantations | B6: 60 | C6: 0 | D6: 1956 | E6: 120 | F6: 25 | G6: 28 | H6: =37.5*112 -> 4200 | I6: 71 | J6: 34761 | K6: 610 | L6: 4769 | M6: 6477 | N6: 69 | O6: 18079 | P6: 348 | Q6: 217594 | R6: 42000 | S6: 2975213 | T6: 1581049 | U6: 43100 | V6: 294 | W6: 582 | X6: 129 | Y6: 75 | Z6: 0 | AA6: 1 | AB6: 0 | AC6: 0 | AD6: 16
A7: Kingston: from/to US | B7: 2265 | C7: 0 | D7: 35079.5 | E7: 9707 | F7: 829 | G7: 0 | H7: =3426.75*112 -> 383796 | I7: 1848 | J7: 969081 | K7: 5673 | L7: 0 | M7: 0 | N7: 0 | O7: 0 | P7: 0 | Q7: 649340 | R7: 330744 | S7: 1704232 | T7: 747262 | U7: 0 | V7: 206.5 | W7: 2.5 | X7: 227 | Y7: 233 | Z7: 341 | AA7: 157 | AB7: 0 | AC7: 0 | AD7: 0
A8: Kingston: from/to Foreign Plantations | B8: 1500 | C8: 0 | D8: 0 | E8: 0 | F8: 0 | G8: 0 | H8: 0 | I8: 124 | J8: 11920 | K8: 5779 | L8: 0 | M8: 0 | N8: 0 | O8: 0 | P8: 0 | Q8: 0 | R8: 0 | S8: 0 | T8: 0 | U8: 0 | V8: 0 | W8: 0 | X8: 0 | Y8: 0 | Z8: 0 | AA8: 457 | AB8: 216 | AC8: 478 | AD8: 238
A9: Kingston: from/to Spanish Main
A10: Kingston: Total | B10: =SUM(B2:B9) -> 22897 | C10: =SUM(C2:C9) -> 1574 | D10: =SUM(D2:D9) -> 47751.5 | E10: =SUM(E2:E9) -> 9827 | F10: =SUM(F2:F9) -> 854 | G10: =SUM(G2:G9) -> 135 | H10: =SUM(H2:H9) -> 395836 | I10: =SUM(I2:I9) -> 3392 | ... AD10: =SUM(AD2:AD9) -> 254
A11: Outports: from/to GB
A12: Outports: from/to Ireland
A13: Outports: from/to GB & Ireland
A14: Outports: from/to Br Plantations
A15: Outports: from/to Foreign Plantations
A16: Outports: from/to US
A17: Outports: from/to Spanish Main
A18: Outports: Total | B18: 4049 | C18: 520 | D18: 6247 | E18: 3325 | F18: 1528.5 | G18: 0 | H18: =715.5*112 -> 80136 | I18: 690 | J18: 429842 | K18: 3254.5 | L18: 2794 | M18: 1360 | N18: 125 | O18: 38585 | P18: 294 | Q18: 2041598 | R18: 869430 | S18: 3621356 | T18: 3661380 | U18: 422889 | V18: 852.5 | W18: 1644.5 | X18: 1169 | Y18: 1683.5 | Z18: 3129 | AA18: 349 | AB18: 61 | AC18: 92 | AD18: 1
A19: Total | B19: =SUM(B10,B18) -> 26946 | C19: =SUM(C10,C18) -> 2094 | D19: =SUM(D10,D18) -> 53998.5 | E19: =SUM(E10,E18) -> 13152 | F19: =SUM(F10,F18) -> 2382.5 | G19: =SUM(G10,G18) -> 135 | H19: =SUM(H10,H18) -> 475972 | I19: =SUM(I10,I18) -> 4082 | ... AD19: =SUM(AD10,AD18) -> 255

Sheet 1831-2 (E)
A1: Export: 1831-32 | B1: Sugar (hogsheads) | C1: Sugar (tierces) | D1: Sugar (barrels) | E1: Rum (puncheons) | F1: Rum (hogsheads) | G1: Rum (casks) | H1: Molasses (casks) | I1: Ginger (casks) | J1: Ginger (bags) | K1: Pimento (barrels) | L1: Pimento (bags) | M1: Coffee (tierces) | N1: Coffee (barrels) | O1: Coffee (bags) | P1: Cotton (bales) | Q1: Hides | R1: Logwood (tons) | S1: Fustic (tons) | T1: Nicaragua wood (tons) | U1: Ebony (tons) | V1: Lignum vitae (tons) | W1: Mahogany and cedar (logs) | X1: Lancewood spars
A2: Kingston: from/to GB | B2: 20799 | C2: 989 | D2: 455 | E2: 4804 | F2: 395 | G2: 136 | H2: 0 | I2: 134 | J2: 35 | K2: 68 | L2: 1474 | M2: 7675 | N2: 2530 | O2: 301 | P2: 73 | Q2: 1177 | R2: =2139+(8/20) -> 2139.4 | S2: =99+(6/20) -> 99.3 | T2: =160+(13/20) -> 160.65 | U2: 0 | V2: 5 | W2: 401 | X2: 1763
A3: Kingston: from/to Ireland | B3: 647 | C3: 85 | D3: 220 | E3: 0 | F3: 29 | G3: 0 | H3: 0 | I3: 0 | J3: 0 | K3: 0 | L3: 0 | M3: 7 | N3: 108 | O3: 0 | P3: 0 | Q3: 237 | R3: =122+(17/20) -> 122.85 | S3: 0 | T3: 0 | U3: 0 | V3: =5+(3/20) -> 5.15 | W3: 0 | X3: 0
A4: Kingston: from/to GB & Ireland
A5: Kingston: from/to Europe | B5: 0 | C5: 0 | D5: 0 | E5: 0 | F5: 0 | G5: 0 | H5: 0 | I5: 0 | J5: 0 | K5: 0 | L5: 0 | M5: 0 | N5: 0 | O5: 0 | P5: 0 | Q5: 0 | R5: 0 | S5: 0 | T5: 0 | U5: 0 | V5: 0 | W5: 0 | X5: 0
A6: Kingston: from/to Br Plantations | B6: 245 | C6: 117 | D6: 1011 | E6: 979 | F6: 242 | G6: 268 | H6: 0 | I6: 0 | J6: 0 | K6: 0 | L6: 33 | M6: 83 | N6: 153 | O6: 146 | P6: 0 | Q6: 2702 | R6: =65+(7/20) -> 65.35 | S6: 0 | T6: 0 | U6: 0 | V6: 17 | W6: 8 | X6: 0
A7: Kingston: from/to Foreign Plantations | B7: 0 | C7: 0 | D7: 17 | E7: 95 | F7: 27 | G7: 545 | H7: 1 | I7: 0 | J7: 0 | K7: 0 | L7: 10 | M7: 0 | N7: 0 | O7: 0 | P7: 0 | Q7: 0 | R7: 0 | S7: 0 | T7: 0 | U7: 0 | V7: 0 | W7: 0 | X7: 0
A8: Kingston: from/to US | B8: 80 | C8: 37 | D8: 30 | E8: 344 | F8: 0 | G8: 12 | H8: 32 | I8: 0 | J8: 0 | K8: 48 | L8: 6508 | M8: 6 | N8: 7 | O8: 61 | P8: 0 | Q8: 5549 | R8: 206 | S8: 43 | T8: 0 | U8: 15 | V8: 0 | W8: 586 | X8: 12
A9: Kingston: from/to Spanish Main
A10: Kingston: Total | B10: =SUM(B2:B9) -> 21771 | C10: =SUM(C2:C9) -> 1228 | D10: =SUM(D2:D9) -> 1733 | E10: =SUM(E2:E9) -> 6222 | F10: =SUM(F2:F9) -> 693 | G10: =SUM(G2:G9) -> 961 | H10: =SUM(H2:H9) -> 33 | I10: =SUM(I2:I9) -> 134 | ... Z10: =SUM(Z2:Z9) -> 0
A11: Outports: from/to GB | B11: 60377 | C11: 7441 | D11: 1418 | E11: 15617 | F11: 1352 | G11: 247 | H11: 253 | I11: 1614 | J11: 839 | K11: 54 | L11: 5969 | M11: 7494 | N11: 766 | O11: 59 | P11: 3 | Q11: 575 | R11: =3503+(10/20) -> 3503.5 | S11: =459+(13/20) -> 459.65 | T11: 32 | U11: 14 | V11: 0 | W11: 417 | X11: 12751
A12: Outports: from/to Ireland | B12: 100 | C12: 1 | D12: 4 | E12: 0 | F12: 0 | G12: 0 | H12: 0 | I12: 0 | J12: 0 | K12: 0 | L12: 0 | M12: 40 | N12: 0 | O12: 0 | P12: 0 | Q12: 0 | R12: 32 | S12: 0 | T12: 0 | U12: 0 | V12: 0 | W12: 0 | X12: 0
A13: Outports: from/to GB & Ireland
A14: Outports: from/to Europe | B14: 0 | C14: 0 | D14: 0 | E14: 0 | F14: 0 | G14: 0 | H14: 0 | I14: 0 | J14: 0 | K14: 0 | L14: 0 | M14: 0 | N14: 0 | O14: 0 | P14: 0 | Q14: 0 | R14: 0 | S14: 0 | T14: 0 | U14: 0 | V14: 0 | W14: 0 | X14: 0
A15: Outports: from/to Br Plantations | B15: 1203 | C15: 529 | D15: 1012 | E15: 4826 | F15: 232 | G15: 274 | H15: 363 | I15: 22 | J15: 0 | K15: 37 | L15: 103 | M15: 29 | N15: 77 | O15: 25 | P15: 0 | Q15: 2158 | R15: 117 | S15: 2 | T15: 0 | U15: 0 | V15: 8 | W15: 192 | X15: 0
A16: Outports: from/to Foreign Plantations | B16: 0 | C16: 0 | D16: 6 | E16: 107 | F16: 1 | G16: 7 | H16: 0 | I16: 0 | J16: 0 | K16: 0 | L16: 0 | M16: 0 | N16: 0 | O16: 0 | P16: 0 | Q16: 0 | R16: 0 | S16: 0 | T16: 0 | U16: 0 | V16: 0 | W16: 0 | X16: 0
A17: Outports: from/to US | B17: 2 | C17: 0 | D17: 65 | E17: 1625 | F17: 0 | G17: 6 | H17: 215 | I17: 1 | J17: 0 | K17: 0 | L17: 2148 | M17: 21 | N17: 4 | O17: 1098 | P17: 0 | Q17: 1163 | R17: 163 | S17: =10+(15/20) -> 10.75 | T17: 0 | U17: 0 | V17: 2 | W17: 477 | X17: 0
A18: Outports: from/to Spanish Main
A19: Outports: Total | B19: =SUM(B11:B18) -> 61682 | C19: =SUM(C11:C18) -> 7971 | D19: =SUM(D11:D18) -> 2505 | E19: =SUM(E11:E18) -> 22175 | F19: =SUM(F11:F18) -> 1585 | G19: =SUM(G11:G18) -> 534 | H19: =SUM(H11:H18) -> 831 | I19: =SUM(I11:I18) -> 1637 | ... Z19: =SUM(Z11:Z18) -> 0
A20: Total | B20: =SUM(B10,B19) -> 83453 | C20: =SUM(C10,C19) -> 9199 | D20: =SUM(D10,D19) -> 4238 | E20: =SUM(E10,E19) -> 28397 | F20: =SUM(F10,F19) -> 2278 | G20: =SUM(G10,G19) -> 1495 | H20: =SUM(H10,H19) -> 864 | I20: =SUM(I10,I19) -> 1771 | ... Z20: =SUM(Z10,Z19) -> 0

Sheet 1831-2 (I)
A1: Import: 1831-32 | B1: Brandy (gallons) | C1: Gin (gallons) | D1: Flour (barrels) | E1: Corn meal (barrels) | F1: Bread (barrels) | G1: Bread (bags) | H1: Bread (lb) | I1: Rice (casks and bags) | J1: Rice (lb) | K1: Corn, pease, oats, etc. (bushels) | L1: Fish, dry (casks) | M1: Fish, dry (boxes) | N1: Fish, pickled (tierces) | O1: Fish, pickled (barrels) | P1: Fish, pickled (kits) | Q1: Staves (red oak) | R1: Staves (white oak) | S1: Shingles | T1: Lumber (feet) | U1: Hoops | V1: Beef (barrels) | W1: Pork (barrels) | X1: Butter (firkins) | Y1: Candles (boxes) | Z1: Soap (boxes) | AA1: Livestock: Horses | AB1: Livestock: Mules | AC1: Livestock: Asses | AD1: Livestock: Cattle
A2: Kingston: from/to GB | B2: 31099 | C2: 4193 | D2: 7000 | E2: 0 | F2: 536 | G2: 0 | H2: 0 | I2: 870 | J2: 11400 | K2: 205 | L2: 457 | M2: 30 | N2: 3008 | O2: 8624 | P2: 128 | Q2: 6300 | R2: 316 | S2: 21000 | T2: 138574 | U2: 107714 | V2: 902 | W2: 1333 | X2: 3544 | Y2: 5902 | Z2: 9565 | AA2: 11 | AB2: 14 | AC2: 0 | AD2: 0
A3: Kingston: from/to Ireland | B3: 163 | C3: 155 | D3: 1 | E3: 0 | F3: 0 | G3: 0 | H3: 0 | I3: 0 | J3: 0 | K3: 0 | L3: 1 | M3: 0 | N3: 0 | O3: 251 | P3: 0 | Q3: 0 | R3: 0 | S3: 0 | T3: 0 | U3: 0 | V3: 675 | W3: 2014 | X3: 3457 | Y3: 3073 | Z3: 2 | AA3: 0 | AB3: 0 | AC3: 0 | AD3: 0
A4: Kingston: from/to GB & Ireland
A5: Kingston: from/to Europe
A6: Kingston: from/to Br Plantations | B6: 0 | C6: 120 | D6: 2739 | E6: 278 | F6: 99 | G6: 0 | H6: 0 | I6: 60 | J6: 0 | K6: 1334 | L6: 4017 | M6: 4186 | N6: 260 | O6: 16185 | P6: 559 | Q6: 142464 | R6: 174921 | S6: 875989 | T6: 1323148 | U6: 59550 | V6: 515 | W6: 1706 | X6: 11 | Y6: 0 | Z6: 0 | AA6: 0 | AB6: 0 | AC6: 0 | AD6: 0
A7: Kingston: from/to Foreign Plantations | B7: 29 | C7: 41 | D7: 335 | E7: 107 | F7: 10 | G7: 50 | H7: 0 | I7: 14 | J7: 43107 | K7: 4359 | L7: 0 | M7: 322 | N7: 0 | O7: 0 | P7: 0 | Q7: 0 | R7: 0 | S7: 90000 | T7: 220000 | U7: 0 | V7: 0 | W7: 0 | X7: 0 | Y7: 0 | Z7: 0 | AA7: 597 | AB7: 460 | AC7: 606 | AD7: 591
A8: Kingston: from/to US | B8: 800 | C8: 0 | D8: 33246 | E8: 5456 | F8: 3240 | G8: 380 | H8: =2086*112 -> 233632 | I8: 1939 | J8: 1140779 | K8: 4637 | L8: 128 | M8: 0 | N8: 224 | O8: 0 | P8: 0 | Q8: 947434 | R8: 161265 | S8: 684320 | T8: 551889 | U8: 33010 | V8: 130 | W8: 477 | X8: 1147 | Y8: 695 | Z8: 151 | AA8: 8 | AB8: 0 | AC8: 0 | AD8: 0
A9: Kingston: from/to Spanish Main
A10: Kingston: Total | B10: =SUM(B2:B9) -> 32091 | C10: =SUM(C2:C9) -> 4509 | D10: =SUM(D2:D9) -> 43321 | E10: =SUM(E2:E9) -> 5841 | F10: =SUM(F2:F9) -> 3885 | G10: =SUM(G2:G9) -> 430 | H10: =SUM(H2:H9) -> 233632 | I10: =SUM(I2:I9) -> 2883 | ... AD10: =SUM(AD2:AD9) -> 591
A11: Outports: from/to GB | B11: 5179 | C11: 445 | D11: 384 | E11: 0 | F11: 69 | G11: 0 | H11: 0 | I11: 150 | J11: 10231 | K11: 553 | L11: 4 | M11: 0 | N11: 0 | O11: 46229 | P11: 26 | Q11: 16313 | R11: 0 | S11: 0 | T11: 103444 | U11: 65803 | V11: 920 | W11: 829 | X11: 727 | Y11: 962 | Z11: 899 | AA11: 4 | AB11: 12 | AC11: 12 | AD11: 0
A12: Outports: from/to Ireland | B12: 0 | C12: 0 | D12: 0 | E12: 0 | F12: 0 | G12: 0 | H12: 0 | I12: 0 | J12: 0 | K12: 0 | L12: 1 | M12: 60 | N12: 0 | O12: 0 | P12: 0 | Q12: 0 | R12: 0 | S12: 0 | T12: 0 | U12: 0 | V12: 37 | W12: 33 | X12: 48 | Y12: 6 | Z12: 6 | AA12: 0 | AB12: 0 | AC12: 0 | AD12: 0
A13: Outports: from/to GB & Ireland
A14: Outports: from/to Br Plantations | B14: 0 | C14: 0 | D14: 616 | E14: 0 | F14: 128 | G14: 0 | H14: =503*112 -> 56336 | I14: 0 | J14: 0 | K14: 0 | L14: 1038 | M14: 1089 | N14: 14 | O14: 1962 | P14: 198 | Q14: 91955 | R14: 121087 | S14: 400700 | T14: 2612033 | U14: 638 | V14: 208 | W14: 692 | X14: 75 | Y14: 92 | Z14: 88 | AA14: 15 | AB14: 0 | AC14: 0 | AD14: 0
A15: Outports: from/to Foreign Plantations | B15: 0 | C15: 126 | D15: 0 | E15: 0 | F15: 0 | G15: 0 | H15: 0 | I15: 0 | J15: 0 | K15: 50 | L15: 0 | M15: 0 | N15: 0 | O15: 0 | P15: 0 | Q15: 375 | R15: 0 | S15: 0 | T15: 0 | U15: 0 | V15: 0 | W15: 0 | X15: 0 | Y15: 0 | Z15: 0 | AA15: 446 | AB15: 12 | AC15: 0 | AD15: 0
A16: Outports: from/to US | B16: 374 | C16: 118 | D16: 5033 | E16: 2091 | F16: 1045 | G16: 0 | H16: =22*112 -> 2464 | I16: 255 | J16: 2917 | K16: 2278 | L16: 0 | M16: 0 | N16: 0 | O16: 0 | P16: 0 | Q16: 1173710 | R16: 475718 | S16: 672775 | T16: 0 | U16: 0 | V16: 11 | W16: 120 | X16: 139 | Y16: 98 | Z16: 131 | AA16: 242 | AB16: 110 | AC16: 0 | AD16: 0
A17: Outports: from/to Spanish Main
A18: Outports: Total | B18: =SUM(B11:B17) -> 5553 | C18: =SUM(C11:C17) -> 689 | D18: =SUM(D11:D17) -> 6033 | E18: =SUM(E11:E17) -> 2091 | F18: =SUM(F11:F17) -> 1242 | G18: =SUM(G11:G17) -> 0 | H18: =SUM(H11:H17) -> 58800 | I18: =SUM(I11:I17) -> 405 | ... AD18: =SUM(AD11:AD17) -> 0
A19: Total | B19: =SUM(B10,B18) -> 37644 | C19: =SUM(C10,C18) -> 5198 | D19: =SUM(D10,D18) -> 49354 | E19: =SUM(E10,E18) -> 7932 | F19: =SUM(F10,F18) -> 5127 | G19: =SUM(G10,G18) -> 430 | H19: =SUM(H10,H18) -> 292432 | I19: =SUM(I10,I18) -> 3288 | ... AD19: =SUM(AD10,AD18) -> 591

Sheet 1828-9 (E)
A1: Export: 1828-29 | B1: Sugar (hogsheads) | C1: Sugar (tierces) | D1: Sugar (barrels) | E1: Rum (puncheons) | F1: Rum (hogsheads) | G1: Rum (casks) | H1: Molasses (casks) | I1: Ginger (barrels) | J1: Ginger (bags) | K1: Coffee (lb) | L1: Pimento (lb) | M1: Arrow root (barrels) | N1: Arrow root (kegs) | O1: Lime juice (puncheons) | P1: Sweet meats (packages) | Q1: Cotton (bales) | R1: Hides | S1: Logwood (tons) | T1: Fustic (tons) | U1: Nicaragua wood (tons) | V1: Lignum vitae (tons) | W1: Ebony (tons) | X1: Mahogany and cedar (logs) | Y1: Cabinet wood (pieces) | Z1: Lancewood spars
A2: Kingston: from/to GB | B2: 19714 | C2: 968 | D2: 883.5 | E2: 5505 | F2: 434 | G2: 71 | H2: 100 | I2: 142 | J2: 3 | K2: 9601120 | L2: 363162 | M2: 70 | N2: 1237 | O2: 4 | P2: 602 | Q2: 187 | R2: 2817 | S2: 2186 | T2: 442 | U2: 232 | V2: 129.5 | W2: 169 | X2: 1635 | Y2: 1654 | Z2: 7292
A3: Kingston: from/to Ireland | B3: 271 | C3: 270 | D3: 71 | E3: 269 | F3: 64 | G3: 1 | H3: 0 | I3: 0 | J3: 0 | K3: 440238 | L3: 132140 | M3: 4 | N3: 0 | O3: 0 | P3: 1 | Q3: 0 | R3: 0 | S3: 96 | T3: 0 | U3: 0 | V3: 0 | W3: 0 | X3: 0 | Y3: 0 | Z3: 0
A4: Kingston: from/to GB & Ireland
A5: Kingston: from/to Europe | B5: 0 | C5: 0 | D5: 0 | E5: 554 | F5: 11 | G5: 0 | H5: 0 | I5: 0 | J5: 0 | K5: 0 | L5: 25363 | M5: 0 | N5: 0 | O5: 0 | P5: 0 | Q5: 0 | R5: 0 | S5: 115 | T5: 135.5 | U5: 0 | V5: 0 | W5: 0 | X5: 2 | Y5: 0 | Z5: 0
A6: Kingston: from/to Br Plantations | B6: 287 | C6: 136 | D6: 677.5 | E6: 1263 | F6: 56 | G6: 206 | H6: 6 | I6: 17 | J6: 1 | K6: 109849 | L6: 13159 | M6: 0 | N6: 5 | O6: 17 | P6: 16 | Q6: 14 | R6: 100 | S6: 0.5 | T6: 1 | U6: 0 | V6: 0 | W6: 0 | X6: 101 | Y6: 0 | Z6: 0
A7: Kingston: from/to US
A8: Kingston: from/to Spanish Main
A9: Kingston: from/to Foreign Plantations | B9: 0 | C9: 0 | D9: 4 | E9: 102 | F9: 17 | G9: 327 | H9: 0 | I9: 0 | J9: 0 | K9: 150993 | L9: 344847 | M9: 32 | N9: 0 | O9: 0 | P9: 20 | Q9: 0 | R9: 0 | S9: 0 | T9: 0 | U9: 0 | V9: 0 | W9: 0 | X9: 0 | Y9: 0 | Z9: 0
A10: Kingston: Total | B10: =SUM(B2:B9) -> 20272 | C10: =SUM(C2:C9) -> 1374 | D10: =SUM(D2:D9) -> 1636 | E10: =SUM(E2:E9) -> 7693 | F10: =SUM(F2:F9) -> 582 | G10: =SUM(G2:G9) -> 605 | H10: =SUM(H2:H9) -> 106 | I10: =SUM(I2:I9) -> 159 | ... Z10: =SUM(Z2:Z9) -> 7292
A11: Outports: from/to GB | B11: 69474 | C11: 7513 | D11: 1220 | E11: 24120 | F11: 1741 | G11: 30 | H11: 7 | I11: 1162 | J11: 307 | K11: 8485823 | L11: 4472453 | M11: 78 | N11: 2821 | O11: 62 | P11: 72 | Q11: 92 | R11: 6707 | S11: 4973.5 | T11: 1010.5 | U11: 96 | V11: 187.5 | W11: 75.5 | X11: 584 | Y11: 96 | Z11: 21908
A12: Outports: from/to Ireland | B12: 830 | C12: 105 | D12: 4 | E12: 373 | F12: 87 | G12: 0 | H12: 0 | I12: 0 | J12: 0 | K12: 53864 | L12: 7000 | M12: 0 | N12: 2 | O12: 14 | P12: 0 | Q12: 0 | R12: 358 | S12: 106 | T12: 0 | U12: 0 | V12: 2 | W12: 0 | X12: 0 | Y12: 0 | Z12: 124
A13: Outports: from/to GB & Ireland
A14: Outports: from/to Br Plantations | B14: 574 | C14: 572 | D14: 527 | E14: 3345 | F14: 110 | G14: 0 | H14: 47 | I14: 12 | J14: 8 | K14: 13455 | L14: 117670 | M14: 0 | N14: 33 | O14: 77 | P14: 4 | Q14: 0 | R14: 419 | S14: 27 | T14: 0 | U14: 0 | V14: 18 | W14: 0 | X14: 157 | Y14: 0 | Z14: 0
A15: Outports: from/to US
A16: Outports: from/to Spanish Main
A17: Outports: from/to Foreign Plantations | B17: 0 | C17: 0 | D17: 5 | E17: 1400 | F17: 0 | G17: 0 | H17: 7 | I17: 0 | J17: 0 | K17: 100410 | L17: 593333 | M17: 0 | N17: 0 | O17: 42 | P17: 0 | Q17: 0 | R17: 0 | S17: 0 | T17: 0 | U17: 0 | V17: 0 | W17: 0 | X17: 0 | Y17: 0 | Z17: 0
A18: Outports: Total | B18: =SUM(B11:B17) -> 70878 | C18: =SUM(C11:C17) -> 8190 | D18: =SUM(D11:D17) -> 1756 | E18: =SUM(E11:E17) -> 29238 | F18: =SUM(F11:F17) -> 1938 | G18: =SUM(G11:G17) -> 30 | H18: =SUM(H11:H17) -> 61 | I18: =SUM(I11:I17) -> 1174 | ... Z18: =SUM(Z11:Z17) -> 22032
A19: Total | B19: =SUM(B10,B18) -> 91150 | C19: =SUM(C10,C18) -> 9564 | D19: =SUM(D10,D18) -> 3392 | E19: =SUM(E10,E18) -> 36931 | F19: =SUM(F10,F18) -> 2520 | G19: =SUM(G10,G18) -> 635 | H19: =SUM(H10,H18) -> 167 | I19: =SUM(I10,I18) -> 1333 | ... Z19: =SUM(Z10,Z18) -> 29324

Sheet 1828-9 (I)
A1: Import: 1828-29 | B1: Flour (barrels) | C1: Corn meal (barrels) | D1: Bread (lb) | E1: Rice (lb) | F1: Corn, beans, oats, etc. (bushels) | G1: Fish, dry (quintals) | H1: Fish, pickled (tierces) | I1: Fish, pickled (barrels) | J1: Fish, pickled (kits) | K1: Staves and heading | L1: Shingles | M1: Lumber (feet) | N1: Hoops | O1: Livestock: Horses | P1: Livestock: Mules | Q1: Livestock: Asses | R1: Livestock: Cattle
A2: Kingston: from/to GB
A3: Kingston: from/to Ireland
A4: Kingston: from/to GB & Ireland | B4: 3316 | D4: 6822 | E4: 136392 | F4: 4770 | I4: 12670 | K4: 27223 | M4: 101632 | N4: 15868 | O4: 3
A5: Kingston: from/to Europe | B5: 1346 | D5: 0 | F5: 593 | K5: 10260 | O5: 34
A6: Kingston: from/to Br Plantations | B6: 4447 | C6: 2701 | D6: 23695 | E6: 33367 | F6: 732 | G6: 77490 | H6: 120 | I6: 21783 | J6: 1731 | K6: 1260868 | L6: 2088435 | M6: 1977468 | N6: 92000 | O6: 47
A7: Kingston: from/to US
A8: Kingston: from/to Spanish Main
A9: Kingston: from/to Foreign Plantations | B9: 24498.5 | C9: 5567 | D9: 75038 | E9: 446316 | F9: 14278 | K9: 1327516 | L9: 1531979 | M9: 560097 | O9: 212 | P9: 348 | Q9: 325 | R9: 287
A10: Kingston: Total | B10: =SUM(B2:B9) -> 33607.5 | C10: =SUM(C2:C9) -> 8268 | D10: =SUM(D2:D9) -> 105555 | E10: =SUM(E2:E9) -> 616075 | F10: =SUM(F2:F9) -> 20373 | G10: =SUM(G2:G9) -> 77490 | H10: =SUM(H2:H9) -> 120 | I10: =SUM(I2:I9) -> 34453 | ... U10: =SUM(U2:U9) -> 0
A11: Outports: from/to GB
A12: Outports: from/to Ireland
A13: Outports: from/to GB & Ireland | B13: 113 | C13: 128 | D13: 9768 | E13: 90579 | F13: 75 | I13: 33804 | K13: 24780 | M13: 211286 | N13: 9564 | O13: 1 | P13: 44 | Q13: 22 | R13: 1
A14: Outports: from/to Br Plantations | B14: 2682 | C14: 1090 | D14: 17781 | E14: 13984 | F14: 944 | G14: 1377839 | H14: 16 | I14: 4884 | J14: 841 | K14: 1743374 | L14: 1753455 | M14: 2309301 | N14: 2000 | O14: 1
A15: Outports: from/to US
A16: Outports: from/to Spanish Main
A17: Outports: from/to Foreign Plantations | B17: 1289 | C17: 778 | D17: 9925 | E17: 25361 | F17: 1204 | K17: 1623795 | L17: 1250100 | M17: 672764 | O17: 1028 | P17: 1127 | R17: 802
A18: Outports: Total | B18: =SUM(B11:B17) -> 4084 | C18: =SUM(C11:C17) -> 1996 | D18: =SUM(D11:D17) -> 37474 | E18: =SUM(E11:E17) -> 129924 | F18: =SUM(F11:F17) -> 2223 | G18: =SUM(G11:G17) -> 1377839 | H18: =SUM(H11:H17) -> 16 | I18: =SUM(I11:I17) -> 38688 | ... U18: =SUM(U11:U17) -> 0
A19: Total | B19: =SUM(B10,B18) -> 37691.5 | C19: =SUM(C10,C18) -> 10264 | D19: =SUM(D10,D18) -> 143029 | E19: =SUM(E10,E18) -> 745999 | F19: =SUM(F10,F18) -> 22596 | G19: =SUM(G10,G18) -> 1455329 | H19: =SUM(H10,H18) -> 136 | I19: =SUM(I10,I18) -> 73141 | ... U19: =SUM(U10,U18) -> 0

Sheet 1827-8 (E)
A1: Export: 1827-28 | B1: Sugar (hogsheads) | C1: Sugar (tierces) | D1: Sugar (barrels) | E1: Rum (puncheons) | F1: Rum (hogsheads) | G1: Rum (casks) | H1: Molasses (casks) | I1: Ginger (barrels) | J1: Ginger (bags) | K1: Coffee (lb) | L1: Pimento (lb) | M1: Arrow root (barrels) | N1: Arrow root (kegs) | O1: Lime juice (puncheons) | P1: Sweet meats (packages) | Q1: Cotton (bales) | R1: Hides | S1: Logwood (tons) | T1: Fustic (tons) | U1: Nicaragua wood (tons) | V1: Lignum vitae (tons) | W1: Ebony (tons) | X1: Mahogany and cedar (logs) | Y1: Cabinet wood (pieces) | Z1: Lancewood spars
A2: Kingston: from/to GB | B2: 12998 | C2: 1200 | D2: 733 | E2: 6295 | F2: 871 | G2: 122 | H2: 56 | I2: 165 | J2: 34 | K2: 6202685 | L2: 117545 | M2: 152 | N2: 482 | O2: 1 | P2: 594 | Q2: 239 | R2: 10086 | S2: 1351 | T2: 254 | U2: 303 | V2: 298 | W2: 218 | X2: 190 | Y2: 44 | Z2: 2553
A3: Kingston: from/to Ireland | B3: 293 | C3: 44 | D3: 27 | E3: 54 | F3: 331 | G3: 4 | H3: 0 | I3: 20 | J3: 0 | K3: 80853 | L3: 0 | M3: 0 | N3: 0 | O3: 0 | P3: 26 | Q3: 0 | R3: 251 | S3: 122 | T3: 8 | U3: 22 | V3: 0 | W3: 0 | X3: 0 | Y3: 0 | Z3: 39
A4: Kingston: from/to GB & Ireland
A5: Kingston: from/to Europe | B5: 246 | C5: 93 | D5: 13 | E5: 635 | F5: 109 | G5: 0 | H5: 0 | I5: 0 | J5: 0 | K5: 196090 | L5: 59946 | M5: 0 | N5: 0 | O5: 0 | P5: 0 | Q5: 0 | R5: 0 | S5: 90 | T5: 33 | U5: 0 | V5: 0 | W5: 0 | X5: 0 | Y5: 0 | Z5: 0
A6: Kingston: from/to Br Plantations | B6: 136 | C6: 81 | D6: 579 | E6: 871 | F6: 69 | G6: 87 | H6: 11 | I6: 6 | J6: 0 | K6: 150145 | L6: 19793 | M6: 0 | N6: 6 | O6: 0 | P6: 5 | Q6: 5 | R6: 0 | S6: 12 | T6: 0 | U6: 0 | V6: 0 | W6: 0 | X6: 135 | Y6: 0 | Z6: 0
A7: Kingston: from/to US
A8: Kingston: from/to Spanish Main
A9: Kingston: from/to Foreign Plantations | B9: 0 | C9: 0 | D9: 30 | E9: 334 | F9: 33 | G9: 1107 | H9: 0 | I9: 0 | J9: 0 | K9: 259413 | L9: 180219 | M9: 18 | N9: 0 | O9: 40 | P9: 0 | Q9: 0 | R9: 0 | S9: 0 | T9: 0 | U9: 0 | V9: 0 | W9: 0 | X9: 0 | Y9: 0 | Z9: 0
A10: Kingston: Total | B10: =SUM(B2:B9) -> 13673 | C10: =SUM(C2:C9) -> 1418 | D10: =SUM(D2:D9) -> 1382 | E10: =SUM(E2:E9) -> 8189 | F10: =SUM(F2:F9) -> 1413 | G10: =SUM(G2:G9) -> 1320 | H10: =SUM(H2:H9) -> 67 | I10: =SUM(I2:I9) -> 191 | ... Z10: =SUM(Z2:Z9) -> 2592
A11: Outports: from/to GB | B11: 67702 | C11: 7094 | D11: 1164 | E11: 20843 | F11: 1723 | G11: 69 | H11: 127 | I11: 1751 | J11: 378 | K11: 10041261 | L11: 1596117 | M11: 923 | N11: 1877 | O11: 74 | P11: 143 | Q11: 9 | R11: 2560 | S11: 3201 | T11: 827 | U11: 61 | V11: 183 | W11: 249 | X11: 1492 | Y11: 4 | Z11: 11826
A12: Outports: from/to Ireland | B12: 225 | C12: 51 | D12: 0 | E12: 50 | F12: 20 | G12: 0 | H12: 0 | I12: 0 | J12: 0 | K12: 0 | L12: 0 | M12: 0 | N12: 0 | O12: 0 | P12: 6 | Q12: 0 | R12: 0 | S12: 101 | T12: 0 | U12: 0 | V12: 0 | W12: 0 | X12: 0 | Y12: 0 | Z12: 50
A13: Outports: from/to GB & Ireland
A14: Outports: from/to Br Plantations | B14: 308 | C14: 144 | D14: 264 | E14: 2519 | F14: 79 | G14: 0 | H14: 84 | I14: 0 | J14: 0 | K14: 303510 | L14: 3859 | M14: 4 | N14: 0 | O14: 71 | P14: 0 | Q14: 0 | R14: 654 | S14: 30 | T14: 1 | U14: 0 | V14: 67 | W14: 0 | X14: 114 | Y14: 1035 | Z14: 0
A15: Outports: from/to US
A16: Outports: from/to Spanish Main
A17: Outports: from/to Foreign Plantations | B17: 0 | C17: 17 | D17: 0 | E17: 2116 | F17: 18 | G17: 36 | H17: 5 | I17: 0 | J17: 0 | K17: 13986 | L17: 495574 | N17: 0 | O17: 73 | P17: 1 | Q17: 0 | R17: 0 | S17: 0 | T17: 0 | U17: 0 | V17: 0 | W17: 0 | X17: 0 | Y17: 0 | Z17: 0
A18: Outports: Total | B18: =SUM(B11:B17) -> 68235 | C18: =SUM(C11:C17) -> 7306 | D18: =SUM(D11:D17) -> 1428 | E18: =SUM(E11:E17) -> 25528 | F18: =SUM(F11:F17) -> 1840 | G18: =SUM(G11:G17) -> 105 | H18: =SUM(H11:H17) -> 216 | I18: =SUM(I11:I17) -> 1751 | ... Z18: =SUM(Z11:Z17) -> 11876
A19: Total | B19: =SUM(B10,B18) -> 81908 | C19: =SUM(C10,C18) -> 8724 | D19: =SUM(D10,D18) -> 2810 | E19: =SUM(E10,E18) -> 33717 | F19: =SUM(F10,F18) -> 3253 | G19: =SUM(G10,G18) -> 1425 | H19: =SUM(H10,H18) -> 283 | I19: =SUM(I10,I18) -> 1942 | ... Z19: =SUM(Z10,Z18) -> 14468

Sheet 1827-8 (I)
A1: Import: 1827-8 | B1: Flour (barrels) | C1: Corn meal (barrels) | D1: Bread (bags) | E1: Bread (lb) | F1: Rice (lb) | G1: Corn, beans, oats, etc. (bushels) | H1: Fish, dry (quintals) | I1: Fish, pickled (tierces) | J1: Fish, pickled (barrels) | K1: Fish, pickled (kits) | L1: Staves and heading | M1: Shingles | N1: Lumber (feet) | O1: Hoops | P1: Livestock: Horses | Q1: Livestock: Mules | R1: Livestock: Cattle | S1: Livestock: Asses | T1: Wines (tuns) | U1: Wines (gallons)
A2: Kingston: from/to GB | T2: =24+64 -> 88 | U2: =31+55 -> 86
A3: Kingston: from/to Ireland
A4: Kingston: from/to GB & Ireland | B4: 13851 | C4: 79 | D4: 1351 | E4: 147168 | F4: 625529 | G4: 5952 | H4: 0 | I4: 0 | J4: 17440 | K4: 0 | L4: 40650 | M4: 0 | N4: 161860 | O4: 14151 | P4: 0 | Q4: 0 | R4: 0 | S4: 0
A5: Kingston: from/to Europe | B5: 3172 | C5: 0 | D5: 0 | E5: 90293 | F5: 0 | G5: 0 | H5: 0 | I5: 0 | J5: 0 | K5: 0 | L5: 43846 | M5: 0 | N5: 0 | O5: 0 | P5: 0 | Q5: 0 | R5: 0 | S5: 0 | T5: 236 | U5: 176
A6: Kingston: from/to Br Plantations | B6: 5857 | C6: 3082 | D6: 0 | E6: 57651 | F6: 38513 | G6: 5824 | H6: 38710 | I6: 219 | J6: 26581 | K6: 836 | L6: 720868 | M6: 1480405 | N6: 1073922 | O6: 57000 | P6: 76 | Q6: 0 | R6: 0 | S6: 0
A7: Kingston: from/to US
A8: Kingston: from/to Spanish Main
A9: Kingston: from/to Foreign Plantations | B9: 26820 | C9: 7377 | D9: 0 | E9: 170575 | F9: 899746 | G9: 23666 | H9: 0 | I9: 0 | J9: 0 | K9: 0 | L9: 1011543 | M9: 1626557 | N9: 639681 | O9: 0 | P9: 78 | Q9: 36 | R9: 8 | S9: 107
A10: Kingston: Total | B10: =SUM(B2:B9) -> 49700 | C10: =SUM(C2:C9) -> 10538 | D10: =SUM(D2:D9) -> 1351 | E10: =SUM(E2:E9) -> 465687 | F10: =SUM(F2:F9) -> 1563788 | G10: =SUM(G2:G9) -> 35442 | H10: =SUM(H2:H9) -> 38710 | I10: =SUM(I2:I9) -> 219 | ... U10: =SUM(U2:U9) -> 262
A11: Outports: from/to GB | T11: =41+6 -> 47 | U11: =105+173 -> 278
A12: Outports: from/to Ireland
A13: Outports: from/to GB & Ireland | B13: 1399 | C13: 10 | D13: 0 | E13: 7701 | F13: 166779 | G13: 566 | H13: 0 | I13: 0 | J13: 41782 | K13: 0 | L13: 120858 | M13: 0 | N13: 300017 | O13: 26940 | P13: 0 | Q13: 0 | R13: 0 | S13: 0
A14: Outports: from/to Europe | T14: 91 | U14: 171
A15: Outports: from/to Br Plantations | B15: 3108 | C15: 1686 | D15: 0 | E15: 17001 | F15: 10860 | G15: 1989 | H15: 346164 | I15: 0 | J15: 7541 | K15: 766 | L15: 2458469 | M15: 1393515 | N15: 1961594 | O15: 3000 | P15: 6 | Q15: 0 | R15: 0 | S15: 0
A16: Outports: from/to US
A17: Outports: from/to Spanish Main
A18: Outports: from/to Foreign Plantations | B18: 3959.5 | C18: 2640 | D18: 0 | E18: 18486 | F18: 67929 | G18: 3279 | H18: 0 | I18: 0 | J18: 0 | K18: 0 | L18: 1548824 | M18: 1051657 | N18: 340133 | O18: 0 | P18: 627 | Q18: 407 | R18: 0 | S18: 0
A19: Outports: Total | B19: =SUM(B11:B18) -> 8466.5 | C19: =SUM(C11:C18) -> 4336 | D19: =SUM(D11:D18) -> 0 | E19: =SUM(E11:E18) -> 43188 | F19: =SUM(F11:F18) -> 245568 | G19: =SUM(G11:G18) -> 5834 | H19: =SUM(H11:H18) -> 346164 | I19: =SUM(I11:I18) -> 0 | ... U19: =SUM(U11:U18) -> 449
A20: Total | B20: =SUM(B10,B19) -> 58166.5 | C20: =SUM(C10,C19) -> 14874 | D20: =SUM(D10,D19) -> 1351 | E20: =SUM(E10,E19) -> 508875 | F20: =SUM(F10,F19) -> 1809356 | G20: =SUM(G10,G19) -> 41276 | H20: =SUM(H10,H19) -> 384874 | I20: =SUM(I10,I19) -> 219 | ... U20: =SUM(U10,U19) -> 711

Sheet 1825-6 (E)
A1: Export: 1825-26 | B1: Sugar (hogsheads) | C1: Sugar (tierces) | D1: Sugar (barrels) | E1: Rum (puncheons) | F1: Rum (hogsheads) | G1: Rum (casks) | H1: Molasses (casks) | I1: Ginger (casks) | J1: Ginger (bags) | K1: Pimento (barrels) | L1: Pimento (bags) | M1: Coffee (lb) | N1: Arrow root (casks) | O1: Arrow root (kegs) | P1: Lime juice (casks) | Q1: Sweet meats (packages) | R1: Logwood (tons) | S1: Fustic (tons) | T1: Nicaragua wood (tons) | U1: Ebony (tons) | V1: Lignum vitae (tons) | W1: Mahogany and cedar (logs) | X1: Lancewood spars
A2: Kingston: from/to GB | B2: 23325 | C2: 1459 | D2: 717 | E2: 5140 | F2: 453 | G2: 60 | H2: 5 | I2: 400 | J2: 0 | K2: 120 | L2: 1509 | M2: 9911744 | N2: 147 | O2: 251 | P2: 25 | Q2: 695 | R2: 1549 | S2: 135.5 | T2: 646 | U2: 177 | V2: 206 | W2: 680 | X2: 3560
A3: Kingston: from/to Ireland | B3: 385 | C3: 99 | D3: 50 | E3: 6 | F3: 36 | G3: 0 | H3: 0 | I3: 9 | J3: 0 | K3: 0 | L3: 32 | M3: 78450 | N3: 0 | O3: 0 | P3: 0 | Q3: 9 | R3: 120 | S3: 38 | T3: 0 | U3: 0 | V3: 18 | W3: 0 | X3: 0
A4: Kingston: from/to GB & Ireland
A5: Kingston: from/to Europe | B5: 60 | C5: 10 | D5: 7 | E5: 55 | F5: 0 | G5: 0 | H5: 0 | I5: 0 | J5: 0 | K5: 3 | L5: 268 | M5: 506755 | N5: 0 | O5: 0 | P5: 0 | Q5: 0 | R5: 22 | S5: 0 | T5: 0 | U5: 0 | V5: 0 | W5: 0 | X5: 0
A6: Kingston: from/to Br Plantations | B6: 247 | C6: 143 | D6: 730 | E6: 2641 | F6: 134 | G6: 482 | H6: 12 | I6: 32 | J6: 1 | K6: 13 | L6: 115 | M6: 114292 | N6: 0 | O6: 0 | P6: 20 | Q6: 11 | R6: 6 | S6: 0 | T6: 0 | U6: 0 | V6: 2 | W6: 61 | X6: 0
A7: Kingston: from/to US | B7: 216 | C7: 105 | D7: 116 | E7: 276 | F7: 1 | G7: 0 | H7: 0 | I7: 0 | J7: 0 | K7: 221 | L7: 1958 | M7: 1875465 | N7: 13 | O7: 5 | P7: 48 | Q7: 20 | R7: 457 | S7: 2 | T7: 109 | U7: 28 | V7: 113 | W7: 0 | X7: 0
A8: Kingston: from/to Spanish Main
A9: Kingston: from/to Foreign Plantations | B9: 0 | C9: 0 | D9: 52 | E9: 148 | F9: 298 | G9: 1179 | H9: 0 | I9: 0 | J9: 0 | K9: 4 | L9: 18 | M9: 630 | N9: 0 | O9: 0 | P9: 0 | Q9: 15 | R9: 0 | S9: 0 | T9: 0 | U9: 0 | V9: 0 | W9: 0 | X9: 0
A10: Kingston: Total | B10: =SUM(B2:B9) -> 24233 | C10: =SUM(C2:C9) -> 1816 | D10: =SUM(D2:D9) -> 1672 | E10: =SUM(E2:E9) -> 8266 | F10: =SUM(F2:F9) -> 922 | G10: =SUM(G2:G9) -> 1721 | H10: =SUM(H2:H9) -> 17 | I10: =SUM(I2:I9) -> 441 | ... AA10: =SUM(AA2:AA9) -> 0
A11: Outports: from/to GB | B11: 74390 | C11: 7223 | D11: 768 | E11: 20216 | F11: 1847 | G11: 38 | H11: 231 | I11: 5294 | J11: 516 | K11: 148 | L11: 10657 | M11: 7659923 | N11: 195 | O11: 1653 | P11: 94 | Q11: 117 | R11: 3250 | S11: 711 | T11: 88 | U11: 81 | V11: 111 | W11: 2368 | X11: 4640
A12: Outports: from/to Ireland | C12: 265 | D12: 331 | E12: 0 | F12: 0 | G12: 0 | H12: 0 | I12: 2 | J12: 0 | K12: 0 | L12: 10 | M12: 0 | N12: 0 | O12: 1 | P12: 0 | Q12: 0 | R12: 15 | S12: 0 | T12: 0 | U12: 0 | V12: 0 | W12: 0 | X12: 0
A13: Outports: from/to GB & Ireland
A14: Outports: from/to Br Plantations | B14: 1014 | C14: 172 | D14: 293 | E14: 3760 | F14: 185 | G14: 25 | H14: 148 | I14: 12 | J14: 0 | K14: 4 | L14: 122 | M14: 56721 | N14: 3 | O14: 0 | P14: 17 | Q14: 12 | R14: 12 | S14: 10 | T14: 0 | U14: 0 | V14: 19 | W14: 52 | X14: 0
A15: Outports: from/to US | B15: 291 | C15: 38 | D15: 62 | E15: 3271 | F15: 143 | G15: 2 | H15: 153 | I15: 5 | J15: 0 | K15: 9 | L15: 1744 | M15: 148906 | N15: 0 | O15: 2 | P15: 44 | Q15: 0 | R15: 181 | S15: 11 | T15: 5 | U15: 0 | V15: 2 | W15: 0 | X15: 0
A16: Outports: from/to Spanish Main
A17: Outports: from/to Foreign Plantations | B17: 50 | C17: 0 | D17: 0 | E17: 97 | F17: 1 | G17: 66 | H17: 0 | I17: 0 | J17: 0 | K17: 0 | L17: 0 | N17: 0 | O17: 0 | P17: 0 | Q17: 0 | R17: 0 | S17: 0 | T17: 0 | U17: 0 | V17: 0 | W17: 0 | X17: 0
A18: Outports: Total | B18: =SUM(B11:B17) -> 75745 | C18: =SUM(C11:C17) -> 7698 | D18: =SUM(D11:D17) -> 1454 | E18: =SUM(E11:E17) -> 27344 | F18: =SUM(F11:F17) -> 2176 | G18: =SUM(G11:G17) -> 131 | H18: =SUM(H11:H17) -> 532 | I18: =SUM(I11:I17) -> 5313 | ... AA18: =SUM(AA11:AA17) -> 0
A19: Total | B19: =SUM(B10,B18) -> 99978 | C19: =SUM(C10,C18) -> 9514 | D19: =SUM(D10,D18) -> 3126 | E19: =SUM(E10,E18) -> 35610 | F19: =SUM(F10,F18) -> 3098 | G19: =SUM(G10,G18) -> 1852 | H19: =SUM(H10,H18) -> 549 | I19: =SUM(I10,I18) -> 5754 | ... AA19: =SUM(AA10,AA18) -> 0

Sheet 1825-6 (I)
A1: Import: 1825-26 | B1: Flour (barrels) | C1: Corn meal (barrels) | D1: Bread (barrels) | E1: Bread (bags) | F1: Bread (lb) | G1: Rice (tierces) | H1: Rice (lb) | I1: Corn, pease, and beans (bushels) | J1: Fish, dry (hogsheads) | K1: Fish, dry (casks) | L1: Fish, dry (boxes) | M1: Fish, pickled (tierces) | N1: Fish, pickled (barrels) | O1: Fish, pickled (kits) | P1: Staves and heading | Q1: Shingles | R1: Lumber (feet) | S1: Hoops | T1: Livestock: Horses | U1: Livestock: Mules | V1: Livestock: Asses | W1: Livestock: Cattle | X1: Beer and cider (tuns) | Y1: Beer and cider (gallons) | Z1: Tobacco (lb) | AA1: Soap (lb) | AB1: Butter and lard (lb) | AC1: Hams and cheese (lb) | AD1: Turpentine (gallons) | AE1: Candles (lb) | AF1: Boots and shoes (dozens) | AG1: Chairs (dozens)
A2: Kingston: from/to GB
A3: Kingston: from/to Ireland
A4: Kingston: from/to GB & Ireland | B4: 5781 | C4: 0 | D4: 904 | E4: 3356 | F4: 31708 | G4: 219 | H4: 0 | I4: 4645 | J4: 0 | K4: 0 | L4: 0 | M4: 0 | N4: 16827 | O4: 0 | P4: 0 | Q4: 0 | R4: 0 | S4: 0 | T4: 0 | U4: 0 | V4: 0 | W4: 0
A5: Kingston: from/to Europe
A6: Kingston: from/to Br Plantations | B6: 300 | C6: 6 | D6: 12 | E6: 0 | F6: 0 | G6: 0 | H6: 25846 | I6: 634 | J6: 5022 | K6: 2276 | L6: 2811 | M6: 138 | N6: 22806 | O6: 667 | P6: 161666 | Q6: 247980 | R6: 678227 | S6: 83500 | T6: 2 | U6: 0 | V6: 0 | W6: 0
A7: Kingston: from/to US | B7: 47274 | C7: 8229 | D7: 1867 | E7: 0 | F7: 176105 | G7: 0 | H7: 1284101 | I7: 27563 | J7: 0 | K7: 0 | L7: 0 | M7: 0 | N7: 0 | O7: 0 | P7: 1632089 | Q7: 4603202 | R7: 1373259 | S7: 5480 | T7: 175 | U7: 0 | V7: 0 | W7: 0 | X7: 9 | Y7: 226 | Z7: 34000 | AA7: 14551 | AB7: 78165 | AC7: 44890 | AD7: 2003 | AE7: =13906+38310 -> 52216 | AF7: 691 | AG7: 61
A8: Kingston: from/to Spanish Main
A9: Kingston: from/to Foreign Plantations | B9: 1200 | C9: 0 | D9: 0 | E9: 0 | F9: 28 | G9: 0 | H9: 3500 | I9: 3119 | J9: 0 | K9: 0 | L9: 0 | M9: 0 | N9: 0 | O9: 0 | P9: 0 | Q9: 0 | R9: 0 | S9: 0 | T9: 87 | U9: 174 | V9: 64 | W9: 61
A10: Kingston: Total | B10: =SUM(B2:B9) -> 54555 | C10: =SUM(C2:C9) -> 8235 | D10: =SUM(D2:D9) -> 2783 | E10: =SUM(E2:E9) -> 3356 | F10: =SUM(F2:F9) -> 207841 | G10: =SUM(G2:G9) -> 219 | H10: =SUM(H2:H9) -> 1313447 | I10: =SUM(I2:I9) -> 35961 | ... AG10: =SUM(AG2:AG9) -> 61
A11: Outports: from/to GB
A12: Outports: from/to Ireland
A13: Outports: from/to GB & Ireland | B13: 134 | C13: 0 | D13: 121 | E13: 0 | F13: 0 | G13: 187 | H13: 0 | I13: 1361 | J13: 0 | K13: 0 | L13: 0 | M13: 0 | N13: 36542 | O13: 0 | P13: 0 | Q13: 0 | R13: 0 | S13: 0 | T13: 0 | U13: 0 | V13: 0 | W13: 0
A14: Outports: from/to Br Plantations | B14: 246 | C14: 0 | D14: 367 | E14: 0 | F14: 0 | G14: 0 | H14: 0 | I14: 155 | J14: 996 | K14: 1108 | L14: 892 | M14: 35 | N14: 6366 | O14: 263 | P14: 107551 | Q14: 705081 | R14: 1790809 | S14: 0 | T14: 0 | U14: 0 | V14: 0 | W14: 0
A15: Outports: from/to US | B15: 5470 | C15: 1806 | D15: 0 | E15: 0 | F15: 74444 | G15: 0 | H15: 98376 | I15: 4986 | J15: 0 | K15: 0 | L15: 0 | M15: 0 | N15: 0 | O15: 0 | P15: 3204127 | Q15: 3592396 | R15: 817910 | S15: 26000 | T15: 12 | U15: 0 | V15: 0 | W15: 0 | X15: 5 | Y15: 108 | Z15: 2370 | AA15: 1031 | AB15: 1943 | AC15: 3676 | AD15: 0 | AE15: =1227+1285 -> 2512 | AF15: 0 | AG15: 0
A16: Outports: from/to Spanish Main
A17: Outports: from/to Foreign Plantations | B17: 0 | C17: 0 | D17: 0 | E17: 0 | F17: 0 | G17: 0 | H17: 0 | I17: 54 | J17: 0 | K17: 0 | L17: 0 | M17: 0 | N17: 0 | O17: 0 | P17: 0 | Q17: 0 | R17: 0 | S17: 0 | T17: 359 | U17: 84 | V17: 0 | W17: 55
A18: Outports: Total | B18: =SUM(B11:B17) -> 5850 | C18: =SUM(C11:C17) -> 1806 | D18: =SUM(D11:D17) -> 488 | E18: =SUM(E11:E17) -> 0 | F18: =SUM(F11:F17) -> 74444 | G18: =SUM(G11:G17) -> 187 | H18: =SUM(H11:H17) -> 98376 | I18: =SUM(I11:I17) -> 6556 | ... AG18: =SUM(AG11:AG17) -> 0
A19: Total | B19: =SUM(B10,B18) -> 60405 | C19: =SUM(C10,C18) -> 10041 | D19: =SUM(D10,D18) -> 3271 | E19: =SUM(E10,E18) -> 3356 | F19: =SUM(F10,F18) -> 282285 | G19: =SUM(G10,G18) -> 406 | H19: =SUM(H10,H18) -> 1411823 | I19: =SUM(I10,I18) -> 42517 | ... AG19: =SUM(AG10,AG18) -> 61

Sheet 1824-5 (E)
A1: Export: 1824-25 | B1: Sugar (hogsheads) | C1: Sugar (tierces) | D1: Sugar (barrels) | E1: Rum (puncheons) | F1: Rum (hogsheads) | G1: Rum (casks) | H1: Rum (barrels) | I1: Molasses (casks) | J1: Ginger (barrels) | K1: Ginger (bags) | L1: Pimento (barrels) | M1: Pimento (bags) | N1: Coffee (lb)
A2: Kingston: from/to GB | B2: 15098 | C2: 644 | D2: 473 | E2: 3803 | F2: 320 | G2: 0 | H2: 0 | I2: 97 | J2: 367 | K2: 85 | L2: 132 | M2: 1312 | N2: 10300328
A3: Kingston: from/to Ireland | B3: 149 | C3: 56 | D3: 36 | E3: 1 | F3: 34 | G3: 0 | H3: 0 | I3: 0 | J3: 0 | K3: 0 | L3: 18 | M3: 13 | N3: 59960
A4: Kingston: from/to GB & Ireland
A5: Kingston: from/to Europe
A6: Kingston: from/to Br Plantations | B6: 84 | C6: 29 | D6: 908 | E6: 1318 | F6: 9 | G6: 101 | H6: 0 | I6: 0 | J6: 2 | K6: 2 | L6: 10 | M6: 88 | N6: 107906
A7: Kingston: from/to US | B7: 214 | C7: 10 | D7: 227 | E7: 265 | F7: 7 | G7: 0 | H7: 0 | I7: 10 | J7: 3 | K7: 0 | L7: 174 | M7: 3176 | N7: 1596667
A8: Kingston: from/to Spanish Main
A9: Kingston: from/to Foreign Plantations | B9: 0 | C9: 0 | D9: 8 | E9: 251 | F9: 31 | G9: 0 | H9: 211 | I9: 1 | J9: 0 | K9: 0 | L9: 0 | M9: 0
A10: Kingston: Total | B10: =SUM(B2:B9) -> 15545 | C10: =SUM(C2:C9) -> 739 | D10: =SUM(D2:D9) -> 1652 | E10: =SUM(E2:E9) -> 5638 | F10: =SUM(F2:F9) -> 401 | G10: =SUM(G2:G9) -> 101 | H10: =SUM(H2:H9) -> 211 | I10: =SUM(I2:I9) -> 108 | ... N10: =SUM(N2:N9) -> 12064861
A11: Outports: from/to GB | B11: 57061 | C11: 6170 | D11: 672 | E11: 15229 | F11: 1475 | H11: 0 | I11: 584 | J11: 3575 | K11: 261 | L11: 66 | M11: 10016 | N11: 8972677
A12: Outports: from/to Ireland | B12: 847 | C12: 323 | D12: 300 | E12: 0 | F12: 0 | G12: 0 | H12: 0 | I12: 0 | J12: 0 | K12: 0 | L12: 0 | M12: 0 | N12: 7018
A13: Outports: from/to GB & Ireland
A14: Outports: from/to Br Plantations | B14: 250 | C14: 112 | D14: 182 | E14: 3631 | F14: 156 | G14: 0 | H14: 0 | I14: 103 | J14: 0 | K14: 0 | L14: 13 | M14: 97 | N14: 47084
A15: Outports: from/to US | B15: 111 | C15: 36 | D15: 52 | E15: 3081 | F15: 37 | G15: 0 | H15: 0 | I15: 99 | J15: 0 | K15: 0 | L15: 124 | M15: 6277 | N15: 163016
A16: Outports: from/to Spanish Main
A17: Outports: from/to Foreign Plantations | B17: 0 | C17: 0 | D17: 0 | E17: 51 | F17: 8 | G17: 0 | H17: 4 | I17: 0 | J17: 0 | K17: 0 | L17: 0 | M17: 0 | N17: 0
A18: Outports: Total | B18: =SUM(B11:B17) -> 58269 | C18: =SUM(C11:C17) -> 6641 | D18: =SUM(D11:D17) -> 1206 | E18: =SUM(E11:E17) -> 21992 | F18: =SUM(F11:F17) -> 1676 | G18: =SUM(G11:G17) -> 0 | H18: =SUM(H11:H17) -> 4 | I18: =SUM(I11:I17) -> 786 | ... N18: =SUM(N11:N17) -> 9189795
A19: Total | B19: =SUM(B10,B18) -> 73814 | C19: =SUM(C10,C18) -> 7380 | D19: =SUM(D10,D18) -> 2858 | E19: =SUM(E10,E18) -> 27630 | F19: =SUM(F10,F18) -> 2077 | G19: =SUM(G10,G18) -> 101 | H19: =SUM(H10,H18) -> 215 | I19: =SUM(I10,I18) -> 894 | ... N19: =SUM(N10,N18) -> 21254656

Sheet 1824-5 (I)
A1: Import: 1824-25 | B1: Flour (barrels) | C1: Bread (barrels) | D1: Bread (bags) | E1: Bread (kegs) | F1: Rice (tierces) | G1: Rice (bags) | H1: Corn and meal (bushels) | I1: Corn and meal (bags) | J1: Corn and meal (barrels) | K1: Pease and beans (barrels) | L1: Pease and beans (bags) | M1: Fish, dry (hogsheads) | N1: Fish, dry (casks) | O1: Fish, dry (boxes) | P1: Fish, pickled (tierces) | Q1: Fish, pickled (barrels) | R1: Fish, pickled (kits) | S1: Staves and heading | T1: Shingles | U1: Lumber (feet) | V1: Livestock: Horses | W1: Livestock: Mules | X1: Livestock: Asses | Y1: Livestock: Cattle
A2: Kingston: from/to GB
A3: Kingston: from/to Ireland
A4: Kingston: from/to GB & Ireland | B4: 8532 | C4: 300 | D4: 3610 | E4: 0 | F4: 231 | G4: 22 | H4: 0 | I4: 0 | J4: 0 | K4: 0 | M4: 0 | N4: 0 | O4: 0 | P4: 0 | Q4: 17212 | R4: 0 | S4: 0 | T4: 0 | U4: 0 | V4: 0 | W4: 0 | X4: 0 | Y4: 0
A5: Kingston: from/to Europe
A6: Kingston: from/to Br Plantations | B6: 806 | C6: 20 | D6: 0 | E6: 200 | F6: 36 | G6: 50 | H6: 100 | I6: 0 | J6: 134 | K6: 0 | L6: 0 | M6: 4576 | N6: 3112 | O6: 2909 | P6: 202 | Q6: 18948 | R6: 766 | S6: 138510 | T6: 275500 | U6: 337040 | V6: 23 | W6: 0 | X6: 0 | Y6: 0
A7: Kingston: from/to US | B7: 48482 | C7: 3680 | D7: 0 | E7: 3155 | F7: 2296 | G7: 359 | H7: 51847 | I7: 1298 | J7: 17046 | K7: 617 | L7: 1298 | M7: 0 | N7: 0 | O7: 0 | P7: 0 | Q7: 0 | R7: 0 | S7: 1294039 | T7: 2797424 | U7: 1617967 | V7: 141 | W7: 0 | X7: 0 | Y7: 19
A8: Kingston: from/to Spanish Main
A9: Kingston: from/to Foreign Plantations | B9: 1654 | C9: 0 | D9: 0 | E9: 0 | F9: 5 | G9: 170 | H9: 7165 | I9: 81 | J9: 197 | K9: 61 | L9: 81 | M9: 0 | N9: 0 | O9: 0 | P9: 0 | Q9: 0 | R9: 0 | S9: 0 | T9: 0 | U9: 0 | V9: 22 | W9: 155 | X9: 86 | Y9: 1
A10: Kingston: Total | B10: =SUM(B2:B9) -> 59474 | C10: =SUM(C2:C9) -> 4000 | D10: =SUM(D2:D9) -> 3610 | E10: =SUM(E2:E9) -> 3355 | F10: =SUM(F2:F9) -> 2568 | G10: =SUM(G2:G9) -> 601 | H10: =SUM(H2:H9) -> 59112 | I10: =SUM(I2:I9) -> 1379 | ... Y10: =SUM(Y2:Y9) -> 20
A11: Outports: from/to GB
A12: Outports: from/to Ireland
A13: Outports: from/to GB & Ireland | B13: 959 | C13: 64 | D13: 0 | E13: 0 | F13: 225 | G13: 0 | H13: 0 | I13: 0 | J13: 0 | K13: 0 | L13: 0 | M13: 0 | N13: 0 | O13: 0 | P13: 0 | Q13: 34664 | R13: 0 | S13: 0 | T13: 0 | U13: 0 | V13: 0 | W13: 0 | X13: 0 | Y13: 0
A14: Outports: from/to Br Plantations | B14: 611 | C14: 56 | D14: 10 | E14: 0 | F14: 10 | G14: 0 | H14: 723 | I14: 100 | J14: 276 | K14: 0 | L14: 100 | M14: 583 | N14: 1394 | O14: 12330 | P14: 30 | Q14: 6014 | R14: 367 | S14: 514249 | T14: 634300 | U14: 1959780 | V14: 23 | W14: 0 | X14: 0 | Y14: 0
A15: Outports: from/to US | B15: 4896 | C15: 1006 | D15: 20 | E15: 226 | F15: 304 | G15: 0 | H15: 9797 | I15: 499 | J15: 3107 | K15: 50 | L15: 499 | M15: 0 | N15: 0 | O15: 0 | P15: 0 | Q15: 0 | R15: 0 | S15: 2505333 | T15: 1915995 | U15: 1573288 | V15: 7 | W15: 36 | X15: 0 | Y15: 0
A16: Outports: from/to Spanish Main
A17: Outports: from/to Foreign Plantations | B17: 0 | C17: 0 | D17: 0 | E17: 0 | F17: 0 | G17: 0 | H17: 200 | I17: 0 | J17: 0 | K17: 0 | L17: 0 | M17: 0 | N17: 0 | O17: 0 | P17: 0 | Q17: 0 | R17: 0 | S17: 0 | V17: 204 | W17: 13 | X17: 0 | Y17: 0
A18: Outports: Total | B18: =SUM(B11:B17) -> 6466 | C18: =SUM(C11:C17) -> 1126 | D18: =SUM(D11:D17) -> 30 | E18: =SUM(E11:E17) -> 226 | F18: =SUM(F11:F17) -> 539 | G18: =SUM(G11:G17) -> 0 | H18: =SUM(H11:H17) -> 10720 | I18: =SUM(I11:I17) -> 599 | ... Y18: =SUM(Y11:Y17) -> 0
A19: Total | B19: =SUM(B10,B18) -> 65940 | C19: =SUM(C10,C18) -> 5126 | D19: =SUM(D10,D18) -> 3640 | E19: =SUM(E10,E18) -> 3581 | F19: =SUM(F10,F18) -> 3107 | G19: =SUM(G10,G18) -> 601 | H19: =SUM(H10,H18) -> 69832 | I19: =SUM(I10,I18) -> 1978 | ... Y19: =SUM(Y10,Y18) -> 20

Sheet 1823-4 (E)
A1: Export: 1823-24 | B1: Sugar (hogsheads) | C1: Sugar (tierces) | D1: Sugar (barrels) | E1: Rum (puncheons) | F1: Rum (hogsheads) | G1: Rum (casks) | H1: Rum (barrels) | I1: Molasses (casks) | J1: Ginger (casks) | K1: Ginger (bags) | L1: Pimento (casks) | M1: Pimento (bags) | N1: Coffee (lb)
A2: Kingston: from/to GB | B2: 20579 | C2: 1125 | D2: 653 | E2: 4243 | F2: 621 | G2: 0 | H2: 0 | I2: 180 | J2: 229 | K2: 7 | L2: 305 | M2: 1751 | N2: 11574344
A3: Kingston: from/to Ireland | B3: 325 | C3: 110 | D3: 200 | E3: 4 | F3: 0 | G3: 0 | H3: 0 | I3: 0 | J3: 6 | K3: 0 | L3: 29 | M3: 71 | N3: 87236
A4: Kingston: from/to GB & Ireland
A5: Kingston: from/to Europe
A6: Kingston: from/to Br Plantations | B6: 77 | C6: 50 | D6: 533 | E6: 706 | F6: 7 | G6: 5 | H6: 0 | I6: 0 | J6: 6 | K6: 0 | L6: 0 | M6: 46 | N6: 158340
A7: Kingston: from/to US | B7: 270 | C7: 41 | D7: 197 | E7: 699 | F7: 0 | G7: 0 | H7: 0 | I7: 19 | J7: 1 | K7: 0 | L7: 64 | M7: 2867 | N7: 1743742
A8: Kingston: from/to Spanish Main
A9: Kingston: from/to Foreign Plantations | B9: 0 | C9: 0 | D9: 0 | E9: 1101 | F9: 288 | G9: 0 | H9: 61 | I9: 0 | J9: 0 | K9: 0 | L9: 0 | M9: 0 | N9: 15225
A10: Kingston: Total | B10: =SUM(B2:B9) -> 21251 | C10: =SUM(C2:C9) -> 1326 | D10: =SUM(D2:D9) -> 1583 | E10: =SUM(E2:E9) -> 6753 | F10: =SUM(F2:F9) -> 916 | G10: =SUM(G2:G9) -> 5 | H10: =SUM(H2:H9) -> 61 | I10: =SUM(I2:I9) -> 199 | ... N10: =SUM(N2:N9) -> 13578887
A11: Outports: from/to GB | B11: 75800 | C11: 7626 | D11: 636 | E11: 21603 | F11: 2195 | G11: 0 | H11: 0 | I11: 208 | J11: 1977 | K11: 45 | L11: 171 | M11: 22247 | N11: 13835844
A12: Outports: from/to Ireland | B12: 1268 | C12: 442 | D12: 305 | E12: 61 | F12: 35 | G12: 0 | H12: 0 | I12: 0 | J12: 7 | K12: 0 | L12: 0 | M12: 86 | N12: 15506
A13: Outports: from/to GB & Ireland
A14: Outports: from/to Br Plantations | B14: 294 | C14: 108 | D14: 139 | E14: 3604 | F14: 98 | G14: 0 | H14: 0 | I14: 151 | J14: 0 | K14: 0 | L14: 0 | M14: 216 | N14: 101008
A15: Outports: from/to US | B15: 612 | C15: 149 | D15: 128 | E15: 5089 | F15: 17 | G15: 0 | H15: 0 | I15: 352 | J15: 4 | K15: 0 | L15: 30 | M15: 6022 | N15: 145994
A16: Outports: from/to Spanish Main
A17: Outports: from/to Foreign Plantations | B17: 0 | C17: 0 | D17: 0 | E17: 11 | F17: 0 | G17: 0 | H17: 3 | I17: 0 | J17: 0 | K17: 0 | L17: 0 | M17: 0 | N17: 0
A18: Outports: Total | B18: =SUM(B11:B17) -> 77974 | C18: =SUM(C11:C17) -> 8325 | D18: =SUM(D11:D17) -> 1208 | E18: =SUM(E11:E17) -> 30368 | F18: =SUM(F11:F17) -> 2345 | G18: =SUM(G11:G17) -> 0 | H18: =SUM(H11:H17) -> 3 | I18: =SUM(I11:I17) -> 711 | ... N18: =SUM(N11:N17) -> 14098352
A19: Total | B19: =SUM(B10,B18) -> 99225 | C19: =SUM(C10,C18) -> 9651 | D19: =SUM(D10,D18) -> 2791 | E19: =SUM(E10,E18) -> 37121 | F19: =SUM(F10,F18) -> 3261 | G19: =SUM(G10,G18) -> 5 | H19: =SUM(H10,H18) -> 64 | I19: =SUM(I10,I18) -> 910 | ... N19: =SUM(N10,N18) -> 27677239

Sheet 1823-4 (I)
A1: Import: 1823-24 | B1: Flour (barrels) | C1: Bread (barrels) | D1: Bread (bags) | E1: Bread (kegs) | F1: Rice (tierces) | G1: Rice (barrels) | H1: Rice (bags) | I1: Corn and meal (bushels) | J1: Corn and meal (barrels) | K1: Pease and beans (barrels) | L1: Pease and beans (bags) | M1: Fish, dry (hogsheads) | N1: Fish, dry (casks) | O1: Fish, dry (boxes) | P1: Fish, pickled (tierces) | Q1: Fish, pickled (barrels) | R1: Fish, pickled (kits) | S1: Staves and heading | T1: Shingles | U1: Lumber (feet) | V1: Livestock: Horses | W1: Livestock: Mules | X1: Livestock: Asses | Y1: Livestock: Cattle
A2: Kingston: from/to GB
A3: Kingston: from/to Ireland
A4: Kingston: from/to GB & Ireland | B4: 13652 | C4: 75 | D4: 4792 | E4: 0 | F4: 815 | G4: 0 | H4: 2702 | I4: 0 | J4: 0 | K4: 400 | L4: 0 | M4: 0 | N4: 0 | O4: 0 | P4: 0 | Q4: 21699 | R4: 0 | S4: 0 | T4: 0 | U4: 0 | V4: 0 | W4: 0 | X4: 0 | Y4: 0
A5: Kingston: from/to Europe
A6: Kingston: from/to Br Plantations | B6: 1444 | C6: 0 | D6: 0 | E6: 0 | F6: 1892 | G6: 0 | H6: 295 | I6: 150 | J6: 189 | K6: 0 | L6: 0 | M6: 6560 | N6: 1165 | O6: 2953 | P6: 230 | Q6: 20650 | R6: 273 | S6: 176966 | T6: 530370 | U6: 717200 | V6: 6 | W6: 0 | X6: 0 | Y6: 0
A7: Kingston: from/to US | B7: 44587 | C7: 3349 | D7: 0 | E7: 1351 | F7: 13 | G7: 0 | H7: 581 | I7: 35380 | J7: 12581 | K7: 204 | L7: 1435 | M7: 0 | N7: 0 | O7: 0 | P7: 0 | Q7: 0 | R7: 0 | S7: 1877926 | T7: 3222500 | U7: 2352997 | V7: 124 | W7: 18 | X7: 0 | Y7: 37
A8: Kingston: from/to Spanish Main
A9: Kingston: from/to Foreign Plantations | B9: 1720 | C9: 0 | D9: 0 | E9: 0 | F9: 0 | G9: 0 | H9: 908 | I9: 5810 | J9: 415 | K9: 213 | L9: 301 | M9: 0 | N9: 0 | O9: 0 | P9: 0 | Q9: 0 | R9: 0 | S9: 0 | T9: 20000 | U9: 50000 | V9: 124 | W9: 179 | X9: 361 | Y9: 0
A10: Kingston: Total | B10: =SUM(B2:B9) -> 61403 | C10: =SUM(C2:C9) -> 3424 | D10: =SUM(D2:D9) -> 4792 | E10: =SUM(E2:E9) -> 1351 | F10: =SUM(F2:F9) -> 2720 | G10: =SUM(G2:G9) -> 0 | H10: =SUM(H2:H9) -> 4486 | I10: =SUM(I2:I9) -> 41340 | ... Y10: =SUM(Y2:Y9) -> 37
A11: Outports: from/to GB
A12: Outports: from/to Ireland
A13: Outports: from/to GB & Ireland | B13: 229 | C13: 40 | D13: 500 | E13: 0 | F13: 197 | G13: 0 | H13: 25 | I13: 0 | J13: 0 | K13: 0 | L13: 0 | M13: 0 | N13: 0 | O13: 0 | P13: 0 | Q13: 33841 | S13: 0 | T13: 0 | U13: 0 | V13: 0 | W13: 0 | X13: 0 | Y13: 0
A14: Outports: from/to Br Plantations | B14: 1260 | C14: 42 | D14: 0 | E14: 30 | F14: 5 | G14: 0 | H14: 112 | I14: 270 | J14: 288 | K14: 1 | L14: 7 | M14: 1365 | N14: 1092 | O14: 1316 | P14: 294 | Q14: 5058 | R14: 217 | S14: 457585 | T14: 1099850 | U14: 2252062 | V14: 14 | W14: 0 | X14: 0 | Y14: 0
A15: Outports: from/to US | B15: 7171 | C15: 876 | D15: 50 | E15: 590 | F15: 637 | G15: 10 | H15: 5 | I15: 12638 | J15: 3521 | K15: 16 | L15: 1079 | M15: 0 | N15: 0 | O15: 0 | P15: 0 | Q15: 0 | R15: 0 | S15: 3413953 | T15: 3104960 | U15: 1872400 | V15: 46 | W15: 0 | X15: 0 | Y15: 0
A16: Outports: from/to Spanish Main
A17: Outports: from/to Foreign Plantations | B17: 0 | C17: 0 | D17: 0 | E17: 0 | F17: 0 | G17: 0 | H17: 0 | I17: 0 | J17: 0 | K17: 0 | L17: 0 | M17: 0 | N17: 0 | O17: 0 | P17: 0 | Q17: 0 | R17: 0 | S17: 0 | T17: 0 | U17: 0 | V17: 90 | W17: 0 | X17: 0 | Y17: 0
A18: Outports: Total | B18: =SUM(B11:B17) -> 8660 | C18: =SUM(C11:C17) -> 958 | D18: =SUM(D11:D17) -> 550 | E18: =SUM(E11:E17) -> 620 | F18: =SUM(F11:F17) -> 839 | G18: =SUM(G11:G17) -> 10 | H18: =SUM(H11:H17) -> 142 | I18: =SUM(I11:I17) -> 12908 | ... Y18: =SUM(Y11:Y17) -> 0
A19: Total | B19: =SUM(B10,B18) -> 70063 | C19: =SUM(C10,C18) -> 4382 | D19: =SUM(D10,D18) -> 5342 | E19: =SUM(E10,E18) -> 1971 | F19: =SUM(F10,F18) -> 3559 | G19: =SUM(G10,G18) -> 10 | H19: =SUM(H10,H18) -> 4628 | I19: =SUM(I10,I18) -> 54248 | ... Y19: =SUM(Y10,Y18) -> 37

Sheet 1822-3 (E)
A1: Export: 1822-23 | B1: Sugar (hogsheads) | C1: Sugar (tierces) | D1: Sugar (barrels) | E1: Rum (puncheons) | F1: Rum (hogsheads) | G1: Rum (casks) | H1: Rum (barrels) | I1: Molasses (casks) | J1: Ginger (casks) | K1: Ginger (bags) | L1: Pimento (casks) | M1: Pimento (bags) | N1: Coffee (lb)
A2: Kingston: from/to GB | B2: 22525 | C2: 1374 | D2: 327 | E2: 5106 | F2: 180 | G2: 0 | H2: 0 | I2: 12 | J2: 120 | K2: 32 | L2: 1258 | M2: 1787 | N2: 9620165
A3: Kingston: from/to Ireland | B3: 826 | C3: 142 | D3: 129 | E3: 15 | F3: 12 | G3: 0 | H3: 0 | I3: 0 | J3: 0 | K3: 0 | L3: 26 | M3: 15 | N3: 350072
A4: Kingston: from/to GB & Ireland
A5: Kingston: from/to Europe
A6: Kingston: from/to Br Plantations | B6: 155 | C6: 150 | D6: 385 | E6: 1176 | F6: 18 | G6: 1 | H6: 0 | I6: 0 | J6: 14 | K6: 4 | L6: 12 | M6: 30 | N6: 90664
A7: Kingston: from/to US | B7: 469 | C7: 85 | D7: 180 | E7: 404 | F7: 2 | G7: 0 | H7: 0 | I7: 60 | J7: 0 | K7: 2 | L7: 96 | M7: 610 | N7: 478925
A8: Kingston: from/to Spanish Main | B8: 0 | C8: 0 | D8: 0 | E8: 1436 | F8: 173 | G8: 19 | H8: 108 | I8: 0 | J8: 0 | K8: 0 | L8: 0 | M8: 0 | N8: 0
A9: Kingston: from/to Foreign Plantations
A10: Kingston: Total | B10: =SUM(B2:B9) -> 23975 | C10: =SUM(C2:C9) -> 1751 | D10: =SUM(D2:D9) -> 1021 | E10: =SUM(E2:E9) -> 8137 | F10: =SUM(F2:F9) -> 385 | G10: =SUM(G2:G9) -> 20 | H10: =SUM(H2:H9) -> 108 | I10: =SUM(I2:I9) -> 72 | ... N10: =SUM(N2:N9) -> 10539826
A11: Outports: from/to GB | B11: 69784 | C11: 7039 | D11: 691 | E11: 21233 | F11: 1366 | G11: 0 | H11: 0 | I11: 208 | J11: 907 | K11: 22 | L11: 124 | M11: 16427 | N11: 9585798
A12: Outports: from/to Ireland | B12: 653 | C12: 80 | D12: 51 | E12: 308 | F12: 88 | G12: 0 | H12: 0 | I12: 0 | J12: 0 | K12: 0 | L12: 0 | M12: 55 | N12: 23829
A13: Outports: from/to GB & Ireland
A14: Outports: from/to Br Plantations | B14: 325 | C14: 147 | D14: 69 | E14: 3233 | F14: 70 | G14: 0 | H14: 0 | I14: 63 | J14: 0 | K14: 0 | L14: 332 | M14: 68 | N14: 42159
A15: Outports: from/to US | B15: 168 | C15: 162 | D15: 115 | E15: 2234 | F15: 26 | G15: 0 | H15: 0 | I15: 271 | J15: 0 | K15: 0 | L15: 46 | M15: 2489 | N15: 34833
A16: Outports: from/to Spanish Main | B16: 0 | C16: 0 | D16: 0 | E16: 97 | F16: 0 | G16: 0 | H16: 10 | I16: 0 | J16: 0 | K16: 0 | L16: 0 | M16: 0 | N16: 0
A17: Outports: from/to Foreign Plantations
A18: Outports: Total | B18: =SUM(B11:B17) -> 70930 | C18: =SUM(C11:C17) -> 7428 | D18: =SUM(D11:D17) -> 926 | E18: =SUM(E11:E17) -> 27105 | F18: =SUM(F11:F17) -> 1550 | G18: =SUM(G11:G17) -> 0 | H18: =SUM(H11:H17) -> 10 | I18: =SUM(I11:I17) -> 542 | ... N18: =SUM(N11:N17) -> 9686619
A19: Total | B19: =SUM(B10,B18) -> 94905 | C19: =SUM(C10,C18) -> 9179 | D19: =SUM(D10,D18) -> 1947 | E19: =SUM(E10,E18) -> 35242 | F19: =SUM(F10,F18) -> 1935 | G19: =SUM(G10,G18) -> 20 | H19: =SUM(H10,H18) -> 118 | I19: =SUM(I10,I18) -> 614 | ... N19: =SUM(N10,N18) -> 20226445

Sheet 1822-3 (I)
A1: Import: 1822-23 | B1: Flour (barrels) | C1: Bread (barrels) | D1: Bread (bags) | E1: Bread (kegs) | F1: Rice (tierces) | G1: Rice (barrels) | H1: Rice (bags) | I1: Corn and meal (bushels) | J1: Corn and meal (bags) | K1: Corn and meal (barrels) | L1: Pease and beans (barrels) | M1: Pease and beans (bags) | N1: Fish, dry (hogsheads) | O1: Fish, dry (casks) | P1: Fish, dry (boxes) | Q1: Fish, pickled (tierces) | R1: Fish, pickled (barrels) | S1: Fish, pickled (kits) | T1: Staves and heading | U1: Shingles | V1: Lumber (feet) | W1: Livestock: Horses | X1: Livestock: Mules | Y1: Livestock: Asses | Z1: Livestock: Cattle
A2: Kingston: from/to GB
A3: Kingston: from/to Ireland
A4: Kingston: from/to GB & Ireland | B4: 5110 | C4: 392 | D4: 5273 | E4: 0 | F4: 43 | G4: 0 | H4: 0 | I4: 0 | J4: 0 | K4: 0 | L4: 386 | M4: 0 | N4: 0 | O4: 0 | P4: 0 | Q4: 0 | R4: 15686 | S4: 0 | T4: 0 | U4: 0 | V4: 0 | W4: 0 | X4: 0 | Y4: 0 | Z4: 0
A5: Kingston: from/to Europe
A6: Kingston: from/to Br Plantations | B6: 944 | C6: 0 | D6: 30 | E6: 0 | F6: 0 | G6: 0 | H6: 0 | I6: 540 | J6: 0 | K6: 90 | L6: 179 | M6: 0 | N6: 3176 | O6: 3000 | P6: 3574 | Q6: 168 | R6: 21724 | S6: 279 | T6: 213726 | U6: 1485800 | V6: 1251750 | W6: 15 | X6: 0 | Y6: 0 | Z6: 0
A7: Kingston: from/to US | B7: 43428 | C7: 2931 | D7: 0 | E7: 2861 | F7: 1122 | G7: 20 | H7: 450 | I7: 25191 | J7: 3931 | K7: 7186 | L7: 438 | M7: 1309 | N7: 0 | O7: 0 | P7: 0 | Q7: 0 | R7: 0 | S7: 0 | T7: 1141092 | U7: 3028435 | V7: 2248889 | W7: 22 | X7: 0 | Y7: 0 | Z7: 27
A8: Kingston: from/to Spanish Main | B8: 1624 | C8: 0 | D8: 0 | E8: 0 | F8: 0 | G8: 0 | H8: 19 | I8: 3615 | J8: 461 | K8: 310 | L8: 51 | M8: 39 | N8: 0 | O8: 0 | P8: 0 | Q8: 0 | R8: 0 | S8: 0 | T8: 0 | U8: 0 | V8: 0 | W8: 248 | X8: 174 | Y8: 177 | Z8: 19
A9: Kingston: from/to Foreign Plantations
A10: Kingston: Total | B10: =SUM(B2:B9) -> 51106 | C10: =SUM(C2:C9) -> 3323 | D10: =SUM(D2:D9) -> 5303 | E10: =SUM(E2:E9) -> 2861 | F10: =SUM(F2:F9) -> 1165 | G10: =SUM(G2:G9) -> 20 | H10: =SUM(H2:H9) -> 469 | I10: =SUM(I2:I9) -> 29346 | ... Z10: =SUM(Z2:Z9) -> 46
A11: Outports: from/to GB
A12: Outports: from/to Ireland
A13: Outports: from/to GB & Ireland | B13: 286 | C13: 40 | D13: 0 | E13: 0 | F13: 232 | G13: 0 | H13: 30 | I13: 0 | J13: 0 | K13: 0 | L13: 0 | M13: 0 | N13: 0 | O13: 0 | P13: 0 | Q13: 0 | R13: 38211 | S13: 0 | T13: 0 | U13: 0 | V13: 0 | W13: 0 | X13: 0 | Y13: 0 | Z13: 0
A14: Outports: from/to Br Plantations | B14: 963 | C14: 84 | D14: 0 | E14: 102 | F14: 22 | G14: 0 | H14: 80 | I14: 1300 | J14: 0 | K14: 295 | L14: 37 | M14: 50 | N14: 1448 | O14: 535 | P14: 1173 | Q14: 82 | R14: 3054 | S14: 170 | T14: 441204 | U14: 1066850 | V14: 2032530 | W14: 11 | X14: 0 | Y14: 0 | Z14: 37
A15: Outports: from/to US | B15: 2827 | C15: 485 | D15: 0 | E15: 232 | F15: 338 | G15: 175 | H15: 0 | I15: 7401 | J15: 950 | K15: 829 | L15: 82 | M15: 382 | N15: 0 | O15: 0 | P15: 0 | Q15: 0 | R15: 0 | S15: 0 | T15: 1422455 | U15: 2782030 | V15: 1478080 | W15: 2 | X15: 0 | Y15: 0 | Z15: 0
A16: Outports: from/to Spanish Main | B16: 0 | C16: 0 | D16: 0 | E16: 0 | F16: 0 | G16: 0 | H16: 0 | I16: 180 | J16: 0 | K16: 0 | L16: 0 | M16: 0 | N16: 0 | O16: 0 | P16: 0 | Q16: 0 | R16: 0 | S16: 0 | T16: 0 | U16: 0 | V16: 0 | W16: 145 | X16: 5 | Y16: 0 | Z16: 89
A17: Outports: from/to Foreign Plantations
A18: Outports: Total | B18: =SUM(B11:B17) -> 4076 | C18: =SUM(C11:C17) -> 609 | D18: =SUM(D11:D17) -> 0 | E18: =SUM(E11:E17) -> 334 | F18: =SUM(F11:F17) -> 592 | G18: =SUM(G11:G17) -> 175 | H18: =SUM(H11:H17) -> 110 | I18: =SUM(I11:I17) -> 8881 | ... Z18: =SUM(Z11:Z17) -> 126
A19: Total | B19: =SUM(B10,B18) -> 55182 | C19: =SUM(C10,C18) -> 3932 | D19: =SUM(D10,D18) -> 5303 | E19: =SUM(E10,E18) -> 3195 | F19: =SUM(F10,F18) -> 1757 | G19: =SUM(G10,G18) -> 195 | H19: =SUM(H10,H18) -> 579 | I19: =SUM(I10,I18) -> 38227 | ... Z19: =SUM(Z10,Z18) -> 172

Sheet 1821-2 (E)
A1: Export: 1821-22 | B1: Sugar (hogsheads) | C1: Sugar (tierces) | D1: Sugar (barrels) | E1: Rum (puncheons) | F1: Rum (hogsheads) | G1: Rum (casks) | H1: Rum (barrels) | I1: Molasses (casks) | J1: Ginger (casks) | K1: Ginger (bags) | L1: Pimento (casks) | M1: Pimento (bags) | N1: Coffee (lb)
A2: Kingston: from/to GB | B2: 17540 | C2: 1231 | D2: 202 | E2: 2555 | F2: 81 | G2: 0 | H2: 0 | I2: 0 | J2: 76 | K2: 2 | L2: 273 | M2: 674 | N2: 10888875
A3: Kingston: from/to Ireland | B3: 457 | C3: 51 | D3: 62 | E3: 3 | F3: 24 | G3: 0 | H3: 0 | I3: 0 | J3: 10 | K3: 0 | L3: 12 | M3: 15 | N3: 97890
A4: Kingston: from/to GB & Ireland
A5: Kingston: from/to Europe
A6: Kingston: from/to Br Plantations | B6: 180 | C6: 58 | D6: 264 | E6: 1054 | F6: 71 | G6: 2 | H6: 0 | I6: 8 | J6: 0 | K6: 0 | L6: 11 | M6: 1411 | N6: 111951
A7: Kingston: from/to US | B7: 12 | C7: 0 | D7: 5 | E7: 7 | F7: 0 | G7: 6 | H7: 0 | I7: 0 | J7: 0 | K7: 0 | L7: 0 | M7: 2 | N7: 14185
A8: Kingston: from/to Spanish Main | B8: 0 | C8: 0 | D8: 0 | E8: 1358 | F8: 77 | G8: 0 | H8: 46 | I8: 0 | J8: 0 | K8: 0 | L8: 0 | M8: 0 | N8: 0
A9: Kingston: from/to Foreign Plantations
A10: Kingston: Total | B10: =SUM(B2:B9) -> 18189 | C10: =SUM(C2:C9) -> 1340 | D10: =SUM(D2:D9) -> 533 | E10: =SUM(E2:E9) -> 4977 | F10: =SUM(F2:F9) -> 253 | G10: =SUM(G2:G9) -> 8 | H10: =SUM(H2:H9) -> 46 | I10: =SUM(I2:I9) -> 8 | ... N10: =SUM(N2:N9) -> 11112901
A11: Outports: from/to GB | B11: 69851 | C11: 7198 | D11: 591 | E11: 17240 | F11: 754 | G11: 0 | H11: 0 | I11: 65 | J11: 805 | K11: 70 | L11: 344 | M11: 15635 | N11: 8612513
A12: Outports: from/to Ireland | B12: 418 | C12: 93 | D12: 0 | E12: 0 | F12: 41 | G12: 0 | H12: 0 | I12: 0 | J12: 0 | K12: 0 | L12: 0 | M12: 10 | N12: 29977
A13: Outports: from/to GB & Ireland
A14: Outports: from/to Br Plantations | B14: 93 | C14: 74 | D14: 168 | E14: 4272 | F14: 65 | G14: 1 | H14: 0 | I14: 71 | J14: 0 | K14: 0 | L14: 59 | M14: 925 | N14: 17376
A15: Outports: from/to US | B15: 0 | C15: 0 | D15: 0 | E15: 31 | F15: 0 | G15: 0 | H15: 0 | I15: 0 | J15: 0 | K15: 0 | L15: 0 | M15: 0 | N15: 1143
A16: Outports: from/to Spanish Main | B16: 0 | C16: 0 | D16: 0 | E16: 2208 | F16: 11 | G16: 0 | H16: 396 | I16: 0 | J16: 0 | K16: 0 | L16: 0 | M16: 0 | N16: 0
A17: Outports: from/to Foreign Plantations
A18: Outports: Total | B18: =SUM(B11:B17) -> 70362 | C18: =SUM(C11:C17) -> 7365 | D18: =SUM(D11:D17) -> 759 | E18: =SUM(E11:E17) -> 23751 | F18: =SUM(F11:F17) -> 871 | G18: =SUM(G11:G17) -> 1 | H18: =SUM(H11:H17) -> 396 | I18: =SUM(I11:I17) -> 136 | ... N18: =SUM(N11:N17) -> 8661009
A19: Total | B19: =SUM(B10,B18) -> 88551 | C19: =SUM(C10,C18) -> 8705 | D19: =SUM(D10,D18) -> 1292 | E19: =SUM(E10,E18) -> 28728 | F19: =SUM(F10,F18) -> 1124 | G19: =SUM(G10,G18) -> 9 | H19: =SUM(H10,H18) -> 442 | I19: =SUM(I10,I18) -> 144 | ... N19: =SUM(N10,N18) -> 19773910

Sheet 1821-2 (I)
A1: Import: 1821-22 | B1: Flour (barrels) | C1: Bread (barrels) | D1: Bread (bags) | E1: Bread (kegs) | F1: Rice (tierces) | G1: Rice (barrels) | H1: Rice (bags) | I1: Corn and meal (bushels) | J1: Corn and meal (bags) | K1: Corn and meal (barrels) | L1: Pease and beans (barrels) | M1: Pease and beans (bags) | N1: Fish, dry (hogsheads) | O1: Fish, dry (casks) | P1: Fish, dry (boxes) | Q1: Fish, pickled (tierces) | R1: Fish, pickled (barrels) | S1: Fish, pickled (kits) | T1: Staves and heading | U1: Shingles | V1: Lumber (feet) | W1: Livestock: Horses | X1: Livestock: Mules | Y1: Livestock: Asses | Z1: Livestock: Cattle
A2: Kingston: from/to GB
A3: Kingston: from/to Ireland
A4: Kingston: from/to GB & Ireland | B4: 34148 | C4: 121 | D4: 3746 | E4: 0 | F4: 1817 | G4: 0 | H4: 5532 | I4: 0 | J4: 0 | K4: 0 | L4: 0 | M4: 0 | N4: 0 | O4: 0 | P4: 0 | Q4: 0 | R4: 15970 | S4: 0 | T4: 0 | U4: 0 | V4: 0 | W4: 0 | X4: 0 | Y4: 0 | Z4: 0
A5: Kingston: from/to Europe
A6: Kingston: from/to Br Plantations | B6: 9945 | C6: 3805 | D6: 0 | E6: 1854 | F6: 477 | G6: 2 | H6: 0 | I6: 8927 | J6: 454 | K6: 6725 | L6: 369 | M6: 24 | N6: 2390 | O6: 4308 | P6: 3325 | Q6: 252 | R6: 22316 | S6: 292 | T6: 931918 | U6: 3793515 | V6: 2874191 | W6: 88 | X6: 0 | Y6: 0 | Z6: 0
A7: Kingston: from/to US | B7: 2603 | C7: 95 | D7: 0 | E7: 98 | F7: 0 | G7: 0 | H7: 0 | I7: 2346 | J7: 0 | K7: 1412 | L7: 0 | M7: 0 | N7: 0 | O7: 0 | P7: 0 | Q7: 0 | R7: 0 | S7: 0 | T7: 0 | U7: 408000 | V7: 27000 | W7: 0 | X7: 0 | Y7: 0 | Z7: 0
A8: Kingston: from/to Spanish Main | B8: 17796 | C8: 0 | D8: 0 | E8: 0 | F8: 447 | G8: 22 | H8: 3752 | I8: 8544 | J8: 582 | K8: 4092 | L8: 207 | M8: 236 | N8: 0 | O8: 0 | P8: 0 | Q8: 0 | R8: 0 | S8: 0 | T8: 0 | U8: 0 | V8: 0 | W8: 849 | X8: 606 | Y8: 252 | Z8: 514
A9: Kingston: from/to Foreign Plantations
A10: Kingston: Total | B10: =SUM(B2:B9) -> 64492 | C10: =SUM(C2:C9) -> 4021 | D10: =SUM(D2:D9) -> 3746 | E10: =SUM(E2:E9) -> 1952 | F10: =SUM(F2:F9) -> 2741 | G10: =SUM(G2:G9) -> 24 | H10: =SUM(H2:H9) -> 9284 | I10: =SUM(I2:I9) -> 19817 | ... Z10: =SUM(Z2:Z9) -> 514
A11: Outports: from/to GB
A12: Outports: from/to Ireland
A13: Outports: from/to GB & Ireland | B13: 1219 | C13: 300 | D13: 0 | E13: 0 | F13: 246 | G13: 0 | H13: 1718 | I13: 0 | J13: 0 | K13: 0 | L13: 0 | M13: 0 | N13: 0 | O13: 0 | P13: 0 | Q13: 0 | R13: 47513 | S13: 0 | T13: 0 | U13: 0 | V13: 0 | X13: 0 | Y13: 0 | Z13: 0
A14: Outports: from/to Br Plantations | B14: 3012 | C14: 438 | D14: 10 | E14: 427 | F14: 104 | G14: 0 | H14: 0 | I14: 3402 | J14: 0 | K14: 1253 | L14: 0 | M14: 25 | N14: 763 | O14: 959 | P14: 1791 | Q14: 479 | R14: 3316 | S14: 71 | T14: 2460280 | U14: 3417800 | V14: 3655547 | W14: 30 | X14: 0 | Y14: 0 | Z14: 0
