Workbook

Sheet Overview
A1: Results Overview
A3: ID | B3: Pyramid | C3: Reference | D3: Finesse | E3: Error | F3: Loss (ppm) | G3: Error (ppm) | H3: Exp Date | I3: Measurement Notes | M3: Reference Mirror Properties: | N3: REO OC
A4: Exp. 1 | B4: B | C4: OC | D4: ='Experiment 1'!A29 -> 79311.349 | E4: ='Experiment 1'!B29 -> 4072.1584 | F4: ='Experiment 1'!E29 -> 38.921768 | G4: ='Experiment 1'!F29 -> 4.0675589 | H4: 44138 | I4: Static Loss Measurement | M4: Transmission (ppm): | N4: 38.3
A5: Exp. 2 | B5: A | C5: HR | D5: ='Experiment 2'!A28 -> 146466.38 | E5: ='Experiment 2'!B28 -> 3433.4178 | F5: ='Experiment 2'!E28 -> 40.398483 | G5: ='Experiment 2'!F28 -> 1.0056125 | H5: 44111 | I5: Resolved Birefringence | M5: Incoherent Loss (ppm): | N5: 2
A6: Exp. 3 | B6: B | C6: HR | D6: ='Experiment 3'!H8 -> 156462.21 | E6: ='Experiment 3'!I8 -> 7117.9669 | F6: ='Experiment 3'!L8 -> 37.657846 | G6: ='Experiment 3'!K8 -> 1.826909 | H6: 44123 | I6: Length Scan | M6: Total Loss (ppm): | N6: =N4+N5 -> 40.3
A7: Exp. 4 | B7: C | C7: OC | D7: ='Experiment 4'!H8 -> 77003.351 | E7: ='Experiment 4'!I8 -> 3781.9974 | F7: ='Experiment 4'!L8 -> 41.296258 | G7: ='Experiment 4'!M8 -> 4.0075768 | H7: 44168 | I7: Low ROC Feature
M8: Reference Mirror Properties: | N8: REO HR
A9: ID | B9: Pyramid | C9: Reference | D9: T (ppm) | E9: Error (ppm) | F9: Exp Date | M9: Transmission (ppm): | N9: 0.5
A10: Exp. 5 | B10: B | C10: OC | D10: ='Experiment 5'!B12 -> 1.7695223 | E10: ='Experiment 5'!C12 -> 0.3988324 | F10: 44153 | M10: Incoherent Loss (ppm): | N10: 2
M11: Total Loss (ppm): | N11: =N9+N10 -> 2.5

Sheet Experiment 1
A1: Pyramidal Mirror ID: B
A2: Reference Mirror ID: REO OC
A4: Fitting Notes: Integration between fundemental modes, piezo nonlinearity fitted using second order polynomial.
A6: Date | B6: Data ID | C6: FSR | F6: FSR Mean | G6: FSR SD | H6: FSR Error (%)
A7: 2020_11_03 | B7: mset_3_fsr_1 | C7: 7.3685828e+11 | F7: =AVERAGE(C7:C11) -> 7.386881e+11 | G7: =_xlfn.STDEV.P(C7:C11) -> 1.4657326e+10 | H7: =(G7/F7) -> 0.019842375
A8: 2020_11_03 | B8: mset_3_fsr_2 | C8: 7.6077289e+11
A9: 2020_11_03 | B9: mset_3_fsr_3 | C9: 7.2208891e+11
A10: 2020_11_03 | B10: mset_3_fsr_4 | C10: 7.2459473e+11
A11: 2020_11_03 | B11: mset_3_fsr_5 | C11: 7.4912569e+11
A13: Fitting Notes: | B13: None
A15: Date | B15: Data ID | C15: LW | F15: LW Mean | G15: LW SD | H15: LW Error (%)
A16: 2020_11_03 | B16: mset_1_lw_1 | C16: 10053686 | F16: =AVERAGE(C16:C25) -> 9313775.4 | G16: =_xlfn.STDEV.P(C16:C25) -> 441052.45 | H16: =(G16/F16) -> 0.047354851
A17: 2020_11_03 | B17: mset_1_lw_2 | C17: 9558857.1
A18: 2020_11_03 | B18: mset_1_lw_3 | C18: 9649155.6
A19: 2020_11_03 | B19: mset_1_lw_4 | C19: 9466398.4
A20: 2020_11_03 | B20: mset_1_lw_5 | C20: 9798298.4
A21: 2020_11_03 | B21: mset_2_lw_1 | C21: 9140871.7
A22: 2020_11_03 | B22: mset_2_lw_2 | C22: 9075190.1
A23: 2020_11_03 | B23: mset_2_lw_3 | C23: 8586519.8
A24: 2020_11_03 | B24: mset_2_lw_4 | C24: 8814139.1
A25: 2020_11_03 | B25: mset_2_lw_5 | C25: 8994638.6
A28: Finesse | B28: Error | C28: Total Loss | D28: Error | E28: Pyramid Loss | F28: Error
A29: =F7/F16 -> 79311.349 | B29: =A29 * SQRT((G7/F7)^2+(G16/F16)^2) -> 4072.1584 | C29: =1000000 * 2 * PI()/A29 -> 79.221768 | D29: =C29* SQRT((G7/F7)^2+(G16/F16)^2) -> 4.0675589 | E29: =C29-Overview!N6 -> 38.921768 | F29: =D29 -> 4.0675589

Sheet Experiment 2
A1: Pyramidal Mirror ID: A
A2: Reference Mirror ID: REO HR
A4: Fitting Notes: Integration between fundemental modes, piezo nonlinearity fitted using second order polynomial.
A6: Date | B6: Data ID | C6: FSR | F6: FSR Mean | G6: FSR SD | H6: FSR Error (%)
A7: 2020_10_07 | B7: mset_1_fsr_1 | C7: 6.7282296e+11 | F7: =AVERAGE(C7:C15) -> 6.745642e+11 | G7: =+_xlfn.STDEV.P(C7:C15) -> 5.3962293e+09 | H7: =G7/F7 -> 0.0079995785
A8: 2020_10_07 | B8: mset_1_fsr_2 | C8: 6.7159641e+11
A9: 2020_10_07 | B9: mset_1_fsr_3 | C9: 6.7809433e+11
A10: 2020_10_07 | B10: mset_1_fsr_4 | C10: 6.6872274e+11
A11: 2020_10_07 | B11: mset_1_fsr_5 | C11: 6.8116824e+11
A12: 2020_10_07 | B12: mset_1_fsr_6 | C12: 6.7962245e+11
A13: 2020_10_07 | B13: mset_1_fsr_7 | C13: 6.8218647e+11
A14: 2020_10_07 | B14: mset_1_fsr_8 | C14: 6.6767525e+11
A15: 2020_10_07 | B15: mset_1_fsr_9 | C15: 6.6918893e+11
A17: Fitting Notes: | B17: 36 Degree Waveplate Angle - Lower Birefringent Linewidth Recorded
A19: Date | B19: Data ID | C19: LW | F19: LW Mean | G19: LW SD | H19: LW Error (%)
A20: 2020_10_07 | B20: mset_1_lw_1 | C20: 4491639.6 | F20: =AVERAGE(C20:C24) -> 4605590.8 | G20: =_xlfn.STDEV.P(C20:C24) -> 101481.88 | H20: =G20/F20 -> 0.022034497
A21: 2020_10_07 | B21: mset_1_lw_2 | C21: 4792316.9
A22: 2020_10_07 | B22: mset_1_lw_3 | C22: 4558869.2
A23: 2020_10_07 | B23: mset_1_lw_4 | C23: 4568909.9
A24: 2020_10_07 | B24: mset_1_lw_5 | C24: 4616218.5
A27: Finesse | B27: Error | C27: Total Loss | D27: Error | E27: Pyramid Loss | F27: Error
A28: =F7/F20 -> 146466.38 | B28: =A28*SQRT(H20^2+H7^2) -> 3433.4178 | C28: =1000000*2*PI()/A28 -> 42.898483 | D28: =C28*B28/A28 -> 1.0056125 | E28: =C28-Overview!N11 -> 40.398483 | F28: =D28 -> 1.0056125

Sheet Experiment 3
A1: Pyramidal Mirror ID: A
A2: Reference Mirror ID: REO HR
A4: FSR Notes: Integration between fundemental modes, piezo nonlinearity fitted using second order polynomial.
A5: LW Fitting Notes: None. | O5: Figure Data
A7: Date | B7: Data ID | C7: FSR | D7: Data ID | E7: LW | F7: Finesse | H7: Finesse | I7: Error | J7: Total Loss | K7: Error | L7: Pyramid Loss | M7: Error | O7: Date | P7: Data ID | Q7: FSR
A8: 2020_10_19 | B8: mset_4_fsr_1 | C8: 1.1257304e+12 | D8: mset_4_lw_1 | E8: 6792693.5 | F8: =C8/E8 -> 165726.66 | H8: =AVERAGE(F8:F32) -> 156462.21 | I8: =_xlfn.STDEV.P(F8:F32) -> 7117.9669 | J8: =1000000*2*PI()/H8 -> 40.157846 | K8: =J8*I8/H8 -> 1.826909 | L8: =J8-Overview!N11 -> 37.657846 | M8: =K8 -> 1.826909 | O8: 2020_10_19 | P8: mset_6_fsr_1 | Q8: 8.6542358e+11
A9: 2020_10_19 | B9: mset_4_fsr_2 | C9: 9.4883871e+11 | D9: mset_4_lw_2 | E9: 6824357.1 | F9: =C9/E9 -> 139037.08 | O9: 2020_10_19 | P9: mset_6_fsr_2 | Q9: 8.8624361e+11
A10: 2020_10_19 | B10: mset_4_fsr_3 | C10: 1.1688102e+12 | D10: mset_4_lw_3 | E10: 6746746.1 | F10: =C10/E10 -> 173240.57 | O10: 2020_10_19 | P10: mset_6_fsr_3 | Q10: 8.8044471e+11
A11: 2020_10_19 | B11: mset_4_fsr_4 | C11: 1.1638588e+12 | D11: mset_4_lw_4 | E11: 6811615.1 | F11: =C11/E11 -> 170863.86 | O11: 2020_10_19 | P11: mset_6_fsr_4 | Q11: 8.9199159e+11
A12: 2020_10_19 | B12: mset_4_fsr_5 | C12: 1.1358272e+12 | D12: mset_4_lw_5 | E12: 7095821.1 | F12: =C12/E12 -> 160069.88 | O12: 2020_10_19 | P12: mset_6_fsr_5 | Q12: 8.5262988e+11
A13: 2020_10_19 | B13: mset_5_fsr_1 | C13: 9.4136398e+11 | D13: mset_5_lw_1 | E13: 6448195.4 | F13: =C13/E13 -> 145988.75
A14: 2020_10_19 | B14: mset_5_fsr_2 | C14: 9.447324e+11 | D14: mset_5_lw_2 | E14: 6108166.1 | F14: =C14/E14 -> 154667.11
A15: 2020_10_19 | B15: mset_5_fsr_3 | C15: 9.3699628e+11 | D15: mset_5_lw_3 | E15: 6118275.3 | F15: =C15/E15 -> 153147.13 | Q15: Mean | R15: Error | S15: Error (%)
A16: 2020_10_19 | B16: mset_5_fsr_4 | C16: 9.3622894e+11 | D16: mset_5_lw_4 | E16: 6144591.6 | F16: =C16/E16 -> 152366.34 | Q16: =AVERAGE(Q8:Q12) -> 8.7534667e+11 | R16: =_xlfn.STDEV.P(Q8:Q12) -> 1.4396576e+10 | S16: =R16/Q16 -> 0.016446713
A17: 2020_10_19 | B17: mset_5_fsr_5 | C17: 9.3717881e+11 | D17: mset_5_lw_5 | E17: 5993806.9 | F17: =C17/E17 -> 156357.86
A18: 2020_10_19 | B18: mset_6_fsr_1 | C18: 8.6542358e+11 | D18: mset_6_lw_1 | E18: 5703593.9 | F18: =C18/E18 -> 151733.03
A19: 2020_10_19 | B19: mset_6_fsr_2 | C19: 8.8624361e+11 | D19: mset_6_lw_2 | E19: 5831692.5 | F19: =C19/E19 -> 151970.22 | O19: Date | P19: Data ID | Q19: LW
A20: 2020_10_19 | B20: mset_6_fsr_3 | C20: 8.8044471e+11 | D20: mset_6_lw_3 | E20: 5484833.2 | F20: =C20/E20 -> 160523.52 | O20: 2020_10_19 | P20: mset_6_lw_1 | Q20: 5703593.9
A21: 2020_10_19 | B21: mset_6_fsr_4 | C21: 8.9199159e+11 | D21: mset_6_lw_4 | E21: 5570215.7 | F21: =C21/E21 -> 160135.92 | O21: 2020_10_19 | P21: mset_6_lw_2 | Q21: 5831692.5
A22: 2020_10_19 | B22: mset_6_fsr_5 | C22: 8.5262988e+11 | D22: mset_6_lw_5 | E22: 5608228.4 | F22: =C22/E22 -> 152031.95 | O22: 2020_10_19 | P22: mset_6_lw_3 | Q22: 5484833.2
A23: 2020_10_19 | B23: mset_7_fsr_1 | C23: 8.2515803e+11 | D23: mset_7_lw_1 | E23: 5390660.4 | F23: =C23/E23 -> 153071.79 | O23: 2020_10_19 | P23: mset_6_lw_4 | Q23: 5570215.7
A24: 2020_10_19 | B24: mset_7_fsr_2 | C24: 8.1757681e+11 | D24: mset_7_lw_2 | E24: 5055842.7 | F24: =C24/E24 -> 161709.3 | O24: 2020_10_19 | P24: mset_6_lw_5 | Q24: 5608228.4
A25: 2020_10_19 | B25: mset_7_fsr_3 | C25: 8.0635481e+11 | D25: mset_7_lw_3 | E25: 5003094 | F25: =C25/E25 -> 161171.23
A26: 2020_10_19 | B26: mset_7_fsr_4 | C26: 8.1947561e+11 | D26: mset_7_lw_4 | E26: 5110998.6 | F26: =C26/E26 -> 160335.72
A27: 2020_10_19 | B27: mset_7_fsr_5 | C27: 7.9819895e+11 | D27: mset_7_lw_5 | E27: 5097529.7 | F27: =C27/E27 -> 156585.44 | Q27: Mean | R27: Error | S27: Error (%)
A28: 2020_10_19 | B28: mset_8_fsr_1 | C28: 7.4994973e+11 | D28: mset_8_lw_1 | E28: 5021206.6 | F28: =C28/E28 -> 149356.48 | Q28: =AVERAGE(Q20:Q24) -> 5639712.7 | R28: =_xlfn.STDEV.P(Q20:Q24) -> 118950.24 | S28: =R28/Q28 -> 0.021091543
A29: 2020_10_19 | B29: mset_8_fsr_2 | C29: 7.4379212e+11 | D29: mset_8_lw_2 | E29: 4852286.1 | F29: =C29/E29 -> 153286.95
A30: 2020_10_19 | B30: mset_8_fsr_3 | C30: 7.5800247e+11 | D30: mset_8_lw_3 | E30: 4818559.1 | F30: =C30/E30 -> 157308.95
A31: 2020_10_19 | B31: mset_8_fsr_4 | C31: 7.5482515e+11 | D31: mset_8_lw_4 | E31: 4819799.6 | F31: =C31/E31 -> 156609.24
A32: 2020_10_19 | B32: mset_8_fsr_5 | C32: 7.5728659e+11 | D32: mset_8_lw_5 | E32: 4909148.1 | F32: =C32/E32 -> 154260.29

Sheet Experiment 4
A1: Pyramidal Mirror ID: C
A2: Reference Mirror ID: REO OC
A4: FSR Notes: Integration between fundemental modes, piezo nonlinearity fitted using second order polynomial.
A5: LW Fitting Notes: Fitted from FSR Scan
A7: Date | B7: Data ID | C7: FSR | D7: LW | E7: Finesse | H7: Finesse | I7: Error | J7: Total Loss | K7: Error | L7: Pyramid Loss | M7: Error
A8: 44168 | B8: mset_7_fsr_1 | C8: 2.0100958e+12 | D8: 27468392 | E8: =C8/D8 -> 73178.502 | H8: =AVERAGE(E8:E27) -> 77003.351 | I8: =_xlfn.STDEV.P(E8:E27) -> 3781.9974 | J8: =1000000 * 2 * PI()/H8 -> 81.596258 | K8: =J8* I8/H8 -> 4.0075768 | L8: =J8-Overview!N6 -> 41.296258 | M8: =K8 -> 4.0075768
A9: 44168 | B9: mset_7_fsr_2 | C9: 2.0383993e+12 | D9: 27156023 | E9: =C9/D9 -> 75062.51
A10: 44168 | B10: mset_7_fsr_3 | C10: 2.0649134e+12 | D10: 27120525 | E10: =C10/D10 -> 76138.402
A11: 44168 | B11: mset_7_fsr_4 | C11: 2.0468339e+12 | D11: 27566752 | E11: =C11/D11 -> 74250.092
A12: 44168 | B12: mset_7_fsr_5 | C12: 1912924725223 | D12: 26870836 | E12: =C12/D12 -> 71189.624
A13: 44168 | B13: mset_6_fsr_1 | C13: 1.8072523e+12 | D13: 24655958 | E13: =C13/D13 -> 73298.807
A14: 44168 | B14: mset_6_fsr_2 | C14: 1.8199466e+12 | D14: 24338108 | E14: =C14/D14 -> 74777.651
A15: 44168 | B15: mset_6_fsr_3 | C15: 1.7813972e+12 | D15: 24169827 | E15: =C15/D15 -> 73703.349
A16: 44168 | B16: mset_6_fsr_4 | C16: 1.816764e+12 | D16: 24420968 | E16: =C16/D16 -> 74393.613
A17: 44168 | B17: mset_6_fsr_5 | C17: 1.7858253e+12 | D17: 24618980 | E17: =C17/D17 -> 72538.557
A18: 44168 | B18: mset_5_fsr_1 | C18: 1.8802996e+12 | D18: 23151700 | E18: =C18/D18 -> 81216.482
A19: 44168 | B19: mset_5_fsr_2 | C19: 1.9239359e+12 | D19: 24234253 | E19: =C19/D19 -> 79389.115
A20: 44168 | B20: mset_5_fsr_3 | C20: 1.8356054e+12 | D20: 24923693 | E20: =C20/D20 -> 73649.012
... A27: 44168 | B27: mset_4_fsr_5 | C27: 1.8887653e+12 | D27: 23061086 | E27: =C27/D27 -> 81902.702

Sheet Experiment 5
A1: Pyramidal Mirror ID: B
A2: Reference Mirror ID: REO OC
A4: Quantity | B4: Value | C4: Error | D4: Error (%) | E4: Notes:
A5: Finesse | B5: 79311 | C5: 4072 | D5: =C5/B5 -> 0.051342185 | E5: Result obtained from Experiment 1
A6: Transmission PD (V) | B6: 0.36529 | C6: 0.00620993 | D6: =C6/B6 -> 0.017 | E6: Averaged over 500 measurements
A7: PD Calibration (W/V) | B7: 1.43418e-05 | C7: 7.17092e-07 | D7: =C7/B7 -> 0.050000139
A8: Power Transmitted (W) | B8: =B6*B7 -> 5.2389161e-06 | C8: =B8*SQRT(D7^2+D6^2) -> 2.7667301e-07 | D8: =C8/B8 -> 0.052811116
A9: Backreflected PD Drop (V) | B9: 1.235 | C9: 0.043225 | D9: =C9/B9 -> 0.035 | E9: Averaged over 500 measurements
A10: PD Calibration (W/V) | B10: 9.81017e-05 | C10: 2.00669e-05 | D10: =C10/B10 -> 0.20455201 | E10: Higher error due to polarisation optics and ND filter characterisation
A11: Power Cancelled (W) | B11: =B9*B10 -> 0.0001211556 | C11: =B11*SQRT(D10^2+D9^2) -> 2.5142786e-05 | D11: =C11/B11 -> 0.20752476
A12: Transmission (ppm) | B12: =1000000*(B8*(2*PI()-B5 * Overview!N4 * 0.000001))/(B5*B11) -> 1.7695223 | C12: =1000000*SQRT(((-2*PI()+B5*(0.000001*38.3))^2*C8^2+B8^2*(0.000001*38.3)^2*C5^2+B5^2*B11^2*B8^2*(-2*PI()+B5*(0.000001*38.3))^2*ABS((B11^2*C5^2+B5^2*C11^2)/(B5^4*B11^4)))/(B5^2*B11^2)) -> 0.3988324 | D12: =C12/B12 -> 0.22538987
