Workbook

Sheet data
A1: mount | B1: sample | C1: file | D1: date | E1: time | F1: X pos | G1: Y pos | H1: Field Ap | I1: Entr Slit | J1: Mass Res | K1: eV slit | L1: raster | M1: Contrast Ap | N1: Max Area | O1: L4_ap | P1: beam start | Q1: beam end | R1: Xdefl | S1: Ydefl | T1: mass drift | U1: 1H/30Si | V1: 12C/30Si | W1: 19F/30Si | X1: 26Mg/30Si | Y1: 35Cl/30Si | Z1: 24Mg++/26Mg | AA1: 1H cps | AB1: 12C cps | AC1: 30Si cps | AD1: 1s 1H/30Si | AE1: 1s 12C/30Si | AF1: 1s 19F/30Si | AG1: 1s 26Mg/30Si | AH1: 1s 35Cl/30Si | AI1: 1s 24Mg++/26Mg | AJ1: 1s 1H cps | AK1: 1s 12C cps | AL1: 1s 30Si cps | AM1: total cycles | AN1: H-C cycles | AO1: 1H bfield | AP1: 30Si bfield | AR1: 1H bkg | AS1: 12C bkg | AU1: H/Si_Bkg | AV1: C/SixSiO2 | AW1: H2O ref / H/Si | AY1: H2O_BAS | AZ1: H2O _AND | BA1: H2O _DCB | BB1: H2O _HSR | BC1: CO2 ppm | BD1: Cl ppm | BE1: F ppm | BF1: MgO | BG1: Cl EPMA | BH1: notes | BI1: ='Issy stds'!B1 -> SiO2 | BJ1: ='Issy stds'!C1 -> H2O | BK1: ='Issy stds'!D1 -> CO2 | BL1: Cl | BM1: F | BN1: ='Issy stds'!E1 -> MgO
A2: issy | B2: 1_M5 | C2: _x-1008y-4009.ais | D2: 45377 | E2: 0.74930556 | F2: -1008 | G2: -4009 | H2: 750 | I2: 60 | J2: 2001 | K2: 50 | L2: 15 | M2: 150 | N2: 80 | O2: 400 | P2: 3.33 | Q2: 3.36 | R2: 0 | S2: -3 | T2: 4 | U2: 0.089923317 | V2: 0.00089072265 | W2: 0.00010433611 | X2: 1.6579317 | Y2: 1.1219568e-05 | Z2: 0.0121396 | AA2: 4324.3043 | AB2: 42.850046 | AC2: 48094.569 | AD2: 0.0043505231 | AE2: 0.0197352 | AF2: 0.10269927 | AG2: 0.0019294024 | AH2: 0.21328283 | AI2: 0.0037399094 | AJ2: 0.0085315884 | AK2: 0.026308369 | AL2: 0.011553006 | AM2: 6 | AN2: 4 | AO2: 192032 | AP2: 975280 | AU2: =U2-$U$3 -> 0.087187942 | AV2: =V2*BI2 -> 0.044356785 | AY2: =AU2^2*6.1453+AU2*6.7708 -> 0.63704707 | BC2: =AV2*24584 -> 1090.4672 | BD2: =Y2/Y$12*BL$12/$BI$12*$BI2 -> 47.467275 | BF2: =$X2/X$10*BN$10/$BI$10*$BI2 -> 6.7533794 | BH2: =BH4 -> M5 | BI2: =BI4 -> 49.79865 | BJ2: =BJ4 -> 0.64 | BK2: =BK4 -> 990 | BN2: =BN4 -> 6.9481871
A3: issy | B3: 2_N72_270324 | C3: _x-4818y-4299.ais | D3: 45378 | E3: 0.35138889 | F3: -4818 | G3: -4299 | H3: 750 | I3: 60 | J3: 2001 | K3: 50 | L3: 15 | M3: 150 | N3: 80 | O3: 400 | P3: 3.17 | Q3: 3.2 | R3: -27 | S3: -2 | T3: 9 | U3: 0.0027353753 | V3: 2.9321251e-06 | W3: 0.00013228763 | X3: 1.6993158 | Y3: 1.7275939e-05 | Z3: 0.012400897 | AA3: 116.28059 | AB3: 0.125 | AC3: 42512.028 | AD3: 0.0086440162 | AE3: 0.38203152 | AF3: 0.028536984 | AG3: 0.0026845039 | AH3: 0.15570229 | AI3: 0.0057065694 | AJ3: 0.0085930929 | AK3: 0.38297084 | AL3: 0.0057596173 | AM3: 6 | AN3: 4 | AO3: 192006 | AP3: 975265 | AU3: =U3-$U$3 -> 0 | AV3: =V3*BI3 -> 0.00014710472 | AY3: =AU3^2*6.1453+AU3*6.7708 -> 0 | BC3: =AV3*24584 -> 3.6164223 | BD3: =Y3/Y$12*BL$12/$BI$12*$BI3 -> 73.635353 | BF3: =$X3/X$10*BN$10/$BI$10*$BI3 -> 6.97357 | BH3: ='Issy stds'!A2 -> N72 | BI3: ='Issy stds'!B2 -> 50.17 | BJ3: ='Issy stds'!C2 -> 0 | BK3: ='Issy stds'!D2 -> 0 | BN3: ='Issy stds'!E2 -> 7
A4: issy | B4: 3_M5 | C4: _x-801y-4286.ais | D4: 45378 | E4: 0.35763889 | F4: -801 | G4: -4286 | H4: 750 | I4: 60 | J4: 2001 | K4: 50 | L4: 15 | M4: 150 | N4: 80 | O4: 400 | P4: 3.2 | Q4: 3.2 | R4: -1 | S4: -5 | T4: 13 | U4: 0.09101075 | V4: 0.00094328376 | W4: 0.00010513139 | X4: 1.6600107 | Y4: 1.3620586e-05 | Z4: 0.012727758 | AA4: 3908.2921 | AB4: 40.500041 | AC4: 42947.197 | AD4: 0.0079221319 | AE4: 0.024846799 | AF4: 0.077958866 | AG4: 0.0020022205 | AH4: 0.11956584 | AI4: 0.0050008088 | AJ4: 0.0046574268 | AK4: 0.021311967 | AL4: 0.0045706141 | AM4: 6 | AN4: 4 | AO4: 192006 | AP4: 975265 | AU4: =U4-$U$3 -> 0.088275375 | AV4: =V4*BI4 -> 0.046974257 | AY4: =AU4^2*6.1453+AU4*6.7708 -> 0.64558242 | BC4: =AV4*24584 -> 1154.8151 | BD4: =Y4/Y$12*BL$12/$BI$12*$BI4 -> 57.6254 | BF4: =$X4/X$10*BN$10/$BI$10*$BI4 -> 6.761848 | BH4: ='Issy stds'!A3 -> M5 | BI4: ='Issy stds'!B3 -> 49.79865 | BJ4: ='Issy stds'!C3 -> 0.64 | BK4: ='Issy stds'!D3 -> 990 | BN4: ='Issy stds'!E3 -> 6.9481871
A5: issy | B5: 4_M40 | C5: _x3291y-4077.ais | D5: 45378 | E5: 0.36458333 | F5: 3291 | G5: -4077 | H5: 750 | I5: 60 | J5: 2001 | K5: 50 | L5: 15 | M5: 150 | N5: 80 | O5: 400 | P5: 3.19 | Q5: 3.17 | R5: 24 | S5: -10 | T5: 12 | U5: 0.32908363 | V5: 0.0017346316 | W5: 0.00011265063 | X5: 1.6662396 | Y5: 1.0279368e-05 | Z5: 0.012189013 | AA5: 13894.149 | AB5: 73.225133 | AC5: 42227.185 | AD5: 0.0062999364 | AE5: 0.013757483 | AF5: 0.054921322 | AG5: 0.0033984799 | AH5: 0.14964587 | AI5: 0.0052607081 | AJ5: 0.0028357951 | AK5: 0.0067682702 | AL5: 0.0083938429 | AM5: 6 | AN5: 4 | AO5: 192006 | AP5: 975265 | AU5: =U5-$U$3 -> 0.32634825 | AV5: =V5*BI5 -> 0.084160188 | AY5: =AU5^2*6.1453+AU5*6.7708 -> 2.8641327 | BC5: =AV5*24584 -> 2068.9941 | BD5: =Y5/Y$12*BL$12/$BI$12*$BI5 -> 42.370779 | BF5: =$X5/X$10*BN$10/$BI$10*$BI5 -> 6.6126245 | BH5: ='Issy stds'!A4 -> M40 | BI5: ='Issy stds'!B4 -> 48.517616 | BJ5: ='Issy stds'!C4 -> 3.07 | BK5: ='Issy stds'!D4 -> 2183 | BN5: ='Issy stds'!E4 -> 6.7694501
A6: issy | B6: 5_M21 | C6: _x3649y5866.ais | D6: 45378 | E6: 0.37083333 | F6: 3649 | G6: 5866 | H6: 750 | I6: 60 | J6: 2001 | K6: 50 | L6: 15 | M6: 150 | N6: 80 | O6: 400 | P6: 3.18 | Q6: 3.18 | R6: -5 | S6: 15 | T6: 11 | U6: 0.68672945 | V6: 0.00067315838 | W6: 0.00010549573 | X6: 1.6418193 | Y6: 1.041436e-05 | Z6: 0.012061322 | AA6: 28726.505 | AB6: 28.15002 | AC6: 41829.352 | AD6: 0.0035209445 | AE6: 0.034786642 | AF6: 0.073307433 | AG6: 0.0013748265 | AH6: 0.16326658 | AI6: 0.008476991 | AJ6: 0.0083104884 | AK6: 0.032638937 | AL6: 0.0056296855 | AM6: 6 | AN6: 4 | AO6: 192006 | AP6: 975265 | AU6: =U6-$U$3 -> 0.68399407 | AV6: =V6*BI6 -> 0.031179522 | AY6: =AU6^2*6.1453+AU6*6.7708 -> 7.5062527 | BC6: =AV6*24584 -> 766.51738 | BD6: =Y6/Y$12*BL$12/$BI$12*$BI6 -> 40.981267 | BF6: =$X6/X$10*BN$10/$BI$10*$BI6 -> 6.2203456 | BH6: ='Issy stds'!A9 -> M21 | BI6: ='Issy stds'!B9 -> 46.318257 | BJ6: ='Issy stds'!C9 -> 7.56 | BK6: ='Issy stds'!D9 -> 1051 | BN6: ='Issy stds'!E9 -> 6.4625831
A7: issy | B7: 6_M10 | C7: _x-481y760.ais | D7: 45378 | E7: 0.37777778 | F7: -481 | G7: 760 | H7: 750 | I7: 60 | J7: 2001 | K7: 50 | L7: 15 | M7: 150 | N7: 80 | O7: 400 | P7: 3.19 | Q7: 3.12 | R7: -15 | S7: 4 | T7: 6 | U7: 0.099888773 | V7: 0.0004821019 | W7: 9.2050492e-05 | X7: 1.6480391 | Y7: 1.5111761e-05 | Z7: 0.012614627 | AA7: 3974.0307 | AB7: 19.175009 | AC7: 39785.469 | AD7: 0.0065492857 | AE7: 0.031603446 | AF7: 0.023608241 | AG7: 0.0022816018 | AH7: 0.16458447 | AI7: 0.0050807852 | AJ7: 0.0067233765 | AK7: 0.028752251 | AL7: 0.0041707456 | AM7: 6 | AN7: 4 | AO7: 192006 | AP7: 975265 | AU7: =U7-$U$3 -> 0.097153397 | AV7: =V7*BI7 -> 0.023997098 | AY7: =AU7^2*6.1453+AU7*6.7708 -> 0.71581037 | BC7: =AV7*24584 -> 589.94465 | BD7: =Y7/Y$12*BL$12/$BI$12*$BI7 -> 63.905105 | BF7: =$X7/X$10*BN$10/$BI$10*$BI7 -> 6.7100282 | BH7: ='Issy stds'!A6 -> M10 | BI7: ='Issy stds'!B6 -> 49.775987 | BJ7: ='Issy stds'!C6 -> 0.75 | BK7: ='Issy stds'!D6 -> 341 | BN7: ='Issy stds'!E6 -> 6.945025
A8: issy | B8: 7_M36 | C8: _x3305y783.ais | D8: 45378 | E8: 0.38402778 | F8: 3305 | G8: 783 | H8: 750 | I8: 60 | J8: 2001 | K8: 50 | L8: 15 | M8: 150 | N8: 80 | O8: 400 | P8: 3.13 | Q8: 3.13 | R8: 5 | S8: 3 | T8: 5 | U8: 0.34241055 | V8: 0.001149335 | W8: 0.00011109179 | X8: 1.6819153 | Y8: 9.0527149e-06 | Z8: 0.011924807 | AA8: 14623.247 | AB8: 49.07506 | AC8: 42708.319 | AD8: 0.0021562796 | AE8: 0.0251519 | AF8: 0.094298599 | AG8: 0.0025676132 | AH8: 0.080603325 | AI8: 0.005482714 | AJ8: 0.0052460197 | AK8: 0.023253822 | AL8: 0.0068547644 | AM8: 6 | AN8: 4 | AO8: 192006 | AP8: 975265 | AU8: =U8-$U$3 -> 0.33967518 | AV8: =V8*BI8 -> 0.055953066 | AY8: =AU8^2*6.1453+AU8*6.7708 -> 3.0089127 | BC8: =AV8*24584 -> 1375.5502 | BD8: =Y8/Y$12*BL$12/$BI$12*$BI8 -> 37.441797 | BF8: =$X8/X$10*BN$10/$BI$10*$BI8 -> 6.6975863 | BH8: ='Issy stds'!A5 -> M36 | BI8: ='Issy stds'!B5 -> 48.68299 | BJ8: ='Issy stds'!C5 -> 2.82 | BK8: ='Issy stds'!D5 -> 1392 | BN8: ='Issy stds'!E5 -> 6.792524
A9: issy | B9: 8_M47 | C9: _x-907y6334.ais | D9: 45378 | E9: 0.39097222 | F9: -907 | G9: 6334 | H9: 750 | I9: 60 | J9: 2001 | K9: 50 | L9: 15 | M9: 150 | N9: 80 | O9: 400 | P9: 3.14 | Q9: 3.16 | R9: -23 | S9: 15 | T9: 4 | U9: 0.095752618 | V9: 0.00019365381 | W9: 0.00010089932 | X9: 1.6599178 | Y9: 1.2385296e-05 | Z9: 0.012535409 | AA9: 4140.798 | AB9: 8.3750017 | AC9: 43244.079 | AD9: 0.003412869 | AE9: 0.010788843 | AF9: 0.070917805 | AG9: 0.0017636594 | AH9: 0.16521652 | AI9: 0.0069108348 | AJ9: 0.0054891649 | AK9: 0.013237948 | AL9: 0.0028665965 | AM9: 6 | AN9: 4 | AO9: 192006 | AP9: 975265 | AU9: =U9-$U$3 -> 0.093017243 | AV9: =V9*BI9 -> 0.0096341128 | AY9: =AU9^2*6.1453+AU9*6.7708 -> 0.68297156 | BC9: =AV9*24584 -> 236.84503 | BD9: =Y9/Y$12*BL$12/$BI$12*$BI9 -> 52.347107 | BF9: =$X9/X$10*BN$10/$BI$10*$BI9 -> 6.7547493 | BH9: ='Issy stds'!A8 -> M47 | BI9: ='Issy stds'!B8 -> 49.749153 | BJ9: ='Issy stds'!C8 -> 0.82 | BK9: ='Issy stds'!D8 -> 175 | BN9: ='Issy stds'!E8 -> 6.941281
A10: issy | B10: 9_519-4-1 | C10: _x-5245y1236.ais | D10: 45378 | E10: 0.39722222 | F10: -5245 | G10: 1236 | H10: 750 | I10: 60 | J10: 2001 | K10: 50 | L10: 15 | M10: 150 | N10: 80 | O10: 400 | P10: 3.17 | Q10: 3.17 | R10: -38 | S10: 9 | T10: 1 | U10: 0.021572868 | V10: 0.00020232659 | W10: 0.00014870468 | X10: 2.3525768 | Y10: 2.4529069e-05 | Z10: 0.01172741 | AA10: 839.88645 | AB10: 7.8750016 | AC10: 38934.809 | AD10: 0.011512185 | AE10: 0.060442616 | AF10: 0.05561305 | AG10: 0.0015873695 | AH10: 0.077474916 | AI10: 0.0036656938 | AJ10: 0.0099599516 | AK10: 0.058965648 | AL10: 0.0024863096 | AM10: 6 | AN10: 4 | AO10: 192006 | AP10: 975265 | AU10: =U10-$U$3 -> 0.018837493 | AV10: =V10*BI10 -> 0.0098937701 | AY10: =AU10^2*6.1453+AU10*6.7708 -> 0.12972556 | BC10: =AV10*24584 -> 243.22844 | BD10: =Y10/Y$12*BL$12/$BI$12*$BI10 -> 101.90384 | BF10: =$X10/X$10*BN$10/$BI$10*$BI10 -> 9.41 | BH10: ='Issy stds'!A7 -> 519-4-1 | BI10: ='Issy stds'!B7 -> 48.9 | BJ10: ='Issy stds'!C7 -> 0.17 | BK10: ='Issy stds'!D7 -> 165 | BN10: ='Issy stds'!E7 -> 9.41
A12: Mel1 | B12: 10_Mel1_glass | C12: _x5408y737.ais | D12: 45378 | E12: 0.41527778 | F12: 5408 | G12: 737 | H12: 750 | I12: 60 | J12: 2001 | K12: 50 | L12: 15 | M12: 150 | N12: 80 | O12: 400 | P12: 3.15 | Q12: 3.15 | R12: 4 | S12: 1 | T12: 6 | U12: 0.17548303 | V12: 2.3001027e-06 | W12: 0.00022865428 | X12: 1.4391267 | Y12: 0.00047082486 | Z12: 0.011060151 | AA12: 7648.8805 | AB12: 0.1 | AC12: 43592.208 | AD12: 0.0041253326 | AE12: 0.41087882 | AF12: 0.06417165 | AG12: 0.0027566435 | AH12: 0.032573435 | AI12: 0.01341973 | AJ12: 0.0036210911 | AK12: 0.40824829 | AL12: 0.0071633192 | AM12: 6 | AN12: 4 | AO12: 192005 | AP12: 975262 | AU12: =U12-$U$3 -> 0.17274766 | AV12: =V12*BI12 -> 0.00011500514 | AY12: =AU12^2*6.1453+AU12*6.7708 -> 1.3530264 | BC12: =AV12*24584 -> 2.8272863 | BD12: =Y12/Y$12*BL$12/$BI$12*$BI12 -> 2000 | BF12: =$X12/X$10*BN$10/$BI$10*$BI12 -> 5.8858067 | BI12: 50 | BL12: 2000
A15: Wood | B15: 1_ICB-4-1300-15_1 | C15: _x-4087y-721.ais | D15: 45378 | E15: 0.47013889 | F15: -4087 | G15: -721 | H15: 750 | I15: 60 | J15: 2001 | K15: 50 | L15: 15 | M15: 150 | N15: 80 | O15: 400 | P15: 3.14 | Q15: 3.11 | R15: 0 | S15: -1 | T15: 7 | U15: 0.16089971 | V15: 0.0075749016 | W15: 0.00023646178 | X15: 2.1716339 | Y15: 0.0068614248 | Z15: 0.011597817 | AA15: 7744.5822 | AB15: 364.6033 | AC15: 48138.797 | AD15: 0.0042003723 | AE15: 0.0075582636 | AF15: 0.054288823 | AG15: 0.0017480022 | AH15: 0.033111785 | AI15: 0.0054593204 | AJ15: 0.0073939718 | AK15: 0.0098593118 | AL15: 0.010852662 | AM15: 6 | AN15: 4 | AO15: 192004 | AP15: 975262 | AU15: =U15-$U$3 -> 0.15816433 | AV15: =V15*BI15 -> 0.37874508 | AY15: =AU15^2*6.1453+AU15*6.7708 -> 1.2246296 | BC15: =AV15*24584 -> 9311.069 | BD15: =Y15/Y$12*BL$12/$BI$12*$BI15 -> 29146.4 | BF15: =$X15/X$10*BN$10/$BI$10*$BI15 -> 8.8816483 | BI15: 50
A16: Wood | B16: 2_ICB-4-1300-15_2 | C16: _x-3976y-713.ais | D16: 45378 | E16: 0.47638889 | F16: -3976 | G16: -713 | H16: 750 | I16: 60 | J16: 2001 | K16: 50 | L16: 15 | M16: 150 | N16: 80 | O16: 400 | P16: 3.12 | Q16: 3.09 | R16: 4 | S16: -2 | T16: 7 | U16: 0.15557575 | V16: 0.007592559 | W16: 0.00022712982 | X16: 2.172063 | Y16: 0.006757798 | Z16: 0.0112495 | AA16: 7318.3141 | AB16: 357.10316 | AC16: 47046.842 | AD16: 0.0066090607 | AE16: 0.01058258 | AF16: 0.029072327 | AG16: 0.0013923165 | AH16: 0.031051569 | AI16: 0.0055177322 | AJ16: 0.0057948558 | AK16: 0.0020031227 | AL16: 0.0091703053 | AM16: 6 | AN16: 4 | AO16: 192004 | AP16: 975262 | AU16: =U16-$U$3 -> 0.15284037 | AV16: =V16*BI16 -> 0.37962795 | AY16: =AU16^2*6.1453+AU16*6.7708 -> 1.1784069 | BC16: =AV16*24584 -> 9332.7735 | BD16: =Y16/Y$12*BL$12/$BI$12*$BI16 -> 28706.207 | BF16: =$X16/X$10*BN$10/$BI$10*$BI16 -> 8.8834033 | BI16: 50
A17: Wood | B17: 3_ICB-4-1300-15_3 | C17: _x-4043y-804.ais | D17: 45378 | E17: 0.48263889 | F17: -4043 | G17: -804 | H17: 750 | I17: 60 | J17: 2001 | K17: 50 | L17: 15 | M17: 150 | N17: 80 | O17: 400 | P17: 3.09 | Q17: 3.09 | R17: 1 | S17: -1 | T17: 4 | U17: 0.15782754 | V17: 0.0076121759 | W17: 0.00023514667 | X17: 2.1853299 | Y17: 0.0068540211 | Z17: 0.011507253 | AA17: 7404.7369 | AB17: 357.12816 | AC17: 46926.944 | AD17: 0.0069832248 | AE17: 0.010816709 | AF17: 0.039307141 | AG17: 0.0036757751 | AH17: 0.030515141 | AI17: 0.0065388493 | AJ17: 0.0042832302 | AK17: 0.0083805388 | AL17: 0.010778487 | AM17: 6 | AN17: 4 | AO17: 192004 | AP17: 975262 | AU17: =U17-$U$3 -> 0.15509217 | AV17: =V17*BI17 -> 0.38060879 | AY17: =AU17^2*6.1453+AU17*6.7708 -> 1.1979145 | BC17: =AV17*24584 -> 9356.8866 | BD17: =Y17/Y$12*BL$12/$BI$12*$BI17 -> 29114.95 | BF17: =$X17/X$10*BN$10/$BI$10*$BI17 -> 8.9376631 | BI17: 50
A18: Wood | B18: 4_ICB-4-1300-15_4 | C18: _x-4065y-974.ais | D18: 45378 | E18: 0.48958333 | F18: -4065 | G18: -974 | H18: 750 | I18: 60 | J18: 2001 | K18: 50 | L18: 15 | M18: 150 | N18: 80 | O18: 400 | P18: 3.09 | Q18: 3.08 | R18: 0 | S18: 3 | T18: 2 | U18: 0.16376396 | V18: 0.0078029816 | W18: 0.00022817971 | X18: 2.2053073 | Y18: 0.0070697449 | Z18: 0.011369182 | AA18: 7695.4707 | AB18: 366.72834 | AC18: 46997.739 | AD18: 0.0041119196 | AE18: 0.0027224131 | AF18: 0.060456288 | AG18: 0.0025174316 | AH18: 0.036576738 | AI18: 0.0021016101 | AJ18: 0.0087426562 | AK18: 0.013032666 | AL18: 0.012355692 | AM18: 6 | AN18: 4 | AO18: 192004 | AP18: 975262 | AU18: =U18-$U$3 -> 0.16102858 | AV18: =V18*BI18 -> 0.39014908 | AY18: =AU18^2*6.1453+AU18*6.7708 -> 1.2496412 | BC18: =AV18*24584 -> 9591.425 | BD18: =Y18/Y$12*BL$12/$BI$12*$BI18 -> 30031.315 | BF18: =$X18/X$10*BN$10/$BI$10*$BI18 -> 9.0193674 | BI18: 50
A19: Wood | B19: 5_ICB-4-1300-15_5 | C19: _x-3888y-965.ais | D19: 45378 | E19: 0.49583333 | F19: -3888 | G19: -965 | H19: 750 | I19: 60 | J19: 2001 | K19: 50 | L19: 15 | M19: 150 | N19: 80 | O19: 400 | P19: 3.08 | Q19: 3.06 | R19: 6 | S19: 3 | T19: 3 | U19: 0.1577031 | V19: 0.0077043107 | W19: 0.0002524797 | X19: 2.1990217 | Y19: 0.0067992694 | Z19: 0.011188195 | AA19: 7231.1354 | AB19: 353.25309 | AC19: 45855.597 | AD19: 0.0042887167 | AE19: 0.0056741493 | AF19: 0.026224146 | AG19: 0.0022339931 | AH19: 0.034871847 | AI19: 0.006663691 | AJ19: 0.0054128 | AK19: 0.0046408324 | AL19: 0.0071491186 | AM19: 6 | AN19: 4 | AO19: 192004 | AP19: 975262 | AU19: =U19-$U$3 -> 0.15496772 | AV19: =V19*BI19 -> 0.38521553 | AY19: =AU19^2*6.1453+AU19*6.7708 -> 1.1968348 | BC19: =AV19*24584 -> 9470.1387 | BD19: =Y19/Y$12*BL$12/$BI$12*$BI19 -> 28882.372 | BF19: =$X19/X$10*BN$10/$BI$10*$BI19 -> 8.9936603 | BI19: 50
AY20: =AVERAGE(AY15:AY19) -> 1.2094854 | BC20: =AVERAGE(BC15:BC19) -> 9412.4586 | BD20: =AVERAGE(BD15:BD19) -> 29176.249
AY21: =STDEV(AY15:AY19) -> 0.027846143 | BC21: =STDEV(BC15:BC19) -> 117.33902 | BD21: =STDEV(BD15:BD19) -> 510.65883
A23: Wood | B23: 6_ICB-8-1300-15_1 | C23: _x2176y-931.ais | D23: 45378 | E23: 0.50277778 | F23: 2176 | G23: -931 | H23: 750 | I23: 60 | J23: 2001 | K23: 50 | L23: 15 | M23: 150 | N23: 80 | O23: 400 | P23: 3.07 | Q23: 3.01 | R23: 43 | S23: 4 | T23: 3 | U23: 0.42696997 | V23: 0.0071924587 | W23: 0.00016343564 | X23: 2.2445092 | Y23: 0.0095929214 | Z23: 0.010451075 | AA23: 18554.956 | AB23: 312.57742 | AC23: 43459.801 | AD23: 0.0015433886 | AE23: 0.012148082 | AF23: 0.050462775 | AG23: 0.003652679 | AH23: 0.037282079 | AI23: 0.0097479557 | AJ23: 0.0085934497 | AK23: 0.017639253 | AL23: 0.0079644459 | AM23: 6 | AN23: 4 | AO23: 192004 | AP23: 975262 | AU23: =U23-$U$3 -> 0.42423459 | AV23: =V23*BI23 -> 0.35962293 | AY23: =AU23^2*6.1453+AU23*6.7708 -> 3.9784079 | BC23: =AV23*24584 -> 8840.9702 | BD23: =Y23/Y$12*BL$12/$BI$12*$BI23 -> 40749.426 | BF23: =$X23/X$10*BN$10/$BI$10*$BI23 -> 9.1796974 | BI23: 50
A24: Wood | B24: 7_ICB-8-1300-15_2 | C24: _x2391y-1018.ais | D24: 45378 | E24: 0.50902778 | F24: 2391 | G24: -1018 | H24: 750 | I24: 60 | J24: 2001 | K24: 50 | L24: 15 | M24: 150 | N24: 80 | O24: 400 | P24: 3.01 | Q24: 3.04 | R24: 49 | S24: 6 | T24: 6 | U24: 0.41949964 | V24: 0.0073217532 | W24: 0.00014059815 | X24: 2.2424781 | Y24: 0.0090996922 | Z24: 0.010110544 | AA24: 18163.12 | AB24: 317.0525 | AC24: 43296.574 | AD24: 0.0063278321 | AE24: 0.010013403 | AF24: 0.081545172 | AG24: 0.0034555002 | AH24: 0.03268994 | AI24: 0.0070046639 | AJ24: 0.0077179609 | AK24: 0.0079015003 | AL24: 0.013847952 | AM24: 6 | AN24: 4 | AO24: 192004 | AP24: 975262 | AU24: =U24-$U$3 -> 0.41676426 | AV24: =V24*BI24 -> 0.36608766 | AY24: =AU24^2*6.1453+AU24*6.7708 -> 3.8892197 | BC24: =AV24*24584 -> 8999.8991 | BD24: =Y24/Y$12*BL$12/$BI$12*$BI24 -> 38654.255 | BF24: =$X24/X$10*BN$10/$BI$10*$BI24 -> 9.1713901 | BI24: 50
A25: Wood | B25: 8_ICB-8-1300-15_3 | C25: _x2291y-1168.ais | D25: 45378 | E25: 0.51527778 | F25: 2291 | G25: -1168 | H25: 750 | I25: 60 | J25: 2001 | K25: 50 | L25: 15 | M25: 150 | N25: 80 | O25: 400 | P25: 3.05 | Q25: 3.07 | R25: 46 | S25: 9 | T25: 8 | U25: 0.41842915 | V25: 0.0074697871 | W25: 0.00016186527 | X25: 2.2381221 | Y25: 0.0092807216 | Z25: 0.010108168 | AA25: 18459.053 | AB25: 329.50269 | AC25: 44126.514 | AD25: 0.0079423759 | AE25: 0.016242259 | AF25: 0.053949063 | AG25: 0.0044190162 | AH25: 0.031973494 | AI25: 0.0082289587 | AJ25: 0.0050451965 | AK25: 0.0095168049 | AL25: 0.012646005 | AM25: 6 | AN25: 4 | AO25: 192004 | AP25: 975262 | AU25: =U25-$U$3 -> 0.41569377 | AV25: =V25*BI25 -> 0.37348935 | AY25: =AU25^2*6.1453+AU25*6.7708 -> 3.8764953 | BC25: =AV25*24584 -> 9181.8623 | BD25: =Y25/Y$12*BL$12/$BI$12*$BI25 -> 39423.243 | BF25: =$X25/X$10*BN$10/$BI$10*$BI25 -> 9.1535751 | BI25: 50
A26: Wood | B26: 9_ICB-8-1300-15_4 | C26: _x2114y-836.ais | D26: 45378 | E26: 0.52222222 | F26: 2114 | G26: -836 | H26: 750 | I26: 60 | J26: 2001 | K26: 50 | L26: 15 | M26: 150 | N26: 80 | O26: 400 | P26: 3.07 | Q26: 3.08 | R26: 41 | S26: 2 | T26: 7 | U26: 0.42414645 | V26: 0.0072582025 | W26: 0.00015066469 | X26: 2.2354486 | Y26: 0.0096723565 | Z26: 0.010494446 | AA26: 18705.346 | AB26: 320.02754 | AC26: 44114.233 | AD26: 0.007181736 | AE26: 0.0087298156 | AF26: 0.029952043 | AG26: 0.0046362678 | AH26: 0.039062883 | AI26: 0.0067702227 | AJ26: 0.0057205449 | AK26: 0.013224638 | AL26: 0.012862005 | AM26: 6 | AN26: 4 | AO26: 192004 | AP26: 975262 | AU26: =U26-$U$3 -> 0.42141108 | AV26: =V26*BI26 -> 0.36291012 | AY26: =AU26^2*6.1453+AU26*6.7708 -> 3.9446173 | BC26: =AV26*24584 -> 8921.7825 | BD26: =Y26/Y$12*BL$12/$BI$12*$BI26 -> 41086.855 | BF26: =$X26/X$10*BN$10/$BI$10*$BI26 -> 9.1426405 | BI26: 50
A27: Wood | B27: 10_ICB-8-1300-15_drop_BL | C27: _x2044y-1515.ais | D27: 45378 | E27: 0.52847222 | F27: 2044 | G27: -1515 | H27: 750 | I27: 60 | J27: 2001 | K27: 50 | L27: 15 | M27: 150 | N27: 80 | O27: 400 | P27: 3.08 | Q27: 3.09 | R27: 40 | S27: 11 | T27: 11 | U27: 0.47801515 | V27: 0.0081747512 | W27: 0.0001770145 | X27: 2.2450632 | Y27: 0.010456184 | Z27: 0.010771102 | AA27: 19436.585 | AB27: 332.45274 | AC27: 40672.254 | AU27: =U27-$U$3 -> 0.47527977 | AV27: =V27*BI27 -> 0.40873756 | AY27: =AU27^2*6.1453+AU27*6.7708 -> 4.6061914 | BC27: =AV27*24584 -> 10048.404 | BD27: =Y27/Y$12*BL$12/$BI$12*$BI27 -> 44416.449 | BF27: =$X27/X$10*BN$10/$BI$10*$BI27 -> 9.1819631 | BI27: 50
AY28: =AVERAGE(AY23:AY26) -> 3.9221851 | BC28: =AVERAGE(BC23:BC26) -> 8986.1285 | BD28: =AVERAGE(BD23:BD26) -> 39978.445
AY29: =STDEV(AY23:AY26) -> 0.047744055 | BC29: =STDEV(BC23:BC26) -> 145.73113 | BD29: =STDEV(BD23:BD26) -> 1137.9385
A32: Wood | B32: 1_ICB-8-1200-5_1 | C32: _x3172y-3724.ais | D32: 45378 | E32: 0.55347222 | F32: 3172 | G32: -3724 | H32: 750 | I32: 60 | J32: 2001 | K32: 50 | L32: 15 | M32: 150 | N32: 80 | O32: 400 | P32: 3.07 | Q32: 3.07 | R32: -5 | S32: 5 | T32: 7 | U32: 0.34650296 | V32: 0.00080323286 | W32: 0.0020748898 | X32: 2.2115828 | Y32: 0.012529707 | Z32: 0.012638592 | AA32: 17985.194 | AB32: 41.725043 | AC32: 51993.072 | AD32: 0.016369566 | AE32: 0.020560295 | AF32: 0.047508863 | AG32: 0.0025646527 | AH32: 0.049089675 | AI32: 0.0087766281 | AJ32: 0.018822541 | AK32: 0.03261811 | AL32: 0.034739103 | AM32: 6 | AN32: 4 | AO32: 192004 | AP32: 975262 | AU32: =U32-$U$3 -> 0.34376758 | AV32: =V32*BI32 -> 0.040161643 | AY32: =AU32^2*6.1453+AU32*6.7708 -> 3.0538094 | BC32: =AV32*24584 -> 987.33384 | BD32: =Y32/Y$12*BL$12/$BI$12*$BI32 -> 53224.491 | BF32: =$X32/X$10*BN$10/$BI$10*$BI32 -> 9.0450333 | BI32: 50
A33: Wood | B33: 2_ICB-8-1200-5_2 | C33: _x3155y-4034.ais | D33: 45378 | E33: 0.55972222 | F33: 3155 | G33: -4034 | H33: 750 | I33: 60 | J33: 2001 | K33: 50 | L33: 15 | M33: 150 | N33: 80 | O33: 400 | P33: 3.08 | Q33: 3.04 | R33: -6 | S33: 10 | T33: 3 | U33: 0.35685547 | V33: 0.00093285619 | W33: 0.0020009412 | X33: 2.2299435 | Y33: 0.011928571 | Z33: 0.012112082 | AA33: 19289.888 | AB33: 50.975067 | AC33: 54129.636 | AD33: 0.012150123 | AE33: 0.08327057 | AF33: 0.032668331 | AG33: 0.0017750573 | AH33: 0.026649009 | AI33: 0.011031141 | AJ33: 0.026475507 | AK33: 0.12162149 | AL33: 0.038322311 | AM33: 6 | AN33: 4 | AO33: 192004 | AP33: 975262 | AU33: =U33-$U$3 -> 0.35412009 | AV33: =V33*BI33 -> 0.046642809 | AY33: =AU33^2*6.1453+AU33*6.7708 -> 3.1683033 | BC33: =AV33*24584 -> 1146.6668 | BD33: =Y33/Y$12*BL$12/$BI$12*$BI33 -> 50670.949 | BF33: =$X33/X$10*BN$10/$BI$10*$BI33 -> 9.1201258 | BI33: 50
A34: Wood | B34: 3_ICB-8-1200-5_3 | C34: _x3056y-3908.ais | D34: 45378 | E34: 0.56597222 | F34: 3056 | G34: -3908 | H34: 750 | I34: 60 | J34: 2001 | K34: 50 | L34: 15 | M34: 150 | N34: 80 | O34: 400 | P34: 3.04 | Q34: 3 | R34: -6 | S34: 10 | T34: 2 | U34: 0.36621154 | V34: 0.0011489533 | W34: 0.0019877775 | X34: 2.2256212 | Y34: 0.01223041 | Z34: 0.012509739 | AA34: 18655.972 | AB34: 59.250096 | AC34: 50997.77 | AD34: 0.010490543 | AE34: 0.15259561 | AF34: 0.038108493 | AG34: 0.0023074444 | AH34: 0.035110959 | AI34: 0.01014208 | AJ34: 0.02399358 | AK34: 0.18448006 | AL34: 0.0343093 | AM34: 6 | AN34: 4 | AO34: 192004 | AP34: 975262 | AU34: =U34-$U$3 -> 0.36347617 | AV34: =V34*BI34 -> 0.057447666 | AY34: =AU34^2*6.1453+AU34*6.7708 -> 3.2729103 | BC34: =AV34*24584 -> 1412.2934 | BD34: =Y34/Y$12*BL$12/$BI$12*$BI34 -> 51953.119 | BF34: =$X34/X$10*BN$10/$BI$10*$BI34 -> 9.1024483 | BI34: 50
A35: Wood | B35: 4_ICB-8-1200-5_4 | C35: _x3148y-3556.ais | D35: 45378 | E35: 0.57291667 | F35: 3148 | G35: -3556 | H35: 750 | I35: 60 | J35: 2001 | K35: 50 | L35: 15 | M35: 150 | N35: 80 | O35: 400 | P35: 2.99 | Q35: 3.03 | R35: -1 | S35: 7 | T35: 1 | U35: 0.3614942 | V35: 0.00070611822 | W35: 0.0020017238 | X35: 2.2301173 | Y35: 0.012298485 | Z35: 0.012445743 | AA35: 17919.514 | AB35: 35.050031 | AC35: 49582.261 | AD35: 0.0032329278 | AE35: 0.019017997 | AF35: 0.032295888 | AG35: 0.0022480015 | AH35: 0.035496724 | AI35: 0.007767821 | AJ35: 0.022315145 | AK35: 0.042020268 | AL35: 0.025386346 | AM35: 6 | AN35: 4 | AO35: 192004 | AP35: 975262 | AU35: =U35-$U$3 -> 0.35875882 | AV35: =V35*BI35 -> 0.035305911 | AY35: =AU35^2*6.1453+AU35*6.7708 -> 3.2200329 | BC35: =AV35*24584 -> 867.96052 | BD35: =Y35/Y$12*BL$12/$BI$12*$BI35 -> 52242.291 | BF35: =$X35/X$10*BN$10/$BI$10*$BI35 -> 9.1208363 | BI35: 50
AY36: =AVERAGE(AY32:AY35) -> 3.178764 | BC36: =AVERAGE(BC32:BC35) -> 1103.5636 | BD36: =AVERAGE(BD32:BD35) -> 52022.712
AY37: =STDEV(AY32:AY35) -> 0.093612175 | BC37: =STDEV(BC32:BC35) -> 235.36507 | BD37: =STDEV(BD32:BD35) -> 1052.7098
A39: Wood | B39: 5_ICB-8-1200-10_1 | C39: _x-221y2427.ais | D39: 45378 | E39: 0.57916667 | F39: -221 | G39: 2427 | H39: 750 | I39: 60 | J39: 2001 | K39: 50 | L39: 15 | M39: 150 | N39: 80 | O39: 400 | P39: 3.03 | Q39: 3.05 | R39: -8 | S39: 9 | T39: 3 | U39: 0.42429338 | V39: 0.0032599941 | W39: 0.0016998434 | X39: 2.2231959 | Y39: 0.012322751 | Z39: 0.011425213 | AA39: 21386.101 | AB39: 164.37567 | AC39: 50407.035 | AD39: 0.0031525689 | AE39: 0.0056819335 | AF39: 0.032059702 | AG39: 0.0016784461 | AH39: 0.039227958 | AI39: 0.0045201906 | AJ39: 0.022357884 | AK39: 0.027561101 | AL39: 0.023074642 | AM39: 6 | AN39: 4 | AO39: 192004 | AP39: 975262 | AU39: =U39-$U$3 -> 0.42155801 | AV39: =V39*BI39 -> 0.16299971 | AY39: =AU39^2*6.1453+AU39*6.7708 -> 3.9463733 | BC39: =AV39*24584 -> 4007.1847 | BD39: =Y39/Y$12*BL$12/$BI$12*$BI39 -> 52345.371 | BF39: =$X39/X$10*BN$10/$BI$10*$BI39 -> 9.0925291 | BI39: 50
A40: Wood | B40: 6_ICB-8-1200-10_2 | C40: _x-236y2606.ais | D40: 45378 | E40: 0.58611111 | F40: -236 | G40: 2606 | H40: 750 | I40: 60 | J40: 2001 | K40: 50 | L40: 15 | M40: 150 | N40: 80 | O40: 400 | P40: 3.05 | Q40: 3.05 | R40: -6 | S40: 8 | T40: -1 | U40: 0.41268697 | V40: 0.0035552255 | W40: 0.0017087668 | X40: 2.221865 | Y40: 0.012137568 | Z40: 0.011485349 | AA40: 20310.942 | AB40: 175.00076 | AC40: 49220.707 | AD40: 0.0025719505 | AE40: 0.0031414179 | AF40: 0.04508629 | AG40: 0.0027552398 | AH40: 0.038285614 | AI40: 0.0070138797 | AJ40: 0.018824305 | AK40: 0.021335127 | AL40: 0.020194842 | AM40: 6 | AN40: 4 | AO40: 192004 | AP40: 975262 | AU40: =U40-$U$3 -> 0.40995159 | AV40: =V40*BI40 -> 0.17776127 | AY40: =AU40^2*6.1453+AU40*6.7708 -> 3.8084812 | BC40: =AV40*24584 -> 4370.0832 | BD40: =Y40/Y$12*BL$12/$BI$12*$BI40 -> 51558.74 | BF40: =$X40/X$10*BN$10/$BI$10*$BI40 -> 9.0870859 | BI40: 50
A41: Wood | B41: 7_ICB-8-1200-10_3 | C41: _x-262y2740.ais | D41: 45378 | E41: 0.59236111 | F41: -262 | G41: 2740 | H41: 750 | I41: 60 | J41: 2001 | K41: 50 | L41: 15 | M41: 150 | N41: 80 | O41: 400 | P41: 3.06 | Q41: 3.03 | R41: -6 | S41: 8 | T41: -2 | U41: 0.41731176 | V41: 0.0034589228 | W41: 0.0017979975 | X41: 2.2216231 | Y41: 0.012181345 | Z41: 0.011599798 | AA41: 20210.035 | AB41: 167.5757 | AC41: 48423.506 | AD41: 0.0023130683 | AE41: 0.011922573 | AF41: 0.034744627 | AG41: 0.0024458492 | AH41: 0.041114722 | AI41: 0.0058718676 | AJ41: 0.019083327 | AK41: 0.02762979 | AL41: 0.016778113 | AM41: 6 | AN41: 4 | AO41: 192004 | AP41: 975262 | AU41: =U41-$U$3 -> 0.41457638 | AV41: =V41*BI41 -> 0.17294614 | AY41: =AU41^2*6.1453+AU41*6.7708 -> 3.8632285 | BC41: =AV41*24584 -> 4251.7079 | BD41: =Y41/Y$12*BL$12/$BI$12*$BI41 -> 51744.696 | BF41: =$X41/X$10*BN$10/$BI$10*$BI41 -> 9.0860964 | BI41: 50
A42: Wood | B42: 8_ICB-8-1200-10_4 | C42: _x-265y3021.ais | D42: 45378 | E42: 0.59861111 | F42: -265 | G42: 3021 | H42: 750 | I42: 60 | J42: 2001 | K42: 50 | L42: 15 | M42: 150 | N42: 80 | O42: 400 | P42: 3.04 | Q42: 3.04 | R42: -3 | S42: 8 | T42: 2 | U42: 0.41375862 | V42: 0.003476428 | W42: 0.0018750553 | X42: 2.2165772 | Y42: 0.011982227 | Z42: 0.011488359 | AA42: 19933.149 | AB42: 167.4757 | AC42: 48174.792 | AD42: 0.0031583376 | AE42: 0.015576143 | AF42: 0.041706719 | AG42: 0.0043983216 | AH42: 0.036245247 | AI42: 0.0049344303 | AJ42: 0.018498642 | AK42: 0.023604439 | AL42: 0.017889631 | AM42: 6 | AN42: 4 | AO42: 192004 | AP42: 975262 | AU42: =U42-$U$3 -> 0.41102325 | AV42: =V42*BI42 -> 0.1738214 | AY42: =AU42^2*6.1453+AU42*6.7708 -> 3.8211439 | BC42: =AV42*24584 -> 4273.2253 | BD42: =Y42/Y$12*BL$12/$BI$12*$BI42 -> 50898.873 | BF42: =$X42/X$10*BN$10/$BI$10*$BI42 -> 9.0654598 | BI42: 50
A43: Wood | B43: 5_ICB-8-1200-10_5 | C43: _x-286y3425.ais | D43: 45378 | E43: 0.60555556 | F43: -286 | G43: 3425 | H43: 750 | I43: 60 | J43: 2001 | K43: 50 | L43: 15 | M43: 150 | N43: 80 | O43: 400 | P43: 3.03 | Q43: 3.04 | R43: -1 | S43: 8 | T43: 0 | U43: 0.42272055 | V43: 0.0034130402 | W43: 0.0019032547 | X43: 2.2117234 | Y43: 0.011897393 | Z43: 0.011640818 | AA43: 20259.072 | AB43: 163.62567 | AC43: 47926.428 | AD43: 0.0032077299 | AE43: 0.012441376 | AF43: 0.054543135 | AG43: 0.0029690852 | AH43: 0.039223496 | AI43: 0.0072072325 | AJ43: 0.013514597 | AK43: 0.02373088 | AL43: 0.013691682 | AM43: 6 | AN43: 4 | AO43: 192004 | AP43: 975262 | AU43: =U43-$U$3 -> 0.41998518 | AV43: =V43*BI43 -> 0.17065201 | AY43: =AU43^2*6.1453+AU43*6.7708 -> 3.92759 | BC43: =AV43*24584 -> 4195.309 | BD43: =Y43/Y$12*BL$12/$BI$12*$BI43 -> 50538.508 | BF43: =$X43/X$10*BN$10/$BI$10*$BI43 -> 9.0456083 | BI43: 50
AY44: =AVERAGE(AY39:AY43) -> 3.8733634 | BC44: =AVERAGE(BC39:BC43) -> 4219.502 | BD44: =AVERAGE(BD39:BD43) -> 51417.238
AY45: =STDEV(AY39:AY43) -> 0.061867325 | BC45: =STDEV(BC39:BC43) -> 134.40798 | BD45: =STDEV(BD39:BD43) -> 712.3117
A47: Wood | B47: 7_ICB-4-1200-5_1 | C47: _x-3641y-3337.ais | D47: 45378 | E47: 0.61527778 | F47: -3641 | G47: -3337 | P47: 3.04 | Q47: 3.08 | R47: 0 | S47: -2 | T47: 9 | U47: 0.17955266 | V47: 0.00046877103 | W47: 0.00012404423 | X47: 2.1207439 | Y47: 0.010268742 | Z47: 0.012821528 | AA47: 8785.6844 | AB47: 22.925013 | AC47: 48934.707 | AU47: =U47-$U$3 -> 0.17681729 | AV47: =V47*BI47 -> 0.023438552 | AY47: =AU47^2*6.1453+AU47*6.7708 -> 1.3893233 | BC47: =AV47*24584 -> 576.21335 | BD47: =Y47/Y$12*BL$12/$BI$12*$BI47 -> 43620.218 | BF47: =$X47/X$10*BN$10/$BI$10*$BI47 -> 8.6735162 | BI47: 50
A48: Wood | B48: 8_ICB-4-1200-5_2 | C48: _x-3604y-3920.ais | D48: 45378 | E48: 0.62152778 | F48: -3604 | G48: -3920 | P48: 3.09 | Q48: 3.03 | R48: 0 | S48: -1 | T48: 9 | U48: 0.18220701 | V48: 0.00049158039 | W48: 0.00012923013 | X48: 2.1792676 | Y48: 0.010470272 | Z48: 0.012403012 | AA48: 8688.3636 | AB48: 23.425014 | AC48: 47685.458 | AU48: =U48-$U$3 -> 0.17947163 | AV48: =V48*BI48 -> 0.024579019 | AY48: =AU48^2*6.1453+AU48*6.7708 -> 1.413107 | BC48: =AV48*24584 -> 604.25061 | BD48: =Y48/Y$12*BL$12/$BI$12*$BI48 -> 44476.291 | BF48: =$X48/X$10*BN$10/$BI$10*$BI48 -> 8.9128693 | BI48: 50
A49: Wood | B49: 9_ICB-4-1200-5_3 | C49: _x-3612y-4091.ais | D49: 45378 | E49: 0.62847222 | F49: -3612 | G49: -4091 | P49: 3.03 | Q49: 3.01 | R49: 0 | S49: -1 | T49: 10 | U49: 0.17667508 | V49: 0.00048101668 | W49: 0.00012724926 | X49: 2.1816042 | Y49: 0.010359965 | Z49: 0.012347215 | AA49: 8368.7732 | AB49: 22.775013 | AC49: 47370.218 | AU49: =U49-$U$3 -> 0.1739397 | AV49: =V49*BI49 -> 0.024050834 | AY49: =AU49^2*6.1453+AU49*6.7708 -> 1.3636371 | BC49: =AV49*24584 -> 591.26571 | BD49: =Y49/Y$12*BL$12/$BI$12*$BI49 -> 44007.723 | BF49: =$X49/X$10*BN$10/$BI$10*$BI49 -> 8.9224252 | BI49: 50
A50: Wood | B50: 10_ICB-4-1200-5_4 | C50: _x-3632y-4246.ais | D50: 45378 | E50: 0.63472222 | F50: -3632 | G50: -4246 | H50: 750 | I50: 60 | J50: 2001 | K50: 50 | L50: 15 | M50: 150 | N50: 80 | O50: 400 | P50: 3.02 | Q50: 3.03 | R50: -2 | S50: 0 | T50: 5 | U50: 0.18878823 | V50: 0.00049345575 | W50: 0.000127394 | X50: 2.1916923 | Y50: 0.010308595 | Z50: 0.012579447 | AA50: 8917.5969 | AB50: 23.325014 | AC50: 47242.175 | AD50: 0.002904456 | AE50: 0.027729719 | AF50: 0.065696446 | AG50: 0.0024922067 | AH50: 0.037170981 | AI50: 0.0070827522 | AJ50: 0.0077152314 | AK50: 0.021397413 | AL50: 0.010100517 | AM50: 6 | AN50: 4 | AO50: 192004 | AP50: 975262 | AU50: =U50-$U$3 -> 0.18605285 | AV50: =V50*BI50 -> 0.024672788 | AY50: =AU50^2*6.1453+AU50*6.7708 -> 1.4724503 | BC50: =AV50*24584 -> 606.55581 | BD50: =Y50/Y$12*BL$12/$BI$12*$BI50 -> 43789.509 | BF50: =$X50/X$10*BN$10/$BI$10*$BI50 -> 8.9636843 | BI50: 50
A51: Wood | B51: 11_ICB-4-1200-5_5 | C51: _x-3574y-4402.ais | D51: 45378 | E51: 0.64097222 | F51: -3574 | G51: -4402 | H51: 750 | I51: 60 | J51: 2001 | K51: 50 | L51: 15 | M51: 150 | N51: 80 | O51: 400 | P51: 3.04 | Q51: 3.04 | R51: 0 | S51: 1 | T51: 5 | U51: 0.18184696 | V51: 0.00054147512 | W51: 0.00011657508 | X51: 2.1839115 | Y51: 0.010485454 | Z51: 0.012307322 | AA51: 8577.6309 | AB51: 25.550016 | AC51: 47170.882 | AD51: 0.0021773109 | AE51: 0.041322968 | AF51: 0.039346321 | AG51: 0.0019467213 | AH51: 0.038486952 | AI51: 0.0066553408 | AJ51: 0.0050305622 | AK51: 0.036364427 | AL51: 0.0063828799 | AM51: 6 | AN51: 4 | AO51: 192004 | AP51: 975262 | AU51: =U51-$U$3 -> 0.17911159 | AV51: =V51*BI51 -> 0.027073756 | AY51: =AU51^2*6.1453+AU51*6.7708 -> 1.4098758 | BC51: =AV51*24584 -> 665.58122 | BD51: =Y51/Y$12*BL$12/$BI$12*$BI51 -> 44540.783 | BF51: =$X51/X$10*BN$10/$BI$10*$BI51 -> 8.9318619 | BI51: 50
H52: 750 | I52: 60 | J52: 2001 | K52: 50 | L52: 15 | M52: 150 | N52: 80 | O52: 400 | AD52: 0.0037222911 | AE52: 0.044172476 | AF52: 0.083238434 | AG52: 0.0029005017 | AH52: 0.032758166 | AI52: 0.0044278252 | AJ52: 0.0058542287 | AK52: 0.041359479 | AL52: 0.0070536561 | AM52: 6 | AN52: 4 | AO52: 192004 | AP52: 975262 | AY52: =AVERAGE(AY47:AY51) -> 1.4096787 | BC52: =AVERAGE(BC47:BC51) -> 608.77334 | BD52: =AVERAGE(BD47:BD51) -> 44086.905
H53: 750 | I53: 60 | J53: 2001 | K53: 50 | L53: 15 | M53: 150 | N53: 80 | O53: 400 | AD53: 0.0048201226 | AE53: 0.039789225 | AF53: 0.03981443 | AG53: 0.0041658195 | AH53: 0.032539957 | AI53: 0.0047941715 | AJ53: 0.0052950628 | AK53: 0.045045866 | AL53: 0.0096267455 | AM53: 6 | AN53: 4 | AO53: 192004 | AP53: 975262 | AY53: =STDEV(AY47:AY51) -> 0.040268585 | BC53: =STDEV(BC47:BC51) -> 33.982268 | BD53: =STDEV(BD47:BD51) -> 409.30962
H54: 750 | I54: 60 | J54: 2001 | K54: 50 | L54: 15 | M54: 150 | N54: 80 | O54: 400 | AD54: 0.0026428879 | AE54: 0.030962206 | AF54: 0.054649347 | AG54: 0.0040142118 | AH54: 0.037476133 | AI54: 0.0080111607 | AJ54: 0.0086449052 | AK54: 0.035924798 | AL54: 0.0093094722 | AM54: 6 | AN54: 4 | AO54: 192004 | AP54: 975262
A55: issy | B55: 1_M5 | C55: _x-890y-4170.ais | D55: 45378 | E55: 0.66041667 | F55: -890 | G55: -4170 | H55: 750 | I55: 60 | J55: 2001 | K55: 50 | L55: 15 | M55: 150 | N55: 80 | O55: 400 | P55: 3.04 | Q55: 3.01 | R55: 6 | S55: -4 | T55: 2 | U55: 0.091819004 | V55: 0.00087408196 | W55: 0.00011286852 | X55: 1.664112 | Y55: 1.3278636e-05 | Z55: 0.012224145 | AA55: 4064.3715 | AB55: 38.675037 | AC55: 44269.945 | AD55: 0.0038004803 | AE55: 0.033044867 | AF55: 0.059313724 | AG55: 0.002915461 | AH55: 0.20212929 | AI55: 0.0072074335 | AJ55: 0.0087578157 | AK55: 0.029469157 | AL55: 0.011669656 | AM55: 6 | AN55: 4 | AO55: 192004 | AP55: 975262 | AU55: =U55-$U$3 -> 0.089083628 | AV55: =V55*BI55 -> 0.043528101 | AY55: =AU55^2*6.1453+AU55*6.7708 -> 0.65193587 | BC55: =AV55*24584 -> 1070.0948 | BD55: =Y55/Y$12*BL$12/$BI$12*$BI55 -> 56.178693 | BF55: =$X55/X$10*BN$10/$BI$10*$BI55 -> 6.7785544 | BH55: ='Issy stds'!A3 -> M5 | BI55: ='Issy stds'!B3 -> 49.79865 | BJ55: ='Issy stds'!C3 -> 0.64 | BK55: ='Issy stds'!D3 -> 990 | BN55: ='Issy stds'!E3 -> 6.9481871
A56: issy | B56: 2_M40 | C56: _x3213y-4247.ais | D56: 45378 | E56: 0.66736111 | F56: 3213 | G56: -4247 | H56: 750 | I56: 60 | J56: 2001 | K56: 50 | L56: 15 | M56: 150 | N56: 80 | O56: 400 | P56: 3.02 | Q56: 3.01 | R56: 33 | S56: -9 | T56: 2 | U56: 0.33932306 | V56: 0.0017255599 | W56: 0.00010397849 | X56: 1.6611339 | Y56: 1.0879164e-05 | Z56: 0.011983953 | AA56: 13545.224 | AB56: 68.875118 | AC56: 39920.242 | AD56: 0.002877672 | AE56: 0.019767486 | AF56: 0.055181558 | AG56: 0.00159911 | AH56: 0.18584066 | AI56: 0.0067590524 | AJ56: 0.0073938437 | AK56: 0.019210368 | AL56: 0.0088133378 | AM56: 6 | AN56: 4 | AO56: 192004 | AP56: 975262 | AU56: =U56-$U$3 -> 0.33658768 | AV56: =V56*BI56 -> 0.083720052 | AY56: =AU56^2*6.1453+AU56*6.7708 -> 2.9751767 | BC56: =AV56*24584 -> 2058.1738 | BD56: =Y56/Y$12*BL$12/$BI$12*$BI56 -> 44.843094 | BF56: =$X56/X$10*BN$10/$BI$10*$BI56 -> 6.592362 | BH56: ='Issy stds'!A4 -> M40 | BI56: ='Issy stds'!B4 -> 48.517616 | BJ56: ='Issy stds'!C4 -> 3.07 | BK56: ='Issy stds'!D4 -> 2183 | BN56: ='Issy stds'!E4 -> 6.7694501
A57: issy | B57: 3_M21 | C57: _x3789y5798.ais | D57: 45378 | E57: 0.67430556 | F57: 3789 | G57: 5798 | H57: 750 | I57: 60 | J57: 2001 | K57: 50 | L57: 15 | M57: 150 | N57: 80 | O57: 400 | P57: 3.01 | Q57: 3 | R57: 4 | S57: 17 | T57: 1 | U57: 0.69741348 | V57: 0.00061523025 | W57: 0.00010701723 | X57: 1.6453137 | Y57: 1.2126886e-05 | Z57: 0.011598708 | AA57: 28074.828 | AB57: 24.775015 | AC57: 40261.296 | AD57: 0.0051482101 | AE57: 0.013245571 | AF57: 0.096273342 | AG57: 0.0034641982 | AH57: 0.1371987 | AI57: 0.0052708635 | AJ57: 0.0048454278 | AK57: 0.020139558 | AL57: 0.0095258617 | AM57: 6 | AN57: 4 | AO57: 192004 | AP57: 975262 | AU57: =U57-$U$3 -> 0.69467811 | AV57: =V57*BI57 -> 0.028496392 | AY57: =AU57^2*6.1453+AU57*6.7708 -> 7.6691111 | BC57: =AV57*24584 -> 700.55531 | BD57: =Y57/Y$12*BL$12/$BI$12*$BI57 -> 47.720182 | BF57: =$X57/X$10*BN$10/$BI$10*$BI57 -> 6.2335849 | BH57: ='Issy stds'!A9 -> M21 | BI57: ='Issy stds'!B9 -> 46.318257 | BJ57: ='Issy stds'!C9 -> 7.56 | BK57: ='Issy stds'!D9 -> 1051 | BN57: ='Issy stds'!E9 -> 6.4625831
A58: issy | B58: 4_N72 | C58: _x-4966y-4388.ais | D58: 45378 | E58: 0.68055556 | F58: -4966 | G58: -4388 | H58: 750 | I58: 60 | J58: 2001 | K58: 50 | L58: 15 | M58: 150 | N58: 80 | O58: 400 | P58: 3 | Q58: 2.99 | R58: -19 | S58: 0 | T58: -1 | U58: 0.0044891627 | V58: 7.0875671e-06 | W58: 0.00011359687 | X58: 1.6864563 | Y58: 1.2123557e-05 | Z58: 0.012315547 | AA58: 188.66016 | AB58: 0.3 | AC58: 42033.037 | AD58: 0.0062758033 | AE58: 0.4081684 | AF58: 0.033160694 | AG58: 0.0027778123 | AH58: 0.14349932 | AI58: 0.0047589127 | AJ58: 0.0071204864 | AK58: 0.40824829 | AL58: 0.011341363 | AM58: 6 | AN58: 4 | AO58: 192004 | AP58: 975262 | AU58: =U58-$U$3 -> 0.0017537874 | AV58: =V58*BI58 -> 0.00035558324 | AY58: =AU58^2*6.1453+AU58*6.7708 -> 0.011893445 | BC58: =AV58*24584 -> 8.7416584 | BD58: =Y58/Y$12*BL$12/$BI$12*$BI58 -> 51.674319 | BF58: =$X58/X$10*BN$10/$BI$10*$BI58 -> 6.9207976 | BH58: ='Issy stds'!A2 -> N72 | BI58: ='Issy stds'!B2 -> 50.17 | BJ58: ='Issy stds'!C2 -> 0 | BK58: ='Issy stds'!D2 -> 0 | BN58: ='Issy stds'!E2 -> 7
B62: 31 March 2025 NEW SESSION | AX62: SiO2 range | AY62: 48 | AZ62: 62 | BA62: 65 | BB62: 74 | BC62: 48-74 | BD62: 48 | BE62: 48 | BF62: 48-74
AY63: =AVERAGE(AW295,AVERAGE(AW331:AW335)) -> 7.1590181 | AZ63: =$AY63*(($BB63/$AY63-1)/($BB62/$AY62-1)*(AZ62/$AY62-1)+1) -> 7.9552235 | BA63: =$AY63*(($BB63/$AY63-1)/($BB62/$AY62-1)*(BA62/$AY62-1)+1) -> 8.1258389 | BB63: =AVERAGE(AW346:AW352) -> 8.6376853 | BC63: =BK338/AVERAGE(AV338:AV340) -> 25242.001 | BH63: ='ND70'!$A$1 -> Sample # | BI63: ='ND70'!$D$1 -> SiO2 | BJ63: ='ND70'!$O$1 -> H2O | BK63: ='ND70'!$Q$1 -> CO2 (ppm) | BL63: ='ND70'!$U$1 -> Cl (ppm) | BM63: ='ND70'!$W$1 -> F (ppm) | BN63: ='ND70'!$I$1 -> MgO
A64: ND70 | B64: 1_degassed | C64: _x5856y-3048.ais | D64: 45747 | E64: 0.39305556 | F64: 5856 | G64: -3048 | H64: 750 | I64: 36 | J64: 2001 | K64: 50 | L64: 15 | M64: 400 | N64: 80 | O64: 400 | P64: 3.14 | Q64: 3.13 | R64: -17 | S64: 5 | T64: -29 | U64: 0.0058821551 | V64: 7.2861503e-07 | W64: 2.9519526e-05 | X64: 2.0352432 | Y64: 7.2775783e-06 | Z64: 0.013157686 | AA64: 202.97482 | AB64: 0.025 | AC64: 34507.757 | AD64: 0.011263978 | AE64: 1 | AF64: 0.14977312 | AG64: 0.003713907 | AH64: 0.2496599 | AI64: 0.0096119149 | AJ64: 0.011063721 | AK64: 1 | AL64: 0.0035495201 | AM64: 6 | AN64: 4 | AO64: 191201 | AP64: 974731 | AR64: 203 | AS64: 0.025 | AU64: =(AA64-AR64)/AC64 -> -7.2963015e-07 | AV64: =(AB64-AS64)/AC64*BI64 -> 8.9996574e-14 | AY64: =$AU64*AY$63 -> -5.2234355e-06 | AZ64: =$AU64*AZ$63 -> -5.8043709e-06 | BA64: =$AU64*BA$63 -> -5.9288571e-06 | BB64: =$AU64*BB$63 -> -6.3023156e-06 | BC64: =AV64*$BC$63 -> 2.2716937e-09 | BD64: =Y64/Y$66*BL$66/$BI$66*$BI64 -> 12.702552 | BE64: =W64/W$66*BM$66/$BI$66*$BI64 -> 12.749661 | BF64: =$X64/X$10*BN$10/$BI$10*$BI64 -> 8.3388143 | BH64: ='ND70'!$A$2 -> ND 70_ Degassed | BI64: ='ND70'!$D$2 -> 50.09 | BJ64: 0 | BK64: 0 | BL64: ='ND70'!$U$2 -> 11 | BM64: ='ND70'!$W$2 -> 15 | BN64: ='ND70'!$I$2 -> 8.78
A65: ND70 | B65: 2_nd70-3-01 | C65: _x4967y820.ais | D65: 45747 | E65: 0.4 | F65: 4967 | G65: 820 | H65: 750 | I65: 36 | J65: 2001 | K65: 50 | L65: 15 | M65: 400 | N65: 80 | O65: 400 | P65: 3.13 | Q65: 3.13 | R65: 1 | S65: 3 | T65: -26 | U65: 0.50279092 | V65: 0.0031205196 | W65: 0.010379527 | X65: 2.2843765 | Y65: 0.00057500871 | Z65: 0.012928572 | AA65: 16265.934 | AB65: 100.92525 | AC65: 32354.318 | AD65: 0.0056182786 | AE65: 0.02577643 | AF65: 0.034411048 | AG65: 0.0034278874 | AH65: 0.058409307 | AI65: 0.0075419588 | AJ65: 0.0023133665 | AK65: 0.021105746 | AL65: 0.0060081884 | AM65: 6 | AN65: 4 | AO65: 191201 | AP65: 974731 | AR65: 203 | AS65: 0.025 | AU65: =(AA65-AR65)/AC65 -> 0.49646957 | AV65: =(AB65-AS65)/AC65*BI65 -> 0.15480742 | AW65: =BJ65/AU65 -> 6.2239465 | AY65: =$AU65*AY$63 -> 3.5542346 | AZ65: =$AU65*AZ$63 -> 3.9495264 | BA65: =$AU65*BA$63 -> 4.0342317 | BB65: =$AU65*BB$63 -> 4.2883478 | BC65: =AV65*$BC$63 -> 3907.6492 | BD65: =Y65/Y$66*BL$66/$BI$66*$BI65 -> 994.62471 | BE65: =W65/W$66*BM$66/$BI$66*$BI65 -> 4442.7059 | BF65: =$X65/X$10*BN$10/$BI$10*$BI65 -> 9.2754803 | BH65: ='ND70'!$A$5 -> ND70-3-01 | BI65: ='ND70'!$D$5 -> 49.64 | BJ65: ='ND70'!$O$5 -> 3.09 | BK65: ='ND70'!$Q$5 -> 2637 | BL65: ='ND70'!$U$5 -> 984 | BM65: ='ND70'!$W$5 -> 803 | BN65: ='ND70'!$I$5 -> 9.06 | BR65: H2O rhy/bas | BS65: =8.5/6.8 -> 1.25
A66: ND70 | B66: 3_nd70-6-02 | C66: _x-5117y1593.ais | D66: 45747 | E66: 0.40625 | F66: -5117 | G66: 1593 | H66: 750 | I66: 36 | J66: 2001 | K66: 50 | L66: 15 | M66: 400 | N66: 80 | O66: 400 | P66: 3.14 | Q66: 3.13 | R66: -4 | S66: 5 | T66: -24 | U66: 0.90330116 | V66: 0.011549036 | W66: 0.022902566 | X66: 2.0951117 | Y66: 0.0070010064 | Z66: 0.013616049 | AA66: 30991.392 | AB66: 396.2289 | AC66: 34311.048 | AD66: 0.0055945071 | AE66: 0.016409534 | AF66: 0.020870221 | AG66: 0.0077621964 | AH66: 0.030171403 | AI66: 0.015324491 | AJ66: 0.0036890768 | AK66: 0.015449955 | AL66: 0.0046260396 | AM66: 6 | AN66: 4 | AO66: 191201 | AP66: 974731 | AR66: 203 | AS66: 0.025 | AU66: =(AA66-AR66)/AC66 -> 0.89733174 | AV66: =(AB66-AS66)/AC66*BI66 -> 0.58187422 | AW66: =BJ66/AU66 -> 7.1545446 | AY66: =$AU66*AY$63 -> 6.4240142 | AZ66: =$AU66*AZ$63 -> 7.1384745 | BA66: =$AU66*BA$63 -> 7.2915732 | BB66: =$AU66*BB$63 -> 7.7508691 | BC66: =AV66*$BC$63 -> 14687.67 | BD66: =Y66/Y$66*BL$66/$BI$66*$BI66 -> 12293 | BE66: =W66/W$66*BM$66/$BI$66*$BI66 -> 9951 | BF66: =$X66/X$10*BN$10/$BI$10*$BI66 -> 8.6355203 | BH66: ='ND70'!$A$9 -> ND70-6-02 | BI66: ='ND70'!$D$9 -> 50.39 | BJ66: ='ND70'!$O$9 -> 6.42 | BK66: ='ND70'!$Q$9 -> 15847 | BL66: ='ND70'!$U$9 -> 12293 | BM66: ='ND70'!$W$9 -> 9951 | BN66: ='ND70'!$I$9 -> 9.41
A67: ND70 | B67: 4_ND70_4-02 | C67: _x4519y5529.ais | D67: 45747 | E67: 0.41319444 | F67: 4519 | G67: 5529 | H67: 750 | I67: 36 | J67: 2001 | K67: 50 | L67: 15 | M67: 400 | N67: 80 | O67: 400 | P67: 3.13 | Q67: 3.13 | R67: -11 | S67: -7 | T67: -25 | U67: 0.55830038 | V67: 0.0035486614 | W67: 0.0037741796 | X67: 2.133935 | Y67: 0.0010875028 | Z67: 0.012749254 | AA67: 18451.132 | AB67: 117.27534 | AC67: 33050.695 | AD67: 0.0040024932 | AE67: 0.02095509 | AF67: 0.028216239 | AG67: 0.0032012637 | AH67: 0.051288322 | AI67: 0.0070982017 | AJ67: 0.0016449559 | AK67: 0.020137591 | AL67: 0.005087613 | AM67: 6 | AN67: 4 | AO67: 191201 | AP67: 974731 | AR67: 203 | AS67: 0.025 | AU67: =(AA67-AR67)/AC67 -> 0.5521255 | AV67: =(AB67-AS67)/AC67*BI67 -> 0.17340624 | AW67: =BJ67/AU67 -> 6.4478094 | AY67: =$AU67*AY$63 -> 3.9526765 | AZ67: =$AU67*AZ$63 -> 4.3922818 | BA67: =$AU67*BA$63 -> 4.4864829 | BB67: =$AU67*BB$63 -> 4.7690863 | BC67: =AV67*$BC$63 -> 4377.1205 | BD67: =Y67/Y$66*BL$66/$BI$66*$BI67 -> 1852.3142 | BE67: =W67/W$66*BM$66/$BI$66*$BI67 -> 1590.7136 | BF67: =$X67/X$10*BN$10/$BI$10*$BI67 -> 8.5319707 | BH67: ='ND70'!$A$7 -> ND70-4-02 | BI67: ='ND70'!$D$7 -> 48.88 | BJ67: ='ND70'!$O$7 -> 3.56 | BK67: ='ND70'!$Q$7 -> 4214 | BL67: ='ND70'!$U$7 -> 2060 | BM67: ='ND70'!$W$7 -> 1887 | BN67: ='ND70'!$I$7 -> 9.09
A69: F-Cl-S | B69: 2_N72 | C69: _x-5614y-4076.ais | D69: 45747 | E69: 0.45555556 | F69: -5614 | G69: -4076 | H69: 750 | I69: 36 | J69: 2001 | K69: 50 | L69: 15 | M69: 400 | N69: 80 | O69: 400 | P69: 3.13 | Q69: 3.13 | R69: 51 | S69: 27 | T69: -20 | U69: 0.0030137997 | V69: 1.6707317e-05 | W69: 7.4591872e-05 | X69: 1.6287283 | Y69: 7.4497789e-06 | Z69: 0.013352702 | AA69: 108.41762 | AB69: 0.60000001 | AC69: 35978.332 | AD69: 0.023131072 | AE69: 0.12260797 | AF69: 0.038239331 | AG69: 0.0047108986 | AH69: 0.20840722 | AI69: 0.0048864413 | AJ69: 0.023169097 | AK69: 0.11785113 | AL69: 0.0091329604 | AM69: 6 | AN69: 4 | AO69: 191201 | AP69: 974731 | AR69: 108 | AS69: 0.6 | AU69: =(AA69-AR69)/AC69 -> 1.1607458e-05 | AV69: =(AB69-AS69)/AC69*BI69 -> 1.2968389e-11 | AY69: =$AU69*AY$63 -> 8.3098003e-05 | AZ69: =$AU69*AZ$63 -> 9.2339924e-05 | BA69: =$AU69*BA$63 -> 9.4320335e-05 | BB69: =$AU69*BB$63 -> 0.00010026157 | BC69: =AV69*$BC$63 -> 3.2734809e-07 | BD69: =Y69/Y$66*BL$66/$BI$66*$BI69 -> 13.023884 | BE69: =W69/W$66*BM$66/$BI$66*$BI69 -> 32.268133 | BF69: =$X69/X$10*BN$10/$BI$10*$BI69 -> 6.6838964 | BH69: ='Issy stds'!A2 -> N72 | BI69: ='Issy stds'!B2 -> 50.17 | BJ69: ='Issy stds'!C2 -> 0 | BK69: ='Issy stds'!D2 -> 0 | BN69: ='Issy stds'!E2 -> 7
A70: F-Cl-S | B70: 1_M5_310325 | C70: _x-934y-4797.ais | D70: 45747 | E70: 0.44861111 | F70: -934 | G70: -4797 | H70: 750 | I70: 36 | J70: 2001 | K70: 50 | L70: 15 | M70: 400 | N70: 80 | O70: 400 | P70: 3.13 | Q70: 3.13 | R70: 2 | S70: 9 | T70: -20 | U70: 0.14251445 | V70: 0.0011654312 | W70: 0.00010613479 | X70: 1.5799271 | Y70: 1.2134638e-05 | Z70: 0.014584651 | AA70: 4925.5006 | AB70: 40.27504 | AC70: 34562.851 | AD70: 0.0069732935 | AE70: 0.031743493 | AF70: 0.081650178 | AG70: 0.0054463585 | AH70: 0.21833037 | AI70: 0.0080691244 | AJ70: 0.0051037779 | AK70: 0.030449682 | AL70: 0.0022272399 | AM70: 6 | AN70: 4 | AO70: 191201 | AP70: 974731 | AR70: 108 | AS70: 0.6 | AU70: =(AA70-AR70)/AC70 -> 0.13938377 | AV70: =(AB70-AS70)/AC70*BI70 -> 0.057164365 | AW70: =BJ70/AU70 -> 4.5916392 | AY70: =$AU70*AY$63 -> 0.99785097 | AZ70: =$AU70*AZ$63 -> 1.1088291 | BA70: =$AU70*BA$63 -> 1.1326101 | BB70: =$AU70*BB$63 -> 1.2039532 | BC70: =AV70*$BC$63 -> 1442.943 | BD70: =Y70/Y$66*BL$66/$BI$66*$BI70 -> 21.057046 | BE70: =W70/W$66*BM$66/$BI$66*$BI70 -> 45.573623 | BF70: =$X70/X$10*BN$10/$BI$10*$BI70 -> 6.4356375 | BH70: ='Issy stds'!A3 -> M5 | BI70: ='Issy stds'!B3 -> 49.79865 | BJ70: ='Issy stds'!C3 -> 0.64 | BK70: ='Issy stds'!D3 -> 990 | BN70: ='Issy stds'!E3 -> 6.9481871
A71: F-Cl-S | B71: 3_M40 | C71: _x3178y-4643.ais | D71: 45747 | E71: 0.46180556 | F71: 3178 | G71: -4643 | H71: 750 | I71: 36 | J71: 2001 | K71: 50 | L71: 15 | M71: 400 | N71: 80 | O71: 400 | P71: 3.13 | Q71: 3.13 | R71: -34 | S71: 10 | T71: -23 | U71: 0.51246409 | V71: 0.0021176296 | W71: 0.0001071408 | X71: 1.5893971 | Y71: 1.2476012e-05 | Z71: 0.015084604 | AA71: 17824.458 | AB71: 73.675135 | AC71: 34786.237 | AD71: 0.007910757 | AE71: 0.022100628 | AF71: 0.046600408 | AG71: 0.0051548503 | AH71: 0.15228779 | AI71: 0.0087451075 | AJ71: 0.0026866326 | AK71: 0.024671633 | AL71: 0.0052942951 | AM71: 6 | AN71: 4 | AO71: 191201 | AP71: 974731 | AR71: 108 | AS71: 0.6 | AU71: =(AA71-AR71)/AC71 -> 0.50929506 | AV71: =(AB71-AS71)/AC71*BI71 -> 0.10192052 | AW71: =BJ71/AU71 -> 6.0279399 | AY71: =$AU71*AY$63 -> 3.6460525 | AZ71: =$AU71*AZ$63 -> 4.051556 | BA71: =$AU71*BA$63 -> 4.1384496 | BB71: =$AU71*BB$63 -> 4.3991304 | BC71: =AV71*$BC$63 -> 2572.6779 | BD71: =Y71/Y$66*BL$66/$BI$66*$BI71 -> 21.092511 | BE71: =W71/W$66*BM$66/$BI$66*$BI71 -> 44.822139 | BF71: =$X71/X$10*BN$10/$BI$10*$BI71 -> 6.3076682 | BH71: ='Issy stds'!A4 -> M40 | BI71: ='Issy stds'!B4 -> 48.517616 | BJ71: ='Issy stds'!C4 -> 3.07 | BK71: ='Issy stds'!D4 -> 2183 | BN71: ='Issy stds'!E4 -> 6.7694501
A72: F-Cl-S | B72: 1_M21 | C72: _x4409y5579.ais | D72: 45747 | E72: 0.49166667 | F72: 4409 | G72: 5579 | H72: 750 | I72: 36 | J72: 2001 | K72: 50 | L72: 15 | M72: 400 | N72: 80 | O72: 400 | P72: 3.12 | Q72: 3.12 | R72: 9 | S72: -5 | T72: -25 | U72: 1.0484351 | V72: 0.00076646273 | W72: 0.00010636158 | X72: 1.5638344 | Y72: 1.2116552e-05 | Z72: 0.015110686 | AA72: 36355.129 | AB72: 26.600018 | AC72: 34686.446 | AD72: 0.010687738 | AE72: 0.036305233 | AF72: 0.097417118 | AG72: 0.0045126895 | AH72: 0.24262306 | AI72: 0.0033643695 | AJ72: 0.0012919941 | AK72: 0.042588113 | AL72: 0.0097731004 | AM72: 6 | AN72: 4 | AO72: 191201 | AP72: 974731 | AR72: 108 | AS72: 0.6 | AU72: =(AA72-AR72)/AC72 -> 1.044994 | AV72: =(AB72-AS72)/AC72*BI72 -> 0.034718907 | AW72: =BJ72/AU72 -> 7.2344912 | AY72: =$AU72*AY$63 -> 7.4811311 | AZ72: =$AU72*AZ$63 -> 8.313161 | BA72: =$AU72*BA$63 -> 8.4914531 | BB72: =$AU72*BB$63 -> 9.0263294 | BC72: =AV72*$BC$63 -> 876.3747 | BD72: =Y72/Y$66*BL$66/$BI$66*$BI72 -> 19.556192 | BE72: =W72/W$66*BM$66/$BI$66*$BI72 -> 42.479089 | BF72: =$X72/X$10*BN$10/$BI$10*$BI72 -> 5.9248852 | BH72: M21 | BI72: 46.318257 | BJ72: 7.56 | BK72: 1051 | BN72: 6.4625831
A73: F-Cl-S | B73: 2_M47 | C73: _x76y6329.ais | D73: 45747 | E73: 0.49791667 | F73: 76 | G73: 6329 | H73: 750 | I73: 36 | J73: 2001 | K73: 50 | L73: 15 | M73: 400 | N73: 80 | O73: 400 | P73: 3.12 | Q73: 3.12 | R73: 48 | S73: -3 | T73: -22 | U73: 0.14153186 | V73: 0.00025769804 | W73: 9.9392402e-05 | X73: 1.576262 | Y73: 1.4933597e-05 | Z73: 0.014283154 | AA73: 5112.9465 | AB73: 9.3000022 | AC73: 36136.364 | AD73: 0.011132178 | AE73: 0.084650892 | AF73: 0.10672055 | AG73: 0.0058523633 | AH73: 0.13458881 | AI73: 0.0073285561 | AJ73: 0.004115704 | AK73: 0.08106226 | AL73: 0.0093747722 | AM73: 6 | AN73: 4 | AO73: 191201 | AP73: 974731 | AR73: 108 | AS73: 0.6 | AU73: =(AA73-AR73)/AC73 -> 0.13850166 | AV73: =(AB73-AS73)/AC73*BI73 -> 0.011977346 | AW73: =BJ73/AU73 -> 5.9205066 | AY73: =$AU73*AY$63 -> 0.99153591 | AZ73: =$AU73*AZ$63 -> 1.1018117 | BA73: =$AU73*BA$63 -> 1.1254422 | BB73: =$AU73*BB$63 -> 1.1963338 | BC73: =AV73*$BC$63 -> 302.33219 | BD73: =Y73/Y$66*BL$66/$BI$66*$BI73 -> 25.888278 | BE73: =W73/W$66*BM$66/$BI$66*$BI73 -> 42.636064 | BF73: =$X73/X$10*BN$10/$BI$10*$BI73 -> 6.4143265 | BH73: M47 | BI73: 49.749153 | BJ73: 0.82 | BK73: 175 | BN73: 6.941281
A74: F-Cl-S | B74: 3_M36 | C74: _x3515y390.ais | D74: 45747 | E74: 0.50486111 | F74: 3515 | G74: 390 | H74: 750 | I74: 36 | J74: 2001 | K74: 50 | L74: 15 | M74: 400 | N74: 80 | O74: 400 | P74: 3.12 | Q74: 3.12 | R74: -24 | S74: -45 | T74: -22 | U74: 0.51648486 | V74: 0.0014179801 | W74: 0.00012909088 | X74: 1.5841519 | Y74: 9.3497185e-06 | Z74: 0.014901431 | AA74: 17510.674 | AB74: 48.050057 | AC74: 33909.496 | AD74: 0.0090140286 | AE74: 0.035770236 | AF74: 0.054842488 | AG74: 0.0048778989 | AH74: 0.14963594 | AI74: 0.010877485 | AJ74: 0.0026213844 | AK74: 0.029731093 | AL74: 0.0064781921 | AM74: 6 | AN74: 4 | AO74: 191201 | AP74: 974731 | AR74: 108 | AS74: 0.6 | AU74: =(AA74-AR74)/AC74 -> 0.51320945 | AV74: =(AB74-AS74)/AC74*BI74 -> 0.068122825 | AW74: =BJ74/AU74 -> 5.4948326 | AY74: =$AU74*AY$63 -> 3.6740757 | AZ74: =$AU74*AZ$63 -> 4.0826958 | BA74: =$AU74*BA$63 -> 4.1702573 | BB74: =$AU74*BB$63 -> 4.4329417 | BC74: =AV74*$BC$63 -> 1719.5565 | BD74: =Y74/Y$66*BL$66/$BI$66*$BI74 -> 15.860937 | BE74: =W74/W$66*BM$66/$BI$66*$BI74 -> 54.188988 | BF74: =$X74/X$10*BN$10/$BI$10*$BI74 -> 6.308281 | BH74: M36 | BI74: 48.68299 | BJ74: 2.82 | BK74: 1392 | BN74: 6.792524
A76: monika | B76: 1_DCB-2-1200-10-A1861-01 | C76: _x-79y1065.ais | D76: 45747 | E76: 0.54791667 | F76: -79 | G76: 1065 | H76: 750 | I76: 36 | J76: 2001 | K76: 50 | L76: 15 | M76: 400 | N76: 80 | O76: 400 | P76: 3.11 | Q76: 3.1 | R76: 5 | S76: 4 | T76: -16 | U76: 1.0292465 | V76: 0.0029186111 | W76: 0.0013195508 | X76: 0.26189688 | Y76: 0.0018963004 | Z76: 0.019094955 | AA76: 60985.546 | AB76: 172.72574 | AC76: 59303.915 | AD76: 0.017325225 | AE76: 0.042257595 | AF76: 0.024094842 | AG76: 0.0065686211 | AH76: 0.06658071 | AI76: 0.011698478 | AJ76: 0.001311678 | AK76: 0.025975106 | AL76: 0.016702122 | AM76: 6 | AN76: 4 | AO76: 191201 | AP76: 974731 | AR76: 29 | AS76: 1.15 | AU76: =(AA76-AR76)/AC76 -> 1.0278671 | AV76: =(AB76-AS76)/AC76*BI76 -> 0.17477582 | AY76: =$AU76*AY$63 -> 7.3585195 | AZ76: =$AU76*AZ$63 -> 8.1769128 | BA76: =$AU76*BA$63 -> 8.3522828 | BB76: =$AU76*BB$63 -> 8.8783929 | BC76: =AV76*$BC$63 -> 4411.6916 | BD76: =Y76/Y$66*BL$66/$BI$66*$BI76 -> 3991.8022 | BE76: =W76/W$66*BM$66/$BI$66*$BI76 -> 687.34249 | BF76: =$X76/X$10*BN$10/$BI$10*$BI76 -> 1.2941247 | BG76: 0.88 | BI76: 60.41
A77: monika | B77: 2_DCB-2-1200-10-A1861-02 | C77: _x-93y954.ais | D77: 45747 | E77: 0.55416667 | F77: -93 | G77: 954 | H77: 750 | I77: 36 | J77: 2001 | K77: 50 | L77: 15 | M77: 400 | N77: 80 | O77: 400 | P77: 3.11 | Q77: 3.1 | R77: 4 | S77: 7 | T77: -19 | U77: 1.0343554 | V77: 0.00281271 | W77: 0.0012980466 | X77: 0.26239541 | Y77: 0.0016154286 | Z77: 0.019527075 | AA77: 62466.892 | AB77: 169.90072 | AC77: 60453.615 | AD77: 0.016629757 | AE77: 0.016583843 | AF77: 0.026904023 | AG77: 0.0082278108 | AH77: 0.040541021 | AI77: 0.0064537911 | AJ77: 0.0047820621 | AK77: 0.01261228 | AL77: 0.020649083 | AM77: 6 | AN77: 4 | AO77: 191201 | AP77: 974731 | AR77: 29 | AS77: 1.15 | AU77: =(AA77-AR77)/AC77 -> 1.0328231 | AV77: =(AB77-AS77)/AC77*BI77 -> 0.16862897 | AY77: =$AU77*AY$63 -> 7.3939995 | AZ77: =$AU77*AZ$63 -> 8.2163388 | BA77: =$AU77*BA$63 -> 8.3925544 | BB77: =$AU77*BB$63 -> 8.9212011 | BC77: =AV77*$BC$63 -> 4256.5327 | BD77: =Y77/Y$66*BL$66/$BI$66*$BI77 -> 3400.5539 | BE77: =W77/W$66*BM$66/$BI$66*$BI77 -> 676.1411 | BF77: =$X77/X$10*BN$10/$BI$10*$BI77 -> 1.2965881 | BG77: 0.88 | BI77: 60.41
A78: monika | B78: 3_DCB-2-1200-10-A1861-03 | C78: _x39y964.ais | D78: 45747 | E78: 0.56041667 | F78: 39 | G78: 964 | H78: 750 | I78: 36 | J78: 2001 | K78: 50 | L78: 15 | M78: 400 | N78: 80 | O78: 400 | P78: 3.1 | Q78: 3.1 | R78: 6 | S78: 6 | T78: -23 | U78: 1.0376119 | V78: 0.0028870306 | W78: 0.0012639798 | X78: 0.26248538 | Y78: 0.0016048682 | Z78: 0.019536384 | AA78: 62650.325 | AB78: 174.35075 | AC78: 60440.08 | AD78: 0.015960306 | AE78: 0.013739894 | AF78: 0.031694371 | AG78: 0.0078526212 | AH78: 0.035846957 | AI78: 0.011797016 | AJ78: 0.0055977408 | AK78: 0.0097519505 | AL78: 0.0211839 | AM78: 6 | AN78: 4 | AO78: 191201 | AP78: 974731 | AR78: 29 | AS78: 1.15 | AU78: =(AA78-AR78)/AC78 -> 1.0360894 | AV78: =(AB78-AS78)/AC78*BI78 -> 0.17311455 | AY78: =$AU78*AY$63 -> 7.4173825 | AZ78: =$AU78*AZ$63 -> 8.2423225 | BA78: =$AU78*BA$63 -> 8.4190953 | BB78: =$AU78*BB$63 -> 8.9494139 | BC78: =AV78*$BC$63 -> 4369.7578 | BD78: =Y78/Y$66*BL$66/$BI$66*$BI78 -> 3378.3236 | BE78: =W78/W$66*BM$66/$BI$66*$BI78 -> 658.39603 | BF78: =$X78/X$10*BN$10/$BI$10*$BI78 -> 1.2970327 | BG78: 0.88 | BI78: 60.41
A79: monika | B79: 4_DCB-2-1200-10-A1861-04 | C79: _x335y21.ais | D79: 45747 | E79: 0.56736111 | F79: 335 | G79: 21 | H79: 750 | I79: 36 | J79: 2001 | K79: 50 | L79: 15 | M79: 400 | N79: 80 | O79: 400 | P79: 3.1 | Q79: 3.1 | R79: 6 | S79: 2 | T79: -18 | U79: 1.0033612 | V79: 0.0027871323 | W79: 0.0013746956 | X79: 0.27385236 | Y79: 0.0017167485 | Z79: 0.018748119 | AA79: 63988.949 | AB79: 177.67578 | AC79: 63854.635 | AD79: 0.017375253 | AE79: 0.025916818 | AF79: 0.030047117 | AG79: 0.0081817327 | AH79: 0.038971073 | AI79: 0.012993941 | AJ79: 0.0067730213 | AK79: 0.011651522 | AL79: 0.024091193 | AM79: 6 | AN79: 4 | AO79: 191201 | AP79: 974731 | AR79: 29 | AS79: 1.15 | AU79: =(AA79-AR79)/AC79 -> 1.0016493 | AV79: =(AB79-AS79)/AC79*BI79 -> 0.16700311 | AY79: =$AU79*AY$63 -> 7.1708252 | AZ79: =$AU79*AZ$63 -> 7.9683438 | BA79: =$AU79*BA$63 -> 8.1392406 | BB79: =$AU79*BB$63 -> 8.6519311 | BC79: =AV79*$BC$63 -> 4215.4927 | BD79: =Y79/Y$66*BL$66/$BI$66*$BI79 -> 3613.8369 | BE79: =W79/W$66*BM$66/$BI$66*$BI79 -> 716.06694 | BF79: =$X79/X$10*BN$10/$BI$10*$BI79 -> 1.3532009 | BG79: 0.88 | BI79: 60.41
A80: monika | B80: 5_DCB-2-1200-10-A1861-05 | C80: _x282y108.ais | D80: 45747 | E80: 0.57361111 | F80: 282 | G80: 108 | H80: 750 | I80: 36 | J80: 2001 | K80: 50 | L80: 15 | M80: 400 | N80: 80 | O80: 400 | P80: 3.1 | Q80: 3.1 | R80: 5 | S80: 1 | T80: -15 | U80: 1.0198536 | V80: 0.002859156 | W80: 0.0013055126 | X80: 0.27105384 | Y80: 0.0017880636 | Z80: 0.019349278 | AA80: 61588.231 | AB80: 172.65074 | AC80: 60498.558 | AD80: 0.023834619 | AE80: 0.027264025 | AF80: 0.022801672 | AG80: 0.0075913789 | AH80: 0.059209084 | AI80: 0.011039195 | AJ80: 0.0014716054 | AK80: 0.011481154 | AL80: 0.025330908 | AM80: 6 | AN80: 4 | AO80: 191201 | AP80: 974731 | AR80: 29 | AS80: 1.15 | AU80: =(AA80-AR80)/AC80 -> 1.0175322 | AV80: =(AB80-AS80)/AC80*BI80 -> 0.1712497 | AY80: =$AU80*AY$63 -> 7.2845315 | AZ80: =$AU80*AZ$63 -> 8.0946961 | BA80: =$AU80*BA$63 -> 8.2683028 | BB80: =$AU80*BB$63 -> 8.789123 | BC80: =AV80*$BC$63 -> 4322.6851 | BD80: =Y80/Y$66*BL$66/$BI$66*$BI80 -> 3763.9588 | BE80: =W80/W$66*BM$66/$BI$66*$BI80 -> 680.03011 | BF80: =$X80/X$10*BN$10/$BI$10*$BI80 -> 1.3393725 | BG80: 0.88 | BI80: 60.41
A81: monika | B81: 6_DCB-2-1200-10-A1861-06 | C81: _x205y7.ais | D81: 45747 | E81: 0.57986111 | F81: 205 | G81: 7 | H81: 750 | I81: 36 | J81: 2001 | K81: 50 | L81: 15 | M81: 400 | N81: 80 | O81: 400 | P81: 3.1 | Q81: 3.1 | R81: 3 | S81: 2 | T81: -19 | U81: 1.0301578 | V81: 0.0030573422 | W81: 0.0013410664 | X81: 0.271488 | Y81: 0.0017358298 | Z81: 0.019862341 | AA81: 62144.733 | AB81: 184.40085 | AC81: 60388.559 | AD81: 0.01610659 | AE81: 0.041401494 | AF81: 0.035027122 | AG81: 0.0064457977 | AH81: 0.041615002 | AI81: 0.0092920105 | AJ81: 0.0061689898 | AK81: 0.037960488 | AL81: 0.021867155 | AM81: 6 | AN81: 4 | AO81: 191201 | AP81: 974731 | AR81: 29 | AS81: 1.15 | AU81: =(AA81-AR81)/AC81 -> 1.028601 | AV81: =(AB81-AS81)/AC81*BI81 -> 0.18331591 | AY81: =$AU81*AY$63 -> 7.3637732 | AZ81: =$AU81*AZ$63 -> 8.1827509 | BA81: =$AU81*BA$63 -> 8.3582461 | BB81: =$AU81*BB$63 -> 8.8847318 | BC81: =AV81*$BC$63 -> 4627.2605 | BD81: =Y81/Y$66*BL$66/$BI$66*$BI81 -> 3654.0041 | BE81: =W81/W$66*BM$66/$BI$66*$BI81 -> 698.54975 | BF81: =$X81/X$10*BN$10/$BI$10*$BI81 -> 1.3415178 | BG81: 0.88 | BI81: 60.41
BC82: =AVERAGE(BC76:BC81) -> 4367.2367 | BD82: =STDEV(BC76:BC81) -> 146.19262 | BE82: =BC82/10000 -> 0.43672367 | BF82: =BD82/10000 -> 0.014619262
A83: monika | B83: 7_DCB-2-1200-5-B781-01 | C83: _x-4497y944.ais | D83: 45747 | E83: 0.58680556 | F83: -4497 | G83: 944 | H83: 750 | I83: 36 | J83: 2001 | K83: 50 | L83: 15 | M83: 400 | N83: 80 | O83: 400 | P83: 3.1 | Q83: 3.09 | R83: -11 | S83: 3 | T83: -18 | U83: 0.64265691 | V83: 0.0015827845 | W83: 0.000859989 | X83: 0.22688105 | Y83: 0.0016906879 | Z83: 0.019873116 | AA83: 38565.783 | AB83: 94.950224 | AC83: 60064.802 | AD83: 0.01691067 | AE83: 0.023928269 | AF83: 0.030424186 | AG83: 0.0044808337 | AH83: 0.033227535 | AI83: 0.012649884 | AJ83: 0.0022187488 | AK83: 0.0076974068 | AL83: 0.018069247 | AM83: 6 | AN83: 4 | AO83: 191201 | AP83: 974731 | AR83: 29 | AS83: 1.15 | AU83: =(AA83-AR83)/AC83 -> 0.64158679 | AV83: =(AB83-AS83)/AC83*BI83 -> 0.10330318 | AY83: =$AU83*AY$63 -> 4.5931314 | AZ83: =$AU83*AZ$63 -> 5.1039663 | BA83: =$AU83*BA$63 -> 5.2134309 | BB83: =$AU83*BB$63 -> 5.5418247 | BC83: =AV83*$BC$63 -> 2607.5789 | BD83: =Y83/Y$66*BL$66/$BI$66*$BI83 -> 3897.143 | BE83: =W83/W$66*BM$66/$BI$66*$BI83 -> 490.52481 | BF83: =$X83/X$10*BN$10/$BI$10*$BI83 -> 1.227623 | BG83: 0.75 | BI83: 66.15 | BJ83: 30Si count rate variable in this capsule
A84: monika | B84: 8_DCB-2-1200-5-B781-02 | C84: _x-4574y949.ais | D84: 45747 | E84: 0.59305556 | F84: -4574 | G84: 949 | H84: 750 | I84: 36 | J84: 2001 | K84: 50 | L84: 15 | M84: 400 | N84: 80 | O84: 400 | P84: 3.1 | Q84: 3.1 | R84: -12 | S84: 3 | T84: -19 | U84: 0.68748308 | V84: 0.0016191016 | W84: 0.00082911772 | X84: 0.22823699 | Y84: 0.0022912548 | Z84: 0.020386788 | AA84: 36434.329 | AB84: 85.825183 | AC84: 53013.991 | AD84: 0.02169995 | AE84: 0.029930758 | AF84: 0.039652374 | AG84: 0.0059118191 | AH84: 0.056041875 | AI84: 0.017824512 | AJ84: 0.016883825 | AK84: 0.029320241 | AL84: 0.0060906756 | AM84: 6 | AN84: 4 | AO84: 191201 | AP84: 974731 | AR84: 29 | AS84: 1.15 | AU84: =(AA84-AR84)/AC84 -> 0.68671173 | AV84: =(AB84-AS84)/AC84*BI84 -> 0.10565632 | AY84: =$AU84*AY$63 -> 4.9161817 | AZ84: =$AU84*AZ$63 -> 5.4629452 | BA84: =$AU84*BA$63 -> 5.5801089 | BB84: =$AU84*BB$63 -> 5.9315997 | BC84: =AV84*$BC$63 -> 2666.9771 | BD84: =Y84/Y$66*BL$66/$BI$66*$BI84 -> 5281.4878 | BE84: =W84/W$66*BM$66/$BI$66*$BI84 -> 472.91629 | BF84: =$X84/X$10*BN$10/$BI$10*$BI84 -> 1.2349599 | BG84: 0.75 | BI84: 66.15
A85: monika | B85: 9_DCB-2-1200-5-B781-03 | C85: _x-4520y746.ais | D85: 45747 | E85: 0.6 | F85: -4520 | G85: 746 | H85: 750 | I85: 36 | J85: 2001 | K85: 50 | L85: 15 | M85: 400 | N85: 80 | O85: 400 | P85: 3.09 | Q85: 3.1 | R85: -11 | S85: 5 | T85: -20 | U85: 0.70545342 | V85: 0.0016027695 | W85: 0.00079970372 | X85: 0.22580093 | Y85: 0.0013285637 | Z85: 0.020940573 | AA85: 39278.851 | AB85: 89.250198 | AC85: 55761.026 | AD85: 0.019487479 | AE85: 0.019327978 | AF85: 0.04982346 | AG85: 0.006629414 | AH85: 0.052018648 | AI85: 0.0099701325 | AJ85: 0.0058180343 | AK85: 0.010435842 | AL85: 0.025260294 | AM85: 6 | AN85: 4 | AO85: 191201 | AP85: 974731 | AR85: 29 | AS85: 1.15 | AU85: =(AA85-AR85)/AC85 -> 0.70389399 | AV85: =(AB85-AS85)/AC85*BI85 -> 0.10451436 | AY85: =$AU85*AY$63 -> 5.0391898 | AZ85: =$AU85*AZ$63 -> 5.599634 | BA85: =$AU85*BA$63 -> 5.7197292 | BB85: =$AU85*BB$63 -> 6.0800148 | BC85: =AV85*$BC$63 -> 2638.1517 | BD85: =Y85/Y$66*BL$66/$BI$66*$BI85 -> 3062.4238 | BE85: =W85/W$66*BM$66/$BI$66*$BI85 -> 456.13899 | BF85: =$X85/X$10*BN$10/$BI$10*$BI85 -> 1.2217787 | BG85: 0.75 | BI85: 66.15
A86: monika | B86: 10_DCB-2-1200-5-B781-04 | C86: _x-4387y930.ais | D86: 45747 | E86: 0.60625 | F86: -4387 | G86: 930 | H86: 750 | I86: 36 | J86: 2001 | K86: 50 | L86: 15 | M86: 400 | N86: 80 | O86: 400 | P86: 3.1 | Q86: 3.1 | R86: -9 | S86: 4 | T86: -18 | U86: 0.74673392 | V86: 0.0016223334 | W86: 0.00080800051 | X86: 0.2293082 | Y86: 0.0013164131 | Z86: 0.021809124 | AA86: 38883.981 | AB86: 84.450177 | AC86: 52103.287 | AD86: 0.013002349 | AE86: 0.022700542 | AF86: 0.028740021 | AG86: 0.0074790727 | AH86: 0.042540568 | AI86: 0.013917184 | AJ86: 0.0024565912 | AK86: 0.011697393 | AL86: 0.015379469 | AM86: 6 | AN86: 4 | AO86: 191201 | AP86: 974731 | AR86: 29 | AS86: 1.15 | AU86: =(AA86-AR86)/AC86 -> 0.74572995 | AV86: =(AB86-AS86)/AC86*BI86 -> 0.10575737 | AY86: =$AU86*AY$63 -> 5.3386942 | AZ86: =$AU86*AZ$63 -> 5.9324484 | BA86: =$AU86*BA$63 -> 6.0596815 | BB86: =$AU86*BB$63 -> 6.4413806 | BC86: =AV86*$BC$63 -> 2669.5278 | BD86: =Y86/Y$66*BL$66/$BI$66*$BI86 -> 3034.4159 | BE86: =W86/W$66*BM$66/$BI$66*$BI86 -> 460.87135 | BF86: =$X86/X$10*BN$10/$BI$10*$BI86 -> 1.240756 | BG86: 0.75 | BI86: 66.15
A87: monika | B87: 11_DCB-2-1200-5-B781-05 | C87: _x-4534y1347.ais | D87: 45747 | E87: 0.6125 | F87: -4534 | G87: 1347 | H87: 750 | I87: 36 | J87: 2001 | K87: 50 | L87: 15 | M87: 400 | N87: 80 | O87: 400 | P87: 3.09 | Q87: 3.09 | R87: -13 | S87: 0 | T87: -18 | U87: 0.67524394 | V87: 0.0016318401 | W87: 0.00084365268 | X87: 0.24085431 | Y87: 0.0013486709 | Z87: 0.020081539 | AA87: 37711.397 | AB87: 91.075206 | AC87: 55884.395 | AD87: 0.014623784 | AE87: 0.034749316 | AF87: 0.021690444 | AG87: 0.0066228458 | AH87: 0.032486471 | AI87: 0.011239233 | AJ87: 0.0018639789 | AK87: 0.022801105 | AL87: 0.014778908 | AM87: 6 | AN87: 4 | AO87: 191201 | AP87: 974731 | AR87: 29 | AS87: 1.15 | AU87: =(AA87-AR87)/AC87 -> 0.67429193 | AV87: =(AB87-AS87)/AC87*BI87 -> 0.10644389 | AY87: =$AU87*AY$63 -> 4.8272681 | AZ87: =$AU87*AZ$63 -> 5.364143 | BA87: =$AU87*BA$63 -> 5.4791876 | BB87: =$AU87*BB$63 -> 5.8243214 | BC87: =AV87*$BC$63 -> 2686.8568 | BD87: =Y87/Y$66*BL$66/$BI$66*$BI87 -> 3108.772 | BE87: =W87/W$66*BM$66/$BI$66*$BI87 -> 481.20681 | BF87: =$X87/X$10*BN$10/$BI$10*$BI87 -> 1.3032305 | BG87: 0.75 | BI87: 66.15
BC88: =AVERAGE(BC83:BC87) -> 2653.8184 | BD88: =STDEV(BC83:BC87) -> 31.204995 | BE88: =BC88/10000 -> 0.26538184 | BF88: =BD88/10000 -> 0.0031204995
A89: monika | B89: 12_DCB-2-1200-15-A1860-01 | C89: _x5024y-80.ais | D89: 45747 | E89: 0.61944444 | F89: 5024 | G89: -80 | H89: 750 | I89: 36 | J89: 2001 | K89: 50 | L89: 15 | M89: 400 | N89: 80 | O89: 400 | P89: 3.1 | Q89: 3.1 | R89: 24 | S89: 8 | T89: -16 | U89: 0.91364089 | V89: 0.0052182345 | W89: 0.00097711396 | X89: 0.23721456 | Y89: 0.0021526268 | Z89: 0.018067872 | AA89: 63926.094 | AB89: 364.8283 | AC89: 70098.542 | AD89: 0.018879785 | AE89: 0.027053858 | AF89: 0.043988699 | AG89: 0.010418133 | AH89: 0.032064892 | AI89: 0.0088489353 | AJ89: 0.013909591 | AK89: 0.0073272232 | AL89: 0.03280273 | AM89: 6 | AN89: 4 | AO89: 191201 | AP89: 974731 | AR89: 29 | AS89: 1.15 | AU89: =(AA89-AR89)/AC89 -> 0.91153243 | AV89: =(AB89-AS89)/AC89*BI89 -> 0.30355578 | AY89: =$AU89*AY$63 -> 6.5256772 | AZ89: =$AU89*AZ$63 -> 7.2514442 | BA89: =$AU89*BA$63 -> 7.4069657 | BB89: =$AU89*BB$63 -> 7.8735302 | BC89: =AV89*$BC$63 -> 7662.3554 | BD89: =Y89/Y$66*BL$66/$BI$66*$BI89 -> 4388.8617 | BE89: =W89/W$66*BM$66/$BI$66*$BI89 -> 492.96212 | BF89: =$X89/X$10*BN$10/$BI$10*$BI89 -> 1.1352941 | BG89: 1.1 | BI89: 58.51
A90: monika | B90: 13_DCB-2-1200-15-A1860-02 | C90: _x5214y-343.ais | D90: 45747 | E90: 0.62569444 | F90: 5214 | G90: -343 | H90: 750 | I90: 36 | J90: 2001 | K90: 50 | L90: 15 | M90: 400 | N90: 80 | O90: 400 | P90: 3.1 | Q90: 3.1 | R90: 27 | S90: 11 | T90: -14 | U90: 0.99393221 | V90: 0.0062514816 | W90: 0.00091173628 | X90: 0.24286194 | Y90: 0.0022484357 | Z90: 0.018393851 | AA90: 61058.655 | AB90: 384.47867 | AC90: 61469.141 | AD90: 0.01237162 | AE90: 0.013125381 | AF90: 0.017629197 | AG90: 0.0078505348 | AH90: 0.02372812 | AI90: 0.011040381 | AJ90: 0.0046672316 | AK90: 0.028455889 | AL90: 0.016691248 | AM90: 6 | AN90: 4 | AO90: 191201 | AP90: 974731 | AR90: 29 | AS90: 1.15 | AU90: =(AA90-AR90)/AC90 -> 0.99285029 | AV90: =(AB90-AS90)/AC90*BI90 -> 0.36487513 | AY90: =$AU90*AY$63 -> 7.1078332 | AZ90: =$AU90*AZ$63 -> 7.898346 | BA90: =$AU90*BA$63 -> 8.0677415 | BB90: =$AU90*BB$63 -> 8.5759283 | BC90: =AV90*$BC$63 -> 9210.1785 | BD90: =Y90/Y$66*BL$66/$BI$66*$BI90 -> 4584.2007 | BE90: =W90/W$66*BM$66/$BI$66*$BI90 -> 459.97853 | BF90: =$X90/X$10*BN$10/$BI$10*$BI90 -> 1.1623221 | BG90: 1.1 | BI90: 58.51
A91: monika | B91: 14_DCB-2-1200-15-A1860-03 | C91: _x4764y-245.ais | D91: 45747 | E91: 0.63263889 | F91: 4764 | G91: -245 | H91: 750 | I91: 36 | J91: 2001 | K91: 50 | L91: 15 | M91: 400 | N91: 80 | O91: 400 | P91: 3.1 | Q91: 3.1 | R91: 19 | S91: 10 | T91: -17 | U91: 0.95693679 | V91: 0.0058301142 | W91: 0.00092402176 | X91: 0.24042827 | Y91: 0.0026052338 | Z91: 0.019148775 | AA91: 59700.72 | AB91: 364.00329 | AC91: 62445.305 | AD91: 0.014979921 | AE91: 0.0089670486 | AF91: 0.047291973 | AG91: 0.0067877217 | AH91: 0.047369994 | AI91: 0.0067577328 | AJ91: 0.0059807242 | AK91: 0.020061711 | AL91: 0.020750592 | AM91: 6 | AN91: 4 | AO91: 191201 | AP91: 974731 | AR91: 29 | AS91: 1.15 | AU91: =(AA91-AR91)/AC91 -> 0.95558377 | AV91: =(AB91-AS91)/AC91*BI91 -> 0.33998626 | AY91: =$AU91*AY$63 -> 6.8410415 | AZ91: =$AU91*AZ$63 -> 7.6018825 | BA91: =$AU91*BA$63 -> 7.7649198 | BB91: =$AU91*BB$63 -> 8.2540318 | BC91: =AV91*$BC$63 -> 8581.9337 | BD91: =Y91/Y$66*BL$66/$BI$66*$BI91 -> 5311.655 | BE91: =W91/W$66*BM$66/$BI$66*$BI91 -> 466.17666 | BF91: =$X91/X$10*BN$10/$BI$10*$BI91 -> 1.1506747 | BG91: 1.1 | BI91: 58.51
A92: monika | B92: 15_DCB-2-1200-15-A1860-04 | C92: _x4796y382.ais | D92: 45747 | E92: 0.63888889 | F92: 4796 | G92: 382 | H92: 750 | I92: 36 | J92: 2001 | K92: 50 | L92: 15 | M92: 400 | N92: 80 | O92: 400 | P92: 3.1 | Q92: 3.09 | R92: 20 | S92: 3 | T92: -17 | U92: 0.99537097 | V92: 0.0058379804 | W92: 0.00090152147 | X92: 0.24320045 | Y92: 0.0021828981 | Z92: 0.018812512 | AA92: 60343.611 | AB92: 353.5281 | AC92: 60670.129 | AD92: 0.012812918 | AE92: 0.034725516 | AF92: 0.015832883 | AG92: 0.0065952074 | AH92: 0.026566313 | AI92: 0.014834797 | AJ92: 0.0069975727 | AK92: 0.018986381 | AL92: 0.019710618 | AM92: 6 | AN92: 4 | AO92: 191201 | AP92: 974731 | AR92: 29 | AS92: 1.15 | AU92: =(AA92-AR92)/AC92 -> 0.99414015 | AV92: =(AB92-AS92)/AC92*BI92 -> 0.33983186 | AY92: =$AU92*AY$63 -> 7.1170673 | AZ92: =$AU92*AZ$63 -> 7.9086071 | BA92: =$AU92*BA$63 -> 8.0782227 | BB92: =$AU92*BB$63 -> 8.5870697 | BC92: =AV92*$BC$63 -> 8578.0363 | BD92: =Y92/Y$66*BL$66/$BI$66*$BI92 -> 4450.5799 | BE92: =W92/W$66*BM$66/$BI$66*$BI92 -> 454.82507 | BF92: =$X92/X$10*BN$10/$BI$10*$BI92 -> 1.1639422 | BG92: 1.1 | BI92: 58.51
A93: monika | B93: 16_DCB-2-1200-15-A1860-05 | C93: _x5181y334.ais | D93: 45747 | E93: 0.64583333 | F93: 5181 | G93: 334 | H93: 750 | I93: 36 | J93: 2001 | K93: 50 | L93: 15 | M93: 400 | N93: 80 | O93: 400 | P93: 3.09 | Q93: 3.09 | R93: 26 | S93: 4 | T93: -21 | U93: 1.0001656 | V93: 0.0060653807 | W93: 0.00089777646 | X93: 0.24346826 | Y93: 0.0021678298 | Z93: 0.018654328 | AA93: 61808.369 | AB93: 374.75351 | AC93: 61839.157 | AD93: 0.012826103 | AE93: 0.051017091 | AF93: 0.025734214 | AG93: 0.0077149759 | AH93: 0.039273035 | AI93: 0.011769296 | AJ93: 0.0061783847 | AK93: 0.048146552 | AL93: 0.017786254 | AM93: 6 | AN93: 4 | AO93: 191201 | AP93: 974731 | AR93: 29 | AS93: 1.15 | AU93: =(AA93-AR93)/AC93 -> 0.99903317 | AV93: =(AB93-AS93)/AC93*BI93 -> 0.35349029 | AY93: =$AU93*AY$63 -> 7.1520965 | AZ93: =$AU93*AZ$63 -> 7.9475321 | BA93: =$AU93*BA$63 -> 8.1179826 | BB93: =$AU93*BB$63 -> 8.6293341 | BC93: =AV93*$BC$63 -> 8922.8023 | BD93: =Y93/Y$66*BL$66/$BI$66*$BI93 -> 4419.8581 | BE93: =W93/W$66*BM$66/$BI$66*$BI93 -> 452.93569 | BF93: =$X93/X$10*BN$10/$BI$10*$BI93 -> 1.165224 | BG93: 1.1 | BI93: 58.51
BC94: =AVERAGE(BC89:BC93) -> 8591.0613 | BD94: =STDEV(BC89:BC93) -> 582.25982 | BE94: =BC94/10000 -> 0.85910613 | BF94: =BD94/10000 -> 0.058225982
A95: monika | B95: 17_SCOl-A-01 | C95: _x-1524y6351.ais | D95: 45747 | E95: 0.65208333 | F95: -1524 | G95: 6351 | H95: 750 | I95: 36 | J95: 2001 | K95: 50 | L95: 15 | M95: 400 | N95: 80 | O95: 400 | P95: 3.09 | Q95: 3.09 | R95: 0 | S95: -3 | T95: -19 | U95: 0.0010473538 | V95: 4.1036851e-05 | W95: 8.3332814e-06 | X95: 12.223431 | Y95: 6.0569135e-07 | Z95: 0.018975735 | AA95: 29.385101 | AB95: 1.15 | AC95: 28076.665 | AD95: 0.036417118 | AE95: 0.097062014 | AF95: 0.23656636 | AG95: 0.004944521 | AH95: 1 | AI95: 0.0080663863 | AJ95: 0.029692809 | AK95: 0.09050722 | AL95: 0.0075615873 | AM95: 6 | AN95: 4 | AO95: 191201 | AP95: 974731 | AR95: 29 | AS95: 1.15 | AU95: =(AA95-AR95)/AC95 -> 1.3716069e-05 | AV95: =(AB95-AS95)/AC95*BI95 -> 4.7874633e-11 | AY95: =$AU95*AY$63 -> 9.8193587e-05 | AZ95: =$AU95*AZ$63 -> 0.0001091144 | BA95: =$AU95*BA$63 -> 0.00011145457 | BB95: =$AU95*BB$63 -> 0.00011847509 | BC95: =AV95*$BC$63 -> 1.2084515e-06 | BD95: =Y95/Y$66*BL$66/$BI$66*$BI95 -> 0.84423707 | BE95: =W95/W$66*BM$66/$BI$66*$BI95 -> 2.874182 | BF95: =$X95/X$10*BN$10/$BI$10*$BI95 -> 39.993562 | BI95: 40
A97: monika | B97: 18_AND-8-1200-10-A1811-01 | C97: _x-575y-2009.ais | D97: 45747 | E97: 0.69444444 | F97: -575 | G97: -2009 | H97: 750 | I97: 36 | J97: 2001 | K97: 50 | L97: 15 | M97: 400 | N97: 80 | O97: 400 | P97: 3.09 | Q97: 3.08 | R97: 14 | S97: 5 | T97: -18 | U97: 0.85175367 | V97: 0.0028859554 | W97: 6.122903e-05 | X97: 0.61505227 | Y97: 0.0033642169 | Z97: 0.018820218 | AA97: 49913.709 | AB97: 169.02571 | AC97: 58639.542 | AD97: 0.0094962472 | AE97: 0.027176771 | AF97: 0.059348814 | AG97: 0.008073924 | AH97: 0.033567892 | AI97: 0.01227499 | AJ97: 0.014067215 | AK97: 0.021572736 | AL97: 0.023327959 | AM97: 6 | AN97: 4 | AO97: 191201 | AP97: 974731 | AR97: 29 | AS97: 1.15 | AU97: =(AA97-AR97)/AC97 -> 0.85070086 | AV97: =(AB97-AS97)/AC97*BI97 -> 0.16807742 | AY97: =$AU97*AY$63 -> 6.0901829 | AZ97: =$AU97*AZ$63 -> 6.7675155 | BA97: =$AU97*BA$63 -> 6.9126582 | BB97: =$AU97*BB$63 -> 7.3480863 | BC97: =AV97*$BC$63 -> 4242.6105 | BD97: =Y97/Y$66*BL$66/$BI$66*$BI97 -> 6882.5459 | BE97: =W97/W$66*BM$66/$BI$66*$BI97 -> 30.996145 | BF97: =$X97/X$10*BN$10/$BI$10*$BI97 -> 2.9536639 | BG97: 1.53 | BI97: 58.71
A98: monika | B98: 19_AND-8-1200-10-A1811-02 | C98: _x-656y-1825.ais | D98: 45747 | E98: 0.70069444 | F98: -656 | G98: -1825 | H98: 750 | I98: 36 | J98: 2001 | K98: 50 | L98: 15 | M98: 400 | N98: 80 | O98: 400 | P98: 3.08 | Q98: 3.08 | R98: 12 | S98: 3 | T98: -19 | U98: 0.86028676 | V98: 0.0027130455 | W98: 5.7593946e-05 | X98: 0.6154514 | Y98: 0.003423606 | Z98: 0.019119377 | AA98: 49778.094 | AB98: 156.87561 | AC98: 57908.193 | AD98: 0.011135221 | AE98: 0.028212702 | AF98: 0.091843481 | AG98: 0.0072648298 | AH98: 0.036643635 | AI98: 0.0076557103 | AJ98: 0.013997129 | AK98: 0.020394127 | AL98: 0.024515143 | AM98: 6 | AN98: 4 | AO98: 191201 | AP98: 974731 | AR98: 29 | AS98: 1.15 | AU98: =(AA98-AR98)/AC98 -> 0.85910284 | AV98: =(AB98-AS98)/AC98*BI98 -> 0.15788181 | AY98: =$AU98*AY$63 -> 6.1503328 | AZ98: =$AU98*AZ$63 -> 6.8343551 | BA98: =$AU98*BA$63 -> 6.9809313 | BB98: =$AU98*BB$63 -> 7.42066 | BC98: =AV98*$BC$63 -> 3985.253 | BD98: =Y98/Y$66*BL$66/$BI$66*$BI98 -> 7004.0446 | BE98: =W98/W$66*BM$66/$BI$66*$BI98 -> 29.155947 | BF98: =$X98/X$10*BN$10/$BI$10*$BI98 -> 2.9555806 | BG98: 1.53 | BI98: 58.71
A99: monika | B99: 20_AND-8-1200-10-A1811-03 | C99: _x-509y-1840.ais | D99: 45747 | E99: 0.70763889 | F99: -509 | G99: -1840 | H99: 750 | I99: 36 | J99: 2001 | K99: 50 | L99: 15 | M99: 400 | N99: 80 | O99: 400 | P99: 3.08 | Q99: 3.08 | R99: 18 | S99: 3 | T99: -17 | U99: 0.8680145 | V99: 0.0028138498 | W99: 5.2042101e-05 | X99: 0.6125525 | Y99: 0.0034555315 | Z99: 0.018714671 | AA99: 50600.126 | AB99: 163.90067 | AC99: 58350.2 | AD99: 0.013890965 | AE99: 0.025752527 | AF99: 0.09316579 | AG99: 0.0092142163 | AH99: 0.029496187 | AI99: 0.0094865066 | AJ99: 0.0092427333 | AK99: 0.005248542 | AL99: 0.02311473 | AM99: 6 | AN99: 4 | AO99: 191201 | AP99: 974731 | AR99: 29 | AS99: 1.15 | AU99: =(AA99-AR99)/AC99 -> 0.86668299 | AV99: =(AB99-AS99)/AC99*BI99 -> 0.16375422 | AY99: =$AU99*AY$63 -> 6.2045992 | AZ99: =$AU99*AZ$63 -> 6.8946569 | BA99: =$AU99*BA$63 -> 7.0425264 | BB99: =$AU99*BB$63 -> 7.4861349 | BC99: =AV99*$BC$63 -> 4133.4843 | BD99: =Y99/Y$66*BL$66/$BI$66*$BI99 -> 7069.3581 | BE99: =W99/W$66*BM$66/$BI$66*$BI99 -> 26.34542 | BF99: =$X99/X$10*BN$10/$BI$10*$BI99 -> 2.9416592 | BG99: 1.53 | BI99: 58.71
A100: monika | B100: 21_AND-8-1200-10-A1811-04 | C100: _x-484y-2148.ais | D100: 45747 | E100: 0.71388889 | F100: -484 | G100: -2148 | H100: 750 | I100: 36 | J100: 2001 | K100: 50 | L100: 15 | M100: 400 | N100: 80 | O100: 400 | P100: 3.08 | Q100: 3.08 | R100: 17 | S100: 9 | T100: -17 | U100: 0.87188613 | V100: 0.0028706247 | W100: 6.338383e-05 | X100: 0.61270297 | Y100: 0.0033660311 | Z100: 0.018592282 | AA100: 51222.984 | AB100: 168.4507 | AC100: 58798.897 | AD100: 0.011353191 | AE100: 0.028413235 | AF100: 0.115321 | AG100: 0.0082574123 | AH100: 0.035190132 | AI100: 0.0081006698 | AJ100: 0.013193202 | AK100: 0.0092111521 | AL100: 0.024631781 | AM100: 6 | AN100: 4 | AO100: 191201 | AP100: 974731 | AR100: 29 | AS100: 1.15 | AU100: =(AA100-AR100)/AC100 -> 0.87066232 | AV100: =(AB100-AS100)/AC100*BI100 -> 0.16704777 | AY100: =$AU100*AY$63 -> 6.2330873 | AZ100: =$AU100*AZ$63 -> 6.9263133 | BA100: =$AU100*BA$63 -> 7.0748618 | BB100: =$AU100*BB$63 -> 7.5205071 | BC100: =AV100*$BC$63 -> 4216.6199 | BD100: =Y100/Y$66*BL$66/$BI$66*$BI100 -> 6886.2574 | BE100: =W100/W$66*BM$66/$BI$66*$BI100 -> 32.086976 | BF100: =$X100/X$10*BN$10/$BI$10*$BI100 -> 2.9423818 | BG100: 1.53 | BI100: 58.71
A101: monika | B101: 22_AND-8-1200-10-A1811-05 | C101: _x-638y-2203.ais | D101: 45747 | E101: 0.72013889 | F101: -638 | G101: -2203 | H101: 750 | I101: 36 | J101: 2001 | K101: 50 | L101: 15 | M101: 400 | N101: 80 | O101: 400 | P101: 3.08 | Q101: 3.08 | R101: 10 | S101: 9 | T101: -14 | U101: 0.85669897 | V101: 0.0029218267 | W101: 5.7561494e-05 | X101: 0.61052825 | Y101: 0.0032898529 | Z101: 0.018758832 | AA101: 49641.158 | AB101: 169.22571 | AC101: 58005.62 | AD101: 0.013426951 | AE101: 0.02859823 | AF101: 0.086933347 | AG101: 0.0098482774 | AH101: 0.03827284 | AI101: 0.0082856888 | AJ101: 0.012882967 | AK101: 0.022299843 | AL101: 0.02621327 | AM101: 6 | AN101: 4 | AO101: 191201 | AP101: 974731 | AR101: 29 | AS101: 1.15 | AU101: =(AA101-AR101)/AC101 -> 0.85529917 | AV101: =(AB101-AS101)/AC101*BI101 -> 0.17011671 | AY101: =$AU101*AY$63 -> 6.1231022 | AZ101: =$AU101*AZ$63 -> 6.804096 | BA101: =$AU101*BA$63 -> 6.9500233 | BB101: =$AU101*BB$63 -> 7.387805 | BC101: =AV101*$BC$63 -> 4294.0862 | BD101: =Y101/Y$66*BL$66/$BI$66*$BI101 -> 6730.4113 | BE101: =W101/W$66*BM$66/$BI$66*$BI101 -> 29.139518 | BF101: =$X101/X$10*BN$10/$BI$10*$BI101 -> 2.9319382 | BG101: 1.53 | BI101: 58.71
BC102: =AVERAGE(BC97:BC101) -> 4174.4108 | BD102: =STDEV(BC97:BC101) -> 120.63442 | BE102: =BC102/10000 -> 0.41744108 | BF102: =BD102/10000 -> 0.012063442
A103: monika | B103: 23_AND-4-1200-15-A1796-01 | C103: _x4056y-611.ais | D103: 45747 | E103: 0.72708333 | F103: 4056 | G103: -611 | H103: 750 | I103: 36 | J103: 2001 | K103: 50 | L103: 15 | M103: 400 | N103: 80 | O103: 400 | P103: 3.08 | Q103: 3.08 | R103: 87 | S103: 3 | T103: -11 | U103: 0.90932516 | V103: 0.0071667204 | W103: 0.00036527002 | X103: 0.59856741 | Y103: 0.0029778367 | Z103: 0.017468947 | AA103: 49325.024 | AB103: 388.50375 | AC103: 54287.759 | AD103: 0.01076312 | AE103: 0.023039668 | AF103: 0.038080445 | AG103: 0.0082833874 | AH103: 0.03782281 | AI103: 0.0089052389 | AJ103: 0.015047168 | AK103: 0.015430932 | AL103: 0.025599608 | AM103: 6 | AN103: 4 | AO103: 191201 | AP103: 974731 | AR103: 29 | AS103: 1.15 | AU103: =(AA103-AR103)/AC103 -> 0.90805045 | AV103: =(AB103-AS103)/AC103*BI103 -> 0.40991695 | AY103: =$AU103*AY$63 -> 6.5007496 | AZ103: =$AU103*AZ$63 -> 7.2237443 | BA103: =$AU103*BA$63 -> 7.3786717 | BB103: =$AU103*BB$63 -> 7.843454 | BC103: =AV103*$BC$63 -> 10347.124 | BD103: =Y103/Y$66*BL$66/$BI$66*$BI103 -> 5961.3409 | BE103: =W103/W$66*BM$66/$BI$66*$BI103 -> 180.94321 | BF103: =$X103/X$10*BN$10/$BI$10*$BI103 -> 2.8128078 | BG103: 1.31 | BH103: high deflection | BI103: 57.45
A104: monika | B104: 24_AND-4-1200-15-A1796-02 | C104: _x4269y-660.ais | D104: 45747 | E104: 0.73333333 | F104: 4269 | G104: -660 | H104: 750 | I104: 36 | J104: 2001 | K104: 50 | L104: 15 | M104: 400 | N104: 80 | O104: 400 | P104: 3.08 | Q104: 3.08 | R104: 94 | S104: 4 | T104: -15 | U104: 0.87192513 | V104: 0.0067562615 | W104: 0.00041378671 | X104: 0.58790589 | Y104: 0.0030843206 | Z104: 0.016365982 | AA104: 48204.132 | AB104: 373.45346 | AC104: 55302.025 | AD104: 0.008738244 | AE104: 0.013789549 | AF104: 0.034108023 | AG104: 0.0085172434 | AH104: 0.02433196 | AI104: 0.011035444 | AJ104: 0.0034679876 | AK104: 0.0030735965 | AL104: 0.011995982 | AM104: 6 | AN104: 4 | AO104: 191201 | AP104: 974731 | AR104: 29 | AS104: 1.15 | AU104: =(AA104-AR104)/AC104 -> 0.87112781 | AV104: =(AB104-AS104)/AC104*BI104 -> 0.38676402 | AY104: =$AU104*AY$63 -> 6.2364198 | AZ104: =$AU104*AZ$63 -> 6.9300164 | BA104: =$AU104*BA$63 -> 7.0786443 | BB104: =$AU104*BB$63 -> 7.5245279 | BC104: =AV104*$BC$63 -> 9762.6981 | BD104: =Y104/Y$66*BL$66/$BI$66*$BI104 -> 6174.5114 | BE104: =W104/W$66*BM$66/$BI$66*$BI104 -> 204.97684 | BF104: =$X104/X$10*BN$10/$BI$10*$BI104 -> 2.7627069 | BG104: 1.31 | BI104: 57.45
A105: monika | B105: 25_AND-4-1200-15-A1796-03 | C105: _x4271y-802.ais | D105: 45747 | E105: 0.74027778 | F105: 4271 | G105: -802 | H105: 750 | I105: 36 | J105: 2001 | K105: 50 | L105: 15 | M105: 400 | N105: 80 | O105: 400 | P105: 3.08 | Q105: 3.08 | R105: 93 | S105: 7 | T105: -11 | U105: 0.91671939 | V105: 0.0071851811 | W105: 0.00037806963 | X105: 0.5940999 | Y105: 0.0029996909 | Z105: 0.016927168 | AA105: 49666.236 | AB105: 389.35376 | AC105: 54221.96 | AD105: 0.010487455 | AE105: 0.012328231 | AF105: 0.031398492 | AG105: 0.010072579 | AH105: 0.031654855 | AI105: 0.010082758 | AJ105: 0.015385971 | AK105: 0.020113688 | AL105: 0.025821591 | AM105: 6 | AN105: 4 | AO105: 191201 | AP105: 974731 | AR105: 29 | AS105: 1.15 | AU105: =(AA105-AR105)/AC105 -> 0.91544525 | AV105: =(AB105-AS105)/AC105*BI105 -> 0.41131502 | AY105: =$AU105*AY$63 -> 6.5536891 | AZ105: =$AU105*AZ$63 -> 7.2825715 | BA105: =$AU105*BA$63 -> 7.4387606 | BB105: =$AU105*BB$63 -> 7.9073279 | BC105: =AV105*$BC$63 -> 10382.414 | BD105: =Y105/Y$66*BL$66/$BI$66*$BI105 -> 6005.091 | BE105: =W105/W$66*BM$66/$BI$66*$BI105 -> 187.28373 | BF105: =$X105/X$10*BN$10/$BI$10*$BI105 -> 2.791814 | BG105: 1.31 | BI105: 57.45
A106: monika | B106: 26_AND-4-1200-15-A1796-04 | C106: _x4279y-349.ais | D106: 45747 | E106: 0.74652778 | F106: 4279 | G106: -349 | H106: 750 | I106: 36 | J106: 2001 | K106: 50 | L106: 15 | M106: 400 | N106: 80 | O106: 400 | P106: 3.08 | Q106: 3.08 | R106: 97 | S106: -2 | T106: -15 | U106: 0.93018468 | V106: 0.0072517569 | W106: 0.00042105523 | X106: 0.59587666 | Y106: 0.0029003773 | Z106: 0.016774069 | AA106: 49972.327 | AB106: 389.42876 | AC106: 53770.373 | AD106: 0.011667199 | AE106: 0.016737766 | AF106: 0.061440909 | AG106: 0.0085981379 | AH106: 0.036672146 | AI106: 0.010541405 | AJ106: 0.014248288 | AK106: 0.0088094617 | AL106: 0.025587477 | AM106: 6 | AN106: 4 | AO106: 191201 | AP106: 974731 | AR106: 29 | AS106: 1.15 | AU106: =(AA106-AR106)/AC106 -> 0.92882613 | AV106: =(AB106-AS106)/AC106*BI106 -> 0.41484955 | AY106: =$AU106*AY$63 -> 6.6494831 | AZ106: =$AU106*AZ$63 -> 7.3890194 | BA106: =$AU106*BA$63 -> 7.5474915 | BB106: =$AU106*BB$63 -> 8.0229078 | BC106: =AV106*$BC$63 -> 10471.633 | BD106: =Y106/Y$66*BL$66/$BI$66*$BI106 -> 5806.2748 | BE106: =W106/W$66*BM$66/$BI$66*$BI106 -> 208.57744 | BF106: =$X106/X$10*BN$10/$BI$10*$BI106 -> 2.8001634 | BG106: 1.31 | BI106: 57.45
A107: monika | B107: 27_AND-4-1200-15-A1796-05 | C107: _x4043y-412.ais | D107: 45747 | E107: 0.75277778 | F107: 4043 | G107: -412 | H107: 750 | I107: 36 | J107: 2001 | K107: 50 | L107: 15 | M107: 400 | N107: 80 | O107: 400 | P107: 3.08 | Q107: 3.08 | R107: 89 | S107: 0 | T107: -12 | U107: 0.92311919 | V107: 0.007234218 | W107: 0.00040114013 | X107: 0.59860472 | Y107: 0.0030205087 | Z107: 0.017468065 | AA107: 49690.179 | AB107: 389.27876 | AC107: 53873.269 | AD107: 0.011197857 | AE107: 0.016085119 | AF107: 0.0214478 | AG107: 0.0085826304 | AH107: 0.039688555 | AI107: 0.0082373994 | AJ107: 0.014385858 | AK107: 0.010928851 | AL107: 0.025244716 | AM107: 6 | AN107: 4 | AO107: 191201 | AP107: 974731 | AR107: 29 | AS107: 1.15 | AU107: =(AA107-AR107)/AC107 -> 0.92181485 | AV107: =(AB107-AS107)/AC107*BI107 -> 0.41389724 | AY107: =$AU107*AY$63 -> 6.5992892 | AZ107: =$AU107*AZ$63 -> 7.3332431 | BA107: =$AU107*BA$63 -> 7.490519 | BB107: =$AU107*BB$63 -> 7.9623465 | BC107: =AV107*$BC$63 -> 10447.595 | BD107: =Y107/Y$66*BL$66/$BI$66*$BI107 -> 6046.7661 | BE107: =W107/W$66*BM$66/$BI$66*$BI107 -> 198.71213 | BF107: =$X107/X$10*BN$10/$BI$10*$BI107 -> 2.8129831 | BG107: 1.31 | BI107: 57.45
BC108: =AVERAGE(BC103:BC107) -> 10282.293 | BD108: =STDEV(BC103:BC107) -> 294.69497 | BE108: =BC108/10000 -> 1.0282293 | BF108: =BD108/10000 -> 0.029469497
A109: ND70 | B109: 1_ND70-2-1-31-03-25-eve-01 | C109: _x6474y-3896.ais | D109: 45747 | E109: 0.8 | F109: 6474 | G109: -3896 | H109: 750 | I109: 36 | J109: 2001 | K109: 50 | L109: 15 | M109: 400 | N109: 80 | O109: 400 | P109: 3.08 | Q109: 3.08 | R109: -2 | S109: 10 | T109: -14 | U109: 0.0054370887 | V109: 9.3817394e-06 | W109: 4.0483692e-05 | X109: 2.033375 | Y109: 1.7297334e-05 | Z109: 0.013089471 | AA109: 189.16419 | AB109: 0.325 | AC109: 34795.002 | AD109: 0.018458528 | AE109: 0.2969768 | AF109: 0.097406144 | AG109: 0.0033061094 | AH109: 0.19087895 | AI109: 0.0043611463 | AJ109: 0.017531385 | AK109: 0.29122607 | AL109: 0.0059703812 | AM109: 6 | AN109: 4 | AO109: 191201 | AP109: 974731 | AR109: 187 | AS109: 0.28 | AU109: =(AA109-AR109)/AC109 -> 6.2198249e-05 | AV109: =(AB109-AS109)/AC109*BI109 -> 6.4780859e-05 | AY109: =$AU109*AY$63 -> 0.00044527839 | AZ109: =$AU109*AZ$63 -> 0.00049480097 | BA109: =$AU109*BA$63 -> 0.00050541295 | BB109: =$AU109*BB$63 -> 0.0005372489 | BC109: =AV109*$BC$63 -> 1.6351985 | BD109: =Y109/Y$66*BL$66/$BI$66*$BI109 -> 30.1914 | BE109: =W109/W$66*BM$66/$BI$66*$BI109 -> 17.48515 | BF109: =$X109/X$10*BN$10/$BI$10*$BI109 -> 8.3311599 | BH109: ='ND70'!$A$2 -> ND 70_ Degassed | BI109: ='ND70'!$D$2 -> 50.09 | BJ109: 0 | BK109: 0 | BL109: ='ND70'!$U$2 -> 11 | BM109: ='ND70'!$W$2 -> 15 | BN109: ='ND70'!$I$2 -> 8.78
A110: ND70 | B110: 2_degassed-31-03-25-eve-02 | C110: _x6016y-4039.ais | D110: 45747 | E110: 0.80625 | F110: 6016 | G110: -4039 | H110: 750 | I110: 36 | J110: 2001 | K110: 50 | L110: 15 | M110: 400 | N110: 80 | O110: 400 | P110: 3.08 | Q110: 3.08 | R110: -1 | S110: 12 | T110: -12 | U110: 0.0053235388 | V110: 6.4768592e-06 | W110: 3.2305859e-05 | X110: 2.036532 | Y110: 2.1181243e-05 | Z110: 0.013181008 | AA110: 184.87987 | AB110: 0.225 | AC110: 34734.024 | AD110: 0.0091194271 | AE110: 0.11025204 | AF110: 0.130287 | AG110: 0.0052862265 | AH110: 0.16879114 | AI110: 0.0089923417 | AJ110: 0.0054706343 | AK110: 0.11111111 | AL110: 0.0069495634 | AM110: 6 | AN110: 4 | AO110: 191201 | AP110: 974731 | AR110: 187 | AS110: 0.28 | AU110: =(AA110-AR110)/AC110 -> -6.1038919e-05 | AV110: =(AB110-AS110)/AC110*BI110 -> -7.93156e-05 | AY110: =$AU110*AY$63 -> -0.00043697873 | AZ110: =$AU110*AZ$63 -> -0.00048557824 | BA110: =$AU110*BA$63 -> -0.00049599242 | BB110: =$AU110*BB$63 -> -0.00052723497 | BC110: =AV110*$BC$63 -> -2.0020845 | BD110: =Y110/Y$66*BL$66/$BI$66*$BI110 -> 36.970518 | BE110: =W110/W$66*BM$66/$BI$66*$BI110 -> 13.953095 | BF110: =$X110/X$10*BN$10/$BI$10*$BI110 -> 8.3440947 | BH110: ='ND70'!$A$2 -> ND 70_ Degassed | BI110: ='ND70'!$D$2 -> 50.09 | BJ110: 0 | BK110: 0 | BL110: ='ND70'!$U$2 -> 11 | BM110: ='ND70'!$W$2 -> 15 | BN110: ='ND70'!$I$2 -> 8.78
A111: ND70 | B111: 3_ND70-3-1-31-03-25-eve-01 | C111: _x5117y868.ais | D111: 45747 | E111: 0.81319444 | F111: 5117 | G111: 868 | H111: 750 | I111: 36 | J111: 2001 | K111: 50 | L111: 15 | M111: 400 | N111: 80 | O111: 400 | P111: 3.08 | Q111: 3.08 | R111: 25 | S111: 5 | T111: -12 | U111: 0.4970479 | V111: 0.0029990051 | W111: 0.0097099422 | X111: 2.2949484 | Y111: 0.0006086568 | Z111: 0.01280287 | AA111: 16106.481 | AB111: 97.175234 | AC111: 32406.902 | AD111: 0.0046120238 | AE111: 0.0080023958 | AF111: 0.028207919 | AG111: 0.0034924432 | AH111: 0.036601997 | AI111: 0.0083086395 | AJ111: 0.0021249738 | AK111: 0.0032372235 | AL111: 0.006085734 | AM111: 6 | AN111: 4 | AO111: 191201 | AP111: 974731 | AR111: 187 | AS111: 0.28 | AU111: =(AA111-AR111)/AC111 -> 0.49123736 | AV111: =(AB111-AS111)/AC111*BI111 -> 0.14842145 | AW111: =BJ111/AU111 -> 6.2902382 | AY111: =$AU111*AY$63 -> 3.5167772 | AZ111: =$AU111*AZ$63 -> 3.907903 | BA111: =$AU111*BA$63 -> 3.9917157 | BB111: =$AU111*BB$63 -> 4.2431537 | BC111: =AV111*$BC$63 -> 3746.4545 | BD111: =Y111/Y$66*BL$66/$BI$66*$BI111 -> 1052.8277 | BE111: =W111/W$66*BM$66/$BI$66*$BI111 -> 4156.1063 | BF111: =$X111/X$10*BN$10/$BI$10*$BI111 -> 9.3184065 | BH111: ='ND70'!$A$5 -> ND70-3-01 | BI111: ='ND70'!$D$5 -> 49.64 | BJ111: ='ND70'!$O$5 -> 3.09 | BK111: ='ND70'!$Q$5 -> 2637 | BL111: ='ND70'!$U$5 -> 984 | BM111: ='ND70'!$W$5 -> 803 | BN111: ='ND70'!$I$5 -> 9.06
A112: ND70 | B112: 4_ND70-3-1-31-03-25-eve-02 | C112: _x5055y960.ais | D112: 45747 | E112: 0.81944444 | F112: 5055 | G112: 960 | H112: 750 | I112: 36 | J112: 2001 | K112: 50 | L112: 15 | M112: 400 | N112: 80 | O112: 400 | P112: 3.08 | Q112: 3.07 | R112: 25 | S112: 4 | T112: -14 | U112: 0.5031804 | V112: 0.003103072 | W112: 0.01061758 | X112: 2.2800299 | Y112: 0.00063313318 | Z112: 0.012884582 | AA112: 16260.132 | AB112: 100.27525 | AC112: 32322.896 | AD112: 0.0091516576 | AE112: 0.011711801 | AF112: 0.029028714 | AG112: 0.0031933803 | AH112: 0.055328411 | AI112: 0.0056444935 | AJ112: 0.0010157812 | AK112: 0.007642498 | AL112: 0.0092828093 | AM112: 6 | AN112: 4 | AO112: 191201 | AP112: 974731 | AR112: 187 | AS112: 0.28 | AU112: =(AA112-AR112)/AC112 -> 0.49726769 | AV112: =(AB112-AS112)/AC112*BI112 -> 0.15356805 | AW112: =BJ112/AU112 -> 6.213957 | AY112: =$AU112*AY$63 -> 3.5599484 | AZ112: =$AU112*AZ$63 -> 3.9558756 | BA112: =$AU112*BA$63 -> 4.0407171 | BB112: =$AU112*BB$63 -> 4.2952418 | BC112: =AV112*$BC$63 -> 3876.365 | BD112: =Y112/Y$66*BL$66/$BI$66*$BI112 -> 1095.1659 | BE112: =W112/W$66*BM$66/$BI$66*$BI112 -> 4544.5988 | BF112: =$X112/X$10*BN$10/$BI$10*$BI112 -> 9.2578318 | BH112: ='ND70'!$A$5 -> ND70-3-01 | BI112: ='ND70'!$D$5 -> 49.64 | BJ112: ='ND70'!$O$5 -> 3.09 | BK112: ='ND70'!$Q$5 -> 2637 | BL112: ='ND70'!$U$5 -> 984 | BM112: ='ND70'!$W$5 -> 803 | BN112: ='ND70'!$I$5 -> 9.06
A113: ND70 | B113: 5_ND70_4-2-01 | C113: _x4211y5545.ais | D113: 45747 | E113: 0.82638889 | F113: 4211 | G113: 5545 | H113: 750 | I113: 36 | J113: 2001 | K113: 50 | L113: 15 | M113: 400 | N113: 80 | O113: 400 | P113: 3.07 | Q113: 3.07 | R113: 15 | S113: -5 | T113: -11 | U113: 0.55752264 | V113: 0.0034794591 | W113: 0.0038061052 | X113: 2.1300402 | Y113: 0.0010972965 | Z113: 0.012694862 | AA113: 18543.959 | AB113: 115.72533 | AC113: 33266.928 | AD113: 0.0070575107 | AE113: 0.0097014691 | AF113: 0.019489692 | AG113: 0.0040250006 | AH113: 0.042581777 | AI113: 0.0080639551 | AJ113: 0.00091106044 | AK113: 0.0032018143 | AL113: 0.0079177549 | AM113: 6 | AN113: 4 | AO113: 191201 | AP113: 974731 | AR113: 187 | AS113: 0.28 | AU113: =(AA113-AR113)/AC113 -> 0.55180806 | AV113: =(AB113-AS113)/AC113*BI113 -> 0.16962696 | AW113: =BJ113/AU113 -> 6.4515186 | AY113: =$AU113*AY$63 -> 3.9504039 | AZ113: =$AU113*AZ$63 -> 4.3897565 | BA113: =$AU113*BA$63 -> 4.4839034 | BB113: =$AU113*BB$63 -> 4.7663444 | BC113: =AV113*$BC$63 -> 4281.7239 | BD113: =Y113/Y$66*BL$66/$BI$66*$BI113 -> 1868.9954 | BE113: =W113/W$66*BM$66/$BI$66*$BI113 -> 1604.1694 | BF113: =$X113/X$10*BN$10/$BI$10*$BI113 -> 8.5163981 | BH113: ='ND70'!$A$7 -> ND70-4-02 | BI113: ='ND70'!$D$7 -> 48.88 | BJ113: ='ND70'!$O$7 -> 3.56 | BK113: ='ND70'!$Q$7 -> 4214 | BL113: ='ND70'!$U$7 -> 2060 | BM113: ='ND70'!$W$7 -> 1887 | BN113: ='ND70'!$I$7 -> 9.09
A114: ND70 | B114: 6_ND70_4-2-02 | C114: _x4181y5448.ais | D114: 45747 | E114: 0.83263889 | F114: 4181 | G114: 5448 | H114: 750 | I114: 36 | J114: 2001 | K114: 50 | L114: 15 | M114: 400 | N114: 80 | O114: 400 | P114: 3.08 | Q114: 3.08 | R114: 16 | S114: -4 | T114: -11 | U114: 0.55976781 | V114: 0.0035020285 | W114: 0.0038419132 | X114: 2.1318165 | Y114: 0.0010662257 | Z114: 0.012573544 | AA114: 18724.114 | AB114: 117.17534 | AC114: 33457.498 | AD114: 0.0072148363 | AE114: 0.015907784 | AF114: 0.028429445 | AG114: 0.0048324865 | AH114: 0.036195164 | AI114: 0.0070745743 | AJ114: 0.0038152204 | AK114: 0.02011559 | AL114: 0.010787568 | AM114: 6 | AN114: 4 | AO114: 191201 | AP114: 974731 | AR114: 187 | AS114: 0.28 | AU114: =(AA114-AR114)/AC114 -> 0.55404961 | AV114: =(AB114-AS114)/AC114*BI114 -> 0.17077919 | AW114: =BJ114/AU114 -> 6.4254174 | AY114: =$AU114*AY$63 -> 3.9664512 | AZ114: =$AU114*AZ$63 -> 4.4075884 | BA114: =$AU114*BA$63 -> 4.5021179 | BB114: =$AU114*BB$63 -> 4.7857061 | BC114: =AV114*$BC$63 -> 4310.8085 | BD114: =Y114/Y$66*BL$66/$BI$66*$BI114 -> 1816.0734 | BE114: =W114/W$66*BM$66/$BI$66*$BI114 -> 1619.2614 | BF114: =$X114/X$10*BN$10/$BI$10*$BI114 -> 8.5235003 | BH114: ='ND70'!$A$7 -> ND70-4-02 | BI114: ='ND70'!$D$7 -> 48.88 | BJ114: ='ND70'!$O$7 -> 3.56 | BK114: ='ND70'!$Q$7 -> 4214 | BL114: ='ND70'!$U$7 -> 2060 | BM114: ='ND70'!$W$7 -> 1887 | BN114: ='ND70'!$I$7 -> 9.09
...

Sheet summary
A1: =data!B1 -> sample | B1: =data!C1 -> file | C1: =data!F1 -> X pos | D1: =data!G1 -> Y pos | E1: =data!R1 -> Xdefl | F1: =data!S1 -> Ydefl | G1: =data!AC1 -> 30Si cps | I1: =data!AZ1 -> H2O _AND | J1: =data!BA1 -> H2O _DCB | K1: =data!BB1 -> H2O _HSR | L1: =data!BC1 -> CO2 ppm | M1: =data!BD1 -> Cl ppm | N1: =data!BE1 -> F ppm | O1: =data!BF1 -> MgO | Q1: =data!BH1 -> notes | R1: =data!BI1 -> SiO2
R2: UPDATE IN SHEET 'DATA'
A3: =data!B76 -> 1_DCB-2-1200-10-A1861-01 | B3: =data!C76 -> _x-79y1065.ais | C3: =data!F76 -> -79 | D3: =data!G76 -> 1065 | E3: =data!R76 -> 5 | F3: =data!S76 -> 4 | G3: =data!AC76 -> 59303.915 | I3: =data!AZ76 -> 8.1769128 | J3: =data!BA76 -> 8.3522828 | K3: =data!BB76 -> 8.8783929 | L3: =data!BC76 -> 4411.6916 | M3: =data!BD76 -> 3991.8022 | N3: =data!BE76 -> 687.34249 | O3: =data!BF76 -> 1.2941247 | Q3: =data!BH76 -> 0 | R3: =data!BI76 -> 60.41
A4: =data!B77 -> 2_DCB-2-1200-10-A1861-02 | B4: =data!C77 -> _x-93y954.ais | C4: =data!F77 -> -93 | D4: =data!G77 -> 954 | E4: =data!R77 -> 4 | F4: =data!S77 -> 7 | G4: =data!AC77 -> 60453.615 | I4: =data!AZ77 -> 8.2163388 | J4: =data!BA77 -> 8.3925544 | K4: =data!BB77 -> 8.9212011 | L4: =data!BC77 -> 4256.5327 | M4: =data!BD77 -> 3400.5539 | N4: =data!BE77 -> 676.1411 | O4: =data!BF77 -> 1.2965881 | Q4: =data!BH77 -> 0 | R4: =data!BI77 -> 60.41
A5: =data!B78 -> 3_DCB-2-1200-10-A1861-03 | B5: =data!C78 -> _x39y964.ais | C5: =data!F78 -> 39 | D5: =data!G78 -> 964 | E5: =data!R78 -> 6 | F5: =data!S78 -> 6 | G5: =data!AC78 -> 60440.08 | I5: =data!AZ78 -> 8.2423225 | J5: =data!BA78 -> 8.4190953 | K5: =data!BB78 -> 8.9494139 | L5: =data!BC78 -> 4369.7578 | M5: =data!BD78 -> 3378.3236 | N5: =data!BE78 -> 658.39603 | O5: =data!BF78 -> 1.2970327 | Q5: =data!BH78 -> 0 | R5: =data!BI78 -> 60.41
A6: =data!B79 -> 4_DCB-2-1200-10-A1861-04 | B6: =data!C79 -> _x335y21.ais | C6: =data!F79 -> 335 | D6: =data!G79 -> 21 | E6: =data!R79 -> 6 | F6: =data!S79 -> 2 | G6: =data!AC79 -> 63854.635 | I6: =data!AZ79 -> 7.9683438 | J6: =data!BA79 -> 8.1392406 | K6: =data!BB79 -> 8.6519311 | L6: =data!BC79 -> 4215.4927 | M6: =data!BD79 -> 3613.8369 | N6: =data!BE79 -> 716.06694 | O6: =data!BF79 -> 1.3532009 | Q6: =data!BH79 -> 0 | R6: =data!BI79 -> 60.41
A7: =data!B80 -> 5_DCB-2-1200-10-A1861-05 | B7: =data!C80 -> _x282y108.ais | C7: =data!F80 -> 282 | D7: =data!G80 -> 108 | E7: =data!R80 -> 5 | F7: =data!S80 -> 1 | G7: =data!AC80 -> 60498.558 | I7: =data!AZ80 -> 8.0946961 | J7: =data!BA80 -> 8.2683028 | K7: =data!BB80 -> 8.789123 | L7: =data!BC80 -> 4322.6851 | M7: =data!BD80 -> 3763.9588 | N7: =data!BE80 -> 680.03011 | O7: =data!BF80 -> 1.3393725 | Q7: =data!BH80 -> 0 | R7: =data!BI80 -> 60.41
A8: =data!B81 -> 6_DCB-2-1200-10-A1861-06 | B8: =data!C81 -> _x205y7.ais | C8: =data!F81 -> 205 | D8: =data!G81 -> 7 | E8: =data!R81 -> 3 | F8: =data!S81 -> 2 | G8: =data!AC81 -> 60388.559 | I8: =data!AZ81 -> 8.1827509 | J8: =data!BA81 -> 8.3582461 | K8: =data!BB81 -> 8.8847318 | L8: =data!BC81 -> 4627.2605 | M8: =data!BD81 -> 3654.0041 | N8: =data!BE81 -> 698.54975 | O8: =data!BF81 -> 1.3415178 | Q8: =data!BH81 -> 0 | R8: =data!BI81 -> 60.41
A10: =data!B83 -> 7_DCB-2-1200-5-B781-01 | B10: =data!C83 -> _x-4497y944.ais | C10: =data!F83 -> -4497 | D10: =data!G83 -> 944 | E10: =data!R83 -> -11 | F10: =data!S83 -> 3 | G10: =data!AC83 -> 60064.802 | I10: =data!AZ83 -> 5.1039663 | J10: =data!BA83 -> 5.2134309 | K10: =data!BB83 -> 5.5418247 | L10: =data!BC83 -> 2607.5789 | M10: =data!BD83 -> 3897.143 | N10: =data!BE83 -> 490.52481 | O10: =data!BF83 -> 1.227623 | Q10: =data!BH83 -> 0 | R10: =data!BI83 -> 66.15
A11: =data!B84 -> 8_DCB-2-1200-5-B781-02 | B11: =data!C84 -> _x-4574y949.ais | C11: =data!F84 -> -4574 | D11: =data!G84 -> 949 | E11: =data!R84 -> -12 | F11: =data!S84 -> 3 | G11: =data!AC84 -> 53013.991 | I11: =data!AZ84 -> 5.4629452 | J11: =data!BA84 -> 5.5801089 | K11: =data!BB84 -> 5.9315997 | L11: =data!BC84 -> 2666.9771 | M11: =data!BD84 -> 5281.4878 | N11: =data!BE84 -> 472.91629 | O11: =data!BF84 -> 1.2349599 | Q11: =data!BH84 -> 0 | R11: =data!BI84 -> 66.15
A12: =data!B85 -> 9_DCB-2-1200-5-B781-03 | B12: =data!C85 -> _x-4520y746.ais | C12: =data!F85 -> -4520 | D12: =data!G85 -> 746 | E12: =data!R85 -> -11 | F12: =data!S85 -> 5 | G12: =data!AC85 -> 55761.026 | I12: =data!AZ85 -> 5.599634 | J12: =data!BA85 -> 5.7197292 | K12: =data!BB85 -> 6.0800148 | L12: =data!BC85 -> 2638.1517 | M12: =data!BD85 -> 3062.4238 | N12: =data!BE85 -> 456.13899 | O12: =data!BF85 -> 1.2217787 | Q12: =data!BH85 -> 0 | R12: =data!BI85 -> 66.15
A13: =data!B86 -> 10_DCB-2-1200-5-B781-04 | B13: =data!C86 -> _x-4387y930.ais | C13: =data!F86 -> -4387 | D13: =data!G86 -> 930 | E13: =data!R86 -> -9 | F13: =data!S86 -> 4 | G13: =data!AC86 -> 52103.287 | I13: =data!AZ86 -> 5.9324484 | J13: =data!BA86 -> 6.0596815 | K13: =data!BB86 -> 6.4413806 | L13: =data!BC86 -> 2669.5278 | M13: =data!BD86 -> 3034.4159 | N13: =data!BE86 -> 460.87135 | O13: =data!BF86 -> 1.240756 | Q13: =data!BH86 -> 0 | R13: =data!BI86 -> 66.15
A14: =data!B87 -> 11_DCB-2-1200-5-B781-05 | B14: =data!C87 -> _x-4534y1347.ais | C14: =data!F87 -> -4534 | D14: =data!G87 -> 1347 | E14: =data!R87 -> -13 | F14: =data!S87 -> 0 | G14: =data!AC87 -> 55884.395 | I14: =data!AZ87 -> 5.364143 | J14: =data!BA87 -> 5.4791876 | K14: =data!BB87 -> 5.8243214 | L14: =data!BC87 -> 2686.8568 | M14: =data!BD87 -> 3108.772 | N14: =data!BE87 -> 481.20681 | O14: =data!BF87 -> 1.3032305 | Q14: =data!BH87 -> 0 | R14: =data!BI87 -> 66.15
A16: =data!B89 -> 12_DCB-2-1200-15-A1860-01 | B16: =data!C89 -> _x5024y-80.ais | C16: =data!F89 -> 5024 | D16: =data!G89 -> -80 | E16: =data!R89 -> 24 | F16: =data!S89 -> 8 | G16: =data!AC89 -> 70098.542 | I16: =data!AZ89 -> 7.2514442 | J16: =data!BA89 -> 7.4069657 | K16: =data!BB89 -> 7.8735302 | L16: =data!BC89 -> 7662.3554 | M16: =data!BD89 -> 4388.8617 | N16: =data!BE89 -> 492.96212 | O16: =data!BF89 -> 1.1352941 | Q16: =data!BH89 -> 0 | R16: =data!BI89 -> 58.51
... A20: =data!B93 -> 16_DCB-2-1200-15-A1860-05 | B20: =data!C93 -> _x5181y334.ais | C20: =data!F93 -> 5181 | D20: =data!G93 -> 334 | E20: =data!R93 -> 26 | F20: =data!S93 -> 4 | G20: =data!AC93 -> 61839.157 | I20: =data!AZ93 -> 7.9475321 | J20: =data!BA93 -> 8.1179826 | K20: =data!BB93 -> 8.6293341 | L20: =data!BC93 -> 8922.8023 | M20: =data!BD93 -> 4419.8581 | N20: =data!BE93 -> 452.93569 | O20: =data!BF93 -> 1.165224 | Q20: =data!BH93 -> 0 | R20: =data!BI93 -> 58.51
A22: =data!B97 -> 18_AND-8-1200-10-A1811-01 | B22: =data!C97 -> _x-575y-2009.ais | C22: =data!F97 -> -575 | D22: =data!G97 -> -2009 | E22: =data!R97 -> 14 | F22: =data!S97 -> 5 | G22: =data!AC97 -> 58639.542 | I22: =data!AZ97 -> 6.7675155 | J22: =data!BA97 -> 6.9126582 | K22: =data!BB97 -> 7.3480863 | L22: =data!BC97 -> 4242.6105 | M22: =data!BD97 -> 6882.5459 | N22: =data!BE97 -> 30.996145 | O22: =data!BF97 -> 2.9536639 | Q22: =data!BH97 -> 0 | R22: =data!BI97 -> 58.71
A23: =data!B98 -> 19_AND-8-1200-10-A1811-02 | B23: =data!C98 -> _x-656y-1825.ais | C23: =data!F98 -> -656 | D23: =data!G98 -> -1825 | E23: =data!R98 -> 12 | F23: =data!S98 -> 3 | G23: =data!AC98 -> 57908.193 | I23: =data!AZ98 -> 6.8343551 | J23: =data!BA98 -> 6.9809313 | K23: =data!BB98 -> 7.42066 | L23: =data!BC98 -> 3985.253 | M23: =data!BD98 -> 7004.0446 | N23: =data!BE98 -> 29.155947 | O23: =data!BF98 -> 2.9555806 | Q23: =data!BH98 -> 0 | R23: =data!BI98 -> 58.71
A24: =data!B99 -> 20_AND-8-1200-10-A1811-03 | B24: =data!C99 -> _x-509y-1840.ais | C24: =data!F99 -> -509 | D24: =data!G99 -> -1840 | E24: =data!R99 -> 18 | F24: =data!S99 -> 3 | G24: =data!AC99 -> 58350.2 | I24: =data!AZ99 -> 6.8946569 | J24: =data!BA99 -> 7.0425264 | K24: =data!BB99 -> 7.4861349 | L24: =data!BC99 -> 4133.4843 | M24: =data!BD99 -> 7069.3581 | N24: =data!BE99 -> 26.34542 | O24: =data!BF99 -> 2.9416592 | Q24: =data!BH99 -> 0 | R24: =data!BI99 -> 58.71
A25: =data!B100 -> 21_AND-8-1200-10-A1811-04 | B25: =data!C100 -> _x-484y-2148.ais | C25: =data!F100 -> -484 | D25: =data!G100 -> -2148 | E25: =data!R100 -> 17 | F25: =data!S100 -> 9 | G25: =data!AC100 -> 58798.897 | I25: =data!AZ100 -> 6.9263133 | J25: =data!BA100 -> 7.0748618 | K25: =data!BB100 -> 7.5205071 | L25: =data!BC100 -> 4216.6199 | M25: =data!BD100 -> 6886.2574 | N25: =data!BE100 -> 32.086976 | O25: =data!BF100 -> 2.9423818 | Q25: =data!BH100 -> 0 | R25: =data!BI100 -> 58.71
A26: =data!B101 -> 22_AND-8-1200-10-A1811-05 | B26: =data!C101 -> _x-638y-2203.ais | C26: =data!F101 -> -638 | D26: =data!G101 -> -2203 | E26: =data!R101 -> 10 | F26: =data!S101 -> 9 | G26: =data!AC101 -> 58005.62 | I26: =data!AZ101 -> 6.804096 | J26: =data!BA101 -> 6.9500233 | K26: =data!BB101 -> 7.387805 | L26: =data!BC101 -> 4294.0862 | M26: =data!BD101 -> 6730.4113 | N26: =data!BE101 -> 29.139518 | O26: =data!BF101 -> 2.9319382 | Q26: =data!BH101 -> 0 | R26: =data!BI101 -> 58.71
A28: =data!B103 -> 23_AND-4-1200-15-A1796-01 | B28: =data!C103 -> _x4056y-611.ais | C28: =data!F103 -> 4056 | D28: =data!G103 -> -611 | E28: =data!R103 -> 87 | F28: =data!S103 -> 3 | G28: =data!AC103 -> 54287.759 | I28: =data!AZ103 -> 7.2237443 | J28: =data!BA103 -> 7.3786717 | K28: =data!BB103 -> 7.843454 | L28: =data!BC103 -> 10347.124 | M28: =data!BD103 -> 5961.3409 | N28: =data!BE103 -> 180.94321 | O28: =data!BF103 -> 2.8128078 | Q28: =data!BH103 -> high deflection | R28: =data!BI103 -> 57.45
A29: =data!B104 -> 24_AND-4-1200-15-A1796-02 | B29: =data!C104 -> _x4269y-660.ais | C29: =data!F104 -> 4269 | D29: =data!G104 -> -660 | E29: =data!R104 -> 94 | F29: =data!S104 -> 4 | G29: =data!AC104 -> 55302.025 | I29: =data!AZ104 -> 6.9300164 | J29: =data!BA104 -> 7.0786443 | K29: =data!BB104 -> 7.5245279 | L29: =data!BC104 -> 9762.6981 | M29: =data!BD104 -> 6174.5114 | N29: =data!BE104 -> 204.97684 | O29: =data!BF104 -> 2.7627069 | Q29: =data!BH104 -> 0 | R29: =data!BI104 -> 57.45
A30: =data!B105 -> 25_AND-4-1200-15-A1796-03 | B30: =data!C105 -> _x4271y-802.ais | C30: =data!F105 -> 4271 | D30: =data!G105 -> -802 | E30: =data!R105 -> 93 | F30: =data!S105 -> 7 | G30: =data!AC105 -> 54221.96 | I30: =data!AZ105 -> 7.2825715 | J30: =data!BA105 -> 7.4387606 | K30: =data!BB105 -> 7.9073279 | L30: =data!BC105 -> 10382.414 | M30: =data!BD105 -> 6005.091 | N30: =data!BE105 -> 187.28373 | O30: =data!BF105 -> 2.791814 | Q30: =data!BH105 -> 0 | R30: =data!BI105 -> 57.45
A31: =data!B106 -> 26_AND-4-1200-15-A1796-04 | B31: =data!C106 -> _x4279y-349.ais | C31: =data!F106 -> 4279 | D31: =data!G106 -> -349 | E31: =data!R106 -> 97 | F31: =data!S106 -> -2 | G31: =data!AC106 -> 53770.373 | I31: =data!AZ106 -> 7.3890194 | J31: =data!BA106 -> 7.5474915 | K31: =data!BB106 -> 8.0229078 | L31: =data!BC106 -> 10471.633 | M31: =data!BD106 -> 5806.2748 | N31: =data!BE106 -> 208.57744 | O31: =data!BF106 -> 2.8001634 | Q31: =data!BH106 -> 0 | R31: =data!BI106 -> 57.45
A32: =data!B107 -> 27_AND-4-1200-15-A1796-05 | B32: =data!C107 -> _x4043y-412.ais | C32: =data!F107 -> 4043 | D32: =data!G107 -> -412 | E32: =data!R107 -> 89 | F32: =data!S107 -> 0 | G32: =data!AC107 -> 53873.269 | I32: =data!AZ107 -> 7.3332431 | J32: =data!BA107 -> 7.490519 | K32: =data!BB107 -> 7.9623465 | L32: =data!BC107 -> 10447.595 | M32: =data!BD107 -> 6046.7661 | N32: =data!BE107 -> 198.71213 | O32: =data!BF107 -> 2.8129831 | Q32: =data!BH107 -> 0 | R32: =data!BI107 -> 57.45
A34: =data!B138 -> 1_AND-8-1200-10-A1816-01 | B34: =data!C138 -> _x-778y-2106.ais | C34: =data!F138 -> -778 | D34: =data!G138 -> -2106 | E34: =data!R138 -> -2 | F34: =data!S138 -> 2 | G34: =data!AC138 -> 52198.166 | I34: =data!AZ138 -> 7.2312988 | J34: =data!BA138 -> 7.3863883 | K34: =data!BB138 -> 7.8516566 | L34: =data!BC138 -> 4028.8845 | M34: =data!BD138 -> 8629.1986 | N34: =data!BE138 -> 605.61221 | O34: =data!BF138 -> 7.7147277 | Q34: =data!BH138 -> high MgO | R34: =data!BI138 -> 56.16
A35: =data!B139 -> 2_AND-8-1200-10-A1816-02 | B35: =data!C139 -> _x-352y-2150.ais | C35: =data!F139 -> -352 | D35: =data!G139 -> -2150 | E35: =data!R139 -> 3 | F35: =data!S139 -> 3 | G35: =data!AC139 -> 51903.522 | I35: =data!AZ139 -> 7.384637 | J35: =data!BA139 -> 7.5430151 | K35: =data!BB139 -> 8.0181493 | L35: =data!BC139 -> 4298.9313 | M35: =data!BD139 -> 8411.2687 | N35: =data!BE139 -> 596.29466 | O35: =data!BF139 -> 7.7756977 | Q35: =data!BH139 -> 0 | R35: =data!BI139 -> 56.16
A36: =data!B140 -> 3_AND-8-1200-10-A1816-03 | B36: =data!C140 -> _x-599y-1878.ais | C36: =data!F140 -> -599 | D36: =data!G140 -> -1878 | E36: =data!R140 -> 2 | F36: =data!S140 -> 2 | G36: =data!AC140 -> 52636.063 | I36: =data!AZ140 -> 7.1535007 | J36: =data!BA140 -> 7.3069216 | K36: =data!BB140 -> 7.7671843 | L36: =data!BC140 -> 4067.4103 | M36: =data!BD140 -> 8001.5351 | N36: =data!BE140 -> 546.90303 | O36: =data!BF140 -> 8.0193957 | Q36: =data!BH140 -> 0 | R36: =data!BI140 -> 56.16
A37: =data!B141 -> 4_AND-8-1200-10-A1816-04 | B37: =data!C141 -> _x-877y-1458.ais | C37: =data!F141 -> -877 | D37: =data!G141 -> -1458 | E37: =data!R141 -> -3 | F37: =data!S141 -> 0 | G37: =data!AC141 -> 51389.473 | I37: =data!AZ141 -> 7.0423432 | J37: =data!BA141 -> 7.1933801 | K37: =data!BB141 -> 7.6464909 | L37: =data!BC141 -> 4281.2455 | M37: =data!BD141 -> 8656.2332 | N37: =data!BE141 -> 515.31791 | O37: =data!BF141 -> 7.5325009 | Q37: =data!BH141 -> 0 | R37: =data!BI141 -> 56.16
A38: =data!B142 -> 5_AND-8-1200-10-A1816-05 | B38: =data!C142 -> _x-584y-1442.ais | C38: =data!F142 -> -584 | D38: =data!G142 -> -1442 | E38: =data!R142 -> 1 | F38: =data!S142 -> 0 | G38: =data!AC142 -> 53178.122 | I38: =data!AZ142 -> 7.0918876 | J38: =data!BA142 -> 7.2439871 | K38: =data!BB142 -> 7.7002856 | L38: =data!BC142 -> 3754.709 | M38: =data!BD142 -> 7745.8949 | N38: =data!BE142 -> 462.06128 | O38: =data!BF142 -> 6.7955194 | Q38: =data!BH142 -> 0 | R38: =data!BI142 -> 56.16
A40: =data!B144 -> 6_AND-8-1200-5-H104-01 | B40: =data!C144 -> _x-4788y-402.ais | C40: =data!F144 -> -4788 | D40: =data!G144 -> -402 | E40: =data!R144 -> -4 | F40: =data!S144 -> 5 | G40: =data!AC144 -> 57053.817 | I40: =data!AZ144 -> 4.6341785 | J40: =data!BA144 -> 4.7335676 | K40: =data!BB144 -> 5.0317349 | L40: =data!BC144 -> 1896.1732 | M40: =data!BD144 -> 5832.117 | N40: =data!BE144 -> 143.43339 | O40: =data!BF144 -> 3.1214717 | Q40: =data!BH144 -> 0 | R40: =data!BI144 -> 63.19
A41: =data!B145 -> 7_AND-8-1200-5-H104-02 | B41: =data!C145 -> _x-4738y-399.ais | C41: =data!F145 -> -4738 | D41: =data!G145 -> -399 | E41: =data!R145 -> -4 | F41: =data!S145 -> 4 | G41: =data!AC145 -> 59717.76 | I41: =data!AZ145 -> 4.2387627 | J41: =data!BA145 -> 4.3296713 | K41: =data!BB145 -> 4.6023971 | L41: =data!BC145 -> 3779.4332 | M41: =data!BD145 -> 7566.0245 | N41: =data!BE145 -> 150.96613 | O41: =data!BF145 -> 3.1189338 | Q41: =data!BH145 -> 0 | R41: =data!BI145 -> 63.19
A42: =data!B146 -> 8_AND-8-1200-5-H104-03 | B42: =data!C146 -> _x-4704y-469.ais | C42: =data!F146 -> -4704 | D42: =data!G146 -> -469 | E42: =data!R146 -> -3 | F42: =data!S146 -> 5 | G42: =data!AC146 -> 55848 | I42: =data!AZ146 -> 4.4272769 | J42: =data!BA146 -> 4.5222286 | K42: =data!BB146 -> 4.8070836 | L42: =data!BC146 -> 1657.2207 | M42: =data!BD146 -> 6338.9295 | N42: =data!BE146 -> 137.41638 | O42: =data!BF146 -> 3.1223007 | Q42: =data!BH146 -> 0 | R42: =data!BI146 -> 63.19
A43: =data!B147 -> 9_AND-8-1200-5-H104-04 | B43: =data!C147 -> _x-4859y-440.ais | C43: =data!F147 -> -4859 | D43: =data!G147 -> -440 | E43: =data!R147 -> -5 | F43: =data!S147 -> 5 | G43: =data!AC147 -> 55560.767 | I43: =data!AZ147 -> 4.6770779 | J43: =data!BA147 -> 4.777387 | K43: =data!BB147 -> 5.0783145 | L43: =data!BC147 -> 3108.3743 | M43: =data!BD147 -> 6156.9955 | N43: =data!BE147 -> 135.63554 | O43: =data!BF147 -> 3.1357298 | Q43: =data!BH147 -> 0 | R43: =data!BI147 -> 63.19
A44: =data!B148 -> 10_AND-8-1200-5-H104-05 | B44: =data!C148 -> _x-4787y-356.ais | C44: =data!F148 -> -4787 | D44: =data!G148 -> -356 | E44: =data!R148 -> -4 | F44: =data!S148 -> 5 | G44: =data!AC148 -> 54007.681 | I44: =data!AZ148 -> 4.8351416 | J44: =data!BA148 -> 4.9388407 | K44: =data!BB148 -> 5.2499382 | L44: =data!BC148 -> 1594.0791 | M44: =data!BD148 -> 5706.0012 | N44: =data!BE148 -> 141.693 | O44: =data!BF148 -> 3.1185393 | Q44: =data!BH148 -> 0 | R44: =data!BI148 -> 63.19
A46: =data!B150 -> 11_AND-8-1200-15-A1818-01 | B46: =data!C150 -> _x3514y-2109.ais | C46: =data!F150 -> 3514 | D46: =data!G150 -> -2109 | E46: =data!R150 -> 1 | F46: =data!S150 -> -3 | G46: =data!AC150 -> 56446.851 | I46: =data!AZ150 -> 6.8098453 | J46: =data!BA150 -> 6.9558959 | K46: =data!BB150 -> 7.3940475 | L46: =data!BC150 -> 7697.6205 | M46: =data!BD150 -> 6017.1776 | N46: =data!BE150 -> 1064.9532 | O46: =data!BF150 -> 2.9903202 | Q46: =data!BH150 -> 0 | R46: =data!BI150 -> 58.44
A47: =data!B151 -> 12_AND-8-1200-15-A1818-02 | B47: =data!C151 -> _x3689y-2613.ais | C47: =data!F151 -> 3689 | D47: =data!G151 -> -2613 | E47: =data!R151 -> 3 | F47: =data!S151 -> -1 | G47: =data!AC151 -> 55998.855 | I47: =data!AZ151 -> 7.0174964 | J47: =data!BA151 -> 7.1680004 | K47: =data!BB151 -> 7.6195125 | L47: =data!BC151 -> 8054.2412 | M47: =data!BD151 -> 5920.4941 | N47: =data!BE151 -> 945.45975 | O47: =data!BF151 -> 2.9924897 | Q47: =data!BH151 -> 0 | R47: =data!BI151 -> 58.44
... A50: =data!B154 -> 15_AND-8-1200-15-A1818-05 | B50: =data!C154 -> _x3609y-1654.ais | C50: =data!F154 -> 3609 | D50: =data!G154 -> -1654 | E50: =data!R154 -> 2 | F50: =data!S154 -> -6 | G50: =data!AC154 -> 58343.435 | I50: =data!AZ154 -> 6.7554736 | J50: =data!BA154 -> 6.9003581 | K50: =data!BB154 -> 7.3350114 | L50: =data!BC154 -> 8685.0528 | M50: =data!BD154 -> 5992.8025 | N50: =data!BE154 -> 1132.1251 | O50: =data!BF154 -> 2.9729641 | Q50: =data!BH154 -> 0 | R50: =data!BI154 -> 58.44
A52: =data!B158 -> 1_DCB-6-1200-10-A1866-01 | B52: =data!C158 -> _x-876y-926.ais | C52: =data!F158 -> -876 | D52: =data!G158 -> -926 | E52: =data!R158 -> 5 | F52: =data!S158 -> 5 | G52: =data!AC158 -> 66553.017 | I52: =data!AZ158 -> 7.1223451 | J52: =data!BA158 -> 7.2750978 | K52: =data!BB158 -> 7.733356 | L52: =data!BC158 -> 3974.0713 | M52: =data!BD158 -> 4787.8403 | N52: =data!BE158 -> 82.69257 | O52: =data!BF158 -> 1.3968895 | Q52: =data!BH158 -> 0 | R52: =data!BI158 -> 64.47
A53: =data!B159 -> 2_DCB-6-1200-10-A1866-02 | B53: =data!C159 -> _x-1000y-1274.ais | C53: =data!F159 -> -1000 | D53: =data!G159 -> -1274 | E53: =data!R159 -> 2 | F53: =data!S159 -> 8 | G53: =data!AC159 -> 66568.63 | I53: =data!AZ159 -> 7.0216553 | J53: =data!BA159 -> 7.1722485 | K53: =data!BB159 -> 7.6240282 | L53: =data!BC159 -> 3797.125 | M53: =data!BD159 -> 4901.5731 | N53: =data!BE159 -> 83.010864 | O53: =data!BF159 -> 1.3992766 | Q53: =data!BH159 -> 0 | R53: =data!BI159 -> 64.47
A54: =data!B160 -> 3_DCB-6-1200-10-A1866-03 | B54: =data!C160 -> _x-752y-1279.ais | C54: =data!F160 -> -752 | D54: =data!G160 -> -1279 | E54: =data!R160 -> 7 | F54: =data!S160 -> 8 | G54: =data!AC160 -> 63683.192 | I54: =data!AZ160 -> 7.1217331 | J54: =data!BA160 -> 7.2744727 | K54: =data!BB160 -> 7.7326915 | L54: =data!BC160 -> 3965.3368 | M54: =data!BD160 -> 4760.2904 | N54: =data!BE160 -> 80.050254 | O54: =data!BF160 -> 1.406747 | Q54: =data!BH160 -> 0 | R54: =data!BI160 -> 64.47
A55: =data!B161 -> 4_DCB-6-1200-10-A1866-04 | B55: =data!C161 -> _x-861y-349.ais | C55: =data!F161 -> -861 | D55: =data!G161 -> -349 | E55: =data!R161 -> 6 | F55: =data!S161 -> 1 | G55: =data!AC161 -> 65091.628 | I55: =data!AZ161 -> 7.2017672 | J55: =data!BA161 -> 7.3562233 | K55: =data!BB161 -> 7.8195915 | L55: =data!BC161 -> 3976.4153 | M55: =data!BD161 -> 4686.6004 | N55: =data!BE161 -> 83.875587 | O55: =data!BF161 -> 1.3778477 | Q55: =data!BH161 -> 0 | R55: =data!BI161 -> 64.47
A56: =data!B162 -> 5_DCB-6-1200-10-A1866-05 | B56: =data!C162 -> _x-1095y-425.ais | C56: =data!F162 -> -1095 | D56: =data!G162 -> -425 | E56: =data!R162 -> 1 | F56: =data!S162 -> 2 | G56: =data!AC162 -> 64384.62 | I56: =data!AZ162 -> 7.2140698 | J56: =data!BA162 -> 7.3687897 | K56: =data!BB162 -> 7.8329495 | L56: =data!BC162 -> 3744.5755 | M56: =data!BD162 -> 4669.6548 | N56: =data!BE162 -> 85.44885 | O56: =data!BF162 -> 1.3862008 | Q56: =data!BH162 -> 0 | R56: =data!BI162 -> 64.47
A58: =data!B164 -> 6_DCB-6-1200-15-A1865-01 | B58: =data!C164 -> _x3873y-1953.ais | C58: =data!F164 -> 3873 | D58: =data!G164 -> -1953 | E58: =data!R164 -> 7 | F58: =data!S164 -> 4 | G58: =data!AC164 -> 64637.166 | I58: =data!AZ164 -> 8.3650681 | J58: =data!BA164 -> 8.5444735 | K58: =data!BB164 -> 9.0826896 | L58: =data!BC164 -> 9738.469 | M58: =data!BD164 -> 5196.9416 | N58: =data!BE164 -> 252.83789 | O58: =data!BF164 -> 1.3432562 | Q58: =data!BH164 -> 0 | R58: =data!BI164 -> 62.16
A59: =data!B165 -> 7_DCB-6-1200-15-A1865-02 | B59: =data!C165 -> _x4044y-1650.ais | C59: =data!F165 -> 4044 | D59: =data!G165 -> -1650 | E59: =data!R165 -> 8 | F59: =data!S165 -> 0 | G59: =data!AC165 -> 63634.976 | I59: =data!AZ165 -> 8.5356109 | J59: =data!BA165 -> 8.7186739 | K59: =data!BB165 -> 9.2678629 | L59: =data!BC165 -> 9639.7187 | M59: =data!BD165 -> 5070.2562 | N59: =data!BE165 -> 243.18182 | O59: =data!BF165 -> 1.3462206 | Q59: =data!BH165 -> 0 | R59: =data!BI165 -> 62.16
A60: =data!B166 -> 8_DCB-6-1200-15-A1865-03 | B60: =data!C166 -> _x3622y-1663.ais | C60: =data!F166 -> 3622 | D60: =data!G166 -> -1663 | E60: =data!R166 -> 3 | F60: =data!S166 -> 0 | G60: =data!AC166 -> 63372.535 | I60: =data!AZ166 -> 8.3718931 | J60: =data!BA166 -> 8.5514448 | K60: =data!BB166 -> 9.0901 | L60: =data!BC166 -> 9761.3455 | M60: =data!BD166 -> 5270.8078 | N60: =data!BE166 -> 258.16108 | O60: =data!BF166 -> 1.3390948 | Q60: =data!BH166 -> 0 | R60: =data!BI166 -> 62.16
A61: =data!B167 -> 9_DCB-6-1200-15-A1865-04 | B61: =data!C167 -> _x3639y-2104.ais | C61: =data!F167 -> 3639 | D61: =data!G167 -> -2104 | E61: =data!R167 -> 3 | F61: =data!S167 -> 5 | G61: =data!AC167 -> 63761.64 | I61: =data!AZ167 -> 8.3159831 | J61: =data!BA167 -> 8.4943358 | K61: =data!BB167 -> 9.0293937 | L61: =data!BC167 -> 9386.174 | M61: =data!BD167 -> 5210.6347 | N61: =data!BE167 -> 255.50902 | O61: =data!BF167 -> 1.3516912 | Q61: =data!BH167 -> 0 | R61: =data!BI167 -> 62.16
A62: =data!B168 -> 10_DCB-6-1200-15-A1865-05 | B62: =data!C168 -> _x4061y-2096.ais | C62: =data!F168 -> 4061 | D62: =data!G168 -> -2096 | E62: =data!R168 -> 10 | F62: =data!S168 -> 5 | G62: =data!AC168 -> 64219.333 | I62: =data!AZ168 -> 8.405674 | J62: =data!BA168 -> 8.5859503 | K62: =data!BB168 -> 9.126779 | L62: =data!BC168 -> 9701.0446 | M62: =data!BD168 -> 5061.3204 | N62: =data!BE168 -> 256.51626 | O62: =data!BF168 -> 1.3517944 | Q62: =data!BH168 -> 0 | R62: =data!BI168 -> 62.16
A64: =data!B170 -> 11_DCB-6-1200-10-B778-01 | B64: =data!C170 -> _x-5740y-1766.ais | C64: =data!F170 -> -5740 | D64: =data!G170 -> -1766 | E64: =data!R170 -> 9 | F64: =data!S170 -> 0 | G64: =data!AC170 -> 59650.118 | I64: =data!AZ170 -> 8.6974491 | J64: =data!BA170 -> 8.883983 | K64: =data!BB170 -> 9.4435848 | L64: =data!BC170 -> 3892.1221 | M64: =data!BD170 -> 2910.5627 | N64: =data!BE170 -> 152.42178 | O64: =data!BF170 -> 1.2878175 | Q64: =data!BH170 -> 0 | R64: =data!BI170 -> 58.24
A65: =data!B171 -> 12_DCB-6-1200-10-B778-02 | B65: =data!C171 -> _x-5678y-1687.ais | C65: =data!F171 -> -5678 | D65: =data!G171 -> -1687 | E65: =data!R171 -> 10 | F65: =data!S171 -> -1 | G65: =data!AC171 -> 56112.431 | I65: =data!AZ171 -> 9.1000507 | J65: =data!BA171 -> 9.2952192 | K65: =data!BB171 -> 9.8807247 | L65: =data!BC171 -> 4117.8569 | M65: =data!BD171 -> 2756.4738 | N65: =data!BE171 -> 157.46256 | O65: =data!BF171 -> 1.2894259 | Q65: =data!BH171 -> 0 | R65: =data!BI171 -> 58.24
... A68: =data!B174 -> 15_DCB-6-1200-10-B778-05 | B68: =data!C174 -> _x-5733y-2268.ais | C68: =data!F174 -> -5733 | D68: =data!G174 -> -2268 | E68: =data!R174 -> 10 | F68: =data!S174 -> 3 | G68: =data!AC174 -> 56166.465 | I68: =data!AZ174 -> 9.1470717 | J68: =data!BA174 -> 9.3432487 | K68: =data!BB174 -> 9.9317796 | L68: =data!BC174 -> 4104.0801 | M68: =data!BD174 -> 2705.986 | N68: =data!BE174 -> 142.49801 | O68: =data!BF174 -> 1.2992817 | Q68: =data!BH174 -> 0 | R68: =data!BI174 -> 58.24
A70: =data!B178 -> 1_HSR-2-1200-15-A1831-01 | B70: =data!C178 -> _x-159y-2560.ais | C70: =data!F178 -> -159 | D70: =data!G178 -> -2560 | E70: =data!R178 -> -7 | F70: =data!S178 -> 8 | G70: =data!AC178 -> 73251.968 | I70: =data!AZ178 -> 7.0782365 | J70: =data!BA178 -> 7.2300433 | K70: =data!BB178 -> 7.6854635 | L70: =data!BC178 -> 6906.4329 | M70: =data!BD178 -> 1095.2383 | N70: =data!BE178 -> 78.507346 | O70: =data!BF178 -> 0.24262959 | Q70: =data!BH178 -> 0 | R70: =data!BI178 -> 70.09
A71: =data!B179 -> 2_HSR-2-1200-15-A1831-02 | B71: =data!C179 -> _x-10y-2792.ais | C71: =data!F179 -> -10 | D71: =data!G179 -> -2792 | E71: =data!R179 -> -6 | F71: =data!S179 -> 10 | G71: =data!AC179 -> 71790.843 | I71: =data!AZ179 -> 7.7575058 | J71: =data!BA179 -> 7.9238808 | K71: =data!BB179 -> 8.4230058 | L71: =data!BC179 -> 4901.0956 | M71: =data!BD179 -> 818.71246 | N71: =data!BE179 -> 79.409375 | O71: =data!BF179 -> 0.24775237 | Q71: =data!BH179 -> 0 | R71: =data!BI179 -> 70.09
A72: =data!B180 -> 3_HSR-2-1200-15-A1831-03 | B72: =data!C180 -> _x-220y-3056.ais | C72: =data!F180 -> -220 | D72: =data!G180 -> -3056 | E72: =data!R180 -> -8 | F72: =data!S180 -> 13 | G72: =data!AC180 -> 72106.855 | I72: =data!AZ180 -> 7.9076179 | J72: =data!BA180 -> 8.0772123 | K72: =data!BB180 -> 8.5859957 | L72: =data!BC180 -> 4375.3972 | M72: =data!BD180 -> 815.8236 | N72: =data!BE180 -> 81.613923 | O72: =data!BF180 -> 0.2514977 | Q72: =data!BH180 -> 0 | R72: =data!BI180 -> 70.09
A73: =data!B181 -> 4_HSR-2-1200-15-A1831-04 | B73: =data!C181 -> _x-329y-2182.ais | C73: =data!F181 -> -329 | D73: =data!G181 -> -2182 | E73: =data!R181 -> -10 | F73: =data!S181 -> 5 | G73: =data!AC181 -> 73331.27 | I73: =data!AZ181 -> 7.5748548 | J73: =data!BA181 -> 7.7373125 | K73: =data!BB181 -> 8.2246856 | L73: =data!BC181 -> 4224.533 | M73: =data!BD181 -> 920.04279 | N73: =data!BE181 -> 79.187147 | O73: =data!BF181 -> 0.24202542 | Q73: =data!BH181 -> 0 | R73: =data!BI181 -> 70.09
A74: =data!B182 -> 5_HSR-2-1200-15-A1831-05 | B74: =data!C182 -> _x-115y-2154.ais | C74: =data!F182 -> -115 | D74: =data!G182 -> -2154 | E74: =data!R182 -> -8 | F74: =data!S182 -> 5 | G74: =data!AC182 -> 74288.246 | I74: =data!AZ182 -> 7.4569787 | J74: =data!BA182 -> 7.6169083 | K74: =data!BB182 -> 8.0966971 | L74: =data!BC182 -> 4303.4809 | M74: =data!BD182 -> 943.44084 | N74: =data!BE182 -> 76.488164 | O74: =data!BF182 -> 0.24144982 | Q74: =data!BH182 -> 0 | R74: =data!BI182 -> 70.09
A76: =data!B184 -> 6_HSR-2-1200-10-A1833-01 | B76: =data!C184 -> _x4176y-880.ais | C76: =data!F184 -> 4176 | D76: =data!G184 -> -880 | E76: =data!R184 -> -67 | F76: =data!S184 -> 1 | G76: =data!AC184 -> 71158.247 | I76: =data!AZ184 -> 9.8533361 | J76: =data!BA184 -> 10.06466 | K76: =data!BB184 -> 10.698633 | L76: =data!BC184 -> 8847.8902 | M76: =data!BD184 -> 960.65314 | N76: =data!BE184 -> 74.808998 | O76: =data!BF184 -> 0.21550195 | Q76: =data!BH184 -> 0 | R76: =data!BI184 -> 73.56
A77: =data!B185 -> 7_HSR-2-1200-10-A1833-02 | B77: =data!C185 -> _x4342y-1176.ais | C77: =data!F185 -> 4342 | D77: =data!G185 -> -1176 | E77: =data!R185 -> -67 | F77: =data!S185 -> 2 | G77: =data!AC185 -> 69130.195 | I77: =data!AZ185 -> 10.034697 | J77: =data!BA185 -> 10.249911 | K77: =data!BB185 -> 10.895553 | L77: =data!BC185 -> 9251.8303 | M77: =data!BD185 -> 965.47408 | N77: =data!BE185 -> 65.05541 | O77: =data!BF185 -> 0.21870896 | Q77: =data!BH185 -> 0 | R77: =data!BI185 -> 73.56
A78: =data!B186 -> 8_HSR-2-1200-10-A1833-03 | B78: =data!C186 -> _x4146y-1273.ais | C78: =data!F186 -> 4146 | D78: =data!G186 -> -1273 | E78: =data!R186 -> -67 | F78: =data!S186 -> 3 | G78: =data!AC186 -> 71755.469 | I78: =data!AZ186 -> 9.2401292 | J78: =data!BA186 -> 9.4383019 | K78: =data!BB186 -> 10.03282 | L78: =data!BC186 -> 11438.319 | M78: =data!BD186 -> 1404.4384 | N78: =data!BE186 -> 71.626367 | O78: =data!BF186 -> 0.21827782 | Q78: =data!BH186 -> 0 | R78: =data!BI186 -> 73.56
A79: =data!B187 -> 9_HSR-2-1200-10-A1833-04 | B79: =data!C187 -> _x4081y-650.ais | C79: =data!F187 -> 4081 | D79: =data!G187 -> -650 | E79: =data!R187 -> -68 | F79: =data!S187 -> 0 | G79: =data!AC187 -> 71355.567 | I79: =data!AZ187 -> 9.368811 | J79: =data!BA187 -> 9.5697437 | K79: =data!BB187 -> 10.172541 | L79: =data!BC187 -> 9065.4301 | M79: =data!BD187 -> 930.12187 | N79: =data!BE187 -> 70.538879 | O79: =data!BF187 -> 0.21450494 | Q79: =data!BH187 -> 0 | R79: =data!BI187 -> 73.56
A80: =data!B188 -> 10_HSR-2-1200-10-A1833-05 | B80: =data!C188 -> _x4328y-846.ais | C80: =data!F188 -> 4328 | D80: =data!G188 -> -846 | E80: =data!R188 -> -68 | F80: =data!S188 -> 0 | G80: =data!AC188 -> 71667.748 | I80: =data!AZ188 -> 9.1600394 | J80: =data!BA188 -> 9.3564945 | K80: =data!BB188 -> 9.9458598 | L80: =data!BC188 -> 11487.943 | M80: =data!BD188 -> 1106.7523 | N80: =data!BE188 -> 73.193737 | O80: =data!BF188 -> 0.21345799 | Q80: =data!BH188 -> 0 | R80: =data!BI188 -> 73.56
A82: =data!B190 -> 11_AND-2-1200-5-H98-01 | B82: =data!C190 -> _x-5225y-885.ais | C82: =data!F190 -> -5225 | D82: =data!G190 -> -885 | E82: =data!R190 -> 34 | F82: =data!S190 -> 9 | G82: =data!AC190 -> 53928.067 | I82: =data!AZ190 -> 5.4454752 | J82: =data!BA190 -> 5.5622641 | K82: =data!BB190 -> 5.912631 | L82: =data!BC190 -> 1762.6305 | M82: =data!BD190 -> 4568.1643 | N82: =data!BE190 -> 153.10366 | O82: =data!BF190 -> 3.6120702 | Q82: =data!BH190 -> 0 | R82: =data!BI190 -> 62.58
A83: =data!B191 -> 12_AND-2-1200-5-H98-02 | B83: =data!C191 -> _x-5294y-1390.ais | C83: =data!F191 -> -5294 | D83: =data!G191 -> -1390 | E83: =data!R191 -> 35 | F83: =data!S191 -> 12 | G83: =data!AC191 -> 52167.184 | I83: =data!AZ191 -> 5.4592583 | J83: =data!BA191 -> 5.5763429 | K83: =data!BB191 -> 5.9275965 | L83: =data!BC191 -> 3672.2698 | M83: =data!BD191 -> 5457.0921 | N83: =data!BE191 -> 171.78163 | O83: =data!BF191 -> 3.9901 | Q83: =data!BH191 -> 0 | R83: =data!BI191 -> 62.58
... A86: =data!B194 -> 15_AND-2-1200-5-H98-05 | B86: =data!C194 -> _x-5386y-240.ais | C86: =data!F194 -> -5386 | D86: =data!G194 -> -240 | E86: =data!R194 -> 30 | F86: =data!S194 -> 6 | G86: =data!AC194 -> 55635.971 | I86: =data!AZ194 -> 5.325027 | J86: =data!BA194 -> 5.4392327 | K86: =data!BB194 -> 5.7818498 | L86: =data!BC194 -> 1724.8473 | M86: =data!BD194 -> 4654.6312 | N86: =data!BE194 -> 151.60667 | O86: =data!BF194 -> 3.2842789 | Q86: =data!BH194 -> 0 | R86: =data!BI194 -> 62.58
A88: =data!B198 -> 1_HSR-4-1200-10-A1832-01 | B88: =data!C198 -> _x31y-430.ais | C88: =data!F198 -> 31 | D88: =data!G198 -> -430 | E88: =data!R198 -> 2 | F88: =data!S198 -> 4 | G88: =data!AC198 -> 77987.764 | I88: =data!AZ198 -> 7.0314211 | J88: =data!BA198 -> 7.1822238 | K88: =data!BB198 -> 7.6346318 | L88: =data!BC198 -> 4469.9981 | M88: =data!BD198 -> 1171.8377 | N88: =data!BE198 -> 29.775734 | O88: =data!BF198 -> 0.22849438 | Q88: =data!BH198 -> 0 | R88: =data!BI198 -> 74.17
A89: =data!B199 -> 2_HSR-4-1200-10-A1832-02 | B89: =data!C199 -> _x-145y57.ais | C89: =data!F199 -> -145 | D89: =data!G199 -> 57 | E89: =data!R199 -> -1 | F89: =data!S199 -> 2 | G89: =data!AC199 -> 82212.782 | I89: =data!AZ199 -> 6.5734706 | J89: =data!BA199 -> 6.7144517 | K89: =data!BB199 -> 7.1373948 | L89: =data!BC199 -> 3369.2195 | M89: =data!BD199 -> 1570.577 | N89: =data!BE199 -> 36.277263 | O89: =data!BF199 -> 0.23415336 | Q89: =data!BH199 -> 0 | R89: =data!BI199 -> 74.17
A90: =data!B200 -> 3_HSR-4-1200-10-A1832-03 | B90: =data!C200 -> _x105y54.ais | C90: =data!F200 -> 105 | D90: =data!G200 -> 54 | E90: =data!R200 -> 5 | F90: =data!S200 -> 2 | G90: =data!AC200 -> 77566.717 | I90: =data!AZ200 -> 7.2407292 | J90: =data!BA200 -> 7.3960209 | K90: =data!BB200 -> 7.861896 | L90: =data!BC200 -> 3571.0279 | M90: =data!BD200 -> 1102.7754 | N90: =data!BE200 -> 32.772545 | O90: =data!BF200 -> 0.2309955 | Q90: =data!BH200 -> 0 | R90: =data!BI200 -> 74.17
A91: =data!B201 -> 4_HSR-4-1200-10-A1832-04 | B91: =data!C201 -> _x91y-1042.ais | C91: =data!F201 -> 91 | D91: =data!G201 -> -1042 | E91: =data!R201 -> 1 | F91: =data!S201 -> 6 | G91: =data!AC201 -> 78951.245 | I91: =data!AZ201 -> 6.919309 | J91: =data!BA201 -> 7.0677072 | K91: =data!BB201 -> 7.5129018 | L91: =data!BC201 -> 5880.3613 | M91: =data!BD201 -> 1668.0414 | N91: =data!BE201 -> 33.76292 | O91: =data!BF201 -> 0.23879244 | Q91: =data!BH201 -> 0 | R91: =data!BI201 -> 74.17
A92: =data!B202 -> 5_HSR-4-1200-10-A1832-05 | B92: =data!C202 -> _x-22y-1062.ais | C92: =data!F202 -> -22 | D92: =data!G202 -> -1062 | E92: =data!R202 -> -2 | F92: =data!S202 -> 6 | G92: =data!AC202 -> 78628.613 | I92: =data!AZ202 -> 7.0365879 | J92: =data!BA202 -> 7.1875014 | K92: =data!BB202 -> 7.6402419 | L92: =data!BC202 -> 5314.5698 | M92: =data!BD202 -> 1277.152 | N92: =data!BE202 -> 31.617814 | O92: =data!BF202 -> 0.23625241 | Q92: =data!BH202 -> 0 | R92: =data!BI202 -> 74.17
A94: =data!B204 -> 6_HSR-4-1200-15-A1826-01 | B94: =data!C204 -> _x4381y-436.ais | C94: =data!F204 -> 4381 | D94: =data!G204 -> -436 | E94: =data!R204 -> -1 | F94: =data!S204 -> 5 | G94: =data!AC204 -> 74737.394 | I94: =data!AZ204 -> 4.4716228 | J94: =data!BA204 -> 4.5675256 | K94: =data!BB204 -> 4.8552339 | L94: =data!BC204 -> 6868.413 | M94: =data!BD204 -> 1123.0137 | N94: =data!BE204 -> 14.648723 | O94: =data!BF204 -> 0.24267757 | Q94: =data!BH204 -> 0 | R94: =data!BI204 -> 73.27
A95: =data!B205 -> 7_HSR-4-1200-15-A1826-02 | B95: =data!C205 -> _x4425y-321.ais | C95: =data!F205 -> 4425 | D95: =data!G205 -> -321 | E95: =data!R205 -> 2 | F95: =data!S205 -> 4 | G95: =data!AC205 -> 74827.12 | I95: =data!AZ205 -> 4.4558173 | J95: =data!BA205 -> 4.5513811 | K95: =data!BB205 -> 4.8380724 | L95: =data!BC205 -> 6017.324 | M95: =data!BD205 -> 1020.9958 | N95: =data!BE205 -> 12.226127 | O95: =data!BF205 -> 0.2409849 | Q95: =data!BH205 -> 0 | R95: =data!BI205 -> 73.27
A96: =data!B206 -> 8_HSR-4-1200-15-A1826-03 | B96: =data!C206 -> _x4470y-464.ais | C96: =data!F206 -> 4470 | D96: =data!G206 -> -464 | E96: =data!R206 -> 2 | F96: =data!S206 -> 5 | G96: =data!AC206 -> 77089.385 | I96: =data!AZ206 -> 4.3176183 | J96: =data!BA206 -> 4.4102181 | K96: =data!BB206 -> 4.6880176 | L96: =data!BC206 -> 10636.716 | M96: =data!BD206 -> 2140.4149 | N96: =data!BE206 -> 15.741617 | O96: =data!BF206 -> 0.24180108 | Q96: =data!BH206 -> 0 | R96: =data!BI206 -> 73.27
A97: =data!B207 -> 9_HSR-4-1200-15-A1826-04 | B97: =data!C207 -> _x4284y-679.ais | C97: =data!F207 -> 4284 | D97: =data!G207 -> -679 | E97: =data!R207 -> -6 | F97: =data!S207 -> 7 | G97: =data!AC207 -> 72563.456 | I97: =data!AZ207 -> 4.4284128 | J97: =data!BA207 -> 4.5233889 | K97: =data!BB207 -> 4.808317 | L97: =data!BC207 -> 5138.9997 | M97: =data!BD207 -> 1024.5618 | N97: =data!BE207 -> 14.175419 | O97: =data!BF207 -> 0.23853495 | Q97: =data!BH207 -> 0 | R97: =data!BI207 -> 73.27
A98: =data!B208 -> 10_HSR-4-1200-15-A1826-05 | B98: =data!C208 -> _x4441y-186.ais | C98: =data!F208 -> 4441 | D98: =data!G208 -> -186 | E98: =data!R208 -> 3 | F98: =data!S208 -> 2 | G98: =data!AC208 -> 73067.524 | I98: =data!AZ208 -> 4.4828467 | J98: =data!BA208 -> 4.5789902 | K98: =data!BB208 -> 4.8674206 | L98: =data!BC208 -> 5170.6249 | M98: =data!BD208 -> 1151.44 | N98: =data!BE208 -> 17.380553 | O98: =data!BF208 -> 0.24310532 | Q98: =data!BH208 -> 0 | R98: =data!BI208 -> 73.27
A100: =data!B210 -> 11_AND-2-1200-15-A1814-01 | B100: =data!C210 -> _x-315y-6261.ais | C100: =data!F210 -> -315 | D100: =data!G210 -> -6261 | E100: =data!R210 -> -34 | F100: =data!S210 -> 4 | G100: =data!AC210 -> 54142.521 | I100: =data!AZ210 -> 4.6156039 | J100: =data!BA210 -> 4.7145947 | K100: =data!BB210 -> 5.0115668 | L100: =data!BC210 -> 4397.6766 | M100: =data!BD210 -> 5346.6215 | N100: =data!BE210 -> 160.77012 | O100: =data!BF210 -> 2.8143546 | Q100: =data!BH210 -> 0 | R100: =data!BI210 -> 60.35
A101: =data!B211 -> 12_AND-2-1200-15-A1814-02 | B101: =data!C211 -> _x-721y-6160.ais | C101: =data!F211 -> -721 | D101: =data!G211 -> -6160 | E101: =data!R211 -> -37 | F101: =data!S211 -> 3 | G101: =data!AC211 -> 55640.893 | I101: =data!AZ211 -> 4.4832467 | J101: =data!BA211 -> 4.5793988 | K101: =data!BB211 -> 4.8678549 | L101: =data!BC211 -> 6236.8233 | M101: =data!BD211 -> 5674.644 | N101: =data!BE211 -> 209.65714 | O101: =data!BF211 -> 2.7495834 | Q101: =data!BH211 -> 0 | R101: =data!BI211 -> 60.35
... A111: =data!B221 -> 21_AND-4-1200-10-A1806-06 | B111: =data!C221 -> _x-4504y-711.ais | C111: =data!F221 -> -4504 | D111: =data!G221 -> -711 | E111: =data!R221 -> -16 | F111: =data!S221 -> 4 | G111: =data!AC221 -> 54658.666 | I111: =data!AZ221 -> 5.2421722 | J111: =data!BA221 -> 5.3546009 | K111: =data!BB221 -> 5.691887 | L111: =data!BC221 -> 4220.9872 | M111: =data!BD221 -> 5964.04 | N111: =data!BE221 -> 32.275243 | O111: =data!BF221 -> 2.9574351 | Q111: =data!BH221 -> 0 | R111: =data!BI221 -> 60.4
A113: =data!B239 -> 1_AND-4-stm-01 | B113: =data!C239 -> _x-206y831.ais | C113: =data!F239 -> -206 | D113: =data!G239 -> 831 | E113: =data!R239 -> -1 | F113: =data!S239 -> 10 | G113: =data!AC239 -> 51574.406 | I113: =data!AZ239 -> 4.7492008 | J113: =data!BA239 -> 4.8510568 | K113: =data!BB239 -> 5.1566247 | L113: =data!BC239 -> 11964.989 | M113: =data!BD239 -> 52.060693 | N113: =data!BE239 -> 2.9813572 | O113: =data!BF239 -> 3.1334477 | Q113: =data!#REF! -> #REF! | R113: =data!BI239 -> 62
A114: =data!B240 -> 2_AND-4-stm-02 | B114: =data!C240 -> _x-368y1506.ais | C114: =data!F240 -> -368 | D114: =data!G240 -> 1506 | E114: =data!R240 -> -6 | F114: =data!S240 -> 7 | G114: =data!AC240 -> 51327.645 | I114: =data!AZ240 -> 4.4981291 | J114: =data!BA240 -> 4.5946004 | K114: =data!BB240 -> 4.8840141 | L114: =data!BC240 -> 12308.365 | M114: =data!BD240 -> 60.774573 | N114: =data!BE240 -> 2.6514885 | O114: =data!BF240 -> 3.1085408 | Q114: =data!#REF! -> #REF! | R114: =data!BI240 -> 62
A115: =data!B241 -> 3_AND-4-stm-03 | B115: =data!C241 -> _x595y1604.ais | C115: =data!F241 -> 595 | D115: =data!G241 -> 1604 | E115: =data!R241 -> -5 | F115: =data!S241 -> 7 | G115: =data!AC241 -> 50738.157 | I115: =data!AZ241 -> 4.4195639 | J115: =data!BA241 -> 4.5143502 | K115: =data!BB241 -> 4.798709 | L115: =data!BC241 -> 12587.086 | M115: =data!BD241 -> 55.917431 | N115: =data!BE241 -> 2.8068838 | O115: =data!BF241 -> 3.1055663 | Q115: =data!#REF! -> #REF! | R115: =data!BI241 -> 62
A116: =data!B242 -> 4_AND-4-stm-04 | B116: =data!C242 -> _x934y202.ais | C116: =data!F242 -> 934 | D116: =data!G242 -> 202 | E116: =data!R242 -> 6 | F116: =data!S242 -> 11 | G116: =data!AC242 -> 51374.144 | I116: =data!AZ242 -> 4.8767911 | J116: =data!BA242 -> 4.9813835 | K116: =data!BB242 -> 5.2951607 | L116: =data!BC242 -> 11969.742 | M116: =data!BD242 -> 59.421516 | N116: =data!BE242 -> 2.7976713 | O116: =data!BF242 -> 3.1515477 | Q116: =data!#REF! -> #REF! | R116: =data!BI242 -> 62
A117: =data!B243 -> 5_AND-4-stm-05 | B117: =data!C243 -> _x429y149.ais | C117: =data!F243 -> 429 | D117: =data!G243 -> 149 | E117: =data!R243 -> 5 | F117: =data!S243 -> 11 | G117: =data!AC243 -> 51874.423 | I117: =data!AZ243 -> 4.8313466 | J117: =data!BA243 -> 4.9349644 | K117: =data!BB243 -> 5.2458176 | L117: =data!BC243 -> 11697.423 | M117: =data!BD243 -> 73.561565 | N117: =data!BE243 -> 2.2880902 | O117: =data!BF243 -> 3.148569 | Q117: =data!#REF! -> #REF! | R117: =data!BI243 -> 62
A119: =data!B245 -> 6_AND-8-stm-01 | B119: =data!C245 -> _x-5163y-187.ais | C119: =data!F245 -> -5163 | D119: =data!G245 -> -187 | E119: =data!R245 -> 23 | F119: =data!S245 -> 11 | G119: =data!AC245 -> 53462.584 | I119: =data!AZ245 -> 5.7687962 | J119: =data!BA245 -> 5.8925194 | K119: =data!BB245 -> 6.263689 | L119: =data!BC245 -> 12177.647 | M119: =data!BD245 -> 39.582241 | N119: =data!BE245 -> 8.2593522 | O119: =data!BF245 -> 3.2808451 | Q119: =data!#REF! -> #REF! | R119: =data!BI245 -> 62
A120: =data!B246 -> 7_AND-8-stm-02 | B120: =data!C246 -> _x-5532y1792.ais | C120: =data!F246 -> -5532 | D120: =data!G246 -> 1792 | E120: =data!R246 -> 10 | F120: =data!S246 -> 7 | G120: =data!AC246 -> 52767.258 | I120: =data!AZ246 -> 5.8597352 | J120: =data!BA246 -> 5.9854088 | K120: =data!BB246 -> 6.3624295 | L120: =data!BC246 -> 12326.25 | M120: =data!BD246 -> 35.110784 | N120: =data!BE246 -> 9.7497811 | O120: =data!BF246 -> 3.2771113 | Q120: =data!#REF! -> #REF! | R120: =data!BI246 -> 62
A121: =data!B247 -> 8_AND-8-stm-03 | B121: =data!C247 -> _x-5102y1969.ais | C121: =data!F247 -> -5102 | D121: =data!G247 -> 1969 | E121: =data!R247 -> 10 | F121: =data!S247 -> 6 | G121: =data!AC247 -> 52031.717 | I121: =data!AZ247 -> 5.9383782 | J121: =data!BA247 -> 6.0657384 | K121: =data!BB247 -> 6.4478191 | L121: =data!BC247 -> 12489.22 | M121: =data!BD247 -> 40.050605 | N121: =data!BE247 -> 8.833062 | O121: =data!BF247 -> 3.2778798 | Q121: =data!#REF! -> #REF! | R121: =data!BI247 -> 62
A122: =data!B248 -> 9_AND-8-stm-04 | B122: =data!C248 -> _x-4458y-1580.ais | C122: =data!F248 -> -4458 | D122: =data!G248 -> -1580 | E122: =data!R248 -> 34 | F122: =data!S248 -> 15 | G122: =data!AC248 -> 53056.894 | I122: =data!AZ248 -> 5.4170049 | J122: =data!BA248 -> 5.5331832 | K122: =data!BB248 -> 5.8817183 | L122: =data!BC248 -> 12067.229 | M122: =data!BD248 -> 39.484853 | N122: =data!BE248 -> 7.1766359 | O122: =data!BF248 -> 3.2741521 | Q122: =data!#REF! -> #REF! | R122: =data!BI248 -> 62
A123: =data!B249 -> 10_AND-8-stm-05 | B123: =data!C249 -> _x-4885y-1592.ais | C123: =data!F249 -> -4885 | D123: =data!G249 -> -1592 | E123: =data!R249 -> 32 | F123: =data!S249 -> 17 | G123: =data!AC249 -> 53048.496 | I123: =data!AZ249 -> 5.458078 | J123: =data!BA249 -> 5.5751373 | K123: =data!BB249 -> 5.926315 | L123: =data!BC249 -> 12117.08 | M123: =data!BD249 -> 37.075013 | N123: =data!BE249 -> 7.0299803 | O123: =data!BF249 -> 3.3020854 | Q123: =data!#REF! -> #REF! | R123: =data!BI249 -> 62
A125: =data!B251 -> 11_AND-2-stm-01 | B125: =data!C251 -> _x5463y2247.ais | C125: =data!F251 -> 5463 | D125: =data!G251 -> 2247 | E125: =data!R251 -> -31 | F125: =data!S251 -> 9 | G125: =data!AC251 -> 50666.852 | I125: =data!AZ251 -> 3.0849787 | J125: =data!BA251 -> 3.1511421 | K125: =data!BB251 -> 3.3496325 | L125: =data!BC251 -> 11698.988 | M125: =data!BD251 -> 38.261573 | N125: =data!BE251 -> 2.8406572 | O125: =data!BF251 -> 3.0846191 | Q125: =data!#REF! -> #REF! | R125: =data!BI251 -> 62
A126: =data!B252 -> 12_AND-2-stm-02 | B126: =data!C252 -> _x5904y3534.ais | C126: =data!F252 -> 5904 | D126: =data!G252 -> 3534 | E126: =data!R252 -> -43 | F126: =data!S252 -> 7 | G126: =data!AC252 -> 49672.637 | I126: =data!AZ252 -> 2.7957351 | J126: =data!BA252 -> 2.8556952 | K126: =data!BB252 -> 3.0355753 | L126: =data!BC252 -> 12898.836 | M126: =data!BD252 -> 32.283413 | N126: =data!BE252 -> 5.0536802 | O126: =data!BF252 -> 3.0749562 | Q126: =data!#REF! -> #REF! | R126: =data!BI252 -> 62
... A142: =data!B268 -> 26_HSR-LB-stm-05 | B142: =data!C268 -> _x-2474y-707.ais | C142: =data!F268 -> -2474 | D142: =data!G268 -> -707 | E142: =data!R268 -> -3 | F142: =data!S268 -> -2 | G142: =data!AC268 -> 70497.388 | I142: =data!AZ268 -> 3.2765302 | J142: =data!BA268 -> 3.3468018 | K142: =data!BB268 -> 3.5576168 | L142: =data!BC268 -> 10676.66 | M142: =data!BD268 -> 11.989826 | N142: =data!BE268 -> 11.922364 | O142: =data!BF268 -> 0.26038693 | Q142: =data!#REF! -> #REF! | R142: =data!BI268 -> 75
A144: =data!B270 -> 27_HSR-LT-stm-01 | B144: =data!C270 -> _x-2866y2114.ais | C144: =data!F270 -> -2866 | D144: =data!G270 -> 2114 | E144: =data!R270 -> 17 | F144: =data!S270 -> -12 | G144: =data!AC270 -> 70927.269 | I144: =data!AZ270 -> 1.9190892 | J144: =data!BA270 -> 1.9602479 | K144: =data!BB270 -> 2.0837238 | L144: =data!BC270 -> 8411.2026 | M144: =data!BD270 -> 7.5456107 | N144: =data!BE270 -> 31.898471 | O144: =data!BF270 -> 0.17310791 | Q144: =data!BH270 -> variable H2O, CO2 | R144: =data!BI270 -> 75
A145: =data!B271 -> 28_HSR-LT-stm-02 | B145: =data!C271 -> _x-3108y1621.ais | C145: =data!F271 -> -3108 | D145: =data!G271 -> 1621 | E145: =data!R271 -> 6 | F145: =data!S271 -> 1 | G145: =data!AC271 -> 83279.735 | I145: =data!AZ271 -> 1.1450487 | J145: =data!BA271 -> 1.1696065 | K145: =data!BB271 -> 1.24328 | L145: =data!BC271 -> 5134.7149 | M145: =data!BD271 -> 5.372302 | N145: =data!BE271 -> 25.286632 | O145: =data!BF271 -> 0.1065439 | Q145: =data!BH271 -> 0 | R145: =data!BI271 -> 75
A146: =data!B272 -> 29_HSR-LT-stm-03 | B146: =data!C272 -> _x-2397y1717.ais | C146: =data!F272 -> -2397 | D146: =data!G272 -> 1717 | E146: =data!R272 -> 24 | F146: =data!S272 -> -2 | G146: =data!AC272 -> 90159.839 | I146: =data!AZ272 -> 0.60743393 | J146: =data!BA272 -> 0.62046154 | K146: =data!BB272 -> 0.6595444 | L146: =data!BC272 -> 2781.6809 | M146: =data!BD272 -> 5.9368697 | N146: =data!BE272 -> 10.206933 | O146: =data!BF272 -> 0.05800722 | Q146: =data!BH272 -> 0 | R146: =data!BI272 -> 75
A147: =data!B273 -> 30_HSR-LT-stm-04 | B147: =data!C273 -> _x-3188y2409.ais | C147: =data!F273 -> -3188 | D147: =data!G273 -> 2409 | E147: =data!R273 -> 9 | F147: =data!S273 -> -20 | G147: =data!AC273 -> 75883.062 | I147: =data!AZ273 -> 1.6005973 | J147: =data!BA273 -> 1.6349253 | K147: =data!BB273 -> 1.7379091 | L147: =data!BC273 -> 7681.0036 | M147: =data!BD273 -> 9.8732441 | N147: =data!BE273 -> 39.161826 | O147: =data!BF273 -> 0.160766 | Q147: =data!BH273 -> 0 | R147: =data!BI273 -> 75
A148: =data!B274 -> 31_HSR-LT-stm-05 | B148: =data!C274 -> _x-2944y2365.ais | C148: =data!F274 -> -2944 | D148: =data!G274 -> 2365 | E148: =data!R274 -> 16 | F148: =data!S274 -> -20 | G148: =data!AC274 -> 75220.349 | I148: =data!AZ274 -> 1.7063754 | J148: =data!BA274 -> 1.7429719 | K148: =data!BB274 -> 1.8527617 | L148: =data!BC274 -> 8101.663 | M148: =data!BD274 -> 9.0574844 | N148: =data!BE274 -> 28.299545 | O148: =data!BF274 -> 0.17613218 | Q148: =data!BH274 -> 0 | R148: =data!BI274 -> 75

Sheet Issy stds
B1: SiO2 | C1: H2O | D1: CO2 | E1: MgO | G1: H2O by KFT, CO2 by FTIR (Shiskina et al 2010)
A2: N72 | B2: 50.17 | C2: 0 | D2: 0 | E2: 7 | G2: except 519-4-1 (Hauri et al 2002 Chem Geol 183; sample from Stolper)
A3: M5 | B3: 49.79865 | C3: 0.64 | D3: 990 | E3: 6.9481871
A4: M40 | B4: 48.517616 | C4: 3.07 | D4: 2183 | E4: 6.7694501
A5: M36 | B5: 48.68299 | C5: 2.82 | D5: 1392 | E5: 6.792524
A6: M10 | B6: 49.775987 | C6: 0.75 | D6: 341 | E6: 6.945025
A7: 519-4-1 | B7: 48.9 | C7: 0.17 | D7: 165 | E7: 9.41
A8: M47 | B8: 49.749153 | C8: 0.82 | D8: 175 | E8: 6.941281
A9: M21 | B9: 46.318257 | C9: 7.56 | D9: 1051 | E9: 6.4625831
B12: N72 | C12: M47 | D12: M10 | E12: M5 | F12: M21 | G12: M36 | H12: M40 | I12: 519-4-1
A13: SiO2 | B13: 50.17 | C13: =$B13/$B$24*($B$24-C$22-C$23) -> 49.749153 | D13: =$B13/$B$24*($B$24-D$22-D$23) -> 49.775987 | E13: =$B13/$B$24*($B$24-E$22-E$23) -> 49.79865 | F13: =$B13/$B$24*($B$24-F$22-F$23) -> 46.318257 | G13: =$B13/$B$24*($B$24-G$22-G$23) -> 48.68299 | H13: =$B13/$B$24*($B$24-H$22-H$23) -> 48.517616 | I13: 48.9
A14: TiO2 | B14: 0.92 | C14: =$B14/$B$24*($B$24-C$22-C$23) -> 0.91228265 | D14: =$B14/$B$24*($B$24-D$22-D$23) -> 0.91277472 | E14: =$B14/$B$24*($B$24-E$22-E$23) -> 0.9131903 | F14: =$B14/$B$24*($B$24-F$22-F$23) -> 0.84936807 | G14: =$B14/$B$24*($B$24-G$22-G$23) -> 0.89273173 | H14: =$B14/$B$24*($B$24-H$22-H$23) -> 0.88969916 | I14: 0.77
A15: Al2O3 | B15: 18.28 | C15: =$B15/$B$24*($B$24-C$22-C$23) -> 18.12666 | D15: =$B15/$B$24*($B$24-D$22-D$23) -> 18.136437 | E15: =$B15/$B$24*($B$24-E$22-E$23) -> 18.144694 | F15: =$B15/$B$24*($B$24-F$22-F$23) -> 16.876574 | G15: =$B15/$B$24*($B$24-G$22-G$23) -> 17.738191 | H15: =$B15/$B$24*($B$24-H$22-H$23) -> 17.677935 | I15: 16.53
A16: FeO* | B16: 9.37 | C16: =$B16/$B$24*($B$24-C$22-C$23) -> 9.2914005 | D16: =$B16/$B$24*($B$24-D$22-D$23) -> 9.2964121 | E16: =$B16/$B$24*($B$24-E$22-E$23) -> 9.3006447 | F16: =$B16/$B$24*($B$24-F$22-F$23) -> 8.6506291 | G16: =$B16/$B$24*($B$24-G$22-G$23) -> 9.0922786 | H16: =$B16/$B$24*($B$24-H$22-H$23) -> 9.0613925 | I16: 9.03
A17: MnO | B17: 0.17 | C17: =$B17/$B$24*($B$24-C$22-C$23) -> 0.16857397 | D17: =$B17/$B$24*($B$24-D$22-D$23) -> 0.16866489 | E17: =$B17/$B$24*($B$24-E$22-E$23) -> 0.16874169 | F17: =$B17/$B$24*($B$24-F$22-F$23) -> 0.15694845 | G17: =$B17/$B$24*($B$24-G$22-G$23) -> 0.1649613 | H17: =$B17/$B$24*($B$24-H$22-H$23) -> 0.16440093 | I17: 0.16
A18: MgO | B18: 7 | C18: =$B18/$B$24*($B$24-C$22-C$23) -> 6.941281 | D18: =$B18/$B$24*($B$24-D$22-D$23) -> 6.945025 | E18: =$B18/$B$24*($B$24-E$22-E$23) -> 6.9481871 | F18: =$B18/$B$24*($B$24-F$22-F$23) -> 6.4625831 | G18: =$B18/$B$24*($B$24-G$22-G$23) -> 6.792524 | H18: =$B18/$B$24*($B$24-H$22-H$23) -> 6.7694501 | I18: 9.41
A19: CaO | B19: 11.37 | C19: =$B19/$B$24*($B$24-C$22-C$23) -> 11.274624 | D19: =$B19/$B$24*($B$24-D$22-D$23) -> 11.280705 | E19: =$B19/$B$24*($B$24-E$22-E$23) -> 11.285841 | F19: =$B19/$B$24*($B$24-F$22-F$23) -> 10.497081 | G19: =$B19/$B$24*($B$24-G$22-G$23) -> 11.033 | H19: =$B19/$B$24*($B$24-H$22-H$23) -> 10.995521 | I19: 12.58
A20: Na2O | B20: 2.33 | C20: =$B20/$B$24*($B$24-C$22-C$23) -> 2.310455 | D20: =$B20/$B$24*($B$24-D$22-D$23) -> 2.3117012 | E20: =$B20/$B$24*($B$24-E$22-E$23) -> 2.3127537 | F20: =$B20/$B$24*($B$24-F$22-F$23) -> 2.151117 | G20: =$B20/$B$24*($B$24-G$22-G$23) -> 2.2609401 | H20: =$B20/$B$24*($B$24-H$22-H$23) -> 2.2532598 | I20: 2.07
A21: K2O | B21: 0.23 | C21: =$B21/$B$24*($B$24-C$22-C$23) -> 0.22807066 | D21: =$B21/$B$24*($B$24-D$22-D$23) -> 0.22819368 | E21: =$B21/$B$24*($B$24-E$22-E$23) -> 0.22829758 | F21: =$B21/$B$24*($B$24-F$22-F$23) -> 0.21234202 | G21: =$B21/$B$24*($B$24-G$22-G$23) -> 0.22318293 | H21: =$B21/$B$24*($B$24-H$22-H$23) -> 0.22242479 | I21: 0.1
A22: H2O | B22: 0 | C22: 0.82 | D22: 0.75 | E22: 0.64 | F22: 7.56 | G22: 2.82 | H22: 3.07 | I22: 0.17
A23: CO2 | B23: 0 | C23: 0.0175 | D23: 0.0341 | E23: 0.099 | F23: 0.1051 | G23: 0.1392 | H23: 0.2183 | I23: 0.0165
A24: total | B24: =SUM(B13:B23) -> 99.84 | C24: =SUM(C13:C23) -> 99.84 | D24: =SUM(D13:D23) -> 99.84 | E24: =SUM(E13:E23) -> 99.84 | F24: =SUM(F13:F23) -> 99.84 | G24: =SUM(G13:G23) -> 99.84 | H24: =SUM(H13:H23) -> 99.84 | I24: =SUM(I13:I23) -> 99.7365

Sheet ND70
A1: Sample # | B1: IGSN: | C1: NMNH catalogue number | D1: SiO2 | E1: TiO2 | F1: Al2O3 | G1: FeOtot | H1: MnO | I1: MgO | J1: CaO | K1: Na2O | L1: K2O | M1: P2O5 | N1: sum | O1: H2O | P1: ± | Q1: CO2 (ppm) | R1: ± | S1: S (ppm) | T1: ± | U1: Cl (ppm) | V1: ± | W1: F (ppm) | X1: ±
A2: ND 70_ Degassed | B2: 10.58052/IEYM10001 | C2: 118554-1 | D2: 50.09 | E2: 0.8 | F2: 16.25 | G2: 8.34 | H2: 0.14 | I2: 8.78 | J2: 13.11 | K2: 2.23 | L2: 0.16 | M2: 0.09 | N2: 100 | O2: blank | Q2: blank | S2: 24 | T2: 13 | U2: 11 | V2: 8 | W2: 15 | X2: 2
A3: ND-70 (Natural) | C3: 118554-8 | D3: 50.56 | E3: 0.82 | F3: 16.32 | G3: 8.27 | H3: 0.15 | I3: 8.38 | J3: 13.12 | K3: 2.13 | L3: 0.16 | M3: 0.09 | N3: 100 | O3: 1 | P3: 0.17 | Q3: 145 | R3: 53 | S3: 790 | T3: 138 | U3: 182 | V3: 18 | W3: 96 | X3: 9
A4: ND70-2-01 | B4: 10.58052/IEYM10002 | C4: 118554-2 | D4: 49.86 | E4: 0.79 | F4: 16.25 | G4: 8.34 | H4: 0.16 | I4: 8.87 | J4: 13.2 | K4: 2.26 | L4: 0.17 | M4: 0.08 | N4: 100 | O4: 2.41 | P4: 0.21 | Q4: 1560 | R4: 392 | S4: 594 | T4: 97 | U4: 661 | V4: 185 | W4: 615 | X4: 93
A5: ND70-3-01 | B5: 10.58052/IEYM10003 | C5: 118554-3 | D5: 49.64 | E5: 0.81 | F5: 16 | G5: 8.46 | H5: 0.15 | I5: 9.06 | J5: 13.42 | K5: 2.2 | L5: 0.17 | M5: 0.08 | N5: 100 | O5: 3.09 | P5: 0.32 | Q5: 2637 | R5: 388 | S5: 804 | T5: 160 | U5: 984 | V5: 200 | W5: 803 | X5: 158
A6: ND70-4-01 | B6: 10.58052/IEYM10004 | C6: 118554-4 | D6: 50.43 | E6: 0.8 | F6: 16.1 | G6: 8.09 | H6: 0.17 | I6: 8.76 | J6: 13.09 | K6: 2.33 | L6: 0.17 | M6: 0.07 | N6: 100 | O6: 4.15 | P6: 0.3 | Q6: 4161 | R6: 94 | S6: 1989 | T6: 367 | U6: 2368 | V6: 231 | W6: 2020 | X6: 294
A7: ND70-4-02 | B7: 10.58052/IEYM10005 | C7: 118554-5 | D7: 48.88 | E7: 0.8 | F7: 16.05 | G7: 8.39 | H7: 0.16 | I7: 9.09 | J7: 13.92 | K7: 2.43 | L7: 0.18 | M7: 0.1 | N7: 100 | O7: 3.56 | P7: 0.36 | Q7: 4214 | R7: 130 | S7: 1689 | T7: 435 | U7: 2060 | V7: 232 | W7: 1887 | X7: 314
A8: ND70-5-02 | B8: 10.58052/IEYM10006 | C8: 118554-6 | D8: 50.94 | E8: 0.72 | F8: 14.59 | G8: 7.55 | H8: 0.13 | I8: 8.72 | J8: 14.52 | K8: 2.58 | L8: 0.16 | M8: 0.08 | N8: 100 | O8: 4.99 | P8: 0.34 | Q8: 12237 | R8: 412 | S8: 5528 | T8: 1023 | U8: 6984 | V8: 180 | W8: 5616 | X8: 110
A9: ND70-6-02 | B9: 10.58052/IEYM10007 | C9: 118554-7 | D9: 50.39 | E9: 0.73 | F9: 14.45 | G9: 7.09 | H9: 0.13 | I9: 9.41 | J9: 15.06 | K9: 2.43 | L9: 0.21 | M9: 0.09 | N9: 100 | O9: 6.42 | P9: 0.51 | Q9: 15847 | R9: 957 | S9: 9756 | T9: 2047 | U9: 12293 | V9: 396 | W9: 9951 | X9: 319

Sheet Sisson
A1: Mangan and Sisson (2000) EPSL 183, 441-455 | F1: Mangan and Sisson (2000) EPSL 183, 441-455
M2: =LINEST(M9:M12,I9:I12,0,0) -> 1.1967631 | O2: =LINEST(O7:O12,K7:K12,0,0) -> 1.0735391
A3: Table 1 | B3: Obsidian composition | F3: Table 2 | G3: Solubility experiments
B4: Glass | C4: Bulk | F4: Run | G4: Run | H4: Fluid | I4: H2O | J4: 1s | K4: CO2 | L4: 1s | M4: H2O new | N4: 1s | O4: CO2 new | P4: 1s | Q4: SiO2 (TWS pers comm)
B5: (wt%) | C5: (wt%) | G5: pressure | H5: type | I5: dissolved in glass at end of run | J5: dissolved in glass at end of run
A6: SiO2 | B6: 75.64 | C6: 76.1 | G6: (MPa) | I6: (wt%) | J6: (ppm)
A7: Al2O3 | B7: 12.38 | C7: 12.66 | F7: #51 | G7: 200 | H7: H2O^CO2 | I7: 4.01 | J7: 0.16 | K7: 511 | L7: 23 | M7: =I7*$M$2 -> 4.7990199 | O7: 557.60319 | P7: 26.594747 | Q7: 73.48
A8: MgO | B8: 0.03 | C8: 0.03 | F8: #48 | G8: 200 | H8: H2O^CO2 | I8: 4.1 | J8: 0.1 | K8: 539 | L8: 22 | M8: =I8*$M$2 -> 4.9067286 | O8: 562.03565 | P8: 42.551595 | Q8: 73.41
A9: FeO | B9: 0.94 | C9: 1.03 | F9: #59 | G9: 100 | H9: H2O^CO2 | I9: 2.86 | J9: 0.15 | K9: 160 | L9: 6 | M9: 3.45 | N9: 0.19 | O9: 163.11445 | P9: 14.183865 | Q9: 74.36
A10: TiO2 | B10: 0.08 | C10: 0.07 | F10: #61 | G10: 75 | H10: H2O^CO2 | I10: 2.19 | J10: 0.05 | K10: 67 | L10: 4 | M10: 2.48 | N10: 0.19 | O10: 150 | P10: 25 | Q10: 74.87
A11: CaO | B11: 0.54 | C11: 0.59 | F11: #54 | G11: 50 | H11: H2O^CO2 | I11: 1.85 | J11: 0.01 | K11: 52 | L11: 3 | M11: 2.26 | N11: 0.11 | O11: 63.827392 | P11: 6.2054409 | Q11: 75.15
A12: K2O | B12: 4.72 | C12: 4.68 | F12: #56 | G12: 25 | H12: H2O^CO2 | I12: 1.32 | J12: 0.12 | K12: 29 | L12: 1 | M12: 1.69 | N12: 0.18 | O12: 33.686679 | P12: 5.3189493 | Q12: 74.54
A13: Na2O | B13: 4.17 | C13: 4.07 | F13: #31 | G13: 200 | H13: H2O | I13: 5.13 | J13: 0.09 | K13: 49 | L13: 4
A14: P2O5 | B14: 0.01 | C14: 0.03 | F14: #32 | G14: 200 | H14: H2O | I14: 4.83 | J14: 0.12 | K14: 18 | L14: 1
A15: MnO | B15: 0.07 | C15: 0.05 | F15: #34 | G15: 200 | H15: H2O | I15: 5.09 | J15: 0.18 | K15: 62 | L15: 2
A16: Cl | B16: 0.06 | C16: 0.07 | F16: #38 | G16: 200 | H16: H2O | I16: 4.78 | J16: 0.11 | K16: 23 | L16: 1
A17: H2O+ | B17: NA | C17: 0.27 | F17: #47 | G17: 150 | H17: H2O | I17: 4.67 | J17: 0.1 | K17: 5 | L17: 1
A18: H2O- | B18: 0.17 | C18: NA | F18: #42 | G18: 100 | H18: H2O | I18: 3.06 | J18: 0.05 | K18: ND
A19: CO2 | B19: ND | C19: NA | F19: #52 | G19: 75 | H19: H2O | I19: 2.96 | J19: 0.08 | K19: 41 | L19: 6
A20: Total | B20: 98.81 | C20: 99.65 | F20: #46 | G20: 50 | H20: H2O | I20: 1.85 | J20: 0.04 | K20: 30 | L20: 6
A21: Glass by electron microprobe and FTIR; bulk by XRF | F21: #49 | G21: 25 | H21: H2O | I21: 1.53 | J21: 0.01 | K21: 7 | L21: 1
A22: NA=not analyzed, ND=not detected. | F22: ND=not | G22: detected; | H22: uncertainties | I22: pertain | J22: to | K22: the | L22: larger | M22: of | N22: two | O22: values, | P22: either | Q22: the | R22: expected | S22: analytical | T22: error | U22: or | V22: the | W22: observed | X22: compositional
F23: variation.
F24: New data: Concentrations measured by FTIR on glass wafers supported on KBr window. H2O NIR and H2O IR are total dissolved H2O measured by near-IR (5200 cm-1 & 4500 cm-1) or IR (3550 cm-1) bands. Uncertainties are propagated from replicate IR and thickness measurements and are reported as 1 standard deviation (not standard deviation of the mean). * indicates wafer is too thick to use 3550 cm-1 band. ** indicates wafer is too thin to use 5200 cm-1 and 4500 cm-1 bands. Absorbances converted to concentrations using extinction coefficients of 80 L/mol cm (3550 cm-1), 1.86 L/mol cm (5200 cm-1), 1.50 L/mol cm (4500 cm-1), and 1066 L/mol cm (2350 cm-1 CO2) from Ihinger, Hervig, & McMillian (1994), and Blank (1993 PhD - reported in Tamic, Behrens, & Holtz 2001), and glass density of 2.32 g/cm3. Old H2O, CO2 are values reported in Mangan & Sisson EPSL.
A28: wt% | B28: rb497 | C28: rb480
A29: SiO2 | B29: 80.414456 | C29: 73.597021
A30: Al2O3 | B30: 11.372417 | C30: 15.612417
A31: Na2O | B31: 6.9131269 | C31: 9.4905613
A32: H2O | B32: 0.3 | C32: 0.3
A33: CO2 | B33: 1 | C33: 1
A34: total | B34: 100 | C34: 100
A37: Name | B37: Run84
A38: Composition | B38: andesite
A40: SiO2 | B40: 58.12
A41: TiO2 | B41: 1
A42: Al2O3 | B42: 16.81
A43: FeO | B43: 4.46
A44: MnO | B44: 0.15
A45: MgO | B45: 3.44
A46: CaO | B46: 6.89
A47: Na2O | B47: 3.81
A48: K2O | B48: 1.2
A49: P2O5 | B49: 0.31
A50: H2O (manometry) | B50: 3.82
B51: 100.01
A53: H2O* | B53: 1.71
A54: OH* | B54: 2.1
A55: H2O tot | B55: 3.81

Sheet ND70 test
A1: sample | C1: file | D1: date | E1: time | F1: mount | G1: X pos | H1: Y pos | I1: Field Ap | J1: Entr Slit | K1: Mass Res | L1: eV slit | M1: raster | N1: Contrast Ap | O1: Max Area | P1: L4_ap | Q1: beam_start | R1: beam_end | S1: presputter (s) | T1: ion source | U1: Xdefl | V1: Ydefl | W1: mass drift | X1: 1H/30Si | Y1: 11B/30Si | Z1: 12C/30Si | AA1: 14N/30Si | AB1: 19F/30Si | AC1: 26Mg/30Si | AD1: 35Cl/30Si | AE1: 24Mg++/26Mg | AF1: 28Si++/30Si | AG1: 1H cps | AH1: 12C cps | AI1: 14N cps | AJ1: 30Si cps | AK1: 1s 1H/30Si | AL1: 1s 11B/30Si | AM1: 1s 12C/30Si | AN1: 1s 14N/30Si | AO1: 1s 19F/30Si | AP1: 1s 26Mg/30Si | AQ1: 35Cl/30Si | AR1: 1s 24Mg++/26Mg | AS1: 1s 28Si++/30Si | AT1: total cycles | AU1: 1H bfield | AV1: 30Si bfield | AX1: H kbg | AY1: C bkg | AZ1: H/Si | BA1: C/Si x SiO2 | BC1: H2O wt% | BD1: CO2 ppm | BE1: MgO wt% | BF1: B ppm | BG1: N ppm | BH1: F ppm | BI1: Cl ppm | BK1: SiO2 | BL1: H2O wt% | BN1: CO2 ppm | BP1: MgO | BQ1: F | BR1: Cl | BS1: B | BT1: N
BC2: 10 | BD2: 22000
A3: 1_RB480_210125 | C3: _x557y-1654.ais | D3: 45678 | E3: 0.64930556 | F3: rhy_H2O-CO2 | G3: 557 | H3: -1654 | I3: 400 | J3: 36 | K3: 2001 | L3: 40 | M3: 20 | N3: 150 | O3: 80 | P3: 400 | Q3: 4.91 | R3: 4.9 | S3: 180 | T3: O2- | U3: 0 | V3: 3 | W3: -8 | X3: 0.027121477 | Y3: 0.00031335477 | Z3: 0.0061703898 | AA3: 0 | AB3: 1.7635516e-06 | AC3: 0.00078593265 | AD3: 0 | AE3: 0.044516715 | AF3: 0.020484101 | AG3: 1235.2105 | AH3: 280.96073 | AI3: 0 | AJ3: 45575.777 | AK3: 0.013560642 | AL3: 0.045058454 | AM3: 0.020834685 | AN3: nan | AO3: 0.40839436 | AP3: 0.061764509 | AQ3: nan | AR3: 0.14785993 | AS3: 0.017182718 | AT3: 10 | AU3: 192218 | AV3: 975920 | AX3: 39 | AY3: 0.1 | AZ3: =(AG3-AX3)/AJ3 -> 0.026246629 | BA3: =(AH3-AY3)/AJ3*BK3 -> 0.45356 | BC3: =AZ3*$BC$2 -> 0.26246629 | BD3: =BA3*$BD$2 -> 9978.3201 | BE3: =AC3/AC$8/$BK$8*$BK3*BP$8 -> 0.005027371 | BF3: =Y3/Y$8/$BK$8*$BK3*BS$8 -> 3.4087458 | BG3: =AA3/AA$8/$BK$8*$BK3*BT$8 -> 0 | BH3: =AB3/AB$8/$BK$8*$BK3*BQ$8 -> 1.2320511 | BI3: =AD3/AD$8/$BK$8*$BK3*BR$8 -> 0 | BK3: 73.6 | BL3: 0.3 | BN3: 10380
A4: 2_sisson_51 | C4: _x-1052y4248.ais | D4: 45678 | E4: 0.65694444 | F4: rhy_H2O-CO2 | G4: -1052 | H4: 4248 | I4: 400 | J4: 36 | K4: 2001 | L4: 40 | M4: 20 | N4: 150 | O4: 80 | P4: 400 | Q4: 4.9 | R4: 4.9 | S4: 180 | T4: O2- | U4: -15 | V4: -7 | W4: -10 | X4: 0.45399297 | Y4: 0.0032115237 | Z4: 0.0002796316 | AA4: 1.006377e-06 | AB4: 0.00035879609 | AC4: 0.003404923 | AD4: 1.6132796e-05 | AE4: 0.019711832 | AF4: 0.021714501 | AG4: 20929.968 | AH4: 12.880829 | AI4: 0.044802867 | AJ4: 46178.18 | AK4: 0.012187386 | AL4: 0.018170888 | AM4: 0.04763148 | AN4: 0.66192543 | AO4: 0.039052881 | AP4: 0.016610671 | AQ4: 0.14777659 | AR4: 0.1173389 | AS4: 0.027913864 | AT4: 10 | AU4: 192218 | AV4: 975920 | AX4: 39 | AY4: 0.1 | AZ4: =(AG4-AX4)/AJ4 -> 0.45239912 | BA4: =(AH4-AY4)/AJ4*BK4 -> 0.020337209 | BC4: =AZ4*$BC$2 -> 4.5239912 | BD4: =BA4*$BD$2 -> 447.41859 | BE4: =AC4/AC$8/$BK$8*$BK4*BP$8 -> 0.02174474 | BF4: =Y4/Y$8/$BK$8*$BK4*BS$8 -> 34.878739 | BG4: =AA4/AA$8/$BK$8*$BK4*BT$8 -> 2.0894275 | BH4: =AB4/AB$8/$BK$8*$BK4*BQ$8 -> 250.25316 | BI4: =AD4/AD$8/$BK$8*$BK4*BR$8 -> 47.314025 | BK4: 73.48 | BL4: 4.7990199 | BN4: 557.60319
A5: 3_STHS | C5: _x4192y-831.ais | D5: 45678 | E5: 0.66458333 | F5: rhy_H2O-CO2 | G5: 4192 | H5: -831 | I5: 400 | J5: 36 | K5: 2001 | L5: 40 | M5: 20 | N5: 150 | O5: 80 | P5: 400 | Q5: 4.9 | R5: 4.9 | S5: 180 | T5: O2- | U5: -4 | V5: -3 | W5: -8 | X5: 0.0017699212 | Y5: 0.0012451689 | Z5: 3.1921366e-06 | AA5: 6.8735239e-07 | AB5: 0.00017020422 | AC5: 0.33938123 | AD5: 1.3497891e-05 | AE5: 0.016448344 | AF5: 0.018683939 | AG5: 61.411505 | AH5: 0.11200717 | AI5: 0.022401433 | AJ5: 34732.841 | AK5: 0.029987028 | AL5: 0.028453558 | AM5: 0.42557729 | AN5: 1 | AO5: 0.035778527 | AP5: 0.0065976964 | AQ5: 0.16160225 | AR5: 0.011084081 | AS5: 0.026485568 | AT5: 10 | AU5: 192218 | AV5: 975920 | AX5: 39 | AY5: 0.1 | AZ5: =(AG5-AX5)/AJ5 -> 0.00064525401 | BA5: =(AH5-AY5)/AJ5*BK5 -> 2.2021134e-05 | BC5: =AZ5*$BC$2 -> 0.0064525401 | BD5: =BA5*$BD$2 -> 0.48446496 | BE5: =AC5/AC$8/$BK$8*$BK5*BP$8 -> 1.8789059 | BF5: =Y5/Y$8/$BK$8*$BK5*BS$8 -> 11.723255 | BG5: =AA5/AA$8/$BK$8*$BK5*BT$8 -> 1.2371328 | BH5: =AB5/AB$8/$BK$8*$BK5*BQ$8 -> 102.91353 | BI5: =AD5/AD$8/$BK$8*$BK5*BR$8 -> 34.317562 | BK5: 63.7 | BL5: 0 | BN5: 0 | BP5: 1.97 | BS5: 11.8
A6: 4_Lipari | C6: _x-5722y-1771.ais | D6: 45678 | E6: 0.67222222 | F6: rhy_H2O-CO2 | G6: -5722 | H6: -1771 | I6: 400 | J6: 36 | K6: 2001 | L6: 40 | M6: 20 | N6: 150 | O6: 80 | P6: 400 | Q6: 4.9 | R6: 4.9 | S6: 180 | T6: O2- | U6: -21 | V6: -5 | W6: -10 | X6: 0.082537441 | Y6: 0.018313237 | Z6: 5.3171068e-06 | AA6: 0 | AB6: 0.00061485582 | AC6: 0.0064888784 | AD6: 2.3822094e-05 | AE6: 0.030307922 | AF6: 0.021578044 | AG6: 3857.0881 | AH6: 0.24641577 | AI6: 0 | AJ6: 46758.112 | AK6: 0.010928658 | AL6: 0.0056427048 | AM6: 0.30244481 | AN6: nan | AO6: 0.031784514 | AP6: 0.023460841 | AQ6: 0.18820677 | AR6: 0.051184323 | AS6: 0.016105012 | AT6: 10 | AU6: 192218 | AV6: 975920 | AX6: 39 | AY6: 0.1 | AZ6: =(AG6-AX6)/AJ6 -> 0.081656165 | BA6: =(AH6-AY6)/AJ6*BK6 -> 0.00023171951 | BC6: =AZ6*$BC$2 -> 0.81656165 | BD6: =BA6*$BD$2 -> 5.0978293 | BE6: =AC6/AC$8/$BK$8*$BK6*BP$8 -> 0.041732955 | BF6: =Y6/Y$8/$BK$8*$BK6*BS$8 -> 200.29833 | BG6: =AA6/AA$8/$BK$8*$BK6*BT$8 -> 0 | BH6: =AB6/AB$8/$BK$8*$BK6*BQ$8 -> 431.8846 | BI6: =AD6/AD$8/$BK$8*$BK6*BR$8 -> 70.359501 | BK6: 74 | BP6: 0.2 | BQ6: 800 | BR6: 3600 | BS6: 200 | BT6: 1
A7: 5_nbs28-qz | C7: _x-447y6600.ais | D7: 45678 | E7: 0.67986111 | F7: rhy_H2O-CO2 | G7: -447 | H7: 6600 | I7: 400 | J7: 36 | K7: 2001 | L7: 40 | M7: 20 | N7: 150 | O7: 80 | P7: 400 | Q7: 4.9 | R7: 4.9 | S7: 180 | T7: O2- | U7: -16 | V7: -8 | W7: -10 | X7: 0.00060264989 | Y7: 1.5831133e-06 | Z7: 2.7710099e-06 | AA7: 0 | AB7: 0 | AC7: 0 | AD7: 0 | AE7: nan | AF7: 0.025346886 | AG7: 38.964006 | AH7: 0.17921147 | AI7: 0 | AJ7: 64736.181 | AK7: 0.14297674 | AL7: 0.71092262 | AM7: 0.39790195 | AN7: nan | AO7: nan | AP7: nan | AQ7: nan | AR7: nan | AS7: 0.0087170572 | AT7: 10 | AU7: 192218 | AV7: 975920 | AX7: 39 | AY7: 0.1 | AZ7: =(AG7-AX7)/AJ7 -> -5.5601218e-07 | BA7: =(AH7-AY7)/AJ7*BK7 -> 0.00012236043 | BC7: =AZ7*$BC$2 -> -5.5601218e-06 | BD7: =BA7*$BD$2 -> 2.6919294 | BE7: =AC7/AC$8/$BK$8*$BK7*BP$8 -> 0 | BF7: =Y7/Y$8/$BK$8*$BK7*BS$8 -> 0.023398741 | BG7: =AA7/AA$8/$BK$8*$BK7*BT$8 -> 0 | BH7: =AB7/AB$8/$BK$8*$BK7*BQ$8 -> 0 | BI7: =AD7/AD$8/$BK$8*$BK7*BR$8 -> 0 | BK7: 100 | BL7: 0 | BN7: 0 | BP7: 0 | BS7: 0
A8: 6_Lipari | C8: _x-5734y-1714.ais | D8: 45678 | E8: 0.70069444 | F8: rhy_H2O-CO2 | G8: -5734 | H8: -1714 | I8: 400 | J8: 36 | K8: 2001 | L8: 40 | M8: 20 | N8: 150 | O8: 80 | P8: 400 | Q8: 4.92 | R8: 4.91 | S8: 180 | T8: O2- | U8: 26 | V8: 13 | W8: 2 | X8: 0.078953733 | Y8: 0.018285961 | Z8: 2.913805e-06 | AA8: 4.7826747e-07 | AB8: 0.00062640937 | AC8: 0.0062194286 | AD8: 0.00020314608 | AE8: 0.030641928 | AF8: 0.021341135 | AG8: 3677.5125 | AH8: 0.1344086 | AI8: 0.022401433 | AJ8: 46601.618 | AK8: 0.0091535214 | AL8: 0.0088818543 | AM8: 0.3567856 | AN8: 1 | AO8: 0.054679468 | AP8: 0.014200297 | AQ8: 0.098902633 | AR8: 0.094624668 | AS8: 0.016384809 | AT8: 10 | AU8: 192217 | AV8: 975920 | AX8: 39 | AY8: 0.1 | AZ8: =(AG8-AX8)/AJ8 -> 0.078076956 | BA8: =(AH8-AY8)/AJ8*BK8 -> 5.463837e-05 | BC8: =AZ8*$BC$2 -> 0.78076956 | BD8: =BA8*$BD$2 -> 1.2020441 | BE8: =AC8/AC$8/$BK$8*$BK8*BP$8 -> 0.04 | BF8: =Y8/Y$8/$BK$8*$BK8*BS$8 -> 200 | BG8: =AA8/AA$8/$BK$8*$BK8*BT$8 -> 1 | BH8: =AB8/AB$8/$BK$8*$BK8*BQ$8 -> 440 | BI8: =AD8/AD$8/$BK$8*$BK8*BR$8 -> 600 | BJ8: fixed Cl peak | BK8: 74 | BP8: 0.04 | BQ8: 440 | BR8: 600 | BS8: 200 | BT8: 1
BC9: 8.5 | BD9: 23000
A10: 73_M40_210125 | C10: _x3181y-4582.ais | D10: 45678 | E10: 0.80347222 | F10: F-Cl-S | G10: 3181 | H10: -4582 | I10: 400 | J10: 36 | K10: 2001 | L10: 40 | M10: 20 | N10: 150 | O10: 80 | P10: 400 | Q10: 4.88 | R10: 4.86 | S10: 180 | T10: O2- | U10: 1 | V10: -3 | W10: 0 | X10: 0.46694055 | Y10: 0.0010685149 | Z10: 0.0024473611 | AA10: 0 | AB10: 0.00010174348 | AC10: 1.5838058 | AD10: 1.0186139e-05 | AE10: 0.015912633 | AF10: 0.018278982 | AG10: 8335.7697 | AH10: 43.682843 | AI10: 0 | AJ10: 17854.082 | AK10: 0.0032738675 | AL10: 0.037025838 | AM10: 0.022162773 | AN10: nan | AO10: 0.10397381 | AP10: 0.004131457 | AQ10: 0.30714713 | AR10: 0.017885999 | AS10: 0.014774281 | AT10: 10 | AU10: 192217 | AV10: 975920 | AX10: 81 | AY10: 0.1 | AZ10: =(AG10-AX10)/AJ10 -> 0.46234636 | BA10: =(AH10-AY10)/AJ10*BK10 -> 0.1184343 | BC10: =AZ10*$BC$9 -> 3.929944 | BD10: =BA10*$BD$9 -> 2723.9888 | BE10: =AC10/AC$8/$BK$8*$BK10*BP$8 -> 6.6785037 | BF10: =Y10/Y$8/$BK$8*$BK10*BS$8 -> 7.6623246 | BG10: =AA10/AA$8/$BK$8*$BK10*BT$8 -> 0 | BH10: =AB10/AB$8/$BK$8*$BK10*BQ$8 -> 46.856384 | BI10: =AD10/AD$8/$BK$8*$BK10*BR$8 -> 19.725142 | BK10: 48.517616 | BL10: 3.07 | BN10: 2183 | BP10: 6.7694501
A11: 74_M5 | C11: _x-942y-4642.ais | D11: 45678 | E11: 0.81111111 | F11: F-Cl-S | G11: -942 | H11: -4642 | I11: 400 | J11: 36 | K11: 2001 | L11: 40 | M11: 20 | N11: 150 | O11: 80 | P11: 400 | Q11: 4.87 | R11: 4.85 | S11: 180 | T11: O2- | U11: 22 | V11: 2 | W11: 3 | X11: 0.12435803 | Y11: 0.0011260359 | Z11: 0.0013017147 | AA11: 0 | AB11: 9.3957688e-05 | AC11: 1.5984769 | AD11: 1.4248602e-05 | AE11: 0.014977097 | AF11: 0.01533402 | AG11: 2291.9473 | AH11: 23.99195 | AI11: 0 | AJ11: 18434.349 | AK11: 0.0080469135 | AL11: 0.041721997 | AM11: 0.032387767 | AN11: nan | AO11: 0.11913249 | AP11: 0.0047652502 | AQ11: 0.3260453 | AR11: 0.012528697 | AS11: 0.013638905 | AT11: 10 | AU11: 192217 | AV11: 975920 | AX11: 81 | AY11: 0.1 | AZ11: =(AG11-AX11)/AJ11 -> 0.11993628 | BA11: =(AH11-AY11)/AJ11*BK11 -> 0.064541841 | BC11: =AZ11*$BC$9 -> 1.0194584 | BD11: =BA11*$BD$9 -> 1484.4624 | BE11: =AC11/AC$8/$BK$8*$BK11*BP$8 -> 6.9183369 | BF11: =Y11/Y$8/$BK$8*$BK11*BS$8 -> 8.2880106 | BG11: =AA11/AA$8/$BK$8*$BK11*BT$8 -> 0 | BH11: =AB11/AB$8/$BK$8*$BK11*BQ$8 -> 44.413255 | BI11: =AD11/AD$8/$BK$8*$BK11*BR$8 -> 28.320501 | BK11: 49.79865 | BL11: 0.64 | BN11: 990 | BP11: 6.9481871
A12: 75_N72 | C12: _x-4922y-4281.ais | D12: 45678 | E12: 0.81805556 | F12: F-Cl-S | G12: -4922 | H12: -4281 | I12: 400 | J12: 36 | K12: 2001 | L12: 40 | M12: 20 | N12: 150 | O12: 80 | P12: 400 | Q12: 4.85 | R12: 4.86 | S12: 180 | T12: O2- | U12: 56 | V12: 15 | W12: 2 | X12: 0.0039205064 | Y12: 0.0011171592 | Z12: 4.446207e-06 | AA12: 0 | AB12: 0.00011381688 | AC12: 1.649928 | AD12: 1.4674017e-05 | AE12: 0.01407673 | AF12: 0.01524476 | AG12: 81.231395 | AH12: 0.089605734 | AI12: 0 | AJ12: 20742.152 | AK12: 0.024923362 | AL12: 0.037766062 | AM12: 0.54731271 | AN12: nan | AO12: 0.074465472 | AP12: 0.0045469262 | AQ12: 0.27018533 | AR12: 0.0093329843 | AS12: 0.025862903 | AT12: 10 | AU12: 192217 | AV12: 975920 | AX12: 81 | AY12: 0.1 | AZ12: =(AG12-AX12)/AJ12 -> 1.1155802e-05 | BA12: =(AH12-AY12)/AJ12*BK12 -> -2.5141091e-05 | BC12: =AZ12*$BC$9 -> 9.4824319e-05 | BD12: =BA12*$BD$9 -> -0.57824509 | BE12: =AC12/AC$8/$BK$8*$BK12*BP$8 -> 7.1942725 | BF12: =Y12/Y$8/$BK$8*$BK12*BS$8 -> 8.2839917 | BG12: =AA12/AA$8/$BK$8*$BK12*BT$8 -> 0 | BH12: =AB12/AB$8/$BK$8*$BK12*BQ$8 -> 54.201775 | BI12: =AD12/AD$8/$BK$8*$BK12*BR$8 -> 29.383546 | BK12: 50.17 | BL12: 0 | BN12: 0 | BP12: 7
A13: 77_M36 | C13: _x3260y251.ais | D13: 45678 | E13: 0.82569444 | F13: F-Cl-S | G13: 3260 | H13: 251 | I13: 400 | J13: 36 | K13: 2001 | L13: 40 | M13: 20 | N13: 150 | O13: 80 | P13: 400 | Q13: 4.86 | R13: 4.86 | S13: 180 | T13: O2- | U13: 0 | V13: 50 | W13: -15 | X13: 0.47763618 | Y13: 0.0012874061 | Z13: 0.0014354883 | AA13: 0 | AB13: 0.0001039352 | AC13: 1.6314254 | AD13: 1.1108829e-05 | AE13: 0.015074921 | AF13: 0.019502493 | AG13: 7826.5941 | AH13: 23.521519 | AI13: 0 | AJ13: 16405.291 | AK13: 0.010520565 | AL13: 0.047408039 | AM13: 0.031016547 | AN13: nan | AO13: 0.147128 | AP13: 0.0051305946 | AQ13: 0.34704233 | AR13: 0.013920236 | AS13: 0.02682047 | AT13: 10 | AU13: 192217 | AV13: 975920 | AX13: 81 | AY13: 0.1 | AZ13: =(AG13-AX13)/AJ13 -> 0.47213999 | BA13: =(AH13-AY13)/AJ13*BK13 -> 0.06950377 | BC13: =AZ13*$BC$9 -> 4.0131899 | BD13: =BA13*$BD$9 -> 1598.5867 | BE13: =AC13/AC$8/$BK$8*$BK13*BP$8 -> 6.9027516 | BF13: =Y13/Y$8/$BK$8*$BK13*BS$8 -> 9.2634618 | BG13: =AA13/AA$8/$BK$8*$BK13*BT$8 -> 0 | BH13: =AB13/AB$8/$BK$8*$BK13*BQ$8 -> 48.028898 | BI13: =AD13/AD$8/$BK$8*$BK13*BR$8 -> 21.585227 | BK13: 48.68299 | BL13: 2.82 | BN13: 1392 | BP13: 6.792524
A15: 1_N72_220125 | C15: _x-5415y-4529.ais | D15: 45679 | E15: 0.28472222 | F15: F-Cl-S | G15: -5415 | H15: -4529 | I15: 400 | J15: 36 | K15: 2001 | L15: 40 | M15: 20 | N15: 150 | O15: 80 | P15: 400 | Q15: 4.82 | R15: 4.86 | S15: 180 | T15: O2- | U15: 1 | V15: -1 | W15: 2 | X15: 0.0030846527 | Y15: 0.00094653715 | Z15: 2.3882747e-06 | AA15: 1.1856865e-06 | AB15: 7.7415944e-05 | AC15: 1.6624863 | AD15: 1.0626356e-05 | AE15: 0.013437927 | AF15: 0.012982694 | AG15: 58.59618 | AH15: 0.044802867 | AI15: 0.022401433 | AJ15: 18992.278 | AK15: 0.013333622 | AL15: 0.031995302 | AM15: 0.66144355 | AN15: 1 | AO15: 0.099481689 | AP15: 0.0044484158 | AQ15: 0.41548492 | AR15: 0.010546621 | AS15: 0.020425709 | AT15: 10 | AU15: 192217 | AV15: 975920 | AX15: 59 | AY15: 0.04 | AZ15: =(AG15-AX15)/AJ15 -> -2.1262336e-05 | BA15: =(AH15-AY15)/AJ15*BK15 -> 1.2687253e-05 | BC15: =AZ15*$BC$9 -> -0.00018072986 | BD15: =BA15*$BD$9 -> 0.29180681 | BE15: =AC15/AC$8/$BK$8*$BK15*BP$8 -> 7.2490309 | BF15: =Y15/Y$8/$BK$8*$BK15*BS$8 -> 7.0187901 | BG15: =AA15/AA$8/$BK$8*$BK15*BT$8 -> 1.6807821 | BH15: =AB15/AB$8/$BK$8*$BK15*BQ$8 -> 36.866951 | BI15: =AD15/AD$8/$BK$8*$BK15*BR$8 -> 21.278428 | BK15: 50.17 | BL15: 0 | BN15: 0 | BP15: 7
A16: 2_M5 | C16: _x-1208y-4715.ais | D16: 45679 | E16: 0.29166667 | F16: F-Cl-S | G16: -1208 | H16: -4715 | I16: 400 | J16: 36 | K16: 2001 | L16: 40 | M16: 20 | N16: 150 | O16: 80 | P16: 400 | Q16: 4.87 | R16: 4.88 | S16: 180 | T16: O2- | U16: -31 | V16: -14 | W16: -1 | X16: 0.11858468 | Y16: 0.0011131483 | Z16: 0.0012741808 | AA16: 0 | AB16: 7.6096775e-05 | AC16: 1.6360208 | AD16: 1.5218047e-05 | AE16: 0.013761589 | AF16: 0.01315032 | AG16: 2200.1952 | AH16: 23.633527 | AI16: 0 | AJ16: 18554.597 | AK16: 0.0031988946 | AL16: 0.020049659 | AM16: 0.040439783 | AN16: nan | AO16: 0.11500982 | AP16: 0.0044157128 | AQ16: 0.19120532 | AR16: 0.015664447 | AS16: 0.023031165 | AT16: 10 | AU16: 192217 | AV16: 975920 | AX16: 59 | AY16: 0.04 | AZ16: =(AG16-AX16)/AJ16 -> 0.11539971 | BA16: =(AH16-AY16)/AJ16*BK16 -> 0.063322625 | BC16: =AZ16*$BC$9 -> 0.98089756 | BD16: =BA16*$BD$9 -> 1456.4204 | BE16: =AC16/AC$8/$BK$8*$BK16*BP$8 -> 7.08083 | BF16: =Y16/Y$8/$BK$8*$BK16*BS$8 -> 8.1931534 | BG16: =AA16/AA$8/$BK$8*$BK16*BT$8 -> 0 | BH16: =AB16/AB$8/$BK$8*$BK16*BQ$8 -> 35.970505 | BI16: =AD16/AD$8/$BK$8*$BK16*BR$8 -> 30.247367 | BK16: 49.79865 | BL16: 0.64 | BN16: 990 | BP16: 6.9481871
A17: 3_M40 | C17: _x2913y-4582.ais | D17: 45679 | E17: 0.29930556 | F17: F-Cl-S | G17: 2913 | H17: -4582 | I17: 400 | J17: 36 | K17: 2001 | L17: 40 | M17: 20 | N17: 150 | O17: 80 | P17: 400 | Q17: 4.89 | R17: 4.89 | S17: 180 | T17: O2- | U17: -53 | V17: -16 | W17: -1 | X17: 0.47300882 | Y17: 0.0011157127 | Z17: 0.0025311018 | AA17: 1.3298112e-06 | AB17: 0.0001249045 | AC17: 1.5941992 | AD17: 1.0823767e-05 | AE17: 0.01568359 | AF17: 0.016943963 | AG17: 7987.7685 | AH17: 42.764383 | AI17: 0.022401433 | AJ17: 16888.089 | AK17: 0.0035948369 | AL17: 0.044909525 | AM17: 0.026300262 | AN17: 1 | AO17: 0.11634587 | AP17: 0.0033188049 | AQ17: 0.35362174 | AR17: 0.013332675 | AS17: 0.016230094 | AT17: 10 | AU17: 192217 | AV17: 975920 | AX17: 59 | AY17: 0.04 | AZ17: =(AG17-AX17)/AJ17 -> 0.46948878 | BA17: =(AH17-AY17)/AJ17*BK17 -> 0.12274244 | BC17: =AZ17*$BC$9 -> 3.9906546 | BD17: =BA17*$BD$9 -> 2823.076 | BE17: =AC17/AC$8/$BK$8*$BK17*BP$8 -> 6.7223298 | BF17: =Y17/Y$8/$BK$8*$BK17*BS$8 -> 8.0007801 | BG17: =AA17/AA$8/$BK$8*$BK17*BT$8 -> 1.8230009 | BH17: =AB17/AB$8/$BK$8*$BK17*BQ$8 -> 57.52283 | BI17: =AD17/AD$8/$BK$8*$BK17*BR$8 -> 20.959889 | BK17: 48.517616 | BL17: 3.07 | BN17: 2183 | BP17: 6.7694501
A18: 4_M36 | C18: _x3010y233.ais | D18: 45679 | E18: 0.30694444 | F18: F-Cl-S | G18: 3010 | H18: 233 | I18: 400 | J18: 36 | K18: 2001 | L18: 40 | M18: 20 | N18: 150 | O18: 80 | P18: 400 | Q18: 4.89 | R18: 4.89 | S18: 180 | T18: O2- | U18: -58 | V18: 34 | W18: -16 | X18: 0.47866716 | Y18: 0.0013515121 | Z18: 0.0013873858 | AA18: 0 | AB18: 0.00012504635 | AC18: 1.6414208 | AD18: 1.7132272e-05 | AE18: 0.014535087 | AF18: 0.018926606 | AG18: 7893.4745 | AH18: 22.894278 | AI18: 0 | AJ18: 16498.07 | AK18: 0.0062753208 | AL18: 0.020324556 | AM18: 0.023954514 | AN18: nan | AO18: 0.093307427 | AP18: 0.0044984264 | AQ18: 0.24469666 | AR18: 0.010431069 | AS18: 0.023776775 | AT18: 10 | AU18: 192217 | AV18: 975920 | AX18: 59 | AY18: 0.04 | AZ18: =(AG18-AX18)/AJ18 -> 0.47487217 | BA18: =(AH18-AY18)/AJ18*BK18 -> 0.067439073 | BC18: =AZ18*$BC$9 -> 4.0364135 | BD18: =BA18*$BD$9 -> 1551.0987 | BE18: =AC18/AC$8/$BK$8*$BK18*BP$8 -> 6.9450432 | BF18: =Y18/Y$8/$BK$8*$BK18*BS$8 -> 9.7247329 | BG18: =AA18/AA$8/$BK$8*$BK18*BT$8 -> 0 | BH18: =AB18/AB$8/$BK$8*$BK18*BQ$8 -> 57.784448 | BI18: =AD18/AD$8/$BK$8*$BK18*BR$8 -> 33.289195 | BK18: 48.68299 | BL18: 2.82 | BN18: 1392 | BP18: 6.792524
A19: 1_519-4-1 | C19: _x-5010y1300.ais | D19: 45679 | E19: 0.35138889 | F19: F-Cl-S | G19: -5010 | H19: 1300 | I19: 400 | J19: 36 | K19: 2001 | L19: 40 | M19: 20 | N19: 150 | O19: 80 | P19: 400 | Q19: 4.88 | R19: 4.87 | S19: 180 | T19: O2- | U19: -5 | V19: -19 | W19: -2 | X19: 0.025579207 | Y19: 4.7921453e-05 | Z19: 0.00021336803 | AA19: 0 | AB19: 0.00015018122 | AC19: 2.3091968 | AD19: 2.6708636e-05 | AE19: 0.01289676 | AF19: 0.014728836 | AG19: 467.16007 | AH19: 3.8978499 | AI19: 0 | AJ19: 18273.79 | AK19: 0.014272367 | AL19: 0.20704749 | AM19: 0.064620307 | AN19: nan | AO19: 0.086175853 | AP19: 0.0045824825 | AQ19: 0.2444088 | AR19: 0.01042522 | AS19: 0.016652558 | AT19: 10 | AU19: 192217 | AV19: 975920 | AX19: 59 | AY19: 0.04 | AZ19: =(AG19-AX19)/AJ19 -> 0.02233582 | BA19: =(AH19-AY19)/AJ19*BK19 -> 0.010323467 | BC19: =AZ19*$BC$9 -> 0.18985447 | BD19: =BA19*$BD$9 -> 237.43974 | BE19: =AC19/AC$8/$BK$8*$BK19*BP$8 -> 9.8140346 | BF19: =Y19/Y$8/$BK$8*$BK19*BS$8 -> 0.3463533 | BG19: =AA19/AA$8/$BK$8*$BK19*BT$8 -> 0 | BH19: =AB19/AB$8/$BK$8*$BK19*BQ$8 -> 69.708735 | BI19: =AD19/AD$8/$BK$8*$BK19*BR$8 -> 52.128072 | BJ19: adjusted z, beampos | BK19: 48.9 | BL19: 0.17 | BN19: 165 | BP19: 9.41 | BQ19: 76
A20: 2_M21 | C20: _x3451y5906.ais | D20: 45679 | E20: 0.33611111 | F20: F-Cl-S | G20: 3451 | H20: 5906 | I20: 400 | J20: 36 | K20: 2001 | L20: 40 | M20: 20 | N20: 150 | O20: 80 | P20: 400 | Q20: 4.89 | R20: 4.88 | S20: 180 | T20: O2- | U20: -1 | V20: -3 | W20: 3 | X20: 0.78257943 | Y20: 0.0009984741 | Z20: 0.00071599039 | AA20: 2.9848787e-06 | AB20: 0.00012537934 | AC20: 1.5881432 | AD20: 1.336494e-05 | AE20: 0.013678201 | AF20: 0.017523178 | AG20: 17664.309 | AH20: 16.15144 | AI20: 0.0672043 | AJ20: 22585.682 | AK20: 0.011875129 | AL20: 0.04140673 | AM20: 0.05262565 | AN20: 0.50041518 | AO20: 0.096135781 | AP20: 0.0068900486 | AQ20: 0.20260069 | AR20: 0.0067350024 | AS20: 0.026296814 | AT20: 10 | AU20: 192217 | AV20: 975920 | AX20: 59 | AY20: 0.04 | AZ20: =(AG20-AX20)/AJ20 -> 0.77948979 | BA20: =(AH20-AY20)/AJ20*BK20 -> 0.033041012 | BC20: =AZ20*$BC$9 -> 6.6256632 | BD20: =BA20*$BD$9 -> 759.94329 | BE20: =AC20/AC$8/$BK$8*$BK20*BP$8 -> 6.3932201 | BF20: =Y20/Y$8/$BK$8*$BK20*BS$8 -> 6.8354876 | BG20: =AA20/AA$8/$BK$8*$BK20*BT$8 -> 3.9063966 | BH20: =AB20/AB$8/$BK$8*$BK20*BQ$8 -> 55.12402 | BI20: =AD20/AD$8/$BK$8*$BK20*BR$8 -> 24.707585 | BK20: 46.318257 | BL20: 7.56 | BN20: 1051 | BP20: 6.4625831
A21: 3_M47 | C21: _x-617y6058.ais | D21: 45679 | E21: 0.34375 | F21: F-Cl-S | G21: -617 | H21: 6058 | I21: 400 | J21: 36 | K21: 2001 | L21: 40 | M21: 20 | N21: 150 | O21: 80 | P21: 400 | Q21: 4.89 | R21: 4.88 | S21: 180 | T21: O2- | U21: 22 | V21: 6 | W21: 3 | X21: 0.11079647 | Y21: 0.0011285818 | Z21: 0.00023465843 | AA21: 0 | AB21: 0.00013034837 | AC21: 1.6187841 | AD21: 1.4383024e-05 | AE21: 0.013684833 | AF21: 0.016448244 | AG21: 2462.35 | AH21: 5.2195347 | AI21: 0 | AJ21: 22234.019 | AK21: 0.0076240213 | AL21: 0.029042228 | AM21: 0.060304888 | AN21: nan | AO21: 0.10990888 | AP21: 0.0047048449 | AQ21: 0.26528875 | AR21: 0.012795272 | AS21: 0.016478235 | AT21: 10 | AU21: 192217 | AV21: 975920 | AX21: 59 | AY21: 0.04 | AZ21: =(AG21-AX21)/AJ21 -> 0.10809337 | BA21: =(AH21-AY21)/AJ21*BK21 -> 0.011589334 | BC21: =AZ21*$BC$9 -> 0.91879364 | BD21: =BA21*$BD$9 -> 266.55467 | BE21: =AC21/AC$8/$BK$8*$BK21*BP$8 -> 6.9992645 | BF21: =Y21/Y$8/$BK$8*$BK21*BS$8 -> 8.2984928 | BG21: =AA21/AA$8/$BK$8*$BK21*BT$8 -> 0 | BH21: =AB21/AB$8/$BK$8*$BK21*BQ$8 -> 61.553676 | BI21: =AD21/AD$8/$BK$8*$BK21*BR$8 -> 28.559263 | BK21: 49.749153 | BL21: 0.82 | BN21: 175 | BP21: 6.941281
A23: 61_Fba-1 | C23: _x-4056y-3402.ais | D23: 45679 | E23: 0.36666667 | F23: F-Cl-S | G23: -4056 | H23: -3402 | I23: 400 | J23: 36 | K23: 2001 | L23: 40 | M23: 20 | N23: 150 | O23: 80 | P23: 400 | Q23: 4.86 | R23: 4.85 | S23: 180 | T23: O2- | U23: -1 | V23: -2 | W23: -5 | X23: 0.0018459518 | Y23: 0.00025784484 | Z23: 2.9763223e-06 | AA23: 9.9695721e-07 | AB23: 0.0041255271 | AC23: 2.0210884 | AD23: 2.6771597e-06 | AE23: 0.012475327 | AF23: 0.01736669 | AG23: 41.816862 | AH23: 0.0672043 | AI23: 0.022401433 | AJ23: 22652.077 | AK23: 0.035219812 | AL23: 0.093045629 | AM23: 0.50016053 | AN23: 1 | AO23: 0.044070863 | AP23: 0.0056162389 | AQ23: 0.50945174 | AR23: 0.0085610692 | AS23: 0.017972683 | AT23: 10 | AU23: 192217 | AV23: 975920 | AX23: 27 | AY23: 0.04 | AZ23: =(AG23-AX23)/AJ23 -> 0.0006541061 | BA23: =(AH23-AY23)/AJ23*BK23 -> 5.4043324e-05 | BC23: =AZ23*$BC$9 -> 0.0055599019 | BD23: =BA23*$BD$9 -> 1.2429964 | BE23: =AC23/AC$8/$BK$8*$BK23*BP$8 -> 7.9045218 | BF23: =Y23/Y$8/$BK$8*$BK23*BS$8 -> 1.71495 | BG23: =AA23/AA$8/$BK$8*$BK23*BT$8 -> 1.2676124 | BH23: =AB23/AB$8/$BK$8*$BK23*BQ$8 -> 1762.1979 | BI23: =AD23/AD$8/$BK$8*$BK23*BR$8 -> 4.80837 | BK23: 45 | BQ23: 1300
A24: 62_Fba-5 | C24: _x528y-5912.ais | D24: 45679 | E24: 0.37361111 | F24: F-Cl-S | G24: 528 | H24: -5912 | I24: 400 | J24: 36 | K24: 2001 | L24: 40 | M24: 20 | N24: 150 | O24: 80 | P24: 400 | Q24: 4.85 | R24: 4.86 | S24: 180 | T24: O2- | U24: 15 | V24: 7 | W24: -2 | X24: 0.0014752452 | Y24: 0.00022090727 | Z24: 2.4140979e-06 | AA24: 0 | AB24: 0.053661825 | AC24: 1.9762975 | AD24: 2.3262501e-05 | AE24: 0.014551697 | AF24: 0.016827389 | AG24: 26.839357 | AH24: 0.044802867 | AI24: 0 | AJ24: 18189.916 | AK24: 0.027046873 | AL24: 0.07957667 | AM24: 0.66144274 | AN24: nan | AO24: 0.025633125 | AP24: 0.0037817225 | AQ24: 0.19388582 | AR24: 0.010807276 | AS24: 0.020820512 | AT24: 10 | AU24: 192217 | AV24: 975920 | AX24: 27 | AY24: 0.04 | AZ24: =(AG24-AX24)/AJ24 -> -8.831439e-06 | BA24: =(AH24-AY24)/AJ24*BK24 -> 1.1696976e-05 | BC24: =AZ24*$BC$9 -> -7.5067231e-05 | BD24: =BA24*$BD$9 -> 0.26903044 | BE24: =AC24/AC$8/$BK$8*$BK24*BP$8 -> 7.6091096 | BF24: =Y24/Y$8/$BK$8*$BK24*BS$8 -> 1.4464194 | BG24: =AA24/AA$8/$BK$8*$BK24*BT$8 -> 0 | BH24: =AB24/AB$8/$BK$8*$BK24*BQ$8 -> 22564.82 | BI24: =AD24/AD$8/$BK$8*$BK24*BR$8 -> 41.131185 | BK24: 44.3 | BP24: 7.6 | BQ24: 22400
A25: 63_GSD | C25: _x886y-1274.ais | D25: 45679 | E25: 0.38125 | F25: F-Cl-S | G25: 886 | H25: -1274 | I25: 400 | J25: 36 | K25: 2001 | L25: 40 | M25: 20 | N25: 150 | O25: 80 | P25: 400 | Q25: 4.86 | R25: 4.86 | S25: 180 | T25: O2- | U25: 33 | V25: 16 | W25: 4 | X25: 0.0048086861 | Y25: 0.0077902646 | Z25: 1.0853513e-05 | AA25: 0 | AB25: 2.3254016e-05 | AC25: 0.82340567 | AD25: 4.362461e-05 | AE25: 0.016370738 | AF25: 0.012514463 | AG25: 79.467124 | AH25: 0.17921147 | AI25: 0 | AJ25: 16533.863 | AK25: 0.015547947 | AL25: 0.012012873 | AM25: 0.39304876 | AN25: nan | AO25: 0.14783296 | AP25: 0.0067420973 | AQ25: 0.18915464 | AR25: 0.012324144 | AS25: 0.02414079 | AT25: 10 | AU25: 192217 | AV25: 975920 | AX25: 27 | AY25: 0.04 | AZ25: =(AG25-AX25)/AJ25 -> 0.0031733132 | BA25: =(AH25-AY25)/AJ25*BK25 -> 0.00044793224 | BC25: =AZ25*$BC$9 -> 0.026973162 | BD25: =BA25*$BD$9 -> 10.302442 | BE25: =AC25/AC$8/$BK$8*$BK25*BP$8 -> 3.8071788 | BF25: =Y25/Y$8/$BK$8*$BK25*BS$8 -> 61.255393 | BG25: =AA25/AA$8/$BK$8*$BK25*BT$8 -> 0 | BH25: =AB25/AB$8/$BK$8*$BK25*BQ$8 -> 11.742818 | BI25: =AD25/AD$8/$BK$8*$BK25*BR$8 -> 92.630558 | BK25: 53.2 | BP25: 3.6 | BQ25: 18 | BS25: 65
A26: 64_BCR2-G | C26: _x-5494y2207.ais | D26: 45679 | E26: 0.38888889 | F26: F-Cl-S | G26: -5494 | H26: 2207 | I26: 400 | J26: 36 | K26: 2001 | L26: 40 | M26: 20 | N26: 150 | O26: 80 | P26: 400 | Q26: 4.87 | R26: 4.85 | S26: 180 | T26: O2- | U26: -18 | V26: -2 | W26: 6 | X26: 0.003909999 | Y26: 0.00056859744 | Z26: 3.5758855e-06 | AA26: 0 | AB26: 0.00050431388 | AC26: 0.81263708 | AD26: 2.1380563e-05 | AE26: 0.014522046 | AF26: 0.017794291 | AG26: 121.47183 | AH26: 0.11200717 | AI26: 0 | AJ26: 31064.204 | AK26: 0.014486238 | AL26: 0.043624613 | AM26: 0.31644516 | AN26: nan | AO26: 0.054295314 | AP26: 0.007239189 | AQ26: 0.1253907 | AR26: 0.009915842 | AS26: 0.01787684 | AT26: 10 | AU26: 192217 | AV26: 975920 | AX26: 27 | AY26: 0.04 | AZ26: =(AG26-AX26)/AJ26 -> 0.0030411799 | BA26: =(AH26-AY26)/AJ26*BK26 -> 0.0001251726 | BC26: =AZ26*$BC$9 -> 0.025850029 | BD26: =BA26*$BD$9 -> 2.8789697 | BE26: =AC26/AC$8/$BK$8*$BK26*BP$8 -> 3.8138901 | BF26: =Y26/Y$8/$BK$8*$BK26*BS$8 -> 4.5381532 | BG26: =AA26/AA$8/$BK$8*$BK26*BT$8 -> 0 | BH26: =AB26/AB$8/$BK$8*$BK26*BQ$8 -> 258.49812 | BI26: =AD26/AD$8/$BK$8*$BK26*BR$8 -> 46.081222 | BK26: 54 | BQ26: 321
A28: 7_St8.1.A9 | C28: _x4882y327.ais | D28: 45679 | E28: 0.40208333 | F28: Mel1 | G28: 4882 | H28: 327 | I28: 400 | J28: 36 | K28: 2001 | L28: 40 | M28: 20 | N28: 150 | O28: 80 | P28: 400 | Q28: 4.85 | R28: 4.84 | S28: 180 | T28: O2- | U28: -1 | V28: -2 | W28: -1 | X28: 0.21916566 | Y28: 0.006719988 | Z28: 2.77e-06 | AA28: 0 | AB28: 0.000361245 | AC28: 1.394886 | AD28: 0.000591215 | AE28: 0.014621846 | AF28: 0.017514443 | AG28: 5300.9221 | AH28: 0.0672043 | AI28: 0 | AJ28: 24208.871 | AK28: 0.009857161 | AL28: 0.009944538 | AM28: 0.50015683 | AN28: nan | AO28: 0.046842844 | AP28: 0.003363053 | AQ28: 0.041670085 | AR28: 0.011702352 | AS28: 0.019387843 | AT28: 10 | AU28: 192217 | AV28: 975920 | AX28: 10 | AY28: 0.04 | AZ28: =(AG28-AX28)/AJ28 -> 0.21855303 | BA28: =(AH28-AY28)/AJ28*BK28 -> 5.6186635e-05 | BC28: =AZ28*$BC$9 -> 1.8577007 | BD28: =BA28*$BD$9 -> 1.2922926 | BE28: =AC28/AC$8/$BK$8*$BK28*BP$8 -> 6.0615894 | BF28: =Y28/Y$8/$BK$8*$BK28*BS$8 -> 49.661404 | BG28: =AA28/AA$8/$BK$8*$BK28*BT$8 -> 0 | BH28: =AB28/AB$8/$BK$8*$BK28*BQ$8 -> 171.44884 | BI28: =AD28/AD$8/$BK$8*$BK28*BR$8 -> 1179.8493 | BK28: 50 | BR28: 2000
A30: 1_DEGASSED | B30: ND 70_ Degassed | C30: _x5707y-2453.ais | D30: 45679 | E30: 0.51458333 | F30: ND70 | G30: 5707 | H30: -2453 | I30: 400 | J30: 36 | K30: 2001 | L30: 40 | M30: 20 | N30: 150 | O30: 80 | P30: 400 | Q30: 4.73 | R30: 4.75 | S30: 180 | T30: O2- | U30: 0 | V30: -2 | W30: -5 | X30: 0.0050879052 | Y30: 0.0028778696 | Z30: 7.5400634e-06 | AA30: 0 | AB30: 3.1940635e-05 | AC30: 2.0969474 | AD30: 1.0696596e-05 | AE30: 0.012898264 | AF30: 0.016538287 | AG30: 106.26907 | AH30: 0.15681003 | AI30: 0 | AJ30: 20890.336 | AK30: 0.01615637 | AL30: 0.024768656 | AM30: 0.18910754 | AN30: nan | AO30: 0.20094568 | AP30: 0.0028693417 | AQ30: 0.39390385 | AR30: 0.0073376087 | AS30: 0.010894862 | AT30: 10 | AU30: 192217 | AV30: 975920 | AX30: 96 | AY30: 0.04 | AZ30: =(AG30-AX30)/AJ30 -> 0.00049157034 | BA30: =(AH30-AY30)/AJ30*BK30 -> 0.00028008236 | BC30: =AZ30*$BC$9 -> 0.0041783479 | BD30: =BA30*$BD$9 -> 6.4418943 | BE30: =AC30/AC$8/$BK$8*$BK30*BP$8 -> 9.1288561 | BF30: =Y30/Y$8/$BK$8*$BK30*BS$8 -> 21.306035 | BG30: =AA30/AA$8/$BK$8*$BK30*BT$8 -> 0 | BH30: =AB30/AB$8/$BK$8*$BK30*BQ$8 -> 15.186486 | BI30: =AD30/AD$8/$BK$8*$BK30*BR$8 -> 21.384924 | BK30: 50.09 | BL30: 0 | BM30: 0 | BN30: 0 | BO30: 0 | BP30: 8.78 | BQ30: 15 | BR30: 11
A31: 29_ND70_#1 | B31: ND 70_ Degassed | C31: _x5170y-2999.ais | D31: 45679 | E31: 0.725 | F31: ND70 | G31: 5170 | H31: -2999 | I31: 400 | J31: 36 | K31: 2001 | L31: 40 | M31: 20 | N31: 150 | O31: 80 | P31: 400 | Q31: 4.64 | R31: 4.64 | S31: 180 | T31: O2- | U31: -3 | V31: 3 | W31: -3 | X31: 0.0045573979 | Y31: 0.002688588 | Z31: 2.1947826e-06 | AA31: 1.0562719e-06 | AB31: 2.5133457e-05 | AC31: 2.0824803 | AD31: 1.1547607e-05 | AE31: 0.012826845 | AF31: 0.016530291 | AG31: 94.970198 | AH31: 0.044802867 | AI31: 0.022401433 | AJ31: 20848.159 | AK31: 0.025761218 | AL31: 0.024197215 | AM31: 0.66143998 | AN31: 1 | AO31: 0.20650008 | AP31: 0.0030053115 | AQ31: 0.23908286 | AR31: 0.013026222 | AS31: 0.017846685 | AT31: 10 | AU31: 192217 | AV31: 975920 | AX31: 96 | AY31: 0.04 | AZ31: =(AG31-AX31)/AJ31 -> -4.9395342e-05 | BA31: =(AH31-AY31)/AJ31*BK31 -> 1.1539417e-05 | BC31: =AZ31*$BC$9 -> -0.00041986041 | BD31: =BA31*$BD$9 -> 0.2654066 | BE31: =AC31/AC$8/$BK$8*$BK31*BP$8 -> 9.0658748 | BF31: =Y31/Y$8/$BK$8*$BK31*BS$8 -> 19.904707 | BG31: =AA31/AA$8/$BK$8*$BK31*BT$8 -> 1.4949415 | BH31: =AB31/AB$8/$BK$8*$BK31*BQ$8 -> 11.949947 | BI31: =AD31/AD$8/$BK$8*$BK31*BR$8 -> 23.086288 | BK31: 50.09 | BL31: 0 | BM31: 0 | BN31: 0 | BO31: 0 | BP31: 8.78 | BQ31: 15 | BR31: 11
A32: 30_ND70_#1 | B32: ND 70_ Degassed | C32: _x6559y-2229.ais | D32: 45679 | E32: 0.73194444 | F32: ND70 | G32: 6559 | H32: -2229 | I32: 400 | J32: 36 | K32: 2001 | L32: 40 | M32: 20 | N32: 150 | O32: 80 | P32: 400 | Q32: 4.63 | R32: 4.6 | S32: 180 | T32: O2- | U32: 1 | V32: -5 | W32: -4 | X32: 0.0047790935 | Y32: 0.0033898446 | Z32: 0 | AA32: 0 | AB32: 2.9871596e-05 | AC32: 2.0942684 | AD32: 4.0789326e-06 | AE32: 0.012391409 | AF32: 0.016036721 | AG32: 96.1714 | AH32: 0 | AI32: 0 | AJ32: 20132.04 | AK32: 0.016106296 | AL32: 0.02287562 | AM32: nan | AN32: nan | AO32: 0.17954605 | AP32: 0.0022634536 | AQ32: 0.76925752 | AR32: 0.007462885 | AS32: 0.018767806 | AT32: 10 | AU32: 192217 | AV32: 975920 | AX32: 96 | AY32: 0.04 | AZ32: =(AG32-AX32)/AJ32 -> 8.5137786e-06 | BA32: =(AH32-AY32)/AJ32*BK32 -> -9.9522949e-05 | BC32: =AZ32*$BC$9 -> 7.2367118e-05 | BD32: =BA32*$BD$9 -> -2.2890278 | BE32: =AC32/AC$8/$BK$8*$BK32*BP$8 -> 9.117193 | BF32: =Y32/Y$8/$BK$8*$BK32*BS$8 -> 25.096393 | BG32: =AA32/AA$8/$BK$8*$BK32*BT$8 -> 0 | BH32: =AB32/AB$8/$BK$8*$BK32*BQ$8 -> 14.202741 | BI32: =AD32/AD$8/$BK$8*$BK32*BR$8 -> 8.1547125 | BK32: 50.09 | BL32: 0 | BM32: 0 | BN32: 0 | BO32: 0 | BP32: 8.78 | BQ32: 15 | BR32: 11
A33: 8_ND70-3-1 | B33: ND-70 (Natural) | C33: _x73y316.ais | D33: 45679 | E33: 0.56736111 | F33: ND70 | G33: 73 | H33: 316 | I33: 400 | J33: 36 | K33: 2001 | L33: 40 | M33: 20 | N33: 150 | O33: 80 | P33: 400 | Q33: 4.7 | R33: 4.71 | S33: 180 | T33: O2- | U33: -2 | V33: -2 | W33: -1 | X33: 0.12942251 | Y33: 0.00023154483 | Z33: 0.0001408168 | AA33: 1.0445107e-06 | AB33: 0.00022430986 | AC33: 1.9650541 | AD33: 9.0088647e-05 | AE33: 0.013003346 | AF33: 0.017501732 | AG33: 2759.423 | AH33: 3.0017922 | AI33: 0.022401433 | AJ33: 21327.715 | AK33: 0.0057837237 | AL33: 0.066445491 | AM33: 0.046353924 | AN33: 1 | AO33: 0.071960572 | AP33: 0.003485381 | AQ33: 0.10105204 | AR33: 0.0068719684 | AS33: 0.018647685 | AT33: 10 | AU33: 192217 | AV33: 975920 | AX33: 96 | AY33: 0.04 | AZ33: =(AG33-AX33)/AJ33 -> 0.12488084 | BA33: =(AH33-AY33)/AJ33*BK33 -> 0.0070212968 | BC33: =AZ33*$BC$9 -> 1.0614872 | BD33: =BA33*$BD$9 -> 161.48983 | BE33: =AC33/AC$8/$BK$8*$BK33*BP$8 -> 8.6349409 | BF33: =Y33/Y$8/$BK$8*$BK33*BS$8 -> 1.7303049 | BG33: =AA33/AA$8/$BK$8*$BK33*BT$8 -> 1.4921668 | BH33: =AB33/AB$8/$BK$8*$BK33*BQ$8 -> 107.65102 | BI33: =AD33/AD$8/$BK$8*$BK33*BR$8 -> 181.79763 | BJ33: =[1]ND70!A3 -> ND-70 (Natural) | BK33: 50.56 | BL33: 1 | BM33: 0.17 | BN33: 145 | BO33: 53 | BP33: 8.38 | BQ33: 96 | BR33: 182
A34: 25_ND70_#1 | B34: ND-70 (Natural) | C34: _x-457y-144.ais | D34: 45679 | E34: 0.69444444 | F34: ND70 | G34: -457 | H34: -144 | I34: 400 | J34: 36 | K34: 2001 | L34: 40 | M34: 20 | N34: 150 | O34: 80 | P34: 400 | Q34: 4.69 | R34: 4.68 | S34: 180 | T34: O2- | U34: -7 | V34: 1 | W34: 2 | X34: 0.12157359 | Y34: 0.00022408463 | Z34: 0.00013062586 | AA34: 0 | AB34: 0.00019116659 | AC34: 2.5010123 | AD34: 9.4720358e-05 | AE34: 0.013092244 | AF34: 0.01759656 | AG34: 2562.2891 | AH34: 2.7553765 | AI34: 0 | AJ34: 21064.935 | AK34: 0.032622815 | AL34: 0.053564689 | AM34: 0.1088026 | AN34: nan | AO34: 0.083434074 | AP34: 0.095775984 | AQ34: 0.0587972 | AR34: 0.018449076 | AS34: 0.022350186 | AT34: 10 | AU34: 192217 | AV34: 975920 | AX34: 96 | AY34: 0.04 | AZ34: =(AG34-AX34)/AJ34 -> 0.11708031 | BA34: =(AH34-AY34)/AJ34*BK34 -> 0.0065174395 | BC34: =AZ34*$BC$9 -> 0.99518263 | BD34: =BA34*$BD$9 -> 149.90111 | BE34: =AC34/AC$8/$BK$8*$BK34*BP$8 -> 10.990076 | BF34: =Y34/Y$8/$BK$8*$BK34*BS$8 -> 1.6745558 | BG34: =AA34/AA$8/$BK$8*$BK34*BT$8 -> 0 | BH34: =AB34/AB$8/$BK$8*$BK34*BQ$8 -> 91.744867 | BI34: =AD34/AD$8/$BK$8*$BK34*BR$8 -> 191.14436 | BK34: 50.56 | BL34: 1 | BM34: 0.17 | BN34: 145 | BO34: 53 | BP34: 8.38 | BQ34: 96 | BR34: 182
A35: 26_ND70_#1 | B35: ND-70 (Natural) | C35: _x393y539.ais | D35: 45679 | E35: 0.70208333 | F35: ND70 | G35: 393 | H35: 539 | I35: 400 | J35: 36 | K35: 2001 | L35: 40 | M35: 20 | N35: 150 | O35: 80 | P35: 400 | Q35: 4.67 | R35: 4.66 | S35: 180 | T35: O2- | U35: 0 | V35: -4 | W35: 2 | X35: 0.1284599 | Y35: 0.00022738856 | Z35: 0.00014412392 | AA35: 2.1464365e-06 | AB35: 0.00019423014 | AC35: 1.9667927 | AD35: 0.000119598 | AE35: 0.012654199 | AF35: 0.017055395 | AG35: 2692.1842 | AH35: 3.0241936 | AI35: 0.044802867 | AJ35: 20961.703 | AK35: 0.0052232986 | AL35: 0.065727531 | AM35: 0.070071941 | AN35: 0.66156847 | AO35: 0.093759253 | AP35: 0.0028227114 | AQ35: 0.10157696 | AR35: 0.012259214 | AS35: 0.016818959 | AT35: 10 | AU35: 192217 | AV35: 975920 | AX35: 96 | AY35: 0.04 | AZ35: =(AG35-AX35)/AJ35 -> 0.12385369 | BA35: =(AH35-AY35)/AJ35*BK35 -> 0.007197928 | BC35: =AZ35*$BC$9 -> 1.0527564 | BD35: =BA35*$BD$9 -> 165.55234 | BE35: =AC35/AC$8/$BK$8*$BK35*BP$8 -> 8.6425806 | BF35: =Y35/Y$8/$BK$8*$BK35*BS$8 -> 1.6992456 | BG35: =AA35/AA$8/$BK$8*$BK35*BT$8 -> 3.0663558 | BH35: =AB35/AB$8/$BK$8*$BK35*BQ$8 -> 93.215126 | BI35: =AD35/AD$8/$BK$8*$BK35*BR$8 -> 241.3471 | BK35: 50.56 | BL35: 1 | BM35: 0.17 | BN35: 145 | BO35: 53 | BP35: 8.38 | BQ35: 96 | BR35: 182
A36: 2_NATURAL | B36: ND70-2-01 | C36: _x1453y-4083.ais | D36: 45679 | E36: 0.52222222 | F36: ND70 | G36: 1453 | H36: -4083 | I36: 400 | J36: 36 | K36: 2001 | L36: 40 | M36: 20 | N36: 150 | O36: 80 | P36: 400 | Q36: 4.75 | R36: 4.76 | S36: 180 | T36: O2- | U36: -5 | V36: 11 | W36: 0 | X36: 0.29363076 | Y36: 0.0020515225 | Z36: 0.001520106 | AA36: 2.6870363e-05 | AB36: 0.0012743602 | AC36: 2.1408685 | AD36: 0.00039285611 | AE36: 0.012714343 | AF36: 0.016826348 | AG36: 6095.1405 | AH36: 31.563644 | AI36: 0.5600359 | AJ36: 20766.481 | AK36: 0.0075344576 | AL36: 0.031107365 | AM36: 0.017028939 | AN36: 0.14098751 | AO36: 0.05343801 | AP36: 0.0040374619 | AQ36: 0.065705314 | AR36: 0.011081426 | AS36: 0.018118184 | AT36: 10 | AU36: 192217 | AV36: 975920 | AX36: 96 | AY36: 0.04 | AZ36: =(AG36-AX36)/AJ36 -> 0.28888576 | BA36: =(AH36-AY36)/AJ36*BK36 -> 0.075687782 | BC36: =AZ36*$BC$9 -> 2.4555289 | BD36: =BA36*$BD$9 -> 1740.819 | BE36: =AC36/AC$8/$BK$8*$BK36*BP$8 -> 9.277267 | BF36: =Y36/Y$8/$BK$8*$BK36*BS$8 -> 15.118512 | BG36: =AA36/AA$8/$BK$8*$BK36*BT$8 -> 37.855 | BH36: =AB36/AB$8/$BK$8*$BK36*BQ$8 -> 603.12481 | BI36: =AD36/AD$8/$BK$8*$BK36*BR$8 -> 781.80218 | BJ36: =[1]ND70!A4 -> ND70-2-01 | BK36: 49.86 | BL36: 2.41 | BM36: 0.21 | BN36: 1560 | BO36: 392 | BP36: 8.87 | BQ36: 615 | BR36: 661
A37: 27_ND70_#1 | B37: ND70-2-01 | C37: _x1029y-4609.ais | D37: 45679 | E37: 0.70972222 | F37: ND70 | G37: 1029 | H37: -4609 | I37: 400 | J37: 36 | K37: 2001 | L37: 40 | M37: 20 | N37: 150 | O37: 80 | P37: 400 | Q37: 4.67 | R37: 4.65 | S37: 180 | T37: O2- | U37: -13 | V37: 14 | W37: 0 | X37: 0.29310635 | Y37: 0.0020151632 | Z37: 0.0014037093 | AA37: 2.2705162e-05 | AB37: 0.0013631618 | AC37: 2.1462814 | AD37: 0.00031556375 | AE37: 0.012799884 | AF37: 0.017173845 | AG37: 6107.7945 | AH37: 29.256292 | AI37: 0.47043016 | AJ37: 20849.67 | AK37: 0.0081801479 | AL37: 0.040057449 | AM37: 0.021839156 | AN37: 0.22819048 | AO37: 0.036294206 | AP37: 0.0044502376 | AQ37: 0.050174486 | AR37: 0.013972735 | AS37: 0.017126704 | AT37: 10 | AU37: 192217 | AV37: 975920 | AX37: 96 | AY37: 0.04 | AZ37: =(AG37-AX37)/AJ37 -> 0.28834004 | BA37: =(AH37-AY37)/AJ37*BK37 -> 0.069867982 | BC37: =AZ37*$BC$9 -> 2.4508903 | BD37: =BA37*$BD$9 -> 1606.9636 | BE37: =AC37/AC$8/$BK$8*$BK37*BP$8 -> 9.3007234 | BF37: =Y37/Y$8/$BK$8*$BK37*BS$8 -> 14.850565 | BG37: =AA37/AA$8/$BK$8*$BK37*BT$8 -> 31.987059 | BH37: =AB37/AB$8/$BK$8*$BK37*BQ$8 -> 645.15251 | BI37: =AD37/AD$8/$BK$8*$BK37*BR$8 -> 627.98673 | BK37: 49.86 | BL37: 2.41 | BM37: 0.21 | BN37: 1560 | BO37: 392 | BP37: 8.87 | BQ37: 615 | BR37: 661
A38: 28_ND70_#1 | B38: ND70-2-01 | C38: _x1766y-4748.ais | D38: 45679 | E38: 0.71736111 | F38: ND70 | G38: 1766 | H38: -4748 | I38: 400 | J38: 36 | K38: 2001 | L38: 40 | M38: 20 | N38: 150 | O38: 80 | P38: 400 | Q38: 4.66 | R38: 4.64 | S38: 180 | T38: O2- | U38: -8 | V38: 12 | W38: -1 | X38: 0.28484158 | Y38: 0.0021337334 | Z38: 0.0015342893 | AA38: 3.702765e-05 | AB38: 0.0012339183 | AC38: 2.1429725 | AD38: 0.00036370332 | AE38: 0.012560604 | AF38: 0.01676477 | AG38: 5868.0837 | AH38: 31.586047 | AI38: 0.76164883 | AJ38: 20610.999 | AK38: 0.0072531556 | AL38: 0.043457937 | AM38: 0.027706821 | AN38: 0.15320148 | AO38: 0.021660241 | AP38: 0.0040871807 | AQ38: 0.056464822 | AR38: 0.0085543718 | AS38: 0.018694897 | AT38: 10 | AU38: 192217 | AV38: 975920 | AX38: 96 | AY38: 0.04 | AZ38: =(AG38-AX38)/AJ38 -> 0.28004871 | BA38: =(AH38-AY38)/AJ38*BK38 -> 0.076312938 | BC38: =AZ38*$BC$9 -> 2.380414 | BD38: =BA38*$BD$9 -> 1755.1976 | BE38: =AC38/AC$8/$BK$8*$BK38*BP$8 -> 9.2863843 | BF38: =Y38/Y$8/$BK$8*$BK38*BS$8 -> 15.724358 | BG38: =AA38/AA$8/$BK$8*$BK38*BT$8 -> 52.164598 | BH38: =AB38/AB$8/$BK$8*$BK38*BQ$8 -> 583.98457 | BI38: =AD38/AD$8/$BK$8*$BK38*BR$8 -> 723.78674 | BK38: 49.86 | BL38: 2.41 | BM38: 0.21 | BN38: 1560 | BO38: 392 | BP38: 8.87 | BQ38: 615 | BR38: 661
A39: 14_ND70-2-1 | B39: ND70-3-01 | C39: _x4689y1349.ais | D39: 45679 | E39: 0.6125 | F39: ND70 | G39: 4689 | H39: 1349 | I39: 400 | J39: 36 | K39: 2001 | L39: 40 | M39: 20 | N39: 150 | O39: 80 | P39: 400 | Q39: 4.71 | R39: 4.7 | S39: 180 | T39: O2- | U39: 5 | V39: -5 | W39: 0 | X39: 0.40351332 | Y39: 0.12130528 | Z39: 0.0031258008 | AA39: 4.3736277e-05 | AB39: 0.010636962 | AC39: 2.3203831 | AD39: 0.00053442293 | AE39: 0.012695932 | AF39: 0.01597759 | AG39: 7687.9519 | AH39: 59.587903 | AI39: 0.8288529 | AJ39: 19060.281 | AK39: 0.0068662318 | AL39: 0.0075909603 | AM39: 0.014711068 | AN39: 0.19411459 | AO39: 0.02894699 | AP39: 0.0030803821 | AQ39: 0.056074645 | AR39: 0.014822118 | AS39: 0.01617073 | AT39: 10 | AU39: 192217 | AV39: 975920 | AX39: 96 | AY39: 0.04 | AZ39: =(AG39-AX39)/AJ39 -> 0.3983127 | BA39: =(AH39-AY39)/AJ39*BK39 -> 0.1550847 | BC39: =AZ39*$BC$9 -> 3.3856579 | BD39: =BA39*$BD$9 -> 3566.948 | BE39: =AC39/AC$8/$BK$8*$BK39*BP$8 -> 10.010811 | BF39: =Y39/Y$8/$BK$8*$BK39*BS$8 -> 890.00402 | BG39: =AA39/AA$8/$BK$8*$BK39*BT$8 -> 61.343849 | BH39: =AB39/AB$8/$BK$8*$BK39*BQ$8 -> 5012.0117 | BI39: =AD39/AD$8/$BK$8*$BK39*BR$8 -> 1058.8342 | BJ39: =[1]ND70!A5 -> ND70-3-01 | BK39: 49.64 | BL39: 3.09 | BM39: 0.32 | BN39: 2637 | BO39: 388 | BP39: 9.06 | BQ39: 803 | BR39: 984
A40: 15_ND70_#1 | B40: ND70-3-01 | C40: _x4984y1170.ais | D40: 45679 | E40: 0.62013889 | F40: ND70 | G40: 4984 | H40: 1170 | I40: 400 | J40: 36 | K40: 2001 | L40: 40 | M40: 20 | N40: 150 | O40: 80 | P40: 400 | Q40: 4.7 | R40: 4.69 | S40: 180 | T40: O2- | U40: 7 | V40: -4 | W40: -1 | X40: 0.38920125 | Y40: 0.1375554 | Z40: 0.0032309772 | AA40: 4.005892e-05 | AB40: 0.0076836241 | AC40: 2.3429444 | AD40: 0.00054660972 | AE40: 0.012282541 | AF40: 0.015505362 | AG40: 7377.1003 | AH40: 61.268015 | AI40: 0.76164872 | AJ40: 18959.144 | AK40: 0.0048574978 | AL40: 0.0058008567 | AM40: 0.023119971 | AN40: 0.15547226 | AO40: 0.029943162 | AP40: 0.002553934 | AQ40: 0.057459473 | AR40: 0.017208951 | AS40: 0.023026899 | AT40: 10 | AU40: 192217 | AV40: 975920 | AX40: 96 | AY40: 0.04 | AZ40: =(AG40-AX40)/AJ40 -> 0.38404162 | BA40: =(AH40-AY40)/AJ40*BK40 -> 0.16031097 | BC40: =AZ40*$BC$9 -> 3.2643538 | BD40: =BA40*$BD$9 -> 3687.1522 | BE40: =AC40/AC$8/$BK$8*$BK40*BP$8 -> 10.108147 | BF40: =Y40/Y$8/$BK$8*$BK40*BS$8 -> 1009.2294 | BG40: =AA40/AA$8/$BK$8*$BK40*BT$8 -> 56.186043 | BH40: =AB40/AB$8/$BK$8*$BK40*BQ$8 -> 3620.4337 | BI40: =AD40/AD$8/$BK$8*$BK40*BR$8 -> 1082.9795 | BK40: 49.64 | BL40: 3.09 | BM40: 0.32 | BN40: 2637 | BO40: 388 | BP40: 9.06 | BQ40: 803 | BR40: 984
A41: 16_ND70_#1 | B41: ND70-3-01 | C41: _x5034y1831.ais | D41: 45679 | E41: 0.62708333 | F41: ND70 | G41: 5034 | H41: 1831 | I41: 400 | J41: 36 | K41: 2001 | L41: 40 | M41: 20 | N41: 150 | O41: 80 | P41: 400 | Q41: 4.67 | R41: 4.67 | S41: 180 | T41: O2- | U41: 5 | V41: -8 | W41: -2 | X41: 0.3854703 | Y41: 0.14758277 | Z41: 0.0033540491 | AA41: 4.2864517e-05 | AB41: 0.0081256147 | AC41: 2.3662062 | AD41: 0.00058455082 | AE41: 0.012258562 | AF41: 0.015844062 | AG41: 7237.9732 | AH41: 62.992931 | AI41: 0.80645161 | AJ41: 18783.518 | AK41: 0.0060042331 | AL41: 0.0048414887 | AM41: 0.019502026 | AN41: 0.1816969 | AO41: 0.032648871 | AP41: 0.0027193221 | AQ41: 0.064428422 | AR41: 0.010376526 | AS41: 0.014222306 | AT41: 10 | AU41: 192217 | AV41: 975920 | AX41: 96 | AY41: 0.04 | AZ41: =(AG41-AX41)/AJ41 -> 0.38022554 | BA41: =(AH41-AY41)/AJ41*BK41 -> 0.16636838 | BC41: =AZ41*$BC$9 -> 3.2319171 | BD41: =BA41*$BD$9 -> 3826.4728 | BE41: =AC41/AC$8/$BK$8*$BK41*BP$8 -> 10.208505 | BF41: =Y41/Y$8/$BK$8*$BK41*BS$8 -> 1082.7992 | BG41: =AA41/AA$8/$BK$8*$BK41*BT$8 -> 60.121131 | BH41: =AB41/AB$8/$BK$8*$BK41*BQ$8 -> 3828.6945 | BI41: =AD41/AD$8/$BK$8*$BK41*BR$8 -> 1158.1509 | BK41: 49.64 | BL41: 3.09 | BM41: 0.32 | BN41: 2637 | BO41: 388 | BP41: 9.06 | BQ41: 803 | BR41: 984
A42: 4_ND70-4-1 | B42: ND70-4-01 | C42: _x-3759y-1614.ais | D42: 45679 | E42: 0.5375 | F42: ND70 | G42: -3759 | H42: -1614 | I42: 400 | J42: 36 | K42: 2001 | L42: 40 | M42: 20 | N42: 150 | O42: 80 | P42: 400 | Q42: 4.77 | R42: 4.75 | S42: 180 | T42: O2- | U42: -22 | V42: 8 | W42: 3 | X42: 0.48450343 | Y42: 0.001955632 | Z42: 0.0035334702 | AA42: 2.9330635e-05 | AB42: 0.0040740755 | AC42: 2.0996769 | AD42: 0.001108518 | AE42: 0.012758665 | AF42: 0.017553636 | AG42: 10310.142 | AH42: 75.134547 | AI42: 0.62724016 | AJ42: 21285.66 | AK42: 0.0048124683 | AL42: 0.038930931 | AM42: 0.019443055 | AN42: 0.17639224 | AO42: 0.032481194 | AP42: 0.0037408558 | AQ42: 0.05517191 | AR42: 0.016082888 | AS42: 0.022916523 | AT42: 10 | AU42: 192217 | AV42: 975920 | AX42: 96 | AY42: 0.04 | AZ42: =(AG42-AX42)/AJ42 -> 0.47986024 | BA42: =(AH42-AY42)/AJ42*BK42 -> 0.17791405 | BC42: =AZ42*$BC$9 -> 4.078812 | BD42: =BA42*$BD$9 -> 4092.0232 | BE42: =AC42/AC$8/$BK$8*$BK42*BP$8 -> 9.2027838 | BF42: =Y42/Y$8/$BK$8*$BK42*BS$8 -> 14.576612 | BG42: =AA42/AA$8/$BK$8*$BK42*BT$8 -> 41.793416 | BH42: =AB42/AB$8/$BK$8*$BK42*BQ$8 -> 1950.2072 | BI42: =AD42/AD$8/$BK$8*$BK42*BR$8 -> 2231.2222 | BK42: 50.43 | BL42: 4.15 | BM42: 0.3 | BN42: 4161 | BO42: 94 | BP42: 8.76 | BQ42: 2020 | BR42: 2368
A43: 23_ND70_#1 | B43: ND70-4-01 | C43: _x-4245y-1881.ais | D43: 45679 | E43: 0.67986111 | F43: ND70 | G43: -4245 | H43: -1881 | I43: 400 | J43: 36 | K43: 2001 | L43: 40 | M43: 20 | N43: 150 | O43: 80 | P43: 400 | Q43: 4.67 | R43: 4.67 | S43: 180 | T43: O2- | U43: -26 | V43: 9 | W43: 2 | X43: 0.4885782 | Y43: 0.0020421449 | Z43: 0.0034069297 | AA43: 2.7624591e-05 | AB43: 0.0041642077 | AC43: 2.1219539 | AD43: 0.0011544622 | AE43: 0.012975945 | AF43: 0.017786568 | AG43: 10287.572 | AH43: 71.75192 | AI43: 0.58243733 | AJ43: 21062.041 | AK43: 0.0061724159 | AL43: 0.020910694 | AM43: 0.017313143 | AN43: 0.16864629 | AO43: 0.025022927 | AP43: 0.0044071836 | AQ43: 0.035095872 | AR43: 0.0065499788 | AS43: 0.0208965 | AT43: 10 | AU43: 192217 | AV43: 975920 | AX43: 96 | AY43: 0.04 | AZ43: =(AG43-AX43)/AJ43 -> 0.48388341 | BA43: =(AH43-AY43)/AJ43*BK43 -> 0.17170378 | BC43: =AZ43*$BC$9 -> 4.1130089 | BD43: =BA43*$BD$9 -> 3949.187 | BE43: =AC43/AC$8/$BK$8*$BK43*BP$8 -> 9.3004228 | BF43: =Y43/Y$8/$BK$8*$BK43*BS$8 -> 15.22145 | BG43: =AA43/AA$8/$BK$8*$BK43*BT$8 -> 39.362463 | BH43: =AB43/AB$8/$BK$8*$BK43*BQ$8 -> 1993.3523 | BI43: =AD43/AD$8/$BK$8*$BK43*BR$8 -> 2323.6985 | BK43: 50.43 | BL43: 4.15 | BM43: 0.3 | BN43: 4161 | BO43: 94 | BP43: 8.76 | BQ43: 2020 | BR43: 2368
A44: 24_ND70_#1 | B44: ND70-4-01 | C44: _x-4738y-2389.ais | D44: 45679 | E44: 0.6875 | F44: ND70 | G44: -4738 | H44: -2389 | I44: 400 | J44: 36 | K44: 2001 | L44: 40 | M44: 20 | N44: 150 | O44: 80 | P44: 400 | Q44: 4.67 | R44: 4.69 | S44: 180 | T44: O2- | U44: -31 | V44: 9 | W44: 5 | X44: 0.47267595 | Y44: 0.0021122532 | Z44: 0.0035797005 | AA44: 2.9774152e-05 | AB44: 0.0042776507 | AC44: 2.1237719 | AD44: 0.0012045123 | AE44: 0.012761265 | AF44: 0.018317631 | AG44: 9945.6958 | AH44: 75.336163 | AI44: 0.62724026 | AJ44: 21046.167 | AK44: 0.0051710518 | AL44: 0.021177963 | AM44: 0.015875867 | AN44: 0.13526361 | AO44: 0.028710708 | AP44: 0.0026110949 | AQ44: 0.042886669 | AR44: 0.012009305 | AS44: 0.024298346 | AT44: 10 | AU44: 192217 | AV44: 975920 | AX44: 96 | AY44: 0.04 | AZ44: =(AG44-AX44)/AJ44 -> 0.46800427 | BA44: =(AH44-AY44)/AJ44*BK44 -> 0.18042172 | BC44: =AZ44*$BC$9 -> 3.9780363 | BD44: =BA44*$BD$9 -> 4149.6995 | BE44: =AC44/AC$8/$BK$8*$BK44*BP$8 -> 9.308391 | BF44: =Y44/Y$8/$BK$8*$BK44*BS$8 -> 15.744013 | BG44: =AA44/AA$8/$BK$8*$BK44*BT$8 -> 42.425386 | BH44: =AB44/AB$8/$BK$8*$BK44*BQ$8 -> 2047.656 | BI44: =AD44/AD$8/$BK$8*$BK44*BR$8 -> 2424.4393 | BK44: 50.43 | BL44: 4.15 | BM44: 0.3 | BN44: 4161 | BO44: 94 | BP44: 8.76 | BQ44: 2020 | BR44: 2368
A45: 12_ND70-4-2_#1 | B45: ND70-4-02 | C45: _x2861y5824.ais | D45: 45679 | E45: 0.59722222 | F45: ND70 | G45: 2861 | H45: 5824 | I45: 400 | J45: 36 | K45: 2001 | L45: 40 | M45: 20 | N45: 150 | O45: 80 | P45: 400 | Q45: 4.74 | R45: 4.71 | S45: 180 | T45: O2- | U45: -11 | V45: -14 | W45: 3 | X45: 0.43638835 | Y45: 0.001948197 | Z45: 0.0036805619 | AA45: 2.7688759e-05 | AB45: 0.0034567039 | AC45: 2.1812267 | AD45: 0.0010172221 | AE45: 0.012195059 | AF45: 0.015974065 | AG45: 8535.2898 | AH45: 71.908731 | AI45: 0.53763437 | AJ45: 19570.147 | AK45: 0.0080180413 | AL45: 0.017464263 | AM45: 0.02409779 | AN45: 0.25784194 | AO45: 0.029849801 | AP45: 0.0048420937 | AQ45: 0.056436842 | AR45: 0.0071271922 | AS45: 0.017173969 | AT45: 10 | AU45: 192217 | AV45: 975920 | AX45: 96 | AY45: 0.04 | AZ45: =(AG45-AX45)/AJ45 -> 0.43123284 | BA45: =(AH45-AY45)/AJ45*BK45 -> 0.17950522 | BC45: =AZ45*$BC$9 -> 3.6654791 | BD45: =BA45*$BD$9 -> 4128.6202 | BE45: =AC45/AC$8/$BK$8*$BK45*BP$8 -> 9.2663734 | BF45: =Y45/Y$8/$BK$8*$BK45*BS$8 -> 14.074876 | BG45: =AA45/AA$8/$BK$8*$BK45*BT$8 -> 38.241254 | BH45: =AB45/AB$8/$BK$8*$BK45*BQ$8 -> 1603.8217 | BI45: =AD45/AD$8/$BK$8*$BK45*BR$8 -> 1984.5319 | BK45: 48.88 | BL45: 3.56 | BM45: 0.36 | BN45: 4214 | BO45: 130 | BP45: 9.09 | BQ45: 1887 | BR45: 2060
A46: 13_ND70-4-2_#2 | B46: ND70-4-02 | C46: _x4393y6015.ais | D46: 45679 | E46: 0.60486111 | F46: ND70 | G46: 4393 | H46: 6015 | I46: 400 | J46: 36 | K46: 2001 | L46: 40 | M46: 20 | N46: 150 | O46: 80 | P46: 400 | Q46: 4.72 | R46: 4.7 | S46: 180 | T46: O2- | U46: -17 | V46: -9 | W46: -1 | X46: 0.46329785 | Y46: 0.0019626581 | Z46: 0.003764591 | AA46: 3.1339102e-05 | AB46: 0.0035169202 | AC46: 2.1839485 | AD46: 0.0010008523 | AE46: 0.012378034 | AF46: 0.015816145 | AG46: 9003.0609 | AH46: 73.208018 | AI46: 0.60483864 | AJ46: 19437.725 | AK46: 0.0050311257 | AL46: 0.020236701 | AM46: 0.015226292 | AN46: 0.28145472 | AO46: 0.036537239 | AP46: 0.0033377825 | AQ46: 0.06254779 | AR46: 0.011115553 | AS46: 0.012615655 | AT46: 10 | AU46: 192217 | AV46: 975920 | AX46: 96 | AY46: 0.04 | AZ46: =(AG46-AX46)/AJ46 -> 0.45823577 | BA46: =(AH46-AY46)/AJ46*BK46 -> 0.18399544 | BC46: =AZ46*$BC$9 -> 3.895004 | BD46: =BA46*$BD$9 -> 4231.895 | BE46: =AC46/AC$8/$BK$8*$BK46*BP$8 -> 9.2779361 | BF46: =Y46/Y$8/$BK$8*$BK46*BS$8 -> 14.17935 | BG46: =AA46/AA$8/$BK$8*$BK46*BT$8 -> 43.282784 | BH46: =AB46/AB$8/$BK$8*$BK46*BQ$8 -> 1631.7605 | BI46: =AD46/AD$8/$BK$8*$BK46*BR$8 -> 1952.5955 | BK46: 48.88 | BL46: 3.56 | BM46: 0.36 | BN46: 4214 | BO46: 130 | BP46: 9.09 | BQ46: 1887 | BR46: 2060
A47: 17_ND70_#1 | B47: ND70-4-02 | C47: _x4039y5852.ais | D47: 45679 | E47: 0.63472222 | F47: ND70 | G47: 4039 | H47: 5852 | I47: 400 | J47: 36 | K47: 2001 | L47: 40 | M47: 20 | N47: 150 | O47: 80 | P47: 400 | Q47: 4.66 | R47: 4.66 | S47: 180 | T47: O2- | U47: -14 | V47: -10 | W47: -3 | X47: 0.45464874 | Y47: 0.0020541334 | Z47: 0.0036047131 | AA47: 2.3078043e-05 | AB47: 0.0034767926 | AC47: 2.1764688 | AD47: 0.001043799 | AE47: 0.012355817 | AF47: 0.015956838 | AG47: 8825.6551 | AH47: 69.9822 | AI47: 0.44802867 | AJ47: 19418.145 | AK47: 0.0064582456 | AL47: 0.019384131 | AM47: 0.012868212 | AN47: 0.18122271 | AO47: 0.038438582 | AP47: 0.0029021238 | AQ47: 0.037151039 | AR47: 0.0085339305 | AS47: 0.014579207 | AT47: 10 | AU47: 192217 | AV47: 975920 | AX47: 96 | AY47: 0.04 | AZ47: =(AG47-AX47)/AJ47 -> 0.44956175 | BA47: =(AH47-AY47)/AJ47*BK47 -> 0.17606084 | BC47: =AZ47*$BC$9 -> 3.8212749 | BD47: =BA47*$BD$9 -> 4049.3992 | BE47: =AC47/AC$8/$BK$8*$BK47*BP$8 -> 9.2461604 | BF47: =Y47/Y$8/$BK$8*$BK47*BS$8 -> 14.84022 | BG47: =AA47/AA$8/$BK$8*$BK47*BT$8 -> 31.873342 | BH47: =AB47/AB$8/$BK$8*$BK47*BQ$8 -> 1613.1423 | BI47: =AD47/AD$8/$BK$8*$BK47*BR$8 -> 2036.3815 | BK47: 48.88 | BL47: 3.56 | BM47: 0.36 | BN47: 4214 | BO47: 130 | BP47: 9.09 | BQ47: 1887 | BR47: 2060
A48: 18_ND70_#1 | B48: ND70-4-02 | C48: _x3632y6032.ais | D48: 45679 | E48: 0.64236111 | F48: ND70 | G48: 3632 | H48: 6032 | I48: 400 | J48: 36 | K48: 2001 | L48: 40 | M48: 20 | N48: 150 | O48: 80 | P48: 400 | Q48: 4.66 | R48: 4.65 | S48: 180 | T48: O2- | U48: -15 | V48: -12 | W48: -4 | X48: 0.45091499 | Y48: 0.0019767329 | Z48: 0.0035343436 | AA48: 3.1032799e-05 | AB48: 0.0036650211 | AC48: 2.1854033 | AD48: 0.00094500436 | AE48: 0.012600651 | AF48: 0.01642466 | AG48: 8759.2977 | AH48: 68.750117 | AI48: 0.60483882 | AJ48: 19435.99 | AK48: 0.0070916327 | AL48: 0.026869255 | AM48: 0.015451119 | AN48: 0.16323287 | AO48: 0.02871852 | AP48: 0.0035294106 | AQ48: 0.02190839 | AR48: 0.010385673 | AS48: 0.016930465 | AT48: 10 | AU48: 192217 | AV48: 975920 | AX48: 96 | AY48: 0.04 | AZ48: =(AG48-AX48)/AJ48 -> 0.44573483 | BA48: =(AH48-AY48)/AJ48*BK48 -> 0.17280059 | BC48: =AZ48*$BC$9 -> 3.788746 | BD48: =BA48*$BD$9 -> 3974.4135 | BE48: =AC48/AC$8/$BK$8*$BK48*BP$8 -> 9.2841164 | BF48: =Y48/Y$8/$BK$8*$BK48*BS$8 -> 14.281035 | BG48: =AA48/AA$8/$BK$8*$BK48*BT$8 -> 42.859745 | BH48: =AB48/AB$8/$BK$8*$BK48*BQ$8 -> 1700.4756 | BI48: =AD48/AD$8/$BK$8*$BK48*BR$8 -> 1843.6399 | BK48: 48.88 | BL48: 3.56 | BM48: 0.36 | BN48: 4214 | BO48: 130 | BP48: 9.09 | BQ48: 1887 | BR48: 2060
A49: 9_ND70-5-2 | B49: ND70-5-02 | C49: _x-1203y4211.ais | D49: 45679 | E49: 0.575 | F49: ND70 | G49: -1203 | H49: 4211 | I49: 400 | J49: 36 | K49: 2001 | L49: 40 | M49: 20 | N49: 150 | O49: 80 | P49: 400 | Q49: 4.72 | R49: 4.68 | S49: 180 | T49: O2- | U49: -9 | V49: -9 | W49: -3 | X49: 0.58808989 | Y49: 0.0017676223 | Z49: 0.011239314 | AA49: 9.8352893e-06 | AB49: 0.011372766 | AC49: 2.0664088 | AD49: 0.0030355505 | AE49: 0.012480246 | AF49: 0.017225606 | AG49: 12040.008 | AH49: 230.10884 | AI49: 0.2016129 | AJ49: 20482.281 | AK49: 0.0059261633 | AL49: 0.023011131 | AM49: 0.014094399 | AN49: 0.36958209 | AO49: 0.023065035 | AP49: 0.0042402336 | AQ49: 0.034368035 | AR49: 0.009961665 | AS49: 0.021251173 | AT49: 10 | AU49: 192217 | AV49: 975920 | AX49: 96 | AY49: 0.04 | AZ49: =(AG49-AX49)/AJ49 -> 0.58313857 | BA49: =(AH49-AY49)/AJ49*BK49 -> 0.57218756 | BC49: =AZ49*$BC$9 -> 4.9566778 | BD49: =BA49*$BD$9 -> 13160.314 | BE49: =AC49/AC$8/$BK$8*$BK49*BP$8 -> 9.1485648 | BF49: =Y49/Y$8/$BK$8*$BK49*BS$8 -> 13.308493 | BG49: =AA49/AA$8/$BK$8*$BK49*BT$8 -> 14.156097 | BH49: =AB49/AB$8/$BK$8*$BK49*BQ$8 -> 5499.0513 | BI49: =AD49/AD$8/$BK$8*$BK49*BR$8 -> 6171.7383 | BK49: 50.94 | BL49: 4.99 | BM49: 0.34 | BN49: 12237 | BO49: 412 | BP49: 8.72 | BQ49: 5616 | BR49: 6984
