Workbook

Sheet data
A1: mount | B1: sample | C1: file | D1: date | E1: time | F1: X pos | G1: Y pos | H1: Field Ap | I1: Entr Slit | J1: Mass Res | K1: eV slit | L1: raster | M1: Contrast Ap | N1: Max Area | O1: L4_ap | P1: beam start | Q1: beam end | R1: Xdefl | S1: Ydefl | T1: mass drift | U1: 1H/30Si | V1: 12C/30Si | W1: 19F/30Si | X1: 26Mg/30Si | Y1: 35Cl/30Si | Z1: 24Mg++/26Mg | AA1: 1H cps | AB1: 12C cps | AC1: 30Si cps | AD1: 1s 1H/30Si | AE1: 1s 12C/30Si | AF1: 1s 19F/30Si | AG1: 1s 26Mg/30Si | AH1: 1s 35Cl/30Si | AI1: 1s 24Mg++/26Mg | AJ1: 1s 1H cps | AK1: 1s 12C cps | AL1: 1s 30Si cps | AM1: total cycles | AN1: H-C cycles | AO1: 1H bfield | AP1: 30Si bfield | AR1: 1H bkg | AS1: 12C bkg | AU1: H/Si_Bkg | AV1: C/SixSiO2 | AW1: H2O ref / H/Si | AY1: H2O_BAS | AZ1: H2O _AND | BA1: H2O _DCB | BB1: H2O _HSR | BC1: CO2 ppm | BD1: Cl ppm | BE1: F ppm | BF1: MgO | BG1: Cl EPMA | BH1: notes | BI1: ='Issy stds'!B1 -> SiO2 | BJ1: ='Issy stds'!C1 -> H2O | BK1: ='Issy stds'!D1 -> CO2 | BL1: Cl | BM1: F | BN1: ='Issy stds'!E1 -> MgO
A2: issy | B2: 1_M5 | C2: _x-1008y-4009.ais | D2: 45377 | E2: 0.74930556 | F2: -1008 | G2: -4009 | H2: 750 | I2: 60 | J2: 2001 | K2: 50 | L2: 15 | M2: 150 | N2: 80 | O2: 400 | P2: 3.33 | Q2: 3.36 | R2: 0 | S2: -3 | T2: 4 | U2: 0.089923317 | V2: 0.00089072265 | W2: 0.00010433611 | X2: 1.6579317 | Y2: 1.1219568e-05 | Z2: 0.0121396 | AA2: 4324.3043 | AB2: 42.850046 | AC2: 48094.569 | AD2: 0.0043505231 | AE2: 0.0197352 | AF2: 0.10269927 | AG2: 0.0019294024 | AH2: 0.21328283 | AI2: 0.0037399094 | AJ2: 0.0085315884 | AK2: 0.026308369 | AL2: 0.011553006 | AM2: 6 | AN2: 4 | AO2: 192032 | AP2: 975280 | AU2: =U2-$U$3 -> 0.087187942 | AV2: =V2*BI2 -> 0.044356785 | AY2: =AU2^2*6.1453+AU2*6.7708 -> 0.63704707 | BC2: =AV2*24584 -> 1090.4672 | BD2: =Y2/Y$12*BL$12/$BI$12*$BI2 -> 47.467275 | BF2: =$X2/X$10*BN$10/$BI$10*$BI2 -> 6.7533794 | BH2: =BH4 -> M5 | BI2: =BI4 -> 49.79865 | BJ2: =BJ4 -> 0.64 | BK2: =BK4 -> 990 | BN2: =BN4 -> 6.9481871
A3: issy | B3: 2_N72_270324 | C3: _x-4818y-4299.ais | D3: 45378 | E3: 0.35138889 | F3: -4818 | G3: -4299 | H3: 750 | I3: 60 | J3: 2001 | K3: 50 | L3: 15 | M3: 150 | N3: 80 | O3: 400 | P3: 3.17 | Q3: 3.2 | R3: -27 | S3: -2 | T3: 9 | U3: 0.0027353753 | V3: 2.9321251e-06 | W3: 0.00013228763 | X3: 1.6993158 | Y3: 1.7275939e-05 | Z3: 0.012400897 | AA3: 116.28059 | AB3: 0.125 | AC3: 42512.028 | AD3: 0.0086440162 | AE3: 0.38203152 | AF3: 0.028536984 | AG3: 0.0026845039 | AH3: 0.15570229 | AI3: 0.0057065694 | AJ3: 0.0085930929 | AK3: 0.38297084 | AL3: 0.0057596173 | AM3: 6 | AN3: 4 | AO3: 192006 | AP3: 975265 | AU3: =U3-$U$3 -> 0 | AV3: =V3*BI3 -> 0.00014710472 | AY3: =AU3^2*6.1453+AU3*6.7708 -> 0 | BC3: =AV3*24584 -> 3.6164223 | BD3: =Y3/Y$12*BL$12/$BI$12*$BI3 -> 73.635353 | BF3: =$X3/X$10*BN$10/$BI$10*$BI3 -> 6.97357 | BH3: ='Issy stds'!A2 -> N72 | BI3: ='Issy stds'!B2 -> 50.17 | BJ3: ='Issy stds'!C2 -> 0 | BK3: ='Issy stds'!D2 -> 0 | BN3: ='Issy stds'!E2 -> 7
A4: issy | B4: 3_M5 | C4: _x-801y-4286.ais | D4: 45378 | E4: 0.35763889 | F4: -801 | G4: -4286 | H4: 750 | I4: 60 | J4: 2001 | K4: 50 | L4: 15 | M4: 150 | N4: 80 | O4: 400 | P4: 3.2 | Q4: 3.2 | R4: -1 | S4: -5 | T4: 13 | U4: 0.09101075 | V4: 0.00094328376 | W4: 0.00010513139 | X4: 1.6600107 | Y4: 1.3620586e-05 | Z4: 0.012727758 | AA4: 3908.2921 | AB4: 40.500041 | AC4: 42947.197 | AD4: 0.0079221319 | AE4: 0.024846799 | AF4: 0.077958866 | AG4: 0.0020022205 | AH4: 0.11956584 | AI4: 0.0050008088 | AJ4: 0.0046574268 | AK4: 0.021311967 | AL4: 0.0045706141 | AM4: 6 | AN4: 4 | AO4: 192006 | AP4: 975265 | AU4: =U4-$U$3 -> 0.088275375 | AV4: =V4*BI4 -> 0.046974257 | AY4: =AU4^2*6.1453+AU4*6.7708 -> 0.64558242 | BC4: =AV4*24584 -> 1154.8151 | BD4: =Y4/Y$12*BL$12/$BI$12*$BI4 -> 57.6254 | BF4: =$X4/X$10*BN$10/$BI$10*$BI4 -> 6.761848 | BH4: ='Issy stds'!A3 -> M5 | BI4: ='Issy stds'!B3 -> 49.79865 | BJ4: ='Issy stds'!C3 -> 0.64 | BK4: ='Issy stds'!D3 -> 990 | BN4: ='Issy stds'!E3 -> 6.9481871
A5: issy | B5: 4_M40 | C5: _x3291y-4077.ais | D5: 45378 | E5: 0.36458333 | F5: 3291 | G5: -4077 | H5: 750 | I5: 60 | J5: 2001 | K5: 50 | L5: 15 | M5: 150 | N5: 80 | O5: 400 | P5: 3.19 | Q5: 3.17 | R5: 24 | S5: -10 | T5: 12 | U5: 0.32908363 | V5: 0.0017346316 | W5: 0.00011265063 | X5: 1.6662396 | Y5: 1.0279368e-05 | Z5: 0.012189013 | AA5: 13894.149 | AB5: 73.225133 | AC5: 42227.185 | AD5: 0.0062999364 | AE5: 0.013757483 | AF5: 0.054921322 | AG5: 0.0033984799 | AH5: 0.14964587 | AI5: 0.0052607081 | AJ5: 0.0028357951 | AK5: 0.0067682702 | AL5: 0.0083938429 | AM5: 6 | AN5: 4 | AO5: 192006 | AP5: 975265 | AU5: =U5-$U$3 -> 0.32634825 | AV5: =V5*BI5 -> 0.084160188 | AY5: =AU5^2*6.1453+AU5*6.7708 -> 2.8641327 | BC5: =AV5*24584 -> 2068.9941 | BD5: =Y5/Y$12*BL$12/$BI$12*$BI5 -> 42.370779 | BF5: =$X5/X$10*BN$10/$BI$10*$BI5 -> 6.6126245 | BH5: ='Issy stds'!A4 -> M40 | BI5: ='Issy stds'!B4 -> 48.517616 | BJ5: ='Issy stds'!C4 -> 3.07 | BK5: ='Issy stds'!D4 -> 2183 | BN5: ='Issy stds'!E4 -> 6.7694501
A6: issy | B6: 5_M21 | C6: _x3649y5866.ais | D6: 45378 | E6: 0.37083333 | F6: 3649 | G6: 5866 | H6: 750 | I6: 60 | J6: 2001 | K6: 50 | L6: 15 | M6: 150 | N6: 80 | O6: 400 | P6: 3.18 | Q6: 3.18 | R6: -5 | S6: 15 | T6: 11 | U6: 0.68672945 | V6: 0.00067315838 | W6: 0.00010549573 | X6: 1.6418193 | Y6: 1.041436e-05 | Z6: 0.012061322 | AA6: 28726.505 | AB6: 28.15002 | AC6: 41829.352 | AD6: 0.0035209445 | AE6: 0.034786642 | AF6: 0.073307433 | AG6: 0.0013748265 | AH6: 0.16326658 | AI6: 0.008476991 | AJ6: 0.0083104884 | AK6: 0.032638937 | AL6: 0.0056296855 | AM6: 6 | AN6: 4 | AO6: 192006 | AP6: 975265 | AU6: =U6-$U$3 -> 0.68399407 | AV6: =V6*BI6 -> 0.031179522 | AY6: =AU6^2*6.1453+AU6*6.7708 -> 7.5062527 | BC6: =AV6*24584 -> 766.51738 | BD6: =Y6/Y$12*BL$12/$BI$12*$BI6 -> 40.981267 | BF6: =$X6/X$10*BN$10/$BI$10*$BI6 -> 6.2203456 | BH6: ='Issy stds'!A9 -> M21 | BI6: ='Issy stds'!B9 -> 46.318257 | BJ6: ='Issy stds'!C9 -> 7.56 | BK6: ='Issy stds'!D9 -> 1051 | BN6: ='Issy stds'!E9 -> 6.4625831
A7: issy | B7: 6_M10 | C7: _x-481y760.ais | D7: 45378 | E7: 0.37777778 | F7: -481 | G7: 760 | H7: 750 | I7: 60 | J7: 2001 | K7: 50 | L7: 15 | M7: 150 | N7: 80 | O7: 400 | P7: 3.19 | Q7: 3.12 | R7: -15 | S7: 4 | T7: 6 | U7: 0.099888773 | V7: 0.0004821019 | W7: 9.2050492e-05 | X7: 1.6480391 | Y7: 1.5111761e-05 | Z7: 0.012614627 | AA7: 3974.0307 | AB7: 19.175009 | AC7: 39785.469 | AD7: 0.0065492857 | AE7: 0.031603446 | AF7: 0.023608241 | AG7: 0.0022816018 | AH7: 0.16458447 | AI7: 0.0050807852 | AJ7: 0.0067233765 | AK7: 0.028752251 | AL7: 0.0041707456 | AM7: 6 | AN7: 4 | AO7: 192006 | AP7: 975265 | AU7: =U7-$U$3 -> 0.097153397 | AV7: =V7*BI7 -> 0.023997098 | AY7: =AU7^2*6.1453+AU7*6.7708 -> 0.71581037 | BC7: =AV7*24584 -> 589.94465 | BD7: =Y7/Y$12*BL$12/$BI$12*$BI7 -> 63.905105 | BF7: =$X7/X$10*BN$10/$BI$10*$BI7 -> 6.7100282 | BH7: ='Issy stds'!A6 -> M10 | BI7: ='Issy stds'!B6 -> 49.775987 | BJ7: ='Issy stds'!C6 -> 0.75 | BK7: ='Issy stds'!D6 -> 341 | BN7: ='Issy stds'!E6 -> 6.945025
A8: issy | B8: 7_M36 | C8: _x3305y783.ais | D8: 45378 | E8: 0.38402778 | F8: 3305 | G8: 783 | H8: 750 | I8: 60 | J8: 2001 | K8: 50 | L8: 15 | M8: 150 | N8: 80 | O8: 400 | P8: 3.13 | Q8: 3.13 | R8: 5 | S8: 3 | T8: 5 | U8: 0.34241055 | V8: 0.001149335 | W8: 0.00011109179 | X8: 1.6819153 | Y8: 9.0527149e-06 | Z8: 0.011924807 | AA8: 14623.247 | AB8: 49.07506 | AC8: 42708.319 | AD8: 0.0021562796 | AE8: 0.0251519 | AF8: 0.094298599 | AG8: 0.0025676132 | AH8: 0.080603325 | AI8: 0.005482714 | AJ8: 0.0052460197 | AK8: 0.023253822 | AL8: 0.0068547644 | AM8: 6 | AN8: 4 | AO8: 192006 | AP8: 975265 | AU8: =U8-$U$3 -> 0.33967518 | AV8: =V8*BI8 -> 0.055953066 | AY8: =AU8^2*6.1453+AU8*6.7708 -> 3.0089127 | BC8: =AV8*24584 -> 1375.5502 | BD8: =Y8/Y$12*BL$12/$BI$12*$BI8 -> 37.441797 | BF8: =$X8/X$10*BN$10/$BI$10*$BI8 -> 6.6975863 | BH8: ='Issy stds'!A5 -> M36 | BI8: ='Issy stds'!B5 -> 48.68299 | BJ8: ='Issy stds'!C5 -> 2.82 | BK8: ='Issy stds'!D5 -> 1392 | BN8: ='Issy stds'!E5 -> 6.792524
A9: issy | B9: 8_M47 | C9: _x-907y6334.ais | D9: 45378 | E9: 0.39097222 | F9: -907 | G9: 6334 | H9: 750 | I9: 60 | J9: 2001 | K9: 50 | L9: 15 | M9: 150 | N9: 80 | O9: 400 | P9: 3.14 | Q9: 3.16 | R9: -23 | S9: 15 | T9: 4 | U9: 0.095752618 | V9: 0.00019365381 | W9: 0.00010089932 | X9: 1.6599178 | Y9: 1.2385296e-05 | Z9: 0.012535409 | AA9: 4140.798 | AB9: 8.3750017 | AC9: 43244.079 | AD9: 0.003412869 | AE9: 0.010788843 | AF9: 0.070917805 | AG9: 0.0017636594 | AH9: 0.16521652 | AI9: 0.0069108348 | AJ9: 0.0054891649 | AK9: 0.013237948 | AL9: 0.0028665965 | AM9: 6 | AN9: 4 | AO9: 192006 | AP9: 975265 | AU9: =U9-$U$3 -> 0.093017243 | AV9: =V9*BI9 -> 0.0096341128 | AY9: =AU9^2*6.1453+AU9*6.7708 -> 0.68297156 | BC9: =AV9*24584 -> 236.84503 | BD9: =Y9/Y$12*BL$12/$BI$12*$BI9 -> 52.347107 | BF9: =$X9/X$10*BN$10/$BI$10*$BI9 -> 6.7547493 | BH9: ='Issy stds'!A8 -> M47 | BI9: ='Issy stds'!B8 -> 49.749153 | BJ9: ='Issy stds'!C8 -> 0.82 | BK9: ='Issy stds'!D8 -> 175 | BN9: ='Issy stds'!E8 -> 6.941281
A10: issy | B10: 9_519-4-1 | C10: _x-5245y1236.ais | D10: 45378 | E10: 0.39722222 | F10: -5245 | G10: 1236 | H10: 750 | I10: 60 | J10: 2001 | K10: 50 | L10: 15 | M10: 150 | N10: 80 | O10: 400 | P10: 3.17 | Q10: 3.17 | R10: -38 | S10: 9 | T10: 1 | U10: 0.021572868 | V10: 0.00020232659 | W10: 0.00014870468 | X10: 2.3525768 | Y10: 2.4529069e-05 | Z10: 0.01172741 | AA10: 839.88645 | AB10: 7.8750016 | AC10: 38934.809 | AD10: 0.011512185 | AE10: 0.060442616 | AF10: 0.05561305 | AG10: 0.0015873695 | AH10: 0.077474916 | AI10: 0.0036656938 | AJ10: 0.0099599516 | AK10: 0.058965648 | AL10: 0.0024863096 | AM10: 6 | AN10: 4 | AO10: 192006 | AP10: 975265 | AU10: =U10-$U$3 -> 0.018837493 | AV10: =V10*BI10 -> 0.0098937701 | AY10: =AU10^2*6.1453+AU10*6.7708 -> 0.12972556 | BC10: =AV10*24584 -> 243.22844 | BD10: =Y10/Y$12*BL$12/$BI$12*$BI10 -> 101.90384 | BF10: =$X10/X$10*BN$10/$BI$10*$BI10 -> 9.41 | BH10: ='Issy stds'!A7 -> 519-4-1 | BI10: ='Issy stds'!B7 -> 48.9 | BJ10: ='Issy stds'!C7 -> 0.17 | BK10: ='Issy stds'!D7 -> 165 | BN10: ='Issy stds'!E7 -> 9.41
A12: Mel1 | B12: 10_Mel1_glass | C12: _x5408y737.ais | D12: 45378 | E12: 0.41527778 | F12: 5408 | G12: 737 | H12: 750 | I12: 60 | J12: 2001 | K12: 50 | L12: 15 | M12: 150 | N12: 80 | O12: 400 | P12: 3.15 | Q12: 3.15 | R12: 4 | S12: 1 | T12: 6 | U12: 0.17548303 | V12: 2.3001027e-06 | W12: 0.00022865428 | X12: 1.4391267 | Y12: 0.00047082486 | Z12: 0.011060151 | AA12: 7648.8805 | AB12: 0.1 | AC12: 43592.208 | AD12: 0.0041253326 | AE12: 0.41087882 | AF12: 0.06417165 | AG12: 0.0027566435 | AH12: 0.032573435 | AI12: 0.01341973 | AJ12: 0.0036210911 | AK12: 0.40824829 | AL12: 0.0071633192 | AM12: 6 | AN12: 4 | AO12: 192005 | AP12: 975262 | AU12: =U12-$U$3 -> 0.17274766 | AV12: =V12*BI12 -> 0.00011500514 | AY12: =AU12^2*6.1453+AU12*6.7708 -> 1.3530264 | BC12: =AV12*24584 -> 2.8272863 | BD12: =Y12/Y$12*BL$12/$BI$12*$BI12 -> 2000 | BF12: =$X12/X$10*BN$10/$BI$10*$BI12 -> 5.8858067 | BI12: 50 | BL12: 2000
A15: Wood | B15: 1_ICB-4-1300-15_1 | C15: _x-4087y-721.ais | D15: 45378 | E15: 0.47013889 | F15: -4087 | G15: -721 | H15: 750 | I15: 60 | J15: 2001 | K15: 50 | L15: 15 | M15: 150 | N15: 80 | O15: 400 | P15: 3.14 | Q15: 3.11 | R15: 0 | S15: -1 | T15: 7 | U15: 0.16089971 | V15: 0.0075749016 | W15: 0.00023646178 | X15: 2.1716339 | Y15: 0.0068614248 | Z15: 0.011597817 | AA15: 7744.5822 | AB15: 364.6033 | AC15: 48138.797 | AD15: 0.0042003723 | AE15: 0.0075582636 | AF15: 0.054288823 | AG15: 0.0017480022 | AH15: 0.033111785 | AI15: 0.0054593204 | AJ15: 0.0073939718 | AK15: 0.0098593118 | AL15: 0.010852662 | AM15: 6 | AN15: 4 | AO15: 192004 | AP15: 975262 | AU15: =U15-$U$3 -> 0.15816433 | AV15: =V15*BI15 -> 0.37874508 | AY15: =AU15^2*6.1453+AU15*6.7708 -> 1.2246296 | BC15: =AV15*24584 -> 9311.069 | BD15: =Y15/Y$12*BL$12/$BI$12*$BI15 -> 29146.4 | BF15: =$X15/X$10*BN$10/$BI$10*$BI15 -> 8.8816483 | BI15: 50
A16: Wood | B16: 2_ICB-4-1300-15_2 | C16: _x-3976y-713.ais | D16: 45378 | E16: 0.47638889 | F16: -3976 | G16: -713 | H16: 750 | I16: 60 | J16: 2001 | K16: 50 | L16: 15 | M16: 150 | N16: 80 | O16: 400 | P16: 3.12 | Q16: 3.09 | R16: 4 | S16: -2 | T16: 7 | U16: 0.15557575 | V16: 0.007592559 | W16: 0.00022712982 | X16: 2.172063 | Y16: 0.006757798 | Z16: 0.0112495 | AA16: 7318.3141 | AB16: 357.10316 | AC16: 47046.842 | AD16: 0.0066090607 | AE16: 0.01058258 | AF16: 0.029072327 | AG16: 0.0013923165 | AH16: 0.031051569 | AI16: 0.0055177322 | AJ16: 0.0057948558 | AK16: 0.0020031227 | AL16: 0.0091703053 | AM16: 6 | AN16: 4 | AO16: 192004 | AP16: 975262 | AU16: =U16-$U$3 -> 0.15284037 | AV16: =V16*BI16 -> 0.37962795 | AY16: =AU16^2*6.1453+AU16*6.7708 -> 1.1784069 | BC16: =AV16*24584 -> 9332.7735 | BD16: =Y16/Y$12*BL$12/$BI$12*$BI16 -> 28706.207 | BF16: =$X16/X$10*BN$10/$BI$10*$BI16 -> 8.8834033 | BI16: 50
A17: Wood | B17: 3_ICB-4-1300-15_3 | C17: _x-4043y-804.ais | D17: 45378 | E17: 0.48263889 | F17: -4043 | G17: -804 | H17: 750 | I17: 60 | J17: 2001 | K17: 50 | L17: 15 | M17: 150 | N17: 80 | O17: 400 | P17: 3.09 | Q17: 3.09 | R17: 1 | S17: -1 | T17: 4 | U17: 0.15782754 | V17: 0.0076121759 | W17: 0.00023514667 | X17: 2.1853299 | Y17: 0.0068540211 | Z17: 0.011507253 | AA17: 7404.7369 | AB17: 357.12816 | AC17: 46926.944 | AD17: 0.0069832248 | AE17: 0.010816709 | AF17: 0.039307141 | AG17: 0.0036757751 | AH17: 0.030515141 | AI17: 0.0065388493 | AJ17: 0.0042832302 | AK17: 0.0083805388 | AL17: 0.010778487 | AM17: 6 | AN17: 4 | AO17: 192004 | AP17: 975262 | AU17: =U17-$U$3 -> 0.15509217 | AV17: =V17*BI17 -> 0.38060879 | AY17: =AU17^2*6.1453+AU17*6.7708 -> 1.1979145 | BC17: =AV17*24584 -> 9356.8866 | BD17: =Y17/Y$12*BL$12/$BI$12*$BI17 -> 29114.95 | BF17: =$X17/X$10*BN$10/$BI$10*$BI17 -> 8.9376631 | BI17: 50
A18: Wood | B18: 4_ICB-4-1300-15_4 | C18: _x-4065y-974.ais | D18: 45378 | E18: 0.48958333 | F18: -4065 | G18: -974 | H18: 750 | I18: 60 | J18: 2001 | K18: 50 | L18: 15 | M18: 150 | N18: 80 | O18: 400 | P18: 3.09 | Q18: 3.08 | R18: 0 | S18: 3 | T18: 2 | U18: 0.16376396 | V18: 0.0078029816 | W18: 0.00022817971 | X18: 2.2053073 | Y18: 0.0070697449 | Z18: 0.011369182 | AA18: 7695.4707 | AB18: 366.72834 | AC18: 46997.739 | AD18: 0.0041119196 | AE18: 0.0027224131 | AF18: 0.060456288 | AG18: 0.0025174316 | AH18: 0.036576738 | AI18: 0.0021016101 | AJ18: 0.0087426562 | AK18: 0.013032666 | AL18: 0.012355692 | AM18: 6 | AN18: 4 | AO18: 192004 | AP18: 975262 | AU18: =U18-$U$3 -> 0.16102858 | AV18: =V18*BI18 -> 0.39014908 | AY18: =AU18^2*6.1453+AU18*6.7708 -> 1.2496412 | BC18: =AV18*24584 -> 9591.425 | BD18: =Y18/Y$12*BL$12/$BI$12*$BI18 -> 30031.315 | BF18: =$X18/X$10*BN$10/$BI$10*$BI18 -> 9.0193674 | BI18: 50
A19: Wood | B19: 5_ICB-4-1300-15_5 | C19: _x-3888y-965.ais | D19: 45378 | E19: 0.49583333 | F19: -3888 | G19: -965 | H19: 750 | I19: 60 | J19: 2001 | K19: 50 | L19: 15 | M19: 150 | N19: 80 | O19: 400 | P19: 3.08 | Q19: 3.06 | R19: 6 | S19: 3 | T19: 3 | U19: 0.1577031 | V19: 0.0077043107 | W19: 0.0002524797 | X19: 2.1990217 | Y19: 0.0067992694 | Z19: 0.011188195 | AA19: 7231.1354 | AB19: 353.25309 | AC19: 45855.597 | AD19: 0.0042887167 | AE19: 0.0056741493 | AF19: 0.026224146 | AG19: 0.0022339931 | AH19: 0.034871847 | AI19: 0.006663691 | AJ19: 0.0054128 | AK19: 0.0046408324 | AL19: 0.0071491186 | AM19: 6 | AN19: 4 | AO19: 192004 | AP19: 975262 | AU19: =U19-$U$3 -> 0.15496772 | AV19: =V19*BI19 -> 0.38521553 | AY19: =AU19^2*6.1453+AU19*6.7708 -> 1.1968348 | BC19: =AV19*24584 -> 9470.1387 | BD19: =Y19/Y$12*BL$12/$BI$12*$BI19 -> 28882.372 | BF19: =$X19/X$10*BN$10/$BI$10*$BI19 -> 8.9936603 | BI19: 50
AY20: =AVERAGE(AY15:AY19) -> 1.2094854 | BC20: =AVERAGE(BC15:BC19) -> 9412.4586 | BD20: =AVERAGE(BD15:BD19) -> 29176.249
AY21: =STDEV(AY15:AY19) -> 0.027846143 | BC21: =STDEV(BC15:BC19) -> 117.33902 | BD21: =STDEV(BD15:BD19) -> 510.65883
A23: Wood | B23: 6_ICB-8-1300-15_1 | C23: _x2176y-931.ais | D23: 45378 | E23: 0.50277778 | F23: 2176 | G23: -931 | H23: 750 | I23: 60 | J23: 2001 | K23: 50 | L23: 15 | M23: 150 | N23: 80 | O23: 400 | P23: 3.07 | Q23: 3.01 | R23: 43 | S23: 4 | T23: 3 | U23: 0.42696997 | V23: 0.0071924587 | W23: 0.00016343564 | X23: 2.2445092 | Y23: 0.0095929214 | Z23: 0.010451075 | AA23: 18554.956 | AB23: 312.57742 | AC23: 43459.801 | AD23: 0.0015433886 | AE23: 0.012148082 | AF23: 0.050462775 | AG23: 0.003652679 | AH23: 0.037282079 | AI23: 0.0097479557 | AJ23: 0.0085934497 | AK23: 0.017639253 | AL23: 0.0079644459 | AM23: 6 | AN23: 4 | AO23: 192004 | AP23: 975262 | AU23: =U23-$U$3 -> 0.42423459 | AV23: =V23*BI23 -> 0.35962293 | AY23: =AU23^2*6.1453+AU23*6.7708 -> 3.9784079 | BC23: =AV23*24584 -> 8840.9702 | BD23: =Y23/Y$12*BL$12/$BI$12*$BI23 -> 40749.426 | BF23: =$X23/X$10*BN$10/$BI$10*$BI23 -> 9.1796974 | BI23: 50
A24: Wood | B24: 7_ICB-8-1300-15_2 | C24: _x2391y-1018.ais | D24: 45378 | E24: 0.50902778 | F24: 2391 | G24: -1018 | H24: 750 | I24: 60 | J24: 2001 | K24: 50 | L24: 15 | M24: 150 | N24: 80 | O24: 400 | P24: 3.01 | Q24: 3.04 | R24: 49 | S24: 6 | T24: 6 | U24: 0.41949964 | V24: 0.0073217532 | W24: 0.00014059815 | X24: 2.2424781 | Y24: 0.0090996922 | Z24: 0.010110544 | AA24: 18163.12 | AB24: 317.0525 | AC24: 43296.574 | AD24: 0.0063278321 | AE24: 0.010013403 | AF24: 0.081545172 | AG24: 0.0034555002 | AH24: 0.03268994 | AI24: 0.0070046639 | AJ24: 0.0077179609 | AK24: 0.0079015003 | AL24: 0.013847952 | AM24: 6 | AN24: 4 | AO24: 192004 | AP24: 975262 | AU24: =U24-$U$3 -> 0.41676426 | AV24: =V24*BI24 -> 0.36608766 | AY24: =AU24^2*6.1453+AU24*6.7708 -> 3.8892197 | BC24: =AV24*24584 -> 8999.8991 | BD24: =Y24/Y$12*BL$12/$BI$12*$BI24 -> 38654.255 | BF24: =$X24/X$10*BN$10/$BI$10*$BI24 -> 9.1713901 | BI24: 50
A25: Wood | B25: 8_ICB-8-1300-15_3 | C25: _x2291y-1168.ais | D25: 45378 | E25: 0.51527778 | F25: 2291 | G25: -1168 | H25: 750 | I25: 60 | J25: 2001 | K25: 50 | L25: 15 | M25: 150 | N25: 80 | O25: 400 | P25: 3.05 | Q25: 3.07 | R25: 46 | S25: 9 | T25: 8 | U25: 0.41842915 | V25: 0.0074697871 | W25: 0.00016186527 | X25: 2.2381221 | Y25: 0.0092807216 | Z25: 0.010108168 | AA25: 18459.053 | AB25: 329.50269 | AC25: 44126.514 | AD25: 0.0079423759 | AE25: 0.016242259 | AF25: 0.053949063 | AG25: 0.0044190162 | AH25: 0.031973494 | AI25: 0.0082289587 | AJ25: 0.0050451965 | AK25: 0.0095168049 | AL25: 0.012646005 | AM25: 6 | AN25: 4 | AO25: 192004 | AP25: 975262 | AU25: =U25-$U$3 -> 0.41569377 | AV25: =V25*BI25 -> 0.37348935 | AY25: =AU25^2*6.1453+AU25*6.7708 -> 3.8764953 | BC25: =AV25*24584 -> 9181.8623 | BD25: =Y25/Y$12*BL$12/$BI$12*$BI25 -> 39423.243 | BF25: =$X25/X$10*BN$10/$BI$10*$BI25 -> 9.1535751 | BI25: 50
A26: Wood | B26: 9_ICB-8-1300-15_4 | C26: _x2114y-836.ais | D26: 45378 | E26: 0.52222222 | F26: 2114 | G26: -836 | H26: 750 | I26: 60 | J26: 2001 | K26: 50 | L26: 15 | M26: 150 | N26: 80 | O26: 400 | P26: 3.07 | Q26: 3.08 | R26: 41 | S26: 2 | T26: 7 | U26: 0.42414645 | V26: 0.0072582025 | W26: 0.00015066469 | X26: 2.2354486 | Y26: 0.0096723565 | Z26: 0.010494446 | AA26: 18705.346 | AB26: 320.02754 | AC26: 44114.233 | AD26: 0.007181736 | AE26: 0.0087298156 | AF26: 0.029952043 | AG26: 0.0046362678 | AH26: 0.039062883 | AI26: 0.0067702227 | AJ26: 0.0057205449 | AK26: 0.013224638 | AL26: 0.012862005 | AM26: 6 | AN26: 4 | AO26: 192004 | AP26: 975262 | AU26: =U26-$U$3 -> 0.42141108 | AV26: =V26*BI26 -> 0.36291012 | AY26: =AU26^2*6.1453+AU26*6.7708 -> 3.9446173 | BC26: =AV26*24584 -> 8921.7825 | BD26: =Y26/Y$12*BL$12/$BI$12*$BI26 -> 41086.855 | BF26: =$X26/X$10*BN$10/$BI$10*$BI26 -> 9.1426405 | BI26: 50
A27: Wood | B27: 10_ICB-8-1300-15_drop_BL | C27: _x2044y-1515.ais | D27: 45378 | E27: 0.52847222 | F27: 2044 | G27: -1515 | H27: 750 | I27: 60 | J27: 2001 | K27: 50 | L27: 15 | M27: 150 | N27: 80 | O27: 400 | P27: 3.08 | Q27: 3.09 | R27: 40 | S27: 11 | T27: 11 | U27: 0.47801515 | V27: 0.0081747512 | W27: 0.0001770145 | X27: 2.2450632 | Y27: 0.010456184 | Z27: 0.010771102 | AA27: 19436.585 | AB27: 332.45274 | AC27: 40672.254 | AU27: =U27-$U$3 -> 0.47527977 | AV27: =V27*BI27 -> 0.40873756 | AY27: =AU27^2*6.1453+AU27*6.7708 -> 4.6061914 | BC27: =AV27*24584 -> 10048.404 | BD27: =Y27/Y$12*BL$12/$BI$12*$BI27 -> 44416.449 | BF27: =$X27/X$10*BN$10/$BI$10*$BI27 -> 9.1819631 | BI27: 50
AY28: =AVERAGE(AY23:AY26) -> 3.9221851 | BC28: =AVERAGE(BC23:BC26) -> 8986.1285 | BD28: =AVERAGE(BD23:BD26) -> 39978.445
AY29: =STDEV(AY23:AY26) -> 0.047744055 | BC29: =STDEV(BC23:BC26) -> 145.73113 | BD29: =STDEV(BD23:BD26) -> 1137.9385
A32: Wood | B32: 1_ICB-8-1200-5_1 | C32: _x3172y-3724.ais | D32: 45378 | E32: 0.55347222 | F32: 3172 | G32: -3724 | H32: 750 | I32: 60 | J32: 2001 | K32: 50 | L32: 15 | M32: 150 | N32: 80 | O32: 400 | P32: 3.07 | Q32: 3.07 | R32: -5 | S32: 5 | T32: 7 | U32: 0.34650296 | V32: 0.00080323286 | W32: 0.0020748898 | X32: 2.2115828 | Y32: 0.012529707 | Z32: 0.012638592 | AA32: 17985.194 | AB32: 41.725043 | AC32: 51993.072 | AD32: 0.016369566 | AE32: 0.020560295 | AF32: 0.047508863 | AG32: 0.0025646527 | AH32: 0.049089675 | AI32: 0.0087766281 | AJ32: 0.018822541 | AK32: 0.03261811 | AL32: 0.034739103 | AM32: 6 | AN32: 4 | AO32: 192004 | AP32: 975262 | AU32: =U32-$U$3 -> 0.34376758 | AV32: =V32*BI32 -> 0.040161643 | AY32: =AU32^2*6.1453+AU32*6.7708 -> 3.0538094 | BC32: =AV32*24584 -> 987.33384 | BD32: =Y32/Y$12*BL$12/$BI$12*$BI32 -> 53224.491 | BF32: =$X32/X$10*BN$10/$BI$10*$BI32 -> 9.0450333 | BI32: 50
A33: Wood | B33: 2_ICB-8-1200-5_2 | C33: _x3155y-4034.ais | D33: 45378 | E33: 0.55972222 | F33: 3155 | G33: -4034 | H33: 750 | I33: 60 | J33: 2001 | K33: 50 | L33: 15 | M33: 150 | N33: 80 | O33: 400 | P33: 3.08 | Q33: 3.04 | R33: -6 | S33: 10 | T33: 3 | U33: 0.35685547 | V33: 0.00093285619 | W33: 0.0020009412 | X33: 2.2299435 | Y33: 0.011928571 | Z33: 0.012112082 | AA33: 19289.888 | AB33: 50.975067 | AC33: 54129.636 | AD33: 0.012150123 | AE33: 0.08327057 | AF33: 0.032668331 | AG33: 0.0017750573 | AH33: 0.026649009 | AI33: 0.011031141 | AJ33: 0.026475507 | AK33: 0.12162149 | AL33: 0.038322311 | AM33: 6 | AN33: 4 | AO33: 192004 | AP33: 975262 | AU33: =U33-$U$3 -> 0.35412009 | AV33: =V33*BI33 -> 0.046642809 | AY33: =AU33^2*6.1453+AU33*6.7708 -> 3.1683033 | BC33: =AV33*24584 -> 1146.6668 | BD33: =Y33/Y$12*BL$12/$BI$12*$BI33 -> 50670.949 | BF33: =$X33/X$10*BN$10/$BI$10*$BI33 -> 9.1201258 | BI33: 50
A34: Wood | B34: 3_ICB-8-1200-5_3 | C34: _x3056y-3908.ais | D34: 45378 | E34: 0.56597222 | F34: 3056 | G34: -3908 | H34: 750 | I34: 60 | J34: 2001 | K34: 50 | L34: 15 | M34: 150 | N34: 80 | O34: 400 | P34: 3.04 | Q34: 3 | R34: -6 | S34: 10 | T34: 2 | U34: 0.36621154 | V34: 0.0011489533 | W34: 0.0019877775 | X34: 2.2256212 | Y34: 0.01223041 | Z34: 0.012509739 | AA34: 18655.972 | AB34: 59.250096 | AC34: 50997.77 | AD34: 0.010490543 | AE34: 0.15259561 | AF34: 0.038108493 | AG34: 0.0023074444 | AH34: 0.035110959 | AI34: 0.01014208 | AJ34: 0.02399358 | AK34: 0.18448006 | AL34: 0.0343093 | AM34: 6 | AN34: 4 | AO34: 192004 | AP34: 975262 | AU34: =U34-$U$3 -> 0.36347617 | AV34: =V34*BI34 -> 0.057447666 | AY34: =AU34^2*6.1453+AU34*6.7708 -> 3.2729103 | BC34: =AV34*24584 -> 1412.2934 | BD34: =Y34/Y$12*BL$12/$BI$12*$BI34 -> 51953.119 | BF34: =$X34/X$10*BN$10/$BI$10*$BI34 -> 9.1024483 | BI34: 50
A35: Wood | B35: 4_ICB-8-1200-5_4 | C35: _x3148y-3556.ais | D35: 45378 | E35: 0.57291667 | F35: 3148 | G35: -3556 | H35: 750 | I35: 60 | J35: 2001 | K35: 50 | L35: 15 | M35: 150 | N35: 80 | O35: 400 | P35: 2.99 | Q35: 3.03 | R35: -1 | S35: 7 | T35: 1 | U35: 0.3614942 | V35: 0.00070611822 | W35: 0.0020017238 | X35: 2.2301173 | Y35: 0.012298485 | Z35: 0.012445743 | AA35: 17919.514 | AB35: 35.050031 | AC35: 49582.261 | AD35: 0.0032329278 | AE35: 0.019017997 | AF35: 0.032295888 | AG35: 0.0022480015 | AH35: 0.035496724 | AI35: 0.007767821 | AJ35: 0.022315145 | AK35: 0.042020268 | AL35: 0.025386346 | AM35: 6 | AN35: 4 | AO35: 192004 | AP35: 975262 | AU35: =U35-$U$3 -> 0.35875882 | AV35: =V35*BI35 -> 0.035305911 | AY35: =AU35^2*6.1453+AU35*6.7708 -> 3.2200329 | BC35: =AV35*24584 -> 867.96052 | BD35: =Y35/Y$12*BL$12/$BI$12*$BI35 -> 52242.291 | BF35: =$X35/X$10*BN$10/$BI$10*$BI35 -> 9.1208363 | BI35: 50
AY36: =AVERAGE(AY32:AY35) -> 3.178764 | BC36: =AVERAGE(BC32:BC35) -> 1103.5636 | BD36: =AVERAGE(BD32:BD35) -> 52022.712
AY37: =STDEV(AY32:AY35) -> 0.093612175 | BC37: =STDEV(BC32:BC35) -> 235.36507 | BD37: =STDEV(BD32:BD35) -> 1052.7098
A39: Wood | B39: 5_ICB-8-1200-10_1 | C39: _x-221y2427.ais | D39: 45378 | E39: 0.57916667 | F39: -221 | G39: 2427 | H39: 750 | I39: 60 | J39: 2001 | K39: 50 | L39: 15 | M39: 150 | N39: 80 | O39: 400 | P39: 3.03 | Q39: 3.05 | R39: -8 | S39: 9 | T39: 3 | U39: 0.42429338 | V39: 0.0032599941 | W39: 0.0016998434 | X39: 2.2231959 | Y39: 0.012322751 | Z39: 0.011425213 | AA39: 21386.101 | AB39: 164.37567 | AC39: 50407.035 | AD39: 0.0031525689 | AE39: 0.0056819335 | AF39: 0.032059702 | AG39: 0.0016784461 | AH39: 0.039227958 | AI39: 0.0045201906 | AJ39: 0.022357884 | AK39: 0.027561101 | AL39: 0.023074642 | AM39: 6 | AN39: 4 | AO39: 192004 | AP39: 975262 | AU39: =U39-$U$3 -> 0.42155801 | AV39: =V39*BI39 -> 0.16299971 | AY39: =AU39^2*6.1453+AU39*6.7708 -> 3.9463733 | BC39: =AV39*24584 -> 4007.1847 | BD39: =Y39/Y$12*BL$12/$BI$12*$BI39 -> 52345.371 | BF39: =$X39/X$10*BN$10/$BI$10*$BI39 -> 9.0925291 | BI39: 50
A40: Wood | B40: 6_ICB-8-1200-10_2 | C40: _x-236y2606.ais | D40: 45378 | E40: 0.58611111 | F40: -236 | G40: 2606 | H40: 750 | I40: 60 | J40: 2001 | K40: 50 | L40: 15 | M40: 150 | N40: 80 | O40: 400 | P40: 3.05 | Q40: 3.05 | R40: -6 | S40: 8 | T40: -1 | U40: 0.41268697 | V40: 0.0035552255 | W40: 0.0017087668 | X40: 2.221865 | Y40: 0.012137568 | Z40: 0.011485349 | AA40: 20310.942 | AB40: 175.00076 | AC40: 49220.707 | AD40: 0.0025719505 | AE40: 0.0031414179 | AF40: 0.04508629 | AG40: 0.0027552398 | AH40: 0.038285614 | AI40: 0.0070138797 | AJ40: 0.018824305 | AK40: 0.021335127 | AL40: 0.020194842 | AM40: 6 | AN40: 4 | AO40: 192004 | AP40: 975262 | AU40: =U40-$U$3 -> 0.40995159 | AV40: =V40*BI40 -> 0.17776127 | AY40: =AU40^2*6.1453+AU40*6.7708 -> 3.8084812 | BC40: =AV40*24584 -> 4370.0832 | BD40: =Y40/Y$12*BL$12/$BI$12*$BI40 -> 51558.74 | BF40: =$X40/X$10*BN$10/$BI$10*$BI40 -> 9.0870859 | BI40: 50
A41: Wood | B41: 7_ICB-8-1200-10_3 | C41: _x-262y2740.ais | D41: 45378 | E41: 0.59236111 | F41: -262 | G41: 2740 | H41: 750 | I41: 60 | J41: 2001 | K41: 50 | L41: 15 | M41: 150 | N41: 80 | O41: 400 | P41: 3.06 | Q41: 3.03 | R41: -6 | S41: 8 | T41: -2 | U41: 0.41731176 | V41: 0.0034589228 | W41: 0.0017979975 | X41: 2.2216231 | Y41: 0.012181345 | Z41: 0.011599798 | AA41: 20210.035 | AB41: 167.5757 | AC41: 48423.506 | AD41: 0.0023130683 | AE41: 0.011922573 | AF41: 0.034744627 | AG41: 0.0024458492 | AH41: 0.041114722 | AI41: 0.0058718676 | AJ41: 0.019083327 | AK41: 0.02762979 | AL41: 0.016778113 | AM41: 6 | AN41: 4 | AO41: 192004 | AP41: 975262 | AU41: =U41-$U$3 -> 0.41457638 | AV41: =V41*BI41 -> 0.17294614 | AY41: =AU41^2*6.1453+AU41*6.7708 -> 3.8632285 | BC41: =AV41*24584 -> 4251.7079 | BD41: =Y41/Y$12*BL$12/$BI$12*$BI41 -> 51744.696 | BF41: =$X41/X$10*BN$10/$BI$10*$BI41 -> 9.0860964 | BI41: 50
A42: Wood | B42: 8_ICB-8-1200-10_4 | C42: _x-265y3021.ais | D42: 45378 | E42: 0.59861111 | F42: -265 | G42: 3021 | H42: 750 | I42: 60 | J42: 2001 | K42: 50 | L42: 15 | M42: 150 | N42: 80 | O42: 400 | P42: 3.04 | Q42: 3.04 | R42: -3 | S42: 8 | T42: 2 | U42: 0.41375862 | V42: 0.003476428 | W42: 0.0018750553 | X42: 2.2165772 | Y42: 0.011982227 | Z42: 0.011488359 | AA42: 19933.149 | AB42: 167.4757 | AC42: 48174.792 | AD42: 0.0031583376 | AE42: 0.015576143 | AF42: 0.041706719 | AG42: 0.0043983216 | AH42: 0.036245247 | AI42: 0.0049344303 | AJ42: 0.018498642 | AK42: 0.023604439 | AL42: 0.017889631 | AM42: 6 | AN42: 4 | AO42: 192004 | AP42: 975262 | AU42: =U42-$U$3 -> 0.41102325 | AV42: =V42*BI42 -> 0.1738214 | AY42: =AU42^2*6.1453+AU42*6.7708 -> 3.8211439 | BC42: =AV42*24584 -> 4273.2253 | BD42: =Y42/Y$12*BL$12/$BI$12*$BI42 -> 50898.873 | BF42: =$X42/X$10*BN$10/$BI$10*$BI42 -> 9.0654598 | BI42: 50
A43: Wood | B43: 5_ICB-8-1200-10_5 | C43: _x-286y3425.ais | D43: 45378 | E43: 0.60555556 | F43: -286 | G43: 3425 | H43: 750 | I43: 60 | J43: 2001 | K43: 50 | L43: 15 | M43: 150 | N43: 80 | O43: 400 | P43: 3.03 | Q43: 3.04 | R43: -1 | S43: 8 | T43: 0 | U43: 0.42272055 | V43: 0.0034130402 | W43: 0.0019032547 | X43: 2.2117234 | Y43: 0.011897393 | Z43: 0.011640818 | AA43: 20259.072 | AB43: 163.62567 | AC43: 47926.428 | AD43: 0.0032077299 | AE43: 0.012441376 | AF43: 0.054543135 | AG43: 0.0029690852 | AH43: 0.039223496 | AI43: 0.0072072325 | AJ43: 0.013514597 | AK43: 0.02373088 | AL43: 0.013691682 | AM43: 6 | AN43: 4 | AO43: 192004 | AP43: 975262 | AU43: =U43-$U$3 -> 0.41998518 | AV43: =V43*BI43 -> 0.17065201 | AY43: =AU43^2*6.1453+AU43*6.7708 -> 3.92759 | BC43: =AV43*24584 -> 4195.309 | BD43: =Y43/Y$12*BL$12/$BI$12*$BI43 -> 50538.508 | BF43: =$X43/X$10*BN$10/$BI$10*$BI43 -> 9.0456083 | BI43: 50
AY44: =AVERAGE(AY39:AY43) -> 3.8733634 | BC44: =AVERAGE(BC39:BC43) -> 4219.502 | BD44: =AVERAGE(BD39:BD43) -> 51417.238
AY45: =STDEV(AY39:AY43) -> 0.061867325 | BC45: =STDEV(BC39:BC43) -> 134.40798 | BD45: =STDEV(BD39:BD43) -> 712.3117
A47: Wood | B47: 7_ICB-4-1200-5_1 | C47: _x-3641y-3337.ais | D47: 45378 | E47: 0.61527778 | F47: -3641 | G47: -3337 | P47: 3.04 | Q47: 3.08 | R47: 0 | S47: -2 | T47: 9 | U47: 0.17955266 | V47: 0.00046877103 | W47: 0.00012404423 | X47: 2.1207439 | Y47: 0.010268742 | Z47: 0.012821528 | AA47: 8785.6844 | AB47: 22.925013 | AC47: 48934.707 | AU47: =U47-$U$3 -> 0.17681729 | AV47: =V47*BI47 -> 0.023438552 | AY47: =AU47^2*6.1453+AU47*6.7708 -> 1.3893233 | BC47: =AV47*24584 -> 576.21335 | BD47: =Y47/Y$12*BL$12/$BI$12*$BI47 -> 43620.218 | BF47: =$X47/X$10*BN$10/$BI$10*$BI47 -> 8.6735162 | BI47: 50
A48: Wood | B48: 8_ICB-4-1200-5_2 | C48: _x-3604y-3920.ais | D48: 45378 | E48: 0.62152778 | F48: -3604 | G48: -3920 | P48: 3.09 | Q48: 3.03 | R48: 0 | S48: -1 | T48: 9 | U48: 0.18220701 | V48: 0.00049158039 | W48: 0.00012923013 | X48: 2.1792676 | Y48: 0.010470272 | Z48: 0.012403012 | AA48: 8688.3636 | AB48: 23.425014 | AC48: 47685.458 | AU48: =U48-$U$3 -> 0.17947163 | AV48: =V48*BI48 -> 0.024579019 | AY48: =AU48^2*6.1453+AU48*6.7708 -> 1.413107 | BC48: =AV48*24584 -> 604.25061 | BD48: =Y48/Y$12*BL$12/$BI$12*$BI48 -> 44476.291 | BF48: =$X48/X$10*BN$10/$BI$10*$BI48 -> 8.9128693 | BI48: 50
...

Sheet summary
A1: =data!B1 -> sample | B1: =data!C1 -> file | C1: =data!F1 -> X pos | D1: =data!G1 -> Y pos | E1: =data!R1 -> Xdefl | F1: =data!S1 -> Ydefl | G1: =data!AC1 -> 30Si cps | I1: =data!AZ1 -> H2O _AND | J1: =data!BA1 -> H2O _DCB | K1: =data!BB1 -> H2O _HSR | L1: =data!BC1 -> CO2 ppm | M1: =data!BD1 -> Cl ppm | N1: =data!BE1 -> F ppm | O1: =data!BF1 -> MgO | Q1: =data!BH1 -> notes | R1: =data!BI1 -> SiO2
R2: UPDATE IN SHEET 'DATA'
A3: =data!B76 -> 1_DCB-2-1200-10-A1861-01 | B3: =data!C76 -> _x-79y1065.ais | C3: =data!F76 -> -79 | D3: =data!G76 -> 1065 | E3: =data!R76 -> 5 | F3: =data!S76 -> 4 | G3: =data!AC76 -> 59303.915 | I3: =data!AZ76 -> 8.1769128 | J3: =data!BA76 -> 8.3522828 | K3: =data!BB76 -> 8.8783929 | L3: =data!BC76 -> 4411.6916 | M3: =data!BD76 -> 3991.8022 | N3: =data!BE76 -> 687.34249 | O3: =data!BF76 -> 1.2941247 | Q3: =data!BH76 -> 0 | R3: =data!BI76 -> 60.41
A4: =data!B77 -> 2_DCB-2-1200-10-A1861-02 | B4: =data!C77 -> _x-93y954.ais | C4: =data!F77 -> -93 | D4: =data!G77 -> 954 | E4: =data!R77 -> 4 | F4: =data!S77 -> 7 | G4: =data!AC77 -> 60453.615 | I4: =data!AZ77 -> 8.2163388 | J4: =data!BA77 -> 8.3925544 | K4: =data!BB77 -> 8.9212011 | L4: =data!BC77 -> 4256.5327 | M4: =data!BD77 -> 3400.5539 | N4: =data!BE77 -> 676.1411 | O4: =data!BF77 -> 1.2965881 | Q4: =data!BH77 -> 0 | R4: =data!BI77 -> 60.41
A5: =data!B78 -> 3_DCB-2-1200-10-A1861-03 | B5: =data!C78 -> _x39y964.ais | C5: =data!F78 -> 39 | D5: =data!G78 -> 964 | E5: =data!R78 -> 6 | F5: =data!S78 -> 6 | G5: =data!AC78 -> 60440.08 | I5: =data!AZ78 -> 8.2423225 | J5: =data!BA78 -> 8.4190953 | K5: =data!BB78 -> 8.9494139 | L5: =data!BC78 -> 4369.7578 | M5: =data!BD78 -> 3378.3236 | N5: =data!BE78 -> 658.39603 | O5: =data!BF78 -> 1.2970327 | Q5: =data!BH78 -> 0 | R5: =data!BI78 -> 60.41
A6: =data!B79 -> 4_DCB-2-1200-10-A1861-04 | B6: =data!C79 -> _x335y21.ais | C6: =data!F79 -> 335 | D6: =data!G79 -> 21 | E6: =data!R79 -> 6 | F6: =data!S79 -> 2 | G6: =data!AC79 -> 63854.635 | I6: =data!AZ79 -> 7.9683438 | J6: =data!BA79 -> 8.1392406 | K6: =data!BB79 -> 8.6519311 | L6: =data!BC79 -> 4215.4927 | M6: =data!BD79 -> 3613.8369 | N6: =data!BE79 -> 716.06694 | O6: =data!BF79 -> 1.3532009 | Q6: =data!BH79 -> 0 | R6: =data!BI79 -> 60.41
A7: =data!B80 -> 5_DCB-2-1200-10-A1861-05 | B7: =data!C80 -> _x282y108.ais | C7: =data!F80 -> 282 | D7: =data!G80 -> 108 | E7: =data!R80 -> 5 | F7: =data!S80 -> 1 | G7: =data!AC80 -> 60498.558 | I7: =data!AZ80 -> 8.0946961 | J7: =data!BA80 -> 8.2683028 | K7: =data!BB80 -> 8.789123 | L7: =data!BC80 -> 4322.6851 | M7: =data!BD80 -> 3763.9588 | N7: =data!BE80 -> 680.03011 | O7: =data!BF80 -> 1.3393725 | Q7: =data!BH80 -> 0 | R7: =data!BI80 -> 60.41
A8: =data!B81 -> 6_DCB-2-1200-10-A1861-06 | B8: =data!C81 -> _x205y7.ais | C8: =data!F81 -> 205 | D8: =data!G81 -> 7 | E8: =data!R81 -> 3 | F8: =data!S81 -> 2 | G8: =data!AC81 -> 60388.559 | I8: =data!AZ81 -> 8.1827509 | J8: =data!BA81 -> 8.3582461 | K8: =data!BB81 -> 8.8847318 | L8: =data!BC81 -> 4627.2605 | M8: =data!BD81 -> 3654.0041 | N8: =data!BE81 -> 698.54975 | O8: =data!BF81 -> 1.3415178 | Q8: =data!BH81 -> 0 | R8: =data!BI81 -> 60.41
A10: =data!B83 -> 7_DCB-2-1200-5-B781-01 | B10: =data!C83 -> _x-4497y944.ais | C10: =data!F83 -> -4497 | D10: =data!G83 -> 944 | E10: =data!R83 -> -11 | F10: =data!S83 -> 3 | G10: =data!AC83 -> 60064.802 | I10: =data!AZ83 -> 5.1039663 | J10: =data!BA83 -> 5.2134309 | K10: =data!BB83 -> 5.5418247 | L10: =data!BC83 -> 2607.5789 | M10: =data!BD83 -> 3897.143 | N10: =data!BE83 -> 490.52481 | O10: =data!BF83 -> 1.227623 | Q10: =data!BH83 -> 0 | R10: =data!BI83 -> 66.15
A11: =data!B84 -> 8_DCB-2-1200-5-B781-02 | B11: =data!C84 -> _x-4574y949.ais | C11: =data!F84 -> -4574 | D11: =data!G84 -> 949 | E11: =data!R84 -> -12 | F11: =data!S84 -> 3 | G11: =data!AC84 -> 53013.991 | I11: =data!AZ84 -> 5.4629452 | J11: =data!BA84 -> 5.5801089 | K11: =data!BB84 -> 5.9315997 | L11: =data!BC84 -> 2666.9771 | M11: =data!BD84 -> 5281.4878 | N11: =data!BE84 -> 472.91629 | O11: =data!BF84 -> 1.2349599 | Q11: =data!BH84 -> 0 | R11: =data!BI84 -> 66.15
A12: =data!B85 -> 9_DCB-2-1200-5-B781-03 | B12: =data!C85 -> _x-4520y746.ais | C12: =data!F85 -> -4520 | D12: =data!G85 -> 746 | E12: =data!R85 -> -11 | F12: =data!S85 -> 5 | G12: =data!AC85 -> 55761.026 | I12: =data!AZ85 -> 5.599634 | J12: =data!BA85 -> 5.7197292 | K12: =data!BB85 -> 6.0800148 | L12: =data!BC85 -> 2638.1517 | M12: =data!BD85 -> 3062.4238 | N12: =data!BE85 -> 456.13899 | O12: =data!BF85 -> 1.2217787 | Q12: =data!BH85 -> 0 | R12: =data!BI85 -> 66.15
A13: =data!B86 -> 10_DCB-2-1200-5-B781-04 | B13: =data!C86 -> _x-4387y930.ais | C13: =data!F86 -> -4387 | D13: =data!G86 -> 930 | E13: =data!R86 -> -9 | F13: =data!S86 -> 4 | G13: =data!AC86 -> 52103.287 | I13: =data!AZ86 -> 5.9324484 | J13: =data!BA86 -> 6.0596815 | K13: =data!BB86 -> 6.4413806 | L13: =data!BC86 -> 2669.5278 | M13: =data!BD86 -> 3034.4159 | N13: =data!BE86 -> 460.87135 | O13: =data!BF86 -> 1.240756 | Q13: =data!BH86 -> 0 | R13: =data!BI86 -> 66.15
A14: =data!B87 -> 11_DCB-2-1200-5-B781-05 | B14: =data!C87 -> _x-4534y1347.ais | C14: =data!F87 -> -4534 | D14: =data!G87 -> 1347 | E14: =data!R87 -> -13 | F14: =data!S87 -> 0 | G14: =data!AC87 -> 55884.395 | I14: =data!AZ87 -> 5.364143 | J14: =data!BA87 -> 5.4791876 | K14: =data!BB87 -> 5.8243214 | L14: =data!BC87 -> 2686.8568 | M14: =data!BD87 -> 3108.772 | N14: =data!BE87 -> 481.20681 | O14: =data!BF87 -> 1.3032305 | Q14: =data!BH87 -> 0 | R14: =data!BI87 -> 66.15
A16: =data!B89 -> 12_DCB-2-1200-15-A1860-01 | B16: =data!C89 -> _x5024y-80.ais | C16: =data!F89 -> 5024 | D16: =data!G89 -> -80 | E16: =data!R89 -> 24 | F16: =data!S89 -> 8 | G16: =data!AC89 -> 70098.542 | I16: =data!AZ89 -> 7.2514442 | J16: =data!BA89 -> 7.4069657 | K16: =data!BB89 -> 7.8735302 | L16: =data!BC89 -> 7662.3554 | M16: =data!BD89 -> 4388.8617 | N16: =data!BE89 -> 492.96212 | O16: =data!BF89 -> 1.1352941 | Q16: =data!BH89 -> 0 | R16: =data!BI89 -> 58.51
... A20: =data!B93 -> 16_DCB-2-1200-15-A1860-05 | B20: =data!C93 -> _x5181y334.ais | C20: =data!F93 -> 5181 | D20: =data!G93 -> 334 | E20: =data!R93 -> 26 | F20: =data!S93 -> 4 | G20: =data!AC93 -> 61839.157 | I20: =data!AZ93 -> 7.9475321 | J20: =data!BA93 -> 8.1179826 | K20: =data!BB93 -> 8.6293341 | L20: =data!BC93 -> 8922.8023 | M20: =data!BD93 -> 4419.8581 | N20: =data!BE93 -> 452.93569 | O20: =data!BF93 -> 1.165224 | Q20: =data!BH93 -> 0 | R20: =data!BI93 -> 58.51
A22: =data!B97 -> 18_AND-8-1200-10-A1811-01 | B22: =data!C97 -> _x-575y-2009.ais | C22: =data!F97 -> -575 | D22: =data!G97 -> -2009 | E22: =data!R97 -> 14 | F22: =data!S97 -> 5 | G22: =data!AC97 -> 58639.542 | I22: =data!AZ97 -> 6.7675155 | J22: =data!BA97 -> 6.9126582 | K22: =data!BB97 -> 7.3480863 | L22: =data!BC97 -> 4242.6105 | M22: =data!BD97 -> 6882.5459 | N22: =data!BE97 -> 30.996145 | O22: =data!BF97 -> 2.9536639 | Q22: =data!BH97 -> 0 | R22: =data!BI97 -> 58.71
A23: =data!B98 -> 19_AND-8-1200-10-A1811-02 | B23: =data!C98 -> _x-656y-1825.ais | C23: =data!F98 -> -656 | D23: =data!G98 -> -1825 | E23: =data!R98 -> 12 | F23: =data!S98 -> 3 | G23: =data!AC98 -> 57908.193 | I23: =data!AZ98 -> 6.8343551 | J23: =data!BA98 -> 6.9809313 | K23: =data!BB98 -> 7.42066 | L23: =data!BC98 -> 3985.253 | M23: =data!BD98 -> 7004.0446 | N23: =data!BE98 -> 29.155947 | O23: =data!BF98 -> 2.9555806 | Q23: =data!BH98 -> 0 | R23: =data!BI98 -> 58.71
A24: =data!B99 -> 20_AND-8-1200-10-A1811-03 | B24: =data!C99 -> _x-509y-1840.ais | C24: =data!F99 -> -509 | D24: =data!G99 -> -1840 | E24: =data!R99 -> 18 | F24: =data!S99 -> 3 | G24: =data!AC99 -> 58350.2 | I24: =data!AZ99 -> 6.8946569 | J24: =data!BA99 -> 7.0425264 | K24: =data!BB99 -> 7.4861349 | L24: =data!BC99 -> 4133.4843 | M24: =data!BD99 -> 7069.3581 | N24: =data!BE99 -> 26.34542 | O24: =data!BF99 -> 2.9416592 | Q24: =data!BH99 -> 0 | R24: =data!BI99 -> 58.71
A25: =data!B100 -> 21_AND-8-1200-10-A1811-04 | B25: =data!C100 -> _x-484y-2148.ais | C25: =data!F100 -> -484 | D25: =data!G100 -> -2148 | E25: =data!R100 -> 17 | F25: =data!S100 -> 9 | G25: =data!AC100 -> 58798.897 | I25: =data!AZ100 -> 6.9263133 | J25: =data!BA100 -> 7.0748618 | K25: =data!BB100 -> 7.5205071 | L25: =data!BC100 -> 4216.6199 | M25: =data!BD100 -> 6886.2574 | N25: =data!BE100 -> 32.086976 | O25: =data!BF100 -> 2.9423818 | Q25: =data!BH100 -> 0 | R25: =data!BI100 -> 58.71
A26: =data!B101 -> 22_AND-8-1200-10-A1811-05 | B26: =data!C101 -> _x-638y-2203.ais | C26: =data!F101 -> -638 | D26: =data!G101 -> -2203 | E26: =data!R101 -> 10 | F26: =data!S101 -> 9 | G26: =data!AC101 -> 58005.62 | I26: =data!AZ101 -> 6.804096 | J26: =data!BA101 -> 6.9500233 | K26: =data!BB101 -> 7.387805 | L26: =data!BC101 -> 4294.0862 | M26: =data!BD101 -> 6730.4113 | N26: =data!BE101 -> 29.139518 | O26: =data!BF101 -> 2.9319382 | Q26: =data!BH101 -> 0 | R26: =data!BI101 -> 58.71
A28: =data!B103 -> 23_AND-4-1200-15-A1796-01 | B28: =data!C103 -> _x4056y-611.ais | C28: =data!F103 -> 4056 | D28: =data!G103 -> -611 | E28: =data!R103 -> 87 | F28: =data!S103 -> 3 | G28: =data!AC103 -> 54287.759 | I28: =data!AZ103 -> 7.2237443 | J28: =data!BA103 -> 7.3786717 | K28: =data!BB103 -> 7.843454 | L28: =data!BC103 -> 10347.124 | M28: =data!BD103 -> 5961.3409 | N28: =data!BE103 -> 180.94321 | O28: =data!BF103 -> 2.8128078 | Q28: =data!BH103 -> high deflection | R28: =data!BI103 -> 57.45
A29: =data!B104 -> 24_AND-4-1200-15-A1796-02 | B29: =data!C104 -> _x4269y-660.ais | C29: =data!F104 -> 4269 | D29: =data!G104 -> -660 | E29: =data!R104 -> 94 | F29: =data!S104 -> 4 | G29: =data!AC104 -> 55302.025 | I29: =data!AZ104 -> 6.9300164 | J29: =data!BA104 -> 7.0786443 | K29: =data!BB104 -> 7.5245279 | L29: =data!BC104 -> 9762.6981 | M29: =data!BD104 -> 6174.5114 | N29: =data!BE104 -> 204.97684 | O29: =data!BF104 -> 2.7627069 | Q29: =data!BH104 -> 0 | R29: =data!BI104 -> 57.45
A30: =data!B105 -> 25_AND-4-1200-15-A1796-03 | B30: =data!C105 -> _x4271y-802.ais | C30: =data!F105 -> 4271 | D30: =data!G105 -> -802 | E30: =data!R105 -> 93 | F30: =data!S105 -> 7 | G30: =data!AC105 -> 54221.96 | I30: =data!AZ105 -> 7.2825715 | J30: =data!BA105 -> 7.4387606 | K30: =data!BB105 -> 7.9073279 | L30: =data!BC105 -> 10382.414 | M30: =data!BD105 -> 6005.091 | N30: =data!BE105 -> 187.28373 | O30: =data!BF105 -> 2.791814 | Q30: =data!BH105 -> 0 | R30: =data!BI105 -> 57.45
A31: =data!B106 -> 26_AND-4-1200-15-A1796-04 | B31: =data!C106 -> _x4279y-349.ais | C31: =data!F106 -> 4279 | D31: =data!G106 -> -349 | E31: =data!R106 -> 97 | F31: =data!S106 -> -2 | G31: =data!AC106 -> 53770.373 | I31: =data!AZ106 -> 7.3890194 | J31: =data!BA106 -> 7.5474915 | K31: =data!BB106 -> 8.0229078 | L31: =data!BC106 -> 10471.633 | M31: =data!BD106 -> 5806.2748 | N31: =data!BE106 -> 208.57744 | O31: =data!BF106 -> 2.8001634 | Q31: =data!BH106 -> 0 | R31: =data!BI106 -> 57.45
A32: =data!B107 -> 27_AND-4-1200-15-A1796-05 | B32: =data!C107 -> _x4043y-412.ais | C32: =data!F107 -> 4043 | D32: =data!G107 -> -412 | E32: =data!R107 -> 89 | F32: =data!S107 -> 0 | G32: =data!AC107 -> 53873.269 | I32: =data!AZ107 -> 7.3332431 | J32: =data!BA107 -> 7.490519 | K32: =data!BB107 -> 7.9623465 | L32: =data!BC107 -> 10447.595 | M32: =data!BD107 -> 6046.7661 | N32: =data!BE107 -> 198.71213 | O32: =data!BF107 -> 2.8129831 | Q32: =data!BH107 -> 0 | R32: =data!BI107 -> 57.45
A34: =data!B138 -> 1_AND-8-1200-10-A1816-01 | B34: =data!C138 -> _x-778y-2106.ais | C34: =data!F138 -> -778 | D34: =data!G138 -> -2106 | E34: =data!R138 -> -2 | F34: =data!S138 -> 2 | G34: =data!AC138 -> 52198.166 | I34: =data!AZ138 -> 7.2312988 | J34: =data!BA138 -> 7.3863883 | K34: =data!BB138 -> 7.8516566 | L34: =data!BC138 -> 4028.8845 | M34: =data!BD138 -> 8629.1986 | N34: =data!BE138 -> 605.61221 | O34: =data!BF138 -> 7.7147277 | Q34: =data!BH138 -> high MgO | R34: =data!BI138 -> 56.16
A35: =data!B139 -> 2_AND-8-1200-10-A1816-02 | B35: =data!C139 -> _x-352y-2150.ais | C35: =data!F139 -> -352 | D35: =data!G139 -> -2150 | E35: =data!R139 -> 3 | F35: =data!S139 -> 3 | G35: =data!AC139 -> 51903.522 | I35: =data!AZ139 -> 7.384637 | J35: =data!BA139 -> 7.5430151 | K35: =data!BB139 -> 8.0181493 | L35: =data!BC139 -> 4298.9313 | M35: =data!BD139 -> 8411.2687 | N35: =data!BE139 -> 596.29466 | O35: =data!BF139 -> 7.7756977 | Q35: =data!BH139 -> 0 | R35: =data!BI139 -> 56.16
A36: =data!B140 -> 3_AND-8-1200-10-A1816-03 | B36: =data!C140 -> _x-599y-1878.ais | C36: =data!F140 -> -599 | D36: =data!G140 -> -1878 | E36: =data!R140 -> 2 | F36: =data!S140 -> 2 | G36: =data!AC140 -> 52636.063 | I36: =data!AZ140 -> 7.1535007 | J36: =data!BA140 -> 7.3069216 | K36: =data!BB140 -> 7.7671843 | L36: =data!BC140 -> 4067.4103 | M36: =data!BD140 -> 8001.5351 | N36: =data!BE140 -> 546.90303 | O36: =data!BF140 -> 8.0193957 | Q36: =data!BH140 -> 0 | R36: =data!BI140 -> 56.16
A37: =data!B141 -> 4_AND-8-1200-10-A1816-04 | B37: =data!C141 -> _x-877y-1458.ais | C37: =data!F141 -> -877 | D37: =data!G141 -> -1458 | E37: =data!R141 -> -3 | F37: =data!S141 -> 0 | G37: =data!AC141 -> 51389.473 | I37: =data!AZ141 -> 7.0423432 | J37: =data!BA141 -> 7.1933801 | K37: =data!BB141 -> 7.6464909 | L37: =data!BC141 -> 4281.2455 | M37: =data!BD141 -> 8656.2332 | N37: =data!BE141 -> 515.31791 | O37: =data!BF141 -> 7.5325009 | Q37: =data!BH141 -> 0 | R37: =data!BI141 -> 56.16
A38: =data!B142 -> 5_AND-8-1200-10-A1816-05 | B38: =data!C142 -> _x-584y-1442.ais | C38: =data!F142 -> -584 | D38: =data!G142 -> -1442 | E38: =data!R142 -> 1 | F38: =data!S142 -> 0 | G38: =data!AC142 -> 53178.122 | I38: =data!AZ142 -> 7.0918876 | J38: =data!BA142 -> 7.2439871 | K38: =data!BB142 -> 7.7002856 | L38: =data!BC142 -> 3754.709 | M38: =data!BD142 -> 7745.8949 | N38: =data!BE142 -> 462.06128 | O38: =data!BF142 -> 6.7955194 | Q38: =data!BH142 -> 0 | R38: =data!BI142 -> 56.16
A40: =data!B144 -> 6_AND-8-1200-5-H104-01 | B40: =data!C144 -> _x-4788y-402.ais | C40: =data!F144 -> -4788 | D40: =data!G144 -> -402 | E40: =data!R144 -> -4 | F40: =data!S144 -> 5 | G40: =data!AC144 -> 57053.817 | I40: =data!AZ144 -> 4.6341785 | J40: =data!BA144 -> 4.7335676 | K40: =data!BB144 -> 5.0317349 | L40: =data!BC144 -> 1896.1732 | M40: =data!BD144 -> 5832.117 | N40: =data!BE144 -> 143.43339 | O40: =data!BF144 -> 3.1214717 | Q40: =data!BH144 -> 0 | R40: =data!BI144 -> 63.19
A41: =data!B145 -> 7_AND-8-1200-5-H104-02 | B41: =data!C145 -> _x-4738y-399.ais | C41: =data!F145 -> -4738 | D41: =data!G145 -> -399 | E41: =data!R145 -> -4 | F41: =data!S145 -> 4 | G41: =data!AC145 -> 59717.76 | I41: =data!AZ145 -> 4.2387627 | J41: =data!BA145 -> 4.3296713 | K41: =data!BB145 -> 4.6023971 | L41: =data!BC145 -> 3779.4332 | M41: =data!BD145 -> 7566.0245 | N41: =data!BE145 -> 150.96613 | O41: =data!BF145 -> 3.1189338 | Q41: =data!BH145 -> 0 | R41: =data!BI145 -> 63.19
A42: =data!B146 -> 8_AND-8-1200-5-H104-03 | B42: =data!C146 -> _x-4704y-469.ais | C42: =data!F146 -> -4704 | D42: =data!G146 -> -469 | E42: =data!R146 -> -3 | F42: =data!S146 -> 5 | G42: =data!AC146 -> 55848 | I42: =data!AZ146 -> 4.4272769 | J42: =data!BA146 -> 4.5222286 | K42: =data!BB146 -> 4.8070836 | L42: =data!BC146 -> 1657.2207 | M42: =data!BD146 -> 6338.9295 | N42: =data!BE146 -> 137.41638 | O42: =data!BF146 -> 3.1223007 | Q42: =data!BH146 -> 0 | R42: =data!BI146 -> 63.19
A43: =data!B147 -> 9_AND-8-1200-5-H104-04 | B43: =data!C147 -> _x-4859y-440.ais | C43: =data!F147 -> -4859 | D43: =data!G147 -> -440 | E43: =data!R147 -> -5 | F43: =data!S147 -> 5 | G43: =data!AC147 -> 55560.767 | I43: =data!AZ147 -> 4.6770779 | J43: =data!BA147 -> 4.777387 | K43: =data!BB147 -> 5.0783145 | L43: =data!BC147 -> 3108.3743 | M43: =data!BD147 -> 6156.9955 | N43: =data!BE147 -> 135.63554 | O43: =data!BF147 -> 3.1357298 | Q43: =data!BH147 -> 0 | R43: =data!BI147 -> 63.19
A44: =data!B148 -> 10_AND-8-1200-5-H104-05 | B44: =data!C148 -> _x-4787y-356.ais | C44: =data!F148 -> -4787 | D44: =data!G148 -> -356 | E44: =data!R148 -> -4 | F44: =data!S148 -> 5 | G44: =data!AC148 -> 54007.681 | I44: =data!AZ148 -> 4.8351416 | J44: =data!BA148 -> 4.9388407 | K44: =data!BB148 -> 5.2499382 | L44: =data!BC148 -> 1594.0791 | M44: =data!BD148 -> 5706.0012 | N44: =data!BE148 -> 141.693 | O44: =data!BF148 -> 3.1185393 | Q44: =data!BH148 -> 0 | R44: =data!BI148 -> 63.19
A46: =data!B150 -> 11_AND-8-1200-15-A1818-01 | B46: =data!C150 -> _x3514y-2109.ais | C46: =data!F150 -> 3514 | D46: =data!G150 -> -2109 | E46: =data!R150 -> 1 | F46: =data!S150 -> -3 | G46: =data!AC150 -> 56446.851 | I46: =data!AZ150 -> 6.8098453 | J46: =data!BA150 -> 6.9558959 | K46: =data!BB150 -> 7.3940475 | L46: =data!BC150 -> 7697.6205 | M46: =data!BD150 -> 6017.1776 | N46: =data!BE150 -> 1064.9532 | O46: =data!BF150 -> 2.9903202 | Q46: =data!BH150 -> 0 | R46: =data!BI150 -> 58.44
A47: =data!B151 -> 12_AND-8-1200-15-A1818-02 | B47: =data!C151 -> _x3689y-2613.ais | C47: =data!F151 -> 3689 | D47: =data!G151 -> -2613 | E47: =data!R151 -> 3 | F47: =data!S151 -> -1 | G47: =data!AC151 -> 55998.855 | I47: =data!AZ151 -> 7.0174964 | J47: =data!BA151 -> 7.1680004 | K47: =data!BB151 -> 7.6195125 | L47: =data!BC151 -> 8054.2412 | M47: =data!BD151 -> 5920.4941 | N47: =data!BE151 -> 945.45975 | O47: =data!BF151 -> 2.9924897 | Q47: =data!BH151 -> 0 | R47: =data!BI151 -> 58.44
... A50: =data!B154 -> 15_AND-8-1200-15-A1818-05 | B50: =data!C154 -> _x3609y-1654.ais | C50: =data!F154 -> 3609 | D50: =data!G154 -> -1654 | E50: =data!R154 -> 2 | F50: =data!S154 -> -6 | G50: =data!AC154 -> 58343.435 | I50: =data!AZ154 -> 6.7554736 | J50: =data!BA154 -> 6.9003581 | K50: =data!BB154 -> 7.3350114 | L50: =data!BC154 -> 8685.0528 | M50: =data!BD154 -> 5992.8025 | N50: =data!BE154 -> 1132.1251 | O50: =data!BF154 -> 2.9729641 | Q50: =data!BH154 -> 0 | R50: =data!BI154 -> 58.44
A52: =data!B158 -> 1_DCB-6-1200-10-A1866-01 | B52: =data!C158 -> _x-876y-926.ais | C52: =data!F158 -> -876 | D52: =data!G158 -> -926 | E52: =data!R158 -> 5 | F52: =data!S158 -> 5 | G52: =data!AC158 -> 66553.017 | I52: =data!AZ158 -> 7.1223451 | J52: =data!BA158 -> 7.2750978 | K52: =data!BB158 -> 7.733356 | L52: =data!BC158 -> 3974.0713 | M52: =data!BD158 -> 4787.8403 | N52: =data!BE158 -> 82.69257 | O52: =data!BF158 -> 1.3968895 | Q52: =data!BH158 -> 0 | R52: =data!BI158 -> 64.47
A53: =data!B159 -> 2_DCB-6-1200-10-A1866-02 | B53: =data!C159 -> _x-1000y-1274.ais | C53: =data!F159 -> -1000 | D53: =data!G159 -> -1274 | E53: =data!R159 -> 2 | F53: =data!S159 -> 8 | G53: =data!AC159 -> 66568.63 | I53: =data!AZ159 -> 7.0216553 | J53: =data!BA159 -> 7.1722485 | K53: =data!BB159 -> 7.6240282 | L53: =data!BC159 -> 3797.125 | M53: =data!BD159 -> 4901.5731 | N53: =data!BE159 -> 83.010864 | O53: =data!BF159 -> 1.3992766 | Q53: =data!BH159 -> 0 | R53: =data!BI159 -> 64.47
...

Sheet Issy stds
B1: SiO2 | C1: H2O | D1: CO2 | E1: MgO | G1: H2O by KFT, CO2 by FTIR (Shiskina et al 2010)
A2: N72 | B2: 50.17 | C2: 0 | D2: 0 | E2: 7 | G2: except 519-4-1 (Hauri et al 2002 Chem Geol 183; sample from Stolper)
A3: M5 | B3: 49.79865 | C3: 0.64 | D3: 990 | E3: 6.9481871
A4: M40 | B4: 48.517616 | C4: 3.07 | D4: 2183 | E4: 6.7694501
A5: M36 | B5: 48.68299 | C5: 2.82 | D5: 1392 | E5: 6.792524
A6: M10 | B6: 49.775987 | C6: 0.75 | D6: 341 | E6: 6.945025
A7: 519-4-1 | B7: 48.9 | C7: 0.17 | D7: 165 | E7: 9.41
A8: M47 | B8: 49.749153 | C8: 0.82 | D8: 175 | E8: 6.941281
A9: M21 | B9: 46.318257 | C9: 7.56 | D9: 1051 | E9: 6.4625831
B12: N72 | C12: M47 | D12: M10 | E12: M5 | F12: M21 | G12: M36 | H12: M40 | I12: 519-4-1
A13: SiO2 | B13: 50.17 | C13: =$B13/$B$24*($B$24-C$22-C$23) -> 49.749153 | D13: =$B13/$B$24*($B$24-D$22-D$23) -> 49.775987 | E13: =$B13/$B$24*($B$24-E$22-E$23) -> 49.79865 | F13: =$B13/$B$24*($B$24-F$22-F$23) -> 46.318257 | G13: =$B13/$B$24*($B$24-G$22-G$23) -> 48.68299 | H13: =$B13/$B$24*($B$24-H$22-H$23) -> 48.517616 | I13: 48.9
A14: TiO2 | B14: 0.92 | C14: =$B14/$B$24*($B$24-C$22-C$23) -> 0.91228265 | D14: =$B14/$B$24*($B$24-D$22-D$23) -> 0.91277472 | E14: =$B14/$B$24*($B$24-E$22-E$23) -> 0.9131903 | F14: =$B14/$B$24*($B$24-F$22-F$23) -> 0.84936807 | G14: =$B14/$B$24*($B$24-G$22-G$23) -> 0.89273173 | H14: =$B14/$B$24*($B$24-H$22-H$23) -> 0.88969916 | I14: 0.77
A15: Al2O3 | B15: 18.28 | C15: =$B15/$B$24*($B$24-C$22-C$23) -> 18.12666 | D15: =$B15/$B$24*($B$24-D$22-D$23) -> 18.136437 | E15: =$B15/$B$24*($B$24-E$22-E$23) -> 18.144694 | F15: =$B15/$B$24*($B$24-F$22-F$23) -> 16.876574 | G15: =$B15/$B$24*($B$24-G$22-G$23) -> 17.738191 | H15: =$B15/$B$24*($B$24-H$22-H$23) -> 17.677935 | I15: 16.53
A16: FeO* | B16: 9.37 | C16: =$B16/$B$24*($B$24-C$22-C$23) -> 9.2914005 | D16: =$B16/$B$24*($B$24-D$22-D$23) -> 9.2964121 | E16: =$B16/$B$24*($B$24-E$22-E$23) -> 9.3006447 | F16: =$B16/$B$24*($B$24-F$22-F$23) -> 8.6506291 | G16: =$B16/$B$24*($B$24-G$22-G$23) -> 9.0922786 | H16: =$B16/$B$24*($B$24-H$22-H$23) -> 9.0613925 | I16: 9.03
A17: MnO | B17: 0.17 | C17: =$B17/$B$24*($B$24-C$22-C$23) -> 0.16857397 | D17: =$B17/$B$24*($B$24-D$22-D$23) -> 0.16866489 | E17: =$B17/$B$24*($B$24-E$22-E$23) -> 0.16874169 | F17: =$B17/$B$24*($B$24-F$22-F$23) -> 0.15694845 | G17: =$B17/$B$24*($B$24-G$22-G$23) -> 0.1649613 | H17: =$B17/$B$24*($B$24-H$22-H$23) -> 0.16440093 | I17: 0.16
A18: MgO | B18: 7 | C18: =$B18/$B$24*($B$24-C$22-C$23) -> 6.941281 | D18: =$B18/$B$24*($B$24-D$22-D$23) -> 6.945025 | E18: =$B18/$B$24*($B$24-E$22-E$23) -> 6.9481871 | F18: =$B18/$B$24*($B$24-F$22-F$23) -> 6.4625831 | G18: =$B18/$B$24*($B$24-G$22-G$23) -> 6.792524 | H18: =$B18/$B$24*($B$24-H$22-H$23) -> 6.7694501 | I18: 9.41
A19: CaO | B19: 11.37 | C19: =$B19/$B$24*($B$24-C$22-C$23) -> 11.274624 | D19: =$B19/$B$24*($B$24-D$22-D$23) -> 11.280705 | E19: =$B19/$B$24*($B$24-E$22-E$23) -> 11.285841 | F19: =$B19/$B$24*($B$24-F$22-F$23) -> 10.497081 | G19: =$B19/$B$24*($B$24-G$22-G$23) -> 11.033 | H19: =$B19/$B$24*($B$24-H$22-H$23) -> 10.995521 | I19: 12.58
A20: Na2O | B20: 2.33 | C20: =$B20/$B$24*($B$24-C$22-C$23) -> 2.310455 | D20: =$B20/$B$24*($B$24-D$22-D$23) -> 2.3117012 | E20: =$B20/$B$24*($B$24-E$22-E$23) -> 2.3127537 | F20: =$B20/$B$24*($B$24-F$22-F$23) -> 2.151117 | G20: =$B20/$B$24*($B$24-G$22-G$23) -> 2.2609401 | H20: =$B20/$B$24*($B$24-H$22-H$23) -> 2.2532598 | I20: 2.07
A21: K2O | B21: 0.23 | C21: =$B21/$B$24*($B$24-C$22-C$23) -> 0.22807066 | D21: =$B21/$B$24*($B$24-D$22-D$23) -> 0.22819368 | E21: =$B21/$B$24*($B$24-E$22-E$23) -> 0.22829758 | F21: =$B21/$B$24*($B$24-F$22-F$23) -> 0.21234202 | G21: =$B21/$B$24*($B$24-G$22-G$23) -> 0.22318293 | H21: =$B21/$B$24*($B$24-H$22-H$23) -> 0.22242479 | I21: 0.1
A22: H2O | B22: 0 | C22: 0.82 | D22: 0.75 | E22: 0.64 | F22: 7.56 | G22: 2.82 | H22: 3.07 | I22: 0.17
A23: CO2 | B23: 0 | C23: 0.0175 | D23: 0.0341 | E23: 0.099 | F23: 0.1051 | G23: 0.1392 | H23: 0.2183 | I23: 0.0165
A24: total | B24: =SUM(B13:B23) -> 99.84 | C24: =SUM(C13:C23) -> 99.84 | D24: =SUM(D13:D23) -> 99.84 | E24: =SUM(E13:E23) -> 99.84 | F24: =SUM(F13:F23) -> 99.84 | G24: =SUM(G13:G23) -> 99.84 | H24: =SUM(H13:H23) -> 99.84 | I24: =SUM(I13:I23) -> 99.7365

Sheet ND70
A1: Sample # | B1: IGSN: | C1: NMNH catalogue number | D1: SiO2 | E1: TiO2 | F1: Al2O3 | G1: FeOtot | H1: MnO | I1: MgO | J1: CaO | K1: Na2O | L1: K2O | M1: P2O5 | N1: sum | O1: H2O | P1: ± | Q1: CO2 (ppm) | R1: ± | S1: S (ppm) | T1: ± | U1: Cl (ppm) | V1: ± | W1: F (ppm) | X1: ±
A2: ND 70_ Degassed | B2: 10.58052/IEYM10001 | C2: 118554-1 | D2: 50.09 | E2: 0.8 | F2: 16.25 | G2: 8.34 | H2: 0.14 | I2: 8.78 | J2: 13.11 | K2: 2.23 | L2: 0.16 | M2: 0.09 | N2: 100 | O2: blank | Q2: blank | S2: 24 | T2: 13 | U2: 11 | V2: 8 | W2: 15 | X2: 2
A3: ND-70 (Natural) | C3: 118554-8 | D3: 50.56 | E3: 0.82 | F3: 16.32 | G3: 8.27 | H3: 0.15 | I3: 8.38 | J3: 13.12 | K3: 2.13 | L3: 0.16 | M3: 0.09 | N3: 100 | O3: 1 | P3: 0.17 | Q3: 145 | R3: 53 | S3: 790 | T3: 138 | U3: 182 | V3: 18 | W3: 96 | X3: 9
A4: ND70-2-01 | B4: 10.58052/IEYM10002 | C4: 118554-2 | D4: 49.86 | E4: 0.79 | F4: 16.25 | G4: 8.34 | H4: 0.16 | I4: 8.87 | J4: 13.2 | K4: 2.26 | L4: 0.17 | M4: 0.08 | N4: 100 | O4: 2.41 | P4: 0.21 | Q4: 1560 | R4: 392 | S4: 594 | T4: 97 | U4: 661 | V4: 185 | W4: 615 | X4: 93
A5: ND70-3-01 | B5: 10.58052/IEYM10003 | C5: 118554-3 | D5: 49.64 | E5: 0.81 | F5: 16 | G5: 8.46 | H5: 0.15 | I5: 9.06 | J5: 13.42 | K5: 2.2 | L5: 0.17 | M5: 0.08 | N5: 100 | O5: 3.09 | P5: 0.32 | Q5: 2637 | R5: 388 | S5: 804 | T5: 160 | U5: 984 | V5: 200 | W5: 803 | X5: 158
A6: ND70-4-01 | B6: 10.58052/IEYM10004 | C6: 118554-4 | D6: 50.43 | E6: 0.8 | F6: 16.1 | G6: 8.09 | H6: 0.17 | I6: 8.76 | J6: 13.09 | K6: 2.33 | L6: 0.17 | M6: 0.07 | N6: 100 | O6: 4.15 | P6: 0.3 | Q6: 4161 | R6: 94 | S6: 1989 | T6: 367 | U6: 2368 | V6: 231 | W6: 2020 | X6: 294
A7: ND70-4-02 | B7: 10.58052/IEYM10005 | C7: 118554-5 | D7: 48.88 | E7: 0.8 | F7: 16.05 | G7: 8.39 | H7: 0.16 | I7: 9.09 | J7: 13.92 | K7: 2.43 | L7: 0.18 | M7: 0.1 | N7: 100 | O7: 3.56 | P7: 0.36 | Q7: 4214 | R7: 130 | S7: 1689 | T7: 435 | U7: 2060 | V7: 232 | W7: 1887 | X7: 314
A8: ND70-5-02 | B8: 10.58052/IEYM10006 | C8: 118554-6 | D8: 50.94 | E8: 0.72 | F8: 14.59 | G8: 7.55 | H8: 0.13 | I8: 8.72 | J8: 14.52 | K8: 2.58 | L8: 0.16 | M8: 0.08 | N8: 100 | O8: 4.99 | P8: 0.34 | Q8: 12237 | R8: 412 | S8: 5528 | T8: 1023 | U8: 6984 | V8: 180 | W8: 5616 | X8: 110
A9: ND70-6-02 | B9: 10.58052/IEYM10007 | C9: 118554-7 | D9: 50.39 | E9: 0.73 | F9: 14.45 | G9: 7.09 | H9: 0.13 | I9: 9.41 | J9: 15.06 | K9: 2.43 | L9: 0.21 | M9: 0.09 | N9: 100 | O9: 6.42 | P9: 0.51 | Q9: 15847 | R9: 957 | S9: 9756 | T9: 2047 | U9: 12293 | V9: 396 | W9: 9951 | X9: 319

Sheet Sisson
A1: Mangan and Sisson (2000) EPSL 183, 441-455 | F1: Mangan and Sisson (2000) EPSL 183, 441-455
M2: =LINEST(M9:M12,I9:I12,0,0) -> 1.1967631 | O2: =LINEST(O7:O12,K7:K12,0,0) -> 1.0735391
A3: Table 1 | B3: Obsidian composition | F3: Table 2 | G3: Solubility experiments
B4: Glass | C4: Bulk | F4: Run | G4: Run | H4: Fluid | I4: H2O | J4: 1s | K4: CO2 | L4: 1s | M4: H2O new | N4: 1s | O4: CO2 new | P4: 1s | Q4: SiO2 (TWS pers comm)
B5: (wt%) | C5: (wt%) | G5: pressure | H5: type | I5: dissolved in glass at end of run | J5: dissolved in glass at end of run
A6: SiO2 | B6: 75.64 | C6: 76.1 | G6: (MPa) | I6: (wt%) | J6: (ppm)
A7: Al2O3 | B7: 12.38 | C7: 12.66 | F7: #51 | G7: 200 | H7: H2O^CO2 | I7: 4.01 | J7: 0.16 | K7: 511 | L7: 23 | M7: =I7*$M$2 -> 4.7990199 | O7: 557.60319 | P7: 26.594747 | Q7: 73.48
A8: MgO | B8: 0.03 | C8: 0.03 | F8: #48 | G8: 200 | H8: H2O^CO2 | I8: 4.1 | J8: 0.1 | K8: 539 | L8: 22 | M8: =I8*$M$2 -> 4.9067286 | O8: 562.03565 | P8: 42.551595 | Q8: 73.41
A9: FeO | B9: 0.94 | C9: 1.03 | F9: #59 | G9: 100 | H9: H2O^CO2 | I9: 2.86 | J9: 0.15 | K9: 160 | L9: 6 | M9: 3.45 | N9: 0.19 | O9: 163.11445 | P9: 14.183865 | Q9: 74.36
A10: TiO2 | B10: 0.08 | C10: 0.07 | F10: #61 | G10: 75 | H10: H2O^CO2 | I10: 2.19 | J10: 0.05 | K10: 67 | L10: 4 | M10: 2.48 | N10: 0.19 | O10: 150 | P10: 25 | Q10: 74.87
A11: CaO | B11: 0.54 | C11: 0.59 | F11: #54 | G11: 50 | H11: H2O^CO2 | I11: 1.85 | J11: 0.01 | K11: 52 | L11: 3 | M11: 2.26 | N11: 0.11 | O11: 63.827392 | P11: 6.2054409 | Q11: 75.15
A12: K2O | B12: 4.72 | C12: 4.68 | F12: #56 | G12: 25 | H12: H2O^CO2 | I12: 1.32 | J12: 0.12 | K12: 29 | L12: 1 | M12: 1.69 | N12: 0.18 | O12: 33.686679 | P12: 5.3189493 | Q12: 74.54
A13: Na2O | B13: 4.17 | C13: 4.07 | F13: #31 | G13: 200 | H13: H2O | I13: 5.13 | J13: 0.09 | K13: 49 | L13: 4
A14: P2O5 | B14: 0.01 | C14: 0.03 | F14: #32 | G14: 200 | H14: H2O | I14: 4.83 | J14: 0.12 | K14: 18 | L14: 1
A15: MnO | B15: 0.07 | C15: 0.05 | F15: #34 | G15: 200 | H15: H2O | I15: 5.09 | J15: 0.18 | K15: 62 | L15: 2
A16: Cl | B16: 0.06 | C16: 0.07 | F16: #38 | G16: 200 | H16: H2O | I16: 4.78 | J16: 0.11 | K16: 23 | L16: 1
A17: H2O+ | B17: NA | C17: 0.27 | F17: #47 | G17: 150 | H17: H2O | I17: 4.67 | J17: 0.1 | K17: 5 | L17: 1
A18: H2O- | B18: 0.17 | C18: NA | F18: #42 | G18: 100 | H18: H2O | I18: 3.06 | J18: 0.05 | K18: ND
A19: CO2 | B19: ND | C19: NA | F19: #52 | G19: 75 | H19: H2O | I19: 2.96 | J19: 0.08 | K19: 41 | L19: 6
A20: Total | B20: 98.81 | C20: 99.65 | F20: #46 | G20: 50 | H20: H2O | I20: 1.85 | J20: 0.04 | K20: 30 | L20: 6
A21: Glass by electron microprobe and FTIR; bulk by XRF | F21: #49 | G21: 25 | H21: H2O | I21: 1.53 | J21: 0.01 | K21: 7 | L21: 1
A22: NA=not analyzed, ND=not detected. | F22: ND=not | G22: detected; | H22: uncertainties | I22: pertain | J22: to | K22: the | L22: larger | M22: of | N22: two | O22: values, | P22: either | Q22: the | R22: expected | S22: analytical | T22: error | U22: or | V22: the | W22: observed | X22: compositional
F23: variation.
F24: New data: Concentrations measured by FTIR on glass wafers supported on KBr window. H2O NIR and H2O IR are total dissolved H2O measured by near-IR (5200 cm-1 & 4500 cm-1) or IR (3550 cm-1) bands. Uncertainties are propagated from replicate IR and thickness measurements and are reported as 1 standard deviation (not standard deviation of the mean). * indicates wafer is too thick to use 3550 cm-1 band. ** indicates wafer is too thin to use 5200 cm-1 and 4500 cm-1 bands. Absorbances converted to concentrations using extinction coefficients of 80 L/mol cm (3550 cm-1), 1.86 L/mol cm (5200 cm-1), 1.50 L/mol cm (4500 cm-1), and 1066 L/mol cm (2350 cm-1 CO2) from Ihinger, Hervig, & McMillian (1994), and Blank (1993 PhD - reported in Tamic, Behrens, & Holtz 2001), and glass density of 2.32 g/cm3. Old H2O, CO2 are values reported in Mangan & Sisson EPSL.
A28: wt% | B28: rb497 | C28: rb480
A29: SiO2 | B29: 80.414456 | C29: 73.597021
A30: Al2O3 | B30: 11.372417 | C30: 15.612417
A31: Na2O | B31: 6.9131269 | C31: 9.4905613
A32: H2O | B32: 0.3 | C32: 0.3
A33: CO2 | B33: 1 | C33: 1
A34: total | B34: 100 | C34: 100
A37: Name | B37: Run84
A38: Composition | B38: andesite
A40: SiO2 | B40: 58.12
A41: TiO2 | B41: 1
A42: Al2O3 | B42: 16.81
A43: FeO | B43: 4.46
A44: MnO | B44: 0.15
A45: MgO | B45: 3.44
A46: CaO | B46: 6.89
...

Sheet ND70 test
