Workbook

Sheet Raw data
A1: Sample | J1: 103 Rh ( ISTD ) [ He ] | L1: 103 -> 119 Rh ( ISTD ) [ O2 ] | N1: 121 Sb [ He ] | Q1: 121 -> 137 Sb [ O2 ] | T1: 123 Sb [ He ] | W1: 123 -> 139 Sb [ O2 ]
B2: Rjct | C2: Data File | D2: Acq. Date-Time | E2: Type | F2: Level | G2: Sample Name | H2: Vial Number | I2: Comment | J2: CPS | K2: CPS RSD | L2: CPS | M2: CPS RSD | N2: Conc. | O2: Conc. RSD | P2: CPS | Q2: Conc. | R2: Conc. RSD | S2: CPS | T2: Conc. | U2: Conc. RSD | V2: CPS | W2: Conc. | X2: Conc. RSD | Y2: CPS
B3: FALSE | C3: 001SMPL.d | D3: 45042.599 | E3: Sample | G3: blank | H3: 3 | J3: 291379.56 | K3: 1.7623282 | L3: 2999.1733 | M3: 1.4763065 | P3: 102.22333 | S3: 18.886667 | V3: 71.113333 | Y3: 14.446667
B4: FALSE | C4: 002CALS.d | D4: 45042.602 | E4: CalStd | F4: 1 | G4: Sb 0 ppb | H4: 3101 | J4: 285215.46 | K4: 3.6012275 | L4: 3084.75 | M4: 4.7065863 | N4: 0 | O4: N/A | P4: 66.666667 | Q4: 0 | R4: N/A | S4: 9.9966667 | T4: 0 | U4: N/A | V4: 67.78 | W4: 0 | X4: N/A | Y4: 9.9966667
B5: FALSE | C5: 003CALS.d | D5: 45042.604 | E5: CalStd | F5: 2 | G5: Sb 0.05 ppb | H5: 3102 | J5: 291077.19 | K5: 1.2392352 | L5: 3056.97 | M5: 2.0805418 | N5: 0.063374218 | O5: 8.2166482 | P5: 1381.1733 | Q5: 0.072552481 | R5: 18.138121 | S5: 276.67 | T5: 0.058182196 | U5: 11.813902 | V5: 1014.48 | W5: 0.069784915 | X5: 21.749698 | Y5: 205.55667
B6: FALSE | C6: 004CALS.d | D6: 45042.607 | E6: CalStd | F6: 3 | G6: Sb 0.1 ppb | H6: 3103 | J6: 295484.41 | K6: 3.2407407 | L6: 2903.6033 | M6: 1.2098188 | N6: 0.10539062 | O6: 6.2932684 | P6: 2284.62 | Q6: 0.10232056 | R6: 8.6157613 | S6: 366.67333 | T6: 0.10441566 | U6: 6.8287577 | V6: 1794.55 | W6: 0.11248286 | X6: 6.9717582 | Y6: 308.89333
B7: FALSE | C7: 005CALS.d | D7: 45042.609 | E7: CalStd | F7: 4 | G7: Sb 0.5 ppb | H7: 3104 | J7: 294266.33 | K7: 1.4440908 | L7: 2949.17 | M7: 1.2703439 | N7: 0.51387214 | O7: 1.2601008 | P7: 10828.107 | Q7: 0.53773638 | R7: 0.68629406 | S7: 1914.5633 | T7: 0.51064614 | U7: 4.8984945 | V7: 8461.1367 | W7: 0.52555964 | X7: 4.2530706 | Y7: 1430.07
B8: FALSE | C8: 006CALS.d | D8: 45042.612 | E8: CalStd | F8: 5 | G8: Sb 1 ppb | H8: 3105 | J8: 283952.85 | K8: 0.75923814 | L8: 2923.61 | M8: 4.591186 | N8: 1.0166768 | O8: 0.70471483 | P8: 20606.413 | Q8: 1.0078344 | R8: 6.065447 | S8: 3543.7367 | T8: 1.0257865 | U8: 2.3143548 | V8: 16339.397 | W8: 1.0059386 | X8: 6.7619116 | Y8: 2703.57
B9: FALSE | C9: 007CALS.d | D9: 45042.614 | E9: CalStd | F9: 6 | G9: Sb 5 ppb | H9: 3106 | J9: 292221.1 | K9: 1.5415113 | L9: 2959.17 | M9: 3.7270929 | N9: 4.9071224 | O9: 0.81622342 | P9: 102093.44 | Q9: 4.9489999 | R9: 2.1680047 | S9: 17590.777 | T9: 4.8756031 | U9: 1.3343896 | V9: 79659.137 | W9: 4.9522116 | X9: 2.8268954 | Y9: 13434.543
B10: FALSE | C10: 008CALS.d | D10: 45042.616 | E10: CalStd | F10: 7 | G10: Sb 10 ppb | H10: 3107 | J10: 288753.55 | K10: 1.9590072 | L10: 2814.6967 | M10: 7.5810545 | N10: 9.9709873 | O10: 3.7262297 | P10: 204821.34 | Q10: 10.486822 | R10: 6.8326457 | S10: 35341.06 | T10: 10.085113 | U10: 3.1567505 | V10: 162704.71 | W10: 10.408202 | X10: 5.9666197 | Y10: 26783.47
B11: FALSE | C11: 009CALS.d | D11: 45042.619 | E11: CalStd | F11: 8 | G11: Sb 25 ppb | H11: 3108 | J11: 290458.56 | K11: 0.60093366 | L11: 2815.8133 | M11: 2.8423714 | N11: 25.043299 | O11: 0.61533906 | P11: 517597.23 | Q11: 26.213073 | R11: 1.5783391 | S11: 88640.937 | T11: 24.949446 | U11: 1.5141732 | V11: 404913.5 | W11: 26.329286 | X11: 1.4335693 | Y11: 67952.34
B12: FALSE | C12: 010CALS.d | D12: 45042.621 | E12: CalStd | F12: 9 | G12: Sb 50 ppb | H12: 3109 | J12: 291397.76 | K12: 0.43349061 | L12: 2994.7267 | M12: 2.2413841 | N12: 49.992944 | O12: 1.3121682 | P12: 1036565.4 | Q12: 49.300638 | R12: 2.4972912 | S12: 177295.7 | T12: 50.020055 | U12: 1.6403607 | V12: 814405.78 | W12: 49.258076 | X12: 1.9350223 | Y12: 135200.96
B13: FALSE | C13: 011SMPL.d | D13: 45042.624 | E13: Sample | G13: blank | H13: 3 | J13: 299544.39 | K13: 1.4013398 | L13: 2789.14 | M13: 4.511187 | N13: 0.0085132141 | O13: 14.605126 | P13: 252.22333 | Q13: 0.015843421 | R13: 51.68242 | S13: 62.223333 | T13: 0.0076356882 | U13: 16.988929 | V13: 198.89 | W13: 0.015985616 | X13: 5.3932826 | Y13: 50
B14: FALSE | C14: 012SMPL.d | D14: 45042.626 | E14: Sample | G14: blank | H14: 3 | J14: 292965.09 | K14: 1.3786506 | L14: 2908.05 | M14: 2.0390498 | N14: 0.0025383296 | O14: 41.190111 | P14: 122.22333 | Q14: 0.0017113212 | R14: 84.823545 | S14: 15.556667 | T14: 0.00042750684 | U14: 253.2408 | V14: 76.666667 | W14: 0.00099154107 | X14: 191.4705 | Y14: 12.223333
B15: FALSE | C15: 013SMPL.d | D15: 45042.629 | E15: Sample | G15: FAI 1 no spike (1:2 diluted) | H15: 3201 | J15: 150773.34 | K15: 0.94360498 | L15: 2934.72 | M15: 4.0154015 | N15: 1.0986511 | O15: 1.3380186 | P15: 11822.11 | Q15: 1.5158009 | R15: 5.3813538 | S15: 5346.47 | T15: 1.0994994 | U15: 4.3914273 | V15: 9299.3667 | W15: 1.4575138 | X15: 7.6964655 | Y15: 3922.7133
B16: FALSE | C16: 014SMPL.d | D16: 45042.631 | E16: Sample | G16: FAI 1 2 ppb spike | H16: 3202 | J16: 150543.72 | K16: 1.2918466 | L16: 2830.2567 | M16: 6.2054045 | N16: 2.7065992 | O16: 2.0381296 | P16: 29023.72 | Q16: 3.0107497 | R16: 4.2010879 | S16: 10226.617 | T16: 2.6917335 | U16: 2.2292245 | V16: 22672.517 | W16: 2.9907041 | X16: 5.1184191 | Y16: 7753.01
B17: FALSE | C17: 015SMPL.d | D17: 45042.634 | E17: Sample | G17: FAI 1 4 ppb spike | H17: 3203 | J17: 149454.77 | K17: 1.1441841 | L17: 2681.3467 | M17: 1.0861849 | N17: 4.5015244 | O17: 1.4247069 | P17: 47899.397 | Q17: 4.9932543 | R17: 1.9581213 | S17: 16088.063 | T17: 4.5789635 | U17: 1.9453473 | V17: 38265.07 | W17: 4.8763407 | X17: 1.2582381 | Y17: 11995.613
B18: FALSE | C18: 016SMPL.d | D18: 45042.636 | E18: Sample | G18: blank | H18: 3 | J18: 176346.69 | K18: 2.8094637 | L18: 2814.6967 | M18: 2.309941 | N18: 0.043035881 | O18: 7.4179388 | P18: 581.12667 | Q18: 0.044952568 | R18: 20.131137 | S18: 161.11 | T18: 0.046737038 | U18: 3.9456572 | V18: 502.23 | W18: 0.061324277 | X18: 11.238277 | Y18: 167.78
B19: FALSE | C19: 017SMPL.d | D19: 45042.639 | E19: Sample | G19: blank | H19: 3 | J19: 187996.76 | K19: 0.65852365 | L19: 2885.82 | M19: 2.0088237 | N19: 0.017954975 | O19: 13.271793 | P19: 284.44667 | Q19: 0.023254231 | R19: 12.780727 | S19: 90 | T19: 0.019367606 | U19: 31.635887 | V19: 247.78 | W19: 0.022765333 | X19: 41.923094 | Y19: 70
B20: FALSE | C20: 018CALS.d | D20: 45042.641 | E20: CalStd | F20: 1 | G20: Sb 0 ppb | H20: 3101 | J20: 196121.03 | K20: 1.092864 | L20: 2788.03 | M20: 0.27614364 | N20: 0 | O20: N/A | P20: 231.11333 | Q20: 0 | R20: N/A | S20: 66.67 | T20: 0 | U20: N/A | V20: 155.55667 | W20: 0 | X20: N/A | Y20: 47.78
B21: FALSE | C21: 019CALS.d | D21: 45042.644 | E21: CalStd | F21: 2 | G21: Sb 0.05 ppb | H21: 3102 | J21: 202860.9 | K21: 2.3579724 | L21: 2704.6833 | M21: 7.4393632 | N21: 0.06155572 | O21: 12.797716 | P21: 1124.49 | Q21: 0.054627225 | R21: 10.606172 | S21: 240.00333 | T21: 0.056440447 | U21: 10.955292 | V21: 798.91333 | W21: 0.068803594 | X21: 6.0864308 | Y21: 214.44667
B22: FALSE | C22: 020CALS.d | D22: 45042.646 | E22: CalStd | F22: 3 | G22: Sb 0.1 ppb | H22: 3103 | J22: 212128.66 | K22: 2.326368 | L22: 2361.2933 | M22: 12.255023 | N22: 0.10294627 | O22: 6.9332305 | P22: 1796.7767 | Q22: 0.12166404 | R22: 37.411713 | S22: 387.78333 | T22: 0.1089191 | U22: 1.3739297 | V22: 1457.85 | W22: 0.13331326 | X22: 14.466011 | Y22: 321.11333
B23: FALSE | C23: 021CALS.d | D23: 45042.648 | E23: CalStd | F23: 4 | G23: Sb 0.5 ppb | H23: 3104 | J23: 217916.52 | K23: 2.06602 | L23: 2776.36 | M23: 3.0095538 | N23: 0.51545066 | O23: 0.57451871 | P23: 8217.6833 | Q23: 0.47395397 | R23: 0.84179121 | S23: 1625.6433 | T23: 0.4945123 | U23: 5.1431175 | V23: 6181.2 | W23: 0.50154466 | X23: 14.183974 | Y23: 1300.06
B24: FALSE | C24: 022CALS.d | D24: 45042.651 | E24: CalStd | F24: 5 | G24: Sb 1 ppb | H24: 3105 | J24: 223721.83 | K24: 0.4523549 | L24: 2612.44 | M24: 5.7545135 | N24: 1.0194091 | O24: 0.92182988 | P24: 16426.137 | Q24: 1.0359058 | R24: 3.1096184 | S24: 3265.9 | T24: 0.97564238 | U24: 4.7245615 | V24: 12355.87 | W24: 1.0088722 | X24: 7.4971146 | Y24: 2414.6333
B25: FALSE | C25: 023CALS.d | D25: 45042.653 | E25: CalStd | F25: 6 | G25: Sb 5 ppb | H25: 3106 | J25: 230543.69 | K25: 0.77351361 | L25: 2782.47 | M25: 2.348928 | N25: 4.7843628 | O25: 1.4514825 | P25: 78433.073 | Q25: 4.8476696 | R25: 0.98296283 | S25: 16048.05 | T25: 4.7295113 | U25: 0.63576295 | V25: 61016.773 | W25: 5.0105675 | X25: 2.7076551 | Y25: 12615.017
B26: FALSE | C26: 024CALS.d | D26: 45042.656 | E26: CalStd | F26: 7 | G26: Sb 10 ppb | H26: 3107 | J26: 230840.83 | K26: 0.78488807 | L26: 2715.2367 | M26: 2.3752932 | N26: 9.8740384 | O26: 2.386138 | P26: 161780.9 | Q26: 10.094195 | R26: 0.99749032 | S26: 32541.843 | T26: 9.9809133 | U26: 2.1662217 | V26: 128716.08 | W26: 10.040927 | X26: 1.9248162 | Y26: 24627.78
B27: FALSE | C27: 025CALS.d | D27: 45042.658 | E27: CalStd | F27: 8 | G27: Sb 25 ppb | H27: 3108 | J27: 235835.22 | K27: 1.5416149 | L27: 2749.13 | M27: 2.8553695 | N27: 24.733744 | O27: 1.4548374 | P27: 413697.75 | Q27: 25.083713 | R27: 4.125156 | S27: 81719.183 | T27: 24.906378 | U27: 0.66178064 | V27: 327925.47 | W27: 24.86155 | X27: 1.8077822 | Y27: 61662.51
B28: FALSE | C28: 026SMPL.d | D28: 45042.661 | E28: Sample | G28: blank | H28: 3 | J28: 237958.07 | K28: 0.59703874 | L28: 2799.1433 | M28: 6.6233709 | N28: <0.000 | O28: N/A | P28: 247.78 | Q28: <0.000 | R28: N/A | S28: 48.89 | T28: 0.0033185797 | U28: 156.0981 | V28: 233.33667 | W28: <0.000 | X28: N/A | Y28: 45.556667
B29: FALSE | C29: 027SMPL.d | D29: 45042.663 | E29: Sample | G29: blank | H29: 3 | J29: 236281.91 | K29: 0.72120817 | L29: 2684.6767 | M29: 9.1762488 | N29: <0.000 | O29: N/A | P29: 183.33667 | Q29: <0.000 | R29: N/A | S29: 36.67 | T29: <0.000 | U29: N/A | V29: 174.44667 | W29: <0.000 | X29: N/A | Y29: 17.78
B30: FALSE | C30: 028SMPL.d | D30: 45042.666 | E30: Sample | G30: FAI 1 no spike (1:2 diluted) | H30: 3201 | J30: 148195.15 | K30: 2.0337845 | L30: 2738.02 | M30: 3.6577743 | N30: 0.69800109 | O30: 3.6306806 | P30: 7501.7533 | Q30: 1.0775172 | R30: 3.4510931 | S30: 3559.2967 | T30: 0.69372345 | U30: 7.5533256 | V30: 5847.7433 | W30: 1.0182393 | X30: 4.5842692 | Y30: 2562.44
B31: FALSE | C31: 029SMPL.d | D31: 45042.668 | E31: Sample | G31: FAI 1 2 ppb spike | H31: 3202 | J31: 147275.24 | K31: 1.5901542 | L31: 2794.6967 | M31: 4.373973 | N31: 2.4955847 | O31: 1.8941427 | P31: 26214.457 | Q31: 2.5987756 | R31: 7.6402249 | S31: 8656.8133 | T31: 2.4350785 | U31: 2.042381 | V31: 20124.733 | W31: 2.5632758 | X31: 4.4133099 | Y31: 6499.1133
B32: FALSE | C32: 030SMPL.d | D32: 45042.671 | E32: Sample | G32: FAI 1 4 ppb spike | H32: 3203 | J32: 145178.96 | K32: 1.8342826 | L32: 2853.6 | M32: 7.9343847 | N32: 4.4287552 | O32: 2.4275237 | P32: 45721.867 | Q32: 4.1833271 | R32: 8.1793624 | S32: 14157.383 | T32: 4.4504476 | U32: 2.6706191 | V32: 36153.557 | W32: 4.1713246 | X32: 9.6120078 | Y32: 10728.067
B33: FALSE | C33: 031SMPL.d | D33: 45042.673 | E33: Sample | G33: blank | H33: 3 | J33: 173298.44 | K33: 3.0055853 | L33: 2823.59 | M33: 1.163053 | N33: 0.030477779 | O33: 3.4498431 | P33: 578.9 | Q33: 0.034898657 | R33: 15.551888 | S33: 184.44667 | T33: 0.036049268 | U33: 8.7512465 | V33: 486.67667 | W33: 0.026844998 | X33: 18.637799 | Y33: 116.66667
B34: FALSE | C34: 032SMPL.d | D34: 45042.675 | E34: Sample | G34: FAI 2 no spike (1:2 diluted) | H34: 3204 | J34: 147036.69 | K34: 3.717946 | L34: 2705.79 | M34: 5.18283 | N34: 0.49667174 | O34: 6.4634901 | P34: 5340.8967 | Q34: 0.67561213 | R34: 6.4975049 | S34: 2226.8333 | T34: 0.51124272 | U34: 6.6768485 | V34: 4306.14 | W34: 0.63673525 | X34: 6.8711516 | Y34: 1596.7533
B35: FALSE | C35: 033SMPL.d | D35: 45042.678 | E35: Sample | G35: FAI 2 2 ppb spike | H35: 3205 | J35: 146095.08 | K35: 1.7522076 | L35: 2794.6933 | M35: 1.5570751 | N35: 2.4085533 | O35: 1.6465507 | P35: 25103.853 | Q35: 2.3302338 | R35: 1.1315179 | S35: 7783.0267 | T35: 2.4001814 | U35: 4.2493271 | V35: 19670.853 | W35: 2.3226072 | X35: 0.34762478 | Y35: 5901.11
B36: FALSE | C36: 034SMPL.d | D36: 45042.68 | E36: Sample | G36: FAI 2 4 ppb spike | H36: 3206 | J36: 144342.36 | K36: 1.3862346 | L36: 2780.2467 | M36: 1.9813783 | N36: 4.3949271 | O36: 1.9343391 | P36: 45118.16 | Q36: 4.2452914 | R36: 1.2192258 | S36: 14051.723 | T36: 4.4521663 | U36: 1.1301651 | V36: 35965.387 | W36: 4.0904122 | X36: 3.6876598 | Y36: 10297.777
B37: FALSE | C37: 035SMPL.d | D37: 45042.683 | E37: Sample | G37: blank | H37: 3 | J37: 167235.96 | K37: 5.21853 | L37: 2928.0567 | M37: 3.2493098 | N37: 0.028278526 | O37: 13.752751 | P37: 532.23333 | Q37: 0.023185134 | R37: 61.149845 | S37: 151.11333 | T37: 0.038080819 | U37: 6.6853693 | V37: 488.9 | W37: 0.026138774 | X37: 47.72486 | Y37: 118.88667
B38: FALSE | C38: 036SMPL.d | D38: 45042.685 | E38: Sample | G38: FAI 3 no spike (1:2 diluted) | H38: 3207 | J38: 145724.62 | K38: 0.55369756 | L38: 2734.6833 | M38: 1.4287305 | N38: 0.42419859 | O38: 3.7297692 | P38: 4552.3233 | Q38: 0.56360776 | R38: 3.618592 | S38: 1891.23 | T38: 0.42403389 | U38: 5.3751356 | V38: 3562.6267 | W38: 0.52512882 | X38: 5.7608042 | Y38: 1341.1733
B39: FALSE | C39: 037SMPL.d | D39: 45042.688 | E39: Sample | G39: FAI 3 2 ppb spike | H39: 3208 | J39: 147302.48 | K39: 0.58584142 | L39: 2839.15 | M39: 5.8809134 | N39: 2.2999392 | O39: 1.2512067 | P39: 24181.367 | Q39: 2.2580867 | R39: 6.6812651 | S39: 7645.1733 | T39: 2.3047559 | U39: 2.3532847 | V39: 19056.753 | W39: 2.1833746 | X39: 5.5732829 | Y39: 5626.57
B40: FALSE | C40: 038SMPL.d | D40: 45042.69 | E40: Sample | G40: FAI 3 4 ppb spike | H40: 3209 | J40: 141382.61 | K40: 1.5747625 | L40: 2703.57 | M40: 7.3461693 | N40: 4.4432892 | O40: 0.42428524 | P40: 44683.503 | Q40: 4.1643209 | R40: 8.2369577 | S40: 13353.367 | T40: 4.5501966 | U40: 0.93729425 | V40: 36006.587 | W40: 4.12851 | X40: 7.9929529 | Y40: 10072.08
B41: FALSE | C41: 039SMPL.d | D41: 45042.693 | E41: Sample | G41: blank | H41: 3 | J41: 170424.58 | K41: 4.9211045 | L41: 2766.91 | M41: 4.9341902 | N41: 0.023855928 | O41: 26.638936 | P41: 487.78667 | Q41: 0.028395675 | R41: 31.94521 | S41: 158.89 | T41: 0.026938149 | U41: 24.972246 | V41: 392.22667 | W41: 0.023228101 | X41: 48.525848 | Y41: 104.44333
... B43: FALSE | C43: 041SMPL.d | D43: 45042.697 | E43: Sample | G43: Sb 5 ppb | H43: 3106 | J43: 177958.48 | K43: 1.9593792 | L43: 2678.01 | M43: 4.4283123 | N43: 4.9644243 | O43: 3.0816738 | P43: 62802.183 | Q43: 4.7800494 | R43: 4.4745729 | S43: 15213.907 | T43: 4.9300461 | U43: 1.2113654 | V43: 49084.153 | W43: 4.8060917 | X43: 3.1532437 | Y43: 11640.923
B44: FALSE | C44: 042SMPL.d | D44: 45042.7 | E44: Sample | G44: blank | H44: 3 | J44: 180075.54 | K44: 1.9560581 | L44: 2808.0367 | M44: 3.5306727 | N44: 0.0022257335 | O44: 137.77346 | P44: 241.11333 | Q44: 0.00043119148 | R44: 1170.1264 | S44: 68.886667 | T44: 0.0038878112 | U44: 31.555058 | V44: 182.22 | W44: <0.000 | X44: N/A | Y44: 38.886667
B45: FALSE | C45: 043SMPL.d | D45: 45042.702 | E45: Sample | G45: CsI 1 no spike (1:2 diluted) | H45: 3210 | J45: 123487.75 | K45: 0.74763043 | L45: 2840.26 | M45: 7.7321379 | N45: 0.52631225 | O45: 1.379014 | P45: 4751.8233 | Q45: 0.58073403 | R45: 5.2841192 | S45: 2019.0267 | T45: 0.55407077 | U45: 3.0772302 | V45: 3916.05 | W45: 0.61535648 | X45: 8.4949617 | Y45: 1617.8667
B46: FALSE | C46: 044SMPL.d | D46: 45042.705 | E46: Sample | G46: CsI 1 2 ppb spike | H46: 3211 | J46: 116821.32 | K46: 1.6828775 | L46: 3025.8467 | M46: 4.2749398 | N46: 2.8051041 | O46: 1.8242429 | P46: 23357.913 | Q46: 2.1892671 | R46: 3.3471168 | S46: 7915.3133 | T46: 2.7788787 | U46: 1.8951059 | V46: 18203.583 | W46: 2.1650422 | X46: 5.4369977 | Y46: 5950.02
B47: FALSE | C47: 045SMPL.d | D47: 45042.707 | E47: Sample | G47: CsI 1 4 ppb spike | H47: 3212 | J47: 118087.03 | K47: 0.36642315 | L47: 3118.0867 | M47: 8.5273056 | N47: 5.1958973 | O47: 1.2879946 | P47: 43619.513 | Q47: 4.0447969 | R47: 7.4305048 | S47: 14959.21 | T47: 5.1073398 | U47: 1.1562023 | V47: 33742.867 | W47: 3.8741039 | X47: 9.0861849 | Y47: 10890.38
B48: FALSE | C48: 046SMPL.d | D48: 45042.71 | E48: Sample | G48: blank | H48: 3106 | J48: 582816.96 | K48: 0.97614047 | L48: 9039.38 | M48: 27.038956 | N48: <0.000 | O48: N/A | P48: 475.56667 | Q48: <0.000 | R48: N/A | S48: 174.44667 | T48: <0.000 | U48: N/A | V48: 356.67333 | W48: <0.000 | X48: N/A | Y48: 132.22333
B49: FALSE | C49: 047SMPL.d | D49: 45042.712 | E49: Sample | G49: CsI 2 no spike (1:2 diluted) | H49: 3301 | J49: 122667.37 | K49: 0.29325717 | L49: 3324.7933 | M49: 1.9349513 | N49: 0.43011066 | O49: 2.567287 | P49: 3883.8167 | Q49: 0.42471345 | R49: 8.8608578 | S49: 1754.55 | T49: 0.44254086 | U49: 4.935316 | V49: 3125.8733 | W49: 0.40378218 | X49: 5.2520605 | Y49: 1266.72
B50: FALSE | C50: 048SMPL.d | D50: 45042.714 | E50: Sample | G50: CsI 2 2 ppb spike | H50: 3302 | J50: 119253.4 | K50: 1.3079739 | L50: 3280.3467 | M50: 5.8173181 | N50: 2.7459116 | O50: 0.54725307 | P50: 23345.687 | Q50: 2.0867859 | R50: 5.9938528 | S50: 8172.0967 | T50: 2.6658129 | U50: 1.2246628 | V50: 17830.927 | W50: 2.0709437 | X50: 1.8887777 | Y50: 6177.88
B51: FALSE | C51: 049SMPL.d | D51: 45042.717 | E51: Sample | G51: CsI 2 4 ppb spike | H51: 3303 | J51: 118769.01 | K51: 1.0617108 | L51: 3441.49 | M51: 4.5875348 | N51: 5.0158445 | O51: 1.3892531 | P51: 42352.85 | Q51: 3.7055163 | R51: 3.4972046 | S51: 15178.323 | T51: 5.0235353 | U51: 1.8089445 | V51: 33382.14 | W51: 3.5337183 | X51: 2.6715113 | Y51: 11020.503
B52: FALSE | C52: 050SMPL.d | D52: 45042.719 | E52: Sample | G52: blank | H52: 3 | J52: 157556.49 | K52: 5.7285492 | L52: 3709.3233 | M52: 2.5205972 | N52: 0.026264721 | O52: 20.947035 | P52: 477.79 | Q52: 0.026468022 | R52: 47.126149 | S52: 204.44667 | T52: 0.035112836 | U52: 8.3652357 | V52: 434.45333 | W52: 0.021199685 | X52: 14.193244 | Y52: 134.44333
B53: FALSE | C53: 051SMPL.d | D53: 45042.722 | E53: Sample | G53: CsI 3 no spike (1:2 diluted) | H53: 3204 | J53: 148359.89 | K53: 11.447206 | L53: 3579.2967 | M53: 0.86556444 | N53: 0.34187911 | O53: 13.317132 | P53: 3734.89 | Q53: 0.38837607 | R53: 7.0650467 | S53: 1732.3233 | T53: 0.33674337 | U53: 11.759059 | V53: 2880.27 | W53: 0.38081476 | X53: 8.7328488 | Y53: 1290.0567
B54: FALSE | C54: 052SMPL.d | D54: 45042.724 | E54: Sample | G54: CsI 3 2 ppb spike | H54: 3205 | J54: 134786.8 | K54: 0.32654298 | L54: 3504.8333 | M54: 1.810693 | N54: 2.4667996 | O54: 1.4214271 | P54: 23720.68 | Q54: 1.907249 | R54: 1.1130537 | S54: 8004.2433 | T54: 2.440447 | U54: 0.45106383 | V54: 18459.433 | W54: 1.8608273 | X54: 1.3790133 | Y54: 5941.1333
B55: FALSE | C55: 053SMPL.d | D55: 45042.727 | E55: Sample | G55: CsI 3 4 ppb spike | H55: 3206 | J55: 136667.95 | K55: 0.87856148 | L55: 3392.59 | M55: 5.4134367 | N55: 4.4976544 | O55: 0.24680935 | P55: 43722.077 | Q55: 3.518931 | R55: 7.5591483 | S55: 14192.977 | T55: 4.539855 | U55: 0.69138715 | V55: 34724.897 | W55: 3.5514841 | X55: 6.0329831 | Y55: 10899.27
B56: FALSE | C56: 054SMPL.d | D56: 45042.729 | E56: Sample | G56: blank | H56: 3 | J56: 156343.37 | K56: 4.096249 | L56: 3377.0333 | M56: 5.8814412 | N56: 0.026158955 | O56: 16.093107 | P56: 474.45333 | Q56: 0.026236392 | R56: 14.113274 | S56: 185.56 | T56: 0.029856835 | U56: 9.9929177 | V56: 384.45333 | W56: 0.021308116 | X56: 27.598274 | Y56: 122.22333
B57: FALSE | C57: 055SMPL.d | D57: 45042.732 | E57: Sample | G57: Sb 1 ppb | H57: 3105 | J57: 600881.73 | K57: 2.0839917 | L57: 8166.5667 | M57: 9.4695357 | N57: <0.000 | O57: N/A | P57: 292.22667 | Q57: <0.000 | R57: N/A | S57: 125.55667 | T57: <0.000 | U57: N/A | V57: 204.44667 | W57: <0.000 | X57: N/A | Y57: 90
B58: FALSE | C58: 056SMPL.d | D58: 45042.734 | E58: Sample | G58: Sb 5 ppb | H58: 3106 | J58: 677404.53 | K58: 1.5241167 | L58: 8581.1967 | M58: 6.6079013 | N58: <0.000 | O58: N/A | P58: 317.78333 | Q58: <0.000 | R58: N/A | S58: 92.223333 | T58: <0.000 | U58: N/A | V58: 224.44667 | W58: <0.000 | X58: N/A | Y58: 73.333333
B59: FALSE | C59: 057SMPL.d | D59: 45042.737 | E59: Sample | G59: blank | H59: 3 | J59: 169304.7 | K59: 1.3621445 | L59: 3579.2967 | M59: 2.1186744 | N59: <0.000 | O59: N/A | P59: 195.55667 | Q59: <0.000 | R59: N/A | S59: 60 | T59: 0.002031021 | U59: 189.97696 | V59: 153.33333 | W59: <0.000 | X59: N/A | Y59: 56.67
B60: FALSE | C60: 058SMPL.d | D60: 45042.739 | E60: Sample | G60: blank | H60: 3 | J60: 164915.69 | K60: 1.7405141 | L60: 3554.8433 | M60: 3.0956891 | N60: <0.000 | O60: N/A | P60: 158.89 | Q60: <0.000 | R60: N/A | S60: 65.556667 | T60: <0.000 | U60: N/A | V60: 130 | W60: <0.000 | X60: N/A | Y60: 51.11
B61: FALSE | C61: 059SMPL.d | D61: 45042.741 | E61: Sample | G61: Sb 0.5 ppb | H61: 3104 | J61: 171194.15 | K61: 0.54690027 | L61: 3568.1867 | M61: 2.2037507 | N61: 0.53359678 | O61: 2.1782564 | P61: 6675.8433 | Q61: 0.39847293 | R61: 1.2984392 | S61: 1770.1067 | T61: 0.52290278 | U61: 2.2281398 | V61: 5130.83 | W61: 0.40143089 | X61: 3.4070394 | Y61: 1352.2867
B62: FALSE | C62: 060SMPL.d | D62: 45042.744 | E62: Sample | G62: Sb 10 ppb | H62: 3107 | J62: 176133.99 | K62: 1.3600639 | L62: 3575.97 | M62: 7.1384677 | N62: 9.8485171 | O62: 0.65512202 | P62: 123129.54 | Q62: 8.0319545 | R62: 6.5351755 | S62: 34018.23 | T62: 9.7820052 | U62: 0.92736171 | V62: 96259.897 | W62: 7.9020702 | X62: 6.6626349 | Y62: 25462.423
B63: FALSE | C63: 061SMPL.d | D63: 45042.746 | E63: Sample | G63: blank | H63: 3 | J63: 175465.51 | K63: 1.5942709 | L63: 3455.9367 | M63: 6.3879708 | N63: <0.000 | O63: N/A | P63: 148.89 | Q63: <0.000 | R63: N/A | S63: 75.553333 | T63: <0.000 | U63: N/A | V63: 110 | W63: <0.000 | X63: N/A | Y63: 46.663333
B64: FALSE | C64: 062SMPL.d | D64: 45042.749 | E64: Sample | G64: blank | H64: 3 | J64: 178908.45 | K64: 0.53980874 | L64: 3502.61 | M64: 4.2057731 | N64: <0.000 | O64: N/A | P64: 125.55667 | Q64: <0.000 | R64: N/A | S64: 36.666667 | T64: <0.000 | U64: N/A | V64: 105.55333 | W64: <0.000 | X64: N/A | Y64: 24.443333
B65: FALSE | C65: 063SMPL.d | D65: 45042.751 | E65: Sample | G65: blank | H65: 3 | J65: 179475.26 | K65: 2.8176707 | L65: 3419.2633 | M65: 4.3850418 | N65: <0.000 | O65: N/A | P65: 120.00333 | Q65: <0.000 | R65: N/A | S65: 43.333333 | T65: <0.000 | U65: N/A | V65: 104.44333 | W65: <0.000 | X65: N/A | Y65: 33.33

Sheet Processed
B1: 121 Sb [ He ] | C1: 121 -> 137 Sb [ O2 ] | D1: 123 Sb [ He ] | E1: 123 -> 139 Sb [ O2 ] | G1: 121 Sb [ He ] | N1: 121 -> 137 Sb [ O2 ]
A2: Sample Name | B2: Conc. | C2: Conc. | D2: Conc. | E2: Conc. | G2: spike | H2: slope | I2: intercept | J2: conc. (dil) | K2: conc. | L2: without std. add. | N2: spike | O2: slope | P2: intercept | Q2: conc. (dil) | R2: conc. | S2: without std. add.
A3: FAI 1 no spike (1:2 diluted) | B3: 0.69800109 | C3: 1.0775172 | D3: 0.69372345 | E3: 1.0182393 | G3: 0 | H3: =SLOPE(B3:B5,G3:G5) -> 0.93268854 | I3: =INTERCEPT(B3:B5,G3:G5) -> 0.67540326 | J3: =I3/H3 -> 0.72414663 | K3: =J3*2 -> 1.4482933 | L3: =B3*2 -> 1.3960022 | N3: 0 | O3: =SLOPE(C3:C5,N3:N5) -> 0.77645249 | P3: =INTERCEPT(C3:C5,N3:N5) -> 1.0669683 | Q3: =P3/O3 -> 1.3741579 | R3: =Q3*2 -> 2.7483157 | S3: =C3*2 -> 2.1550343
A4: FAI 1 2 ppb spike | B4: 2.4955847 | C4: 2.5987756 | D4: 2.4350785 | E4: 2.5632758 | G4: 2 | N4: 2
A5: FAI 1 4 ppb spike | B5: 4.4287552 | C5: 4.1833271 | D5: 4.4504476 | E5: 4.1713246 | G5: 4 | N5: 4
A6: FAI 2 no spike (1:2 diluted) | B6: 0.49667174 | C6: 0.67561213 | D6: 0.51124272 | E6: 0.63673525 | G6: 0 | H6: =SLOPE(B6:B8,G6:G8) -> 0.97456383 | I6: =INTERCEPT(B6:B8,G6:G8) -> 0.48425636 | J6: =I6/H6 -> 0.49689547 | K6: =J6*2 -> 0.99379095 | L6: =B6*2 -> 0.99334349 | N6: 0 | O6: =SLOPE(C6:C8,N6:N8) -> 0.89241983 | P6: =INTERCEPT(C6:C8,N6:N8) -> 0.63220615 | Q6: =P6/O6 -> 0.70841786 | R6: =Q6*2 -> 1.4168357 | S6: =C6*2 -> 1.3512243
A7: FAI 2 2 ppb spike | B7: 2.4085533 | C7: 2.3302338 | D7: 2.4001814 | E7: 2.3226072 | G7: 2 | N7: 2
A8: FAI 2 4 ppb spike | B8: 4.3949271 | C8: 4.2452914 | D8: 4.4521663 | E8: 4.0904122 | G8: 4 | N8: 4
A9: FAI 3 no spike (1:2 diluted) | B9: 0.42419859 | C9: 0.56360776 | D9: 0.42403389 | E9: 0.52512882 | G9: 0 | H9: =SLOPE(B9:B11,G9:G11) -> 1.0047726 | I9: =INTERCEPT(B9:B11,G9:G11) -> 0.37959702 | J9: =I9/H9 -> 0.37779395 | K9: =J9*2 -> 0.7555879 | L9: =B9*2 -> 0.84839719 | N9: 0 | O9: =SLOPE(C9:C11,N9:N11) -> 0.90017829 | P9: =INTERCEPT(C9:C11,N9:N11) -> 0.52831523 | Q9: =P9/O9 -> 0.58690066 | R9: =Q9*2 -> 1.1738013 | S9: =C9*2 -> 1.1272155
A10: FAI 3 2 ppb spike | B10: 2.2999392 | C10: 2.2580867 | D10: 2.3047559 | E10: 2.1833746 | G10: 2 | N10: 2
A11: FAI 3 4 ppb spike | B11: 4.4432892 | C11: 4.1643209 | D11: 4.5501966 | E11: 4.12851 | G11: 4 | N11: 4
A12: CsI 1 no spike (1:2 diluted) | B12: 0.52631225 | C12: 0.58073403 | D12: 0.55407077 | E12: 0.61535648 | G12: 0 | H12: =SLOPE(B12:B14,G12:G14) -> 1.1673963 | I12: =INTERCEPT(B12:B14,G12:G14) -> 0.50764534 | J12: =I12/H12 -> 0.43485263 | K12: =J12*2 -> 0.86970526 | L12: =B12*2 -> 1.0526245 | N12: 0 | O12: =SLOPE(C12:C14,N12:N14) -> 0.86601571 | P12: =INTERCEPT(C12:C14,N12:N14) -> 0.53956791 | Q12: =P12/O12 -> 0.62304632 | R12: =Q12*2 -> 1.2460926 | S12: =C12*2 -> 1.1614681
A13: CsI 1 2 ppb spike | B13: 2.8051041 | C13: 2.1892671 | D13: 2.7788787 | E13: 2.1650422 | G13: 2 | N13: 2
A14: CsI 1 4 ppb spike | B14: 5.1958973 | C14: 4.0447969 | D14: 5.1073398 | E14: 3.8741039 | G14: 4 | N14: 4
A15: CsI 2 no spike (1:2 diluted) | B15: 0.43011066 | C15: 0.42471345 | D15: 0.44254086 | E15: 0.40378218 | G15: 0 | H15: =SLOPE(B15:B17,G15:G17) -> 1.1464335 | I15: =INTERCEPT(B15:B17,G15:G17) -> 0.43775532 | J15: =I15/H15 -> 0.38184102 | K15: =J15*2 -> 0.76368205 | L15: =B15*2 -> 0.86022133 | N15: 0 | O15: =SLOPE(C15:C17,N15:N17) -> 0.82020071 | P15: =INTERCEPT(C15:C17,N15:N17) -> 0.43193714 | Q15: =P15/O15 -> 0.5266237 | R15: =Q15*2 -> 1.0532474 | S15: =C15*2 -> 0.84942689
A16: CsI 2 2 ppb spike | B16: 2.7459116 | C16: 2.0867859 | D16: 2.6658129 | E16: 2.0709437 | G16: 2 | N16: 2
A17: CsI 2 4 ppb spike | B17: 5.0158445 | C17: 3.7055163 | D17: 5.0235353 | E17: 3.5337183 | G17: 4 | N17: 4
A18: CsI 3 no spike (1:2 diluted) | B18: 0.34187911 | C18: 0.38837607 | D18: 0.33674337 | E18: 0.38081476 | G18: 0 | H18: =SLOPE(B18:B20,G18:G20) -> 1.0389438 | I18: =INTERCEPT(B18:B20,G18:G20) -> 0.35755673 | J18: =I18/H18 -> 0.34415406 | K18: =J18*2 -> 0.68830811 | L18: =B18*2 -> 0.68375822 | N18: 0 | O18: =SLOPE(C18:C20,N18:N20) -> 0.78263874 | P18: =INTERCEPT(C18:C20,N18:N20) -> 0.37290787 | Q18: =P18/O18 -> 0.4764751 | R18: =Q18*2 -> 0.9529502 | S18: =C18*2 -> 0.77675214
A19: CsI 3 2 ppb spike | B19: 2.4667996 | C19: 1.907249 | D19: 2.440447 | E19: 1.8608273 | G19: 2 | N19: 2
A20: CsI 3 4 ppb spike | B20: 4.4976544 | C20: 3.518931 | D20: 4.539855 | E20: 3.5514841 | G20: 4 | N20: 4
G22: 123 Sb [ He ] | N22: 123 -> 139 Sb [ O2 ]
G23: spike | H23: slope | I23: intercept | J23: conc. (dil) | K23: conc. | L23: without std. add. | N23: spike | O23: slope | P23: intercept | Q23: conc. (dil) | R23: conc. | S23: without std. add.
G24: 0 | H24: =SLOPE(D3:D5,G24:G26) -> 0.93918105 | I24: =INTERCEPT(D3:D5,G24:G26) -> 0.64805443 | J24: =I24/H24 -> 0.69002077 | K24: =J24*2 -> 1.3800415 | L24: =D3*2 -> 1.3874469 | N24: 0 | O24: =SLOPE(E3:E5,N24:N26) -> 0.78827133 | P24: =INTERCEPT(E3:E5,N24:N26) -> 1.0077373 | Q24: =P24/O24 -> 1.2784142 | R24: =Q24*2 -> 2.5568284 | S24: =E3*2 -> 2.0364786
G25: 2 | N25: 2
G26: 4 | N26: 4
G27: 0 | H27: =SLOPE(D6:D8,G27:G29) -> 0.9852309 | I27: =INTERCEPT(D6:D8,G27:G29) -> 0.48406835 | J27: =I27/H27 -> 0.49132477 | K27: =J27*2 -> 0.98264954 | L27: =D6*2 -> 1.0224854 | N27: 0 | O27: =SLOPE(E6:E8,N27:N29) -> 0.86341925 | P27: =INTERCEPT(E6:E8,N27:N29) -> 0.62307973 | Q27: =P27/O27 -> 0.72164215 | R27: =Q27*2 -> 1.4432843 | S27: =E6*2 -> 1.2734705
G28: 2 | N28: 2
G29: 4 | N29: 4
G30: 0 | H30: =SLOPE(D9:D11,G30:G32) -> 1.0315407 | I30: =INTERCEPT(D9:D11,G30:G32) -> 0.36324743 | J30: =I30/H30 -> 0.35214067 | K30: =J30*2 -> 0.70428135 | L30: =D9*2 -> 0.84806777 | N30: 0 | O30: =SLOPE(E9:E11,N30:N32) -> 0.9008453 | P30: =INTERCEPT(E9:E11,N30:N32) -> 0.47731388 | Q30: =P30/O30 -> 0.5298511 | R30: =Q30*2 -> 1.0597022 | S30: =E9*2 -> 1.0502576
G31: 2 | N31: 2
G32: 4 | N32: 4
G33: 0 | H33: =SLOPE(D12:D14,G33:G35) -> 1.1383173 | I33: =INTERCEPT(D12:D14,G33:G35) -> 0.53679525 | J33: =I33/H33 -> 0.4715691 | K33: =J33*2 -> 0.9431382 | L33: =D12*2 -> 1.1081415 | N33: 0 | O33: =SLOPE(E12:E14,N33:N35) -> 0.81468686 | P33: =INTERCEPT(E12:E14,N33:N35) -> 0.58879381 | Q33: =P33/O33 -> 0.72272408 | R33: =Q33*2 -> 1.4454482 | S33: =E12*2 -> 1.230713
G34: 2 | N34: 2
G35: 4 | N35: 4
G36: 0 | H36: =SLOPE(D15:D17,G36:G38) -> 1.1452486 | I36: =INTERCEPT(D15:D17,G36:G38) -> 0.42013246 | J36: =I36/H36 -> 0.36684826 | K36: =J36*2 -> 0.73369652 | L36: =D15*2 -> 0.88508172 | N36: 0 | O36: =SLOPE(E15:E17,N36:N38) -> 0.78248403 | P36: =INTERCEPT(E15:E17,N36:N38) -> 0.43784667 | Q36: =P36/O36 -> 0.55955988 | R36: =Q36*2 -> 1.1191198 | S36: =E15*2 -> 0.80756436
G37: 2 | N37: 2
G38: 4 | N38: 4
G39: 0 | H39: =SLOPE(D18:D20,G39:G41) -> 1.0507779 | I39: =INTERCEPT(D18:D20,G39:G41) -> 0.3374593 | J39: =I39/H39 -> 0.32115188 | K39: =J39*2 -> 0.64230377 | L39: =D18*2 -> 0.67348674 | N39: 0 | O39: =SLOPE(E18:E20,N39:N41) -> 0.79266734 | P39: =INTERCEPT(E18:E20,N39:N41) -> 0.34570736 | Q39: =P39/O39 -> 0.43613171 | R39: =Q39*2 -> 0.87226342 | S39: =E18*2 -> 0.76162952
G40: 2 | N40: 2
G41: 4 | N41: 4

Sheet Calculations
B1: 121 Sb (He) | D1: 121 -> 137 Sb [ O2 ] | F1: 123 Sb [ He ] | H1: 123 -> 139 Sb [ O2 ] | K1: Amount in sample (ug) | T1: conc. in solid sample (ug/mg)
A2: Sample Name | B2: Conc. | C2: Conc. | D2: Conc. | E2: Conc. | F2: Conc. | G2: Conc. | H2: Conc. | I2: Conc. | K2: 121 Sb (He) | M2: 121 -> 137 Sb [ O2 ] | O2: 123 Sb [ He ] | Q2: 123 -> 139 Sb [ O2 ] | T2: 121 Sb (He) | V2: 121 -> 137 Sb [ O2 ] | X2: 123 Sb [ He ] | Z2: 123 -> 139 Sb [ O2 ]
A3: FAI 1 | B3: =Processed!K3 -> 1.4482933 | C3: =Processed!L3 -> 1.3960022 | D3: =Processed!R3 -> 2.7483157 | E3: =Processed!S3 -> 2.1550343 | F3: =Processed!K24 -> 1.3800415 | G3: =Processed!L24 -> 1.3874469 | H3: =Processed!R24 -> 2.5568284 | I3: =Processed!S24 -> 2.0364786 | K3: =B3*$F$12 -> 0.014482933 | L3: =C3*$F$12 -> 0.013960022 | M3: =D3*$F$12 -> 0.027483157 | N3: =E3*$F$12 -> 0.021550343 | O3: =F3*$F$12 -> 0.013800415 | P3: =G3*$F$12 -> 0.013874469 | Q3: =H3*$F$12 -> 0.025568284 | R3: =I3*$F$12 -> 0.020364786 | T3: =K3/$B12 -> 0.00048637984 | U3: =L3/$B12 -> 0.00046881895 | V3: =M3/$B12 -> 0.00092296596 | W3: =N3/$B12 -> 0.00072372446 | X3: =O3/$B12 -> 0.00046345889 | Y3: =P3/$B12 -> 0.00046594583 | Z3: =Q3/$B12 -> 0.00085865882 | AA3: =R3/$B12 -> 0.00068390993
A4: FAI 2 | B4: =Processed!K6 -> 0.99379095 | C4: =Processed!L6 -> 0.99334349 | D4: =Processed!R6 -> 1.4168357 | E4: =Processed!S6 -> 1.3512243 | F4: =Processed!K27 -> 0.98264954 | G4: =Processed!L27 -> 1.0224854 | H4: =Processed!R27 -> 1.4432843 | I4: =Processed!S27 -> 1.2734705 | K4: =B4*$F$12 -> 0.0099379095 | L4: =C4*$F$12 -> 0.0099334349 | M4: =D4*$F$12 -> 0.014168357 | N4: =E4*$F$12 -> 0.013512243 | O4: =F4*$F$12 -> 0.0098264954 | P4: =G4*$F$12 -> 0.010224854 | Q4: =H4*$F$12 -> 0.014432843 | R4: =I4*$F$12 -> 0.012734705 | T4: =K4/$B13 -> 0.00033272765 | U4: =L4/$B13 -> 0.00033257784 | V4: =M4/$B13 -> 0.00047436579 | W4: =N4/$B13 -> 0.00045239864 | X4: =O4/$B13 -> 0.00032899744 | Y4: =P4/$B13 -> 0.00034233475 | Z4: =Q4/$B13 -> 0.00048322094 | AA4: =R4/$B13 -> 0.00042636618
A5: FAI 3 | B5: =Processed!K9 -> 0.7555879 | C5: =Processed!L9 -> 0.84839719 | D5: =Processed!R9 -> 1.1738013 | E5: =Processed!S9 -> 1.1272155 | F5: =Processed!K30 -> 0.70428135 | G5: =Processed!L30 -> 0.84806777 | H5: =Processed!R30 -> 1.0597022 | I5: =Processed!S30 -> 1.0502576 | K5: =B5*$F$12 -> 0.007555879 | L5: =C5*$F$12 -> 0.0084839719 | M5: =D5*$F$12 -> 0.011738013 | N5: =E5*$F$12 -> 0.011272155 | O5: =F5*$F$12 -> 0.0070428135 | P5: =G5*$F$12 -> 0.0084806777 | Q5: =H5*$F$12 -> 0.010597022 | R5: =I5*$F$12 -> 0.010502576 | T5: =K5/$B14 -> 0.00024992984 | U5: =L5/$B14 -> 0.00028062887 | V5: =M5/$B14 -> 0.00038826453 | W5: =N5/$B14 -> 0.00037285509 | X5: =O5/$B14 -> 0.0002329589 | Y5: =P5/$B14 -> 0.0002805199 | Z5: =Q5/$B14 -> 0.00035052335 | AA5: =R5/$B14 -> 0.00034739932
A6: CsI 1 | B6: =Processed!K12 -> 0.86970526 | C6: =Processed!L12 -> 1.0526245 | D6: =Processed!R12 -> 1.2460926 | E6: =Processed!S12 -> 1.1614681 | F6: =Processed!K33 -> 0.9431382 | G6: =Processed!L33 -> 1.1081415 | H6: =Processed!R33 -> 1.4454482 | I6: =Processed!S33 -> 1.230713 | K6: =B6*$F$12 -> 0.0086970526 | L6: =C6*$F$12 -> 0.010526245 | M6: =D6*$F$12 -> 0.012460926 | N6: =E6*$F$12 -> 0.011614681 | O6: =F6*$F$12 -> 0.009431382 | P6: =G6*$F$12 -> 0.011081415 | Q6: =H6*$F$12 -> 0.014454482 | R6: =I6*$F$12 -> 0.01230713 | T6: =K6/$B15 -> 0.00027628987 | U6: =L6/$B15 -> 0.00033440005 | V6: =M6/$B15 -> 0.00039586144 | W6: =N6/$B15 -> 0.00036897772 | X6: =O6/$B15 -> 0.00029961821 | Y6: =P6/$B15 -> 0.00035203683 | Z6: =Q6/$B15 -> 0.00045919314 | AA6: =R6/$B15 -> 0.00039097559
A7: CsI 2 | B7: =Processed!K15 -> 0.76368205 | C7: =Processed!L15 -> 0.86022133 | D7: =Processed!R15 -> 1.0532474 | E7: =Processed!S15 -> 0.84942689 | F7: =Processed!K36 -> 0.73369652 | G7: =Processed!L36 -> 0.88508172 | H7: =Processed!R36 -> 1.1191198 | I7: =Processed!S36 -> 0.80756436 | K7: =B7*$F$12 -> 0.0076368205 | L7: =C7*$F$12 -> 0.0086022133 | M7: =D7*$F$12 -> 0.010532474 | N7: =E7*$F$12 -> 0.0084942689 | O7: =F7*$F$12 -> 0.0073369652 | P7: =G7*$F$12 -> 0.0088508172 | Q7: =H7*$F$12 -> 0.011191198 | R7: =I7*$F$12 -> 0.0080756436 | T7: =K7/$B16 -> 0.00024844076 | U7: =L7/$B16 -> 0.00027984688 | V7: =M7/$B16 -> 0.00034264205 | W7: =N7/$B16 -> 0.00027633524 | X7: =O7/$B16 -> 0.00023868588 | Y7: =P7/$B16 -> 0.00028793445 | Z7: =Q7/$B16 -> 0.00036407162 | AA7: =R7/$B16 -> 0.00026271654
A8: CsI 3 | B8: =Processed!K18 -> 0.68830811 | C8: =Processed!L18 -> 0.68375822 | D8: =Processed!R18 -> 0.9529502 | E8: =Processed!S18 -> 0.77675214 | F8: =Processed!K39 -> 0.64230377 | G8: =Processed!L39 -> 0.67348674 | H8: =Processed!R39 -> 0.87226342 | I8: =Processed!S39 -> 0.76162952 | K8: =B8*$F$12 -> 0.0068830811 | L8: =C8*$F$12 -> 0.0068375822 | M8: =D8*$F$12 -> 0.009529502 | N8: =E8*$F$12 -> 0.0077675214 | O8: =F8*$F$12 -> 0.0064230377 | P8: =G8*$F$12 -> 0.0067348674 | Q8: =H8*$F$12 -> 0.0087226342 | R8: =I8*$F$12 -> 0.0076162952 | T8: =K8/$B17 -> 0.00021766748 | U8: =L8/$B17 -> 0.00021622864 | V8: =M8/$B17 -> 0.00030135671 | W8: =N8/$B17 -> 0.00024563663 | X8: =O8/$B17 -> 0.00020311927 | Y8: =P8/$B17 -> 0.00021298044 | Z8: =Q8/$B17 -> 0.00027584069 | AA8: =R8/$B17 -> 0.00024085432
S10: mean FAI | T10: =AVERAGE(T3:T5) -> 0.00035634578 | U10: =AVERAGE(U3:U5) -> 0.00036067522 | V10: =AVERAGE(V3:V5) -> 0.00059519876 | W10: =AVERAGE(W3:W5) -> 0.00051632606 | X10: =AVERAGE(X3:X5) -> 0.00034180508 | Y10: =AVERAGE(Y3:Y5) -> 0.0003629335 | Z10: =AVERAGE(Z3:Z5) -> 0.00056413437 | AA10: =AVERAGE(AA3:AA5) -> 0.00048589181
A11: sample | B11: mg | F11: volume sample (L) | S11: mean CsI | T11: =AVERAGE(T6:T8) -> 0.00024746604 | U11: =AVERAGE(U6:U8) -> 0.00027682519 | V11: =AVERAGE(V6:V8) -> 0.00034662007 | W11: =AVERAGE(W6:W8) -> 0.00029698319 | X11: =AVERAGE(X6:X8) -> 0.00024714112 | Y11: =AVERAGE(Y6:Y8) -> 0.00028431724 | Z11: =AVERAGE(Z6:Z8) -> 0.00036636848 | AA11: =AVERAGE(AA6:AA8) -> 0.00029818215
A12: FAI 1 | B12: 29.777 | F12: =10/1000 -> 0.01
A13: FAI 2 | B13: 29.868 | S13: sd FAI | T13: =_xlfn.STDEV.P(T3:T5) -> 9.7964322e-05 | U13: =_xlfn.STDEV.P(U3:U5) -> 7.9355628e-05 | V13: =_xlfn.STDEV.P(V3:V5) -> 0.00023441681 | W13: =_xlfn.STDEV.P(W3:W5) -> 0.00015020511 | X13: =_xlfn.STDEV.P(X3:X5) -> 9.4536018e-05 | Y13: =_xlfn.STDEV.P(Y3:Y5) -> 7.7088369e-05 | Z13: =_xlfn.STDEV.P(Z3:Z5) -> 0.00021519084 | AA13: =_xlfn.STDEV.P(AA3:AA5) -> 0.00014368327
A14: FAI 3 | B14: 30.232 | S14: sd CsI | T14: =_xlfn.STDEV.P(T6:T8) -> 2.3942413e-05 | U14: =_xlfn.STDEV.P(U6:U8) -> 4.8290568e-05 | V14: =_xlfn.STDEV.P(V6:V8) -> 3.8683799e-05 | W14: =_xlfn.STDEV.P(W6:W8) -> 5.242779e-05 | X14: =_xlfn.STDEV.P(X6:X8) -> 3.9846618e-05 | Y14: =_xlfn.STDEV.P(Y6:Y8) -> 5.6827125e-05 | Z14: =_xlfn.STDEV.P(Z6:Z8) -> 7.4870942e-05 | AA14: =_xlfn.STDEV.P(AA6:AA8) -> 6.6219114e-05
A15: CsI 1 | B15: 31.478
A16: CsI 2 | B16: 30.739
A17: CsI 3 | B17: 31.622
F18: Contaminant conc. (ppm)
A19: Result from standard addition | F19: Sb mean | G19: Sb sd
A20: Result from non-spiked sample only | E20: FAI | F20: =AVERAGE(V10,Z10)*1000 -> 0.57966656 | G20: =AVERAGE(V13,Z13)*1000 -> 0.22480383
E21: CsI | F21: =AVERAGE(V11,Z11)*1000 -> 0.35649428 | G21: =AVERAGE(V14,Z14)*1000 -> 0.05677737

Sheet ValueList_Helper
A1: Bkgnd
A2: BlkVrfy
A3: CalBlk
A4: CalStd
A5: CICSpike
A6: DilStd
A7: DriftChk
A8: FQBlk
A9: IsoStd
A10: QC1
A11: QC2
A12: QC3
... A20: SQStd
