Workbook

Sheet Pout_CellA_vs_Jo1
B1: NO FSF | P1: FSF
C2: A | D2: V | E2: W | Q2: A | R2: V | S2: W
A3: =+Jo1_forCellA!C3 -> FrCharge | B3: =+Jo1_forCellA!G3 -> Jo1 | C3: Isc: | D3: Voc: | E3: Max Power Out: | O3: =+Jo1_forCellA!C71 -> FrCharge | P3: =+Jo1_forCellA!G71 -> Jo1 | Q3: Isc: | R3: Voc: | S3: Max Power Out:
A4: =+Jo1_forCellA!C4 -> 1000000000 | B4: =+Jo1_forCellA!G4 -> 2.0302001e-12 | C4: 0.019374553 | D4: 0.60717781 | E4: 0.009603015 | F4: =+E4*1000 -> 9.603015 | O4: =+Jo1_forCellA!C72 -> 1000000000 | P4: =+Jo1_forCellA!G72 -> 2.9829883e-14 | Q4: 0.039995461 | R4: 0.66926642 | S4: 0.021778065 | T4: =+S4*1000 -> 21.778065
A5: =+Jo1_forCellA!C5 -> 1373820000 | B5: =+Jo1_forCellA!G5 -> 2.0165062e-12 | C5: 0.019433823 | D5: 0.607312 | E5: 0.0096343656 | F5: =+E5*1000 -> 9.6343656 | O5: =+Jo1_forCellA!C73 -> 1373820000 | P5: =+Jo1_forCellA!G73 -> 2.9815933e-14 | Q5: 0.039995814 | R5: 0.66926858 | S5: 0.021778329 | T5: =+S5*1000 -> 21.778329
A6: =+Jo1_forCellA!C6 -> 1887390000 | B6: =+Jo1_forCellA!G6 -> 1.997871e-12 | C6: 0.019515224 | D6: 0.60749713 | E6: 0.0096773384 | F6: =+E6*1000 -> 9.6773384 | O6: =+Jo1_forCellA!C74 -> 1887390000 | P6: =+Jo1_forCellA!G74 -> 2.9797672e-14 | Q6: 0.039996283 | R6: 0.66927141 | S6: 0.021778673 | T6: =+S6*1000 -> 21.778673
A7: =+Jo1_forCellA!C7 -> 2592940000 | B7: =+Jo1_forCellA!G7 -> 1.9725124e-12 | C7: 0.019627409 | D7: 0.60775373 | E7: 0.0097366421 | F7: =+E7*1000 -> 9.7366421 | O7: =+Jo1_forCellA!C75 -> 2592940000 | P7: =+Jo1_forCellA!G75 -> 2.9771205e-14 | Q7: 0.039996953 | R7: 0.66927552 | S7: 0.021779173 | T7: =+S7*1000 -> 21.779173
A8: =+Jo1_forCellA!C8 -> 3562250000 | B8: =+Jo1_forCellA!G8 -> 1.9380221e-12 | C8: 0.01978266 | D8: 0.60811185 | E8: 0.0098186455 | F8: =+E8*1000 -> 9.8186455 | O8: =+Jo1_forCellA!C76 -> 3562250000 | P8: =+Jo1_forCellA!G76 -> 2.9736266e-14 | Q8: 0.039997838 | R8: 0.66928083 | S8: 0.021779834 | T8: =+S8*1000 -> 21.779834
A9: =+Jo1_forCellA!C9 -> 4893900000 | B9: =+Jo1_forCellA!G9 -> 1.8915214e-12 | C9: 0.01999702 | D9: 0.60861187 | E9: 0.0099322152 | F9: =+E9*1000 -> 9.9322152 | O9: =+Jo1_forCellA!C77 -> 4893900000 | P9: =+Jo1_forCellA!G77 -> 2.9687517e-14 | Q9: 0.039999073 | R9: 0.6692884 | S9: 0.021780755 | T9: =+S9*1000 -> 21.780755
A10: =+Jo1_forCellA!C10 -> 6723360000 | B10: =+Jo1_forCellA!G10 -> 1.8292139e-12 | C10: 0.020293721 | D10: 0.60931501 | E10: 0.01008955 | F10: =+E10*1000 -> 10.08955 | O10: =+Jo1_forCellA!C78 -> 6723360000 | P10: =+Jo1_forCellA!G78 -> 2.9620773e-14 | Q10: 0.040000764 | R10: 0.66929875 | S10: 0.021782017 | T10: =+S10*1000 -> 21.782017
A11: =+Jo1_forCellA!C11 -> 9236710000 | B11: =+Jo1_forCellA!G11 -> 1.7465476e-12 | C11: 0.020705104 | D11: 0.61031195 | E11: 0.010308489 | F11: =+E11*1000 -> 10.308489 | O11: =+Jo1_forCellA!C79 -> 9236710000 | P11: =+Jo1_forCellA!G79 -> 2.9530446e-14 | Q11: 0.040003053 | R11: 0.6693128 | S11: 0.021783726 | T11: =+S11*1000 -> 21.783726
A12: =+Jo1_forCellA!C12 -> 12689600000 | B12: =+Jo1_forCellA!G12 -> 1.6387225e-12 | C12: 0.021274664 | D12: 0.61173654 | E12: 0.010647338 | F12: =+E12*1000 -> 10.647338 | O12: =+Jo1_forCellA!C80 -> 12689600000 | P12: =+Jo1_forCellA!G80 -> 2.9405993e-14 | Q12: 0.040006206 | R12: 0.66933204 | S12: 0.021786081 | T12: =+S12*1000 -> 21.786081
A13: =+Jo1_forCellA!C13 -> 17433300000 | B13: =+Jo1_forCellA!G13 -> 1.5011441e-12 | C13: 0.022061664 | D13: 0.61379669 | E13: 0.011067293 | F13: =+E13*1000 -> 11.067293 | O13: =+Jo1_forCellA!C81 -> 17433300000 | P13: =+Jo1_forCellA!G81 -> 2.9235485e-14 | Q13: 0.040010528 | R13: 0.6693585 | S13: 0.021789309 | T13: =+S13*1000 -> 21.789309
A14: =+Jo1_forCellA!C14 -> 23950300000 | B14: =+Jo1_forCellA!G14 -> 1.3315416e-12 | C14: 0.02313906 | D14: 0.61680774 | E14: 0.011644447 | F14: =+E14*1000 -> 11.644447 | O14: =+Jo1_forCellA!C82 -> 23950300000 | P14: =+Jo1_forCellA!G82 -> 2.9004451e-14 | Q14: 0.040016386 | R14: 0.66939459 | S14: 0.021793686 | T14: =+S14*1000 -> 21.793686
A15: =+Jo1_forCellA!C15 -> 32903400000 | B15: =+Jo1_forCellA!G15 -> 1.1321025e-12 | C15: 0.024587954 | D15: 0.62070336 | E15: 0.012425619 | F15: =+E15*1000 -> 12.425619 | O15: =+Jo1_forCellA!C83 -> 32903400000 | P15: =+Jo1_forCellA!G83 -> 2.869152e-14 | Q15: 0.040024324 | R15: 0.6694434 | S15: 0.021799622 | T15: =+S15*1000 -> 21.799622
... A33: =+Jo1_forCellA!C33 -> 10000000000000 | B33: =+Jo1_forCellA!G33 -> 2.3348858e-15 | C33: 0.040707123 | D33: 0.67432054 | E33: 0.022322244 | F33: =+E33*1000 -> 22.322244 | O33: =+Jo1_forCellA!C101 -> 10000000000000 | P33: =+Jo1_forCellA!G101 -> 6.0925249e-15 | Q33: 0.040607866 | R33: 0.67351255 | S33: 0.022249564 | T33: =+S33*1000 -> 22.249564
A35: =+Jo1_forCellA!C37 -> -1000000000 | B35: =+Jo1_forCellA!G37 -> 2.1043868e-12 | C35: 0.019061362 | D35: 0.60647624 | E35: 0.0094380707 | F35: =+E35*1000 -> 9.4380707 | O35: =+Jo1_forCellA!C105 -> -1000000000 | P35: =+Jo1_forCellA!G105 -> 2.9902822e-14 | Q35: 0.039993613 | R35: 0.66925525 | S35: 0.021776687 | T35: =+S35*1000 -> 21.776687
A36: =+Jo1_forCellA!C38 -> -1373820000 | B36: =+Jo1_forCellA!G38 -> 2.1185695e-12 | C36: 0.019002953 | D36: 0.60634697 | E36: 0.0094073208 | F36: =+E36*1000 -> 9.4073208 | O36: =+Jo1_forCellA!C106 -> -1373820000 | P36: =+Jo1_forCellA!G106 -> 2.9916812e-14 | Q36: 0.039993259 | R36: 0.66925308 | S36: 0.021776423 | T36: =+S36*1000 -> 21.776423
A37: =+Jo1_forCellA!C39 -> -1887390000 | B37: =+Jo1_forCellA!G39 -> 2.1380276e-12 | C37: 0.018923568 | D37: 0.60617171 | E37: 0.0093655465 | F37: =+E37*1000 -> 9.3655465 | O37: =+Jo1_forCellA!C107 -> -1887390000 | P37: =+Jo1_forCellA!G107 -> 2.9935144e-14 | Q37: 0.039992795 | R37: 0.66925024 | S37: 0.021776076 | T37: =+S37*1000 -> 21.776076
A38: =+Jo1_forCellA!C40 -> -2592940000 | B38: =+Jo1_forCellA!G40 -> 2.1649381e-12 | C38: 0.018815185 | D38: 0.60593396 | E38: 0.0093086951 | F38: =+E38*1000 -> 9.3086951 | O38: =+Jo1_forCellA!C108 -> -2592940000 | P38: =+Jo1_forCellA!G108 -> 2.9961712e-14 | Q38: 0.039992122 | R38: 0.66924615 | S38: 0.021775575 | T38: =+S38*1000 -> 21.775575
A39: =+Jo1_forCellA!C41 -> -3562250000 | B39: =+Jo1_forCellA!G41 -> 2.2023668e-12 | C39: 0.01866705 | D39: 0.60561138 | E39: 0.0092308686 | F39: =+E39*1000 -> 9.2308686 | O39: =+Jo1_forCellA!C109 -> -3562250000 | P39: =+Jo1_forCellA!G109 -> 2.9996952e-14 | Q39: 0.03999123 | R39: 0.66924069 | S39: 0.021774909 | T39: =+S39*1000 -> 21.774909
A40: =+Jo1_forCellA!C42 -> -4893900000 | B40: =+Jo1_forCellA!G42 -> 2.2545319e-12 | C40: 0.018465545 | D40: 0.60517681 | E40: 0.0091251421 | F40: =+E40*1000 -> 9.1251421 | O40: =+Jo1_forCellA!C110 -> -4893900000 | P40: =+Jo1_forCellA!G110 -> 3.004624e-14 | Q40: 0.039989982 | R40: 0.66923306 | S40: 0.021773979 | T40: =+S40*1000 -> 21.773979
A41: =+Jo1_forCellA!C43 -> -6723360000 | B41: =+Jo1_forCellA!G43 -> 2.3273646e-12 | C41: 0.018193432 | D41: 0.60459792 | E41: 0.0089827158 | F41: =+E41*1000 -> 8.9827158 | O41: =+Jo1_forCellA!C111 -> -6723360000 | P41: =+Jo1_forCellA!G111 -> 3.0113963e-14 | Q41: 0.039988267 | R41: 0.66922259 | S41: 0.0217727 | T41: =+S41*1000 -> 21.7727
A42: =+Jo1_forCellA!C44 -> -9236710000 | B42: =+Jo1_forCellA!G44 -> 2.4295177e-12 | C42: 0.0178288 | D42: 0.60383599 | E42: 0.0087922202 | F42: =+E42*1000 -> 8.7922202 | O42: =+Jo1_forCellA!C112 -> -9236710000 | P42: =+Jo1_forCellA!G112 -> 3.0207326e-14 | Q42: 0.039985904 | R42: 0.66920828 | S42: 0.021770938 | T42: =+S42*1000 -> 21.770938
A43: =+Jo1_forCellA!C45 -> -12689600000 | B43: =+Jo1_forCellA!G45 -> 2.573284e-12 | C43: 0.017346647 | D43: 0.6028519 | E43: 0.0085409362 | F43: =+E43*1000 -> 8.5409362 | O43: =+Jo1_forCellA!C113 -> -12689600000 | P43: =+Jo1_forCellA!G113 -> 3.0336477e-14 | Q43: 0.039982635 | R43: 0.66918837 | S43: 0.021768502 | T43: =+S43*1000 -> 21.768502
A44: =+Jo1_forCellA!C46 -> -17433300000 | B44: =+Jo1_forCellA!G46 -> 2.7750825e-12 | C44: 0.016724584 | D44: 0.60161949 | E44: 0.0082178515 | F44: =+E44*1000 -> 8.2178515 | O44: =+Jo1_forCellA!C114 -> -17433300000 | P44: =+Jo1_forCellA!G114 -> 3.0514864e-14 | Q44: 0.039978121 | R44: 0.66916104 | S44: 0.021765138 | T44: =+S44*1000 -> 21.765138
A45: =+Jo1_forCellA!C47 -> -23950300000 | B45: =+Jo1_forCellA!G47 -> 3.053698e-12 | C45: 0.015956187 | D45: 0.60015119 | E45: 0.0078201879 | F45: =+E45*1000 -> 7.8201879 | O45: =+Jo1_forCellA!C115 -> -23950300000 | P45: =+Jo1_forCellA!G115 -> 3.0761943e-14 | Q45: 0.039971871 | R45: 0.66912321 | S45: 0.021760485 | T45: =+S45*1000 -> 21.760485
A46: =+Jo1_forCellA!C48 -> -32903400000 | B46: =+Jo1_forCellA!G48 -> 3.4198097e-12 | C46: 0.015078381 | D46: 0.59726347 | E46: 0.0073676912 | F46: =+E46*1000 -> 7.3676912 | O46: =+Jo1_forCellA!C116 -> -32903400000 | P46: =+Jo1_forCellA!G116 -> 3.1106935e-14 | Q46: 0.039963148 | R46: 0.66907064 | S46: 0.021753993 | T46: =+S46*1000 -> 21.753993
... A64: =+Jo1_forCellA!C66 -> -10000000000000 | B64: =+Jo1_forCellA!G66 -> 1.6928317e-25 | C64: 0.040768952 | D64: 0.67484074 | E64: 0.022372395 | F64: =+E64*1000 -> 22.372395 | O64: =+Jo1_forCellA!C134 -> -10000000000000 | P64: =+Jo1_forCellA!G134 -> 2.896114e-21 | Q64: 0.040768716 | R64: 0.67483421 | S64: 0.022379341 | T64: =+S64*1000 -> 22.379341

Sheet Jo1_forCellA
A1: DEVICE
A2: Device area: 100 cm 2 | C2: Batch run from:c:\users\corp1959\google drive\oxford dphil\solar cell simulations\pc1d59\pc1d5\sebastian\jo1_vscharge\pvl_externalbatch_pos.txt
A3: Front surface texture depth: 3 µm | C3: FrCharge | D3: Vb | E3: Ib | G3: Jo1 | H3: Seff
A4: Front surface charge: 0 cm -2 | C4: 1000000000 | D4: 0.562264 | E4: 1.18868 | G4: =+E4/100*(EXP(-D4/0.025)) -> 2.0302001e-12 | H4: =+G4*5000000000000000/(1.6E-19*100000000000000000000) -> 634.43754
A5: Rear surface charge: 0 cm -2 | C5: 1373820000 | D5: 0.562417 | E5: 1.18791 | G5: =+E5/100*(EXP(-D5/0.025)) -> 2.0165062e-12 | H5: =+G5*5000000000000000/(1.6E-19*100000000000000000000) -> 630.15818
A6: Exterior Front Reflectance: 10% | C6: 1887390000 | D6: 0.562627 | E6: 1.18686 | G6: =+E6/100*(EXP(-D6/0.025)) -> 1.997871e-12 | H6: =+G6*5000000000000000/(1.6E-19*100000000000000000000) -> 624.33468
A7: No Exterior Rear Reflectance | C7: 2592940000 | D7: 0.562916 | E7: 1.18542 | G7: =+E7/100*(EXP(-D7/0.025)) -> 1.9725124e-12 | H7: =+G7*5000000000000000/(1.6E-19*100000000000000000000) -> 616.41013
A8: Internal optical reflectance enabled | C8: 3562250000 | D8: 0.563315 | E8: 1.18343 | G8: =+E8/100*(EXP(-D8/0.025)) -> 1.9380221e-12 | H8: =+G8*5000000000000000/(1.6E-19*100000000000000000000) -> 605.63192
A9: Front surface optically rough | C9: 4893900000 | D9: 0.563864 | E9: 1.18068 | G9: =+E9/100*(EXP(-D9/0.025)) -> 1.8915214e-12 | H9: =+G9*5000000000000000/(1.6E-19*100000000000000000000) -> 591.10043
A10: Emitter contact enabled | C10: 6723360000 | D10: 0.564621 | E10: 1.17689 | G10: =+E10/100*(EXP(-D10/0.025)) -> 1.8292139e-12 | H10: =+G10*5000000000000000/(1.6E-19*100000000000000000000) -> 571.62933
A11: Base contact enabled | C11: 9236710000 | D11: 0.565666 | E11: 1.17167 | G11: =+E11/100*(EXP(-D11/0.025)) -> 1.7465476e-12 | H11: =+G11*5000000000000000/(1.6E-19*100000000000000000000) -> 545.79611
A12: No internal shunt elements | C12: 12689600000 | D12: 0.567105 | E12: 1.16447 | G12: =+E12/100*(EXP(-D12/0.025)) -> 1.6387225e-12 | H12: =+G12*5000000000000000/(1.6E-19*100000000000000000000) -> 512.10078
A13: REGION 1 | C13: 17433300000 | D13: 0.569084 | E13: 1.15458 | G13: =+E13/100*(EXP(-D13/0.025)) -> 1.5011441e-12 | H13: =+G13*5000000000000000/(1.6E-19*100000000000000000000) -> 469.10754
A14: Thickness: 180 µm | C14: 23950300000 | D14: 0.571787 | E14: 1.14107 | G14: =+E14/100*(EXP(-D14/0.025)) -> 1.3315416e-12 | H14: =+G14*5000000000000000/(1.6E-19*100000000000000000000) -> 416.10674
A15: Material from si.mat | C15: 32903400000 | D15: 0.57544 | E15: 1.1228 | G15: =+E15/100*(EXP(-D15/0.025)) -> 1.1321025e-12 | H15: =+G15*5000000000000000/(1.6E-19*100000000000000000000) -> 353.78202
... A33: Temperature: 25ºC | C33: 10000000000000 | D33: 0.707786 | E33: 0.461071 | G33: =+E33/100*(EXP(-D33/0.025)) -> 2.3348858e-15 | H33: =+G33*5000000000000000/(1.6E-19*100000000000000000000) -> 0.72965181
A34: Base circuit: 0.8 V
A35: Collector circuit: Zero | C35: Batch run from:c:\users\corp1959\google drive\oxford dphil\solar cell simulations\pc1d59\pc1d5\sebastian\jo1_vscharge\pvl_externalbatch_neg.txt
A36: Light sources disabled | C36: FrCharge | D36: Vb | E36: Ib | G36: Jo1 | H36: Seff
C37: -1000000000 | D37: 0.561452 | E37: 1.19274 | G37: =+E37/100*(EXP(-D37/0.025)) -> 2.1043868e-12 | H37: =+G37*5000000000000000/(1.6E-19*100000000000000000000) -> 657.62087
C38: -1373820000 | D38: 0.5613 | E38: 1.1935 | G38: =+E38/100*(EXP(-D38/0.025)) -> 2.1185695e-12 | H38: =+G38*5000000000000000/(1.6E-19*100000000000000000000) -> 662.05297
C39: -1887390000 | D39: 0.561093 | E39: 1.19453 | G39: =+E39/100*(EXP(-D39/0.025)) -> 2.1380276e-12 | H39: =+G39*5000000000000000/(1.6E-19*100000000000000000000) -> 668.13363
C40: -2592940000 | D40: 0.56081 | E40: 1.19595 | G40: =+E40/100*(EXP(-D40/0.025)) -> 2.1649381e-12 | H40: =+G40*5000000000000000/(1.6E-19*100000000000000000000) -> 676.54316
C41: -3562250000 | D41: 0.560422 | E41: 1.19789 | G41: =+E41/100*(EXP(-D41/0.025)) -> 2.2023668e-12 | H41: =+G41*5000000000000000/(1.6E-19*100000000000000000000) -> 688.23963
C42: -4893900000 | D42: 0.559892 | E42: 1.20054 | G42: =+E42/100*(EXP(-D42/0.025)) -> 2.2545319e-12 | H42: =+G42*5000000000000000/(1.6E-19*100000000000000000000) -> 704.54123
C43: -6723360000 | D43: 0.559172 | E43: 1.20414 | G43: =+E43/100*(EXP(-D43/0.025)) -> 2.3273646e-12 | H43: =+G43*5000000000000000/(1.6E-19*100000000000000000000) -> 727.30143
C44: -9236710000 | D44: 0.558199 | E44: 1.20901 | G44: =+E44/100*(EXP(-D44/0.025)) -> 2.4295177e-12 | H44: =+G44*5000000000000000/(1.6E-19*100000000000000000000) -> 759.22429
C45: -12689600000 | D45: 0.556896 | E45: 1.21552 | G45: =+E45/100*(EXP(-D45/0.025)) -> 2.573284e-12 | H45: =+G45*5000000000000000/(1.6E-19*100000000000000000000) -> 804.15125
C46: -17433300000 | D46: 0.555184 | E46: 1.22408 | G46: =+E46/100*(EXP(-D46/0.025)) -> 2.7750825e-12 | H46: =+G46*5000000000000000/(1.6E-19*100000000000000000000) -> 867.21328
C47: -23950300000 | D47: 0.553013 | E47: 1.23494 | G47: =+E47/100*(EXP(-D47/0.025)) -> 3.053698e-12 | H47: =+G47*5000000000000000/(1.6E-19*100000000000000000000) -> 954.28063
C48: -32903400000 | D48: 0.550441 | E48: 1.24779 | G48: =+E48/100*(EXP(-D48/0.025)) -> 3.4198097e-12 | H48: =+G48*5000000000000000/(1.6E-19*100000000000000000000) -> 1068.6905
... C66: -10000000000000 | D66: 0.8 | E66: 1.33671e-09 | G66: =+E66/100*(EXP(-D66/0.025)) -> 1.6928317e-25 | H66: =+G66*5000000000000000/(1.6E-19*100000000000000000000) -> 5.290099e-11
A70: DEVICE | C70: Batch run from:c:\users\corp1959\google drive\oxford dphil\solar cell simulations\pc1d59\pc1d5\sebastian\jo1_vscharge\pvl_externalbatch_pos.txt
A71: Device area: 100 cm 2 | C71: FrCharge | D71: Vb | E71: Ib | G71: Jo1 | H71: Seff
A72: Front surface texture depth: 3 µm | C72: 1000000000 | D72: 0.655352 | E72: 0.723239 | G72: =+E72/100*(EXP(-D72/0.025)) -> 2.9829883e-14 | H72: =+G72*5000000000000000/(1.6E-19*100000000000000000000) -> 9.3218383
A73: Front surface charge: 0 cm -2 | C73: 1373820000 | D73: 0.655362 | E73: 0.72319 | G73: =+E73/100*(EXP(-D73/0.025)) -> 2.9815933e-14 | H73: =+G73*5000000000000000/(1.6E-19*100000000000000000000) -> 9.317479
A74: Rear surface charge: 0 cm -2 | C74: 1887390000 | D74: 0.655375 | E74: 0.723123 | G74: =+E74/100*(EXP(-D74/0.025)) -> 2.9797672e-14 | H74: =+G74*5000000000000000/(1.6E-19*100000000000000000000) -> 9.3117724
A75: Exterior Front Reflectance: 10% | C75: 2592940000 | D75: 0.655394 | E75: 0.72303 | G75: =+E75/100*(EXP(-D75/0.025)) -> 2.9771205e-14 | H75: =+G75*5000000000000000/(1.6E-19*100000000000000000000) -> 9.3035015
A76: No Exterior Rear Reflectance | C76: 3562250000 | D76: 0.655419 | E76: 0.722904 | G76: =+E76/100*(EXP(-D76/0.025)) -> 2.9736266e-14 | H76: =+G76*5000000000000000/(1.6E-19*100000000000000000000) -> 9.292583
A77: Internal optical reflectance enabled | C77: 4893900000 | D77: 0.655454 | E77: 0.72273 | G77: =+E77/100*(EXP(-D77/0.025)) -> 2.9687517e-14 | H77: =+G77*5000000000000000/(1.6E-19*100000000000000000000) -> 9.2773489
A78: Front surface optically rough | C78: 6723360000 | D78: 0.655502 | E78: 0.722491 | G78: =+E78/100*(EXP(-D78/0.025)) -> 2.9620773e-14 | H78: =+G78*5000000000000000/(1.6E-19*100000000000000000000) -> 9.2564914
A79: Emitter contact enabled | C79: 9236710000 | D79: 0.655567 | E79: 0.722163 | G79: =+E79/100*(EXP(-D79/0.025)) -> 2.9530446e-14 | H79: =+G79*5000000000000000/(1.6E-19*100000000000000000000) -> 9.2282644
A80: Base contact enabled | C80: 12689600000 | D80: 0.655657 | E80: 0.721713 | G80: =+E80/100*(EXP(-D80/0.025)) -> 2.9405993e-14 | H80: =+G80*5000000000000000/(1.6E-19*100000000000000000000) -> 9.1893727
A81: No internal shunt elements | C81: 17433300000 | D81: 0.655781 | E81: 0.721096 | G81: =+E81/100*(EXP(-D81/0.025)) -> 2.9235485e-14 | H81: =+G81*5000000000000000/(1.6E-19*100000000000000000000) -> 9.136089
A82: REGION 1 | C82: 23950300000 | D82: 0.65595 | E82: 0.72025 | G82: =+E82/100*(EXP(-D82/0.025)) -> 2.9004451e-14 | H82: =+G82*5000000000000000/(1.6E-19*100000000000000000000) -> 9.063891
A83: Thickness: 180 µm | C83: 32903400000 | D83: 0.656181 | E83: 0.719093 | G83: =+E83/100*(EXP(-D83/0.025)) -> 2.869152e-14 | H83: =+G83*5000000000000000/(1.6E-19*100000000000000000000) -> 8.9661002
... A101: Excitation mode: Steady State | C101: 10000000000000 | D101: 0.688546 | E101: 0.557271 | G101: =+E101/100*(EXP(-D101/0.025)) -> 6.0925249e-15 | H101: =+G101*5000000000000000/(1.6E-19*100000000000000000000) -> 1.903914
A102: Temperature: 25ºC
A103: Base circuit: 0.8 V | C103: Batch run from:c:\users\corp1959\google drive\oxford dphil\solar cell simulations\pc1d59\pc1d5\sebastian\jo1_vscharge\pvl_externalbatch_neg.txt
A104: Collector circuit: Zero | C104: FrCharge | D104: Vb | E104: Ib | G104: Jo1 | H104: Seff
A105: Light sources disabled | C105: -1000000000 | D105: 0.6553 | E105: 0.723501 | G105: =+E105/100*(EXP(-D105/0.025)) -> 2.9902822e-14 | H105: =+G105*5000000000000000/(1.6E-19*100000000000000000000) -> 9.3446319
C106: -1373820000 | D106: 0.65529 | E106: 0.72355 | G106: =+E106/100*(EXP(-D106/0.025)) -> 2.9916812e-14 | H106: =+G106*5000000000000000/(1.6E-19*100000000000000000000) -> 9.3490036
C107: -1887390000 | D107: 0.655277 | E107: 0.723617 | G107: =+E107/100*(EXP(-D107/0.025)) -> 2.9935144e-14 | H107: =+G107*5000000000000000/(1.6E-19*100000000000000000000) -> 9.3547325
C108: -2592940000 | D108: 0.655258 | E108: 0.723709 | G108: =+E108/100*(EXP(-D108/0.025)) -> 2.9961712e-14 | H108: =+G108*5000000000000000/(1.6E-19*100000000000000000000) -> 9.3630351
C109: -3562250000 | D109: 0.655233 | E109: 0.723836 | G109: =+E109/100*(EXP(-D109/0.025)) -> 2.9996952e-14 | H109: =+G109*5000000000000000/(1.6E-19*100000000000000000000) -> 9.3740475
C110: -4893900000 | D110: 0.655198 | E110: 0.724011 | G110: =+E110/100*(EXP(-D110/0.025)) -> 3.004624e-14 | H110: =+G110*5000000000000000/(1.6E-19*100000000000000000000) -> 9.3894499
C111: -6723360000 | D111: 0.65515 | E111: 0.724251 | G111: =+E111/100*(EXP(-D111/0.025)) -> 3.0113963e-14 | H111: =+G111*5000000000000000/(1.6E-19*100000000000000000000) -> 9.4106134
C112: -9236710000 | D112: 0.655084 | E112: 0.724581 | G112: =+E112/100*(EXP(-D112/0.025)) -> 3.0207326e-14 | H112: =+G112*5000000000000000/(1.6E-19*100000000000000000000) -> 9.4397895
C113: -12689600000 | D113: 0.654993 | E113: 0.725035 | G113: =+E113/100*(EXP(-D113/0.025)) -> 3.0336477e-14 | H113: =+G113*5000000000000000/(1.6E-19*100000000000000000000) -> 9.4801492
C114: -17433300000 | D114: 0.654868 | E114: 0.725661 | G114: =+E114/100*(EXP(-D114/0.025)) -> 3.0514864e-14 | H114: =+G114*5000000000000000/(1.6E-19*100000000000000000000) -> 9.5358949
C115: -23950300000 | D115: 0.654696 | E115: 0.726521 | G115: =+E115/100*(EXP(-D115/0.025)) -> 3.0761943e-14 | H115: =+G115*5000000000000000/(1.6E-19*100000000000000000000) -> 9.6131073
C116: -32903400000 | D116: 0.654458 | E116: 0.727708 | G116: =+E116/100*(EXP(-D116/0.025)) -> 3.1106935e-14 | H116: =+G116*5000000000000000/(1.6E-19*100000000000000000000) -> 9.7209173
C117: -45203500000 | D117: 0.654131 | E117: 0.729345 | G117: =+E117/100*(EXP(-D117/0.025)) -> 3.1587384e-14 | H117: =+G117*5000000000000000/(1.6E-19*100000000000000000000) -> 9.8710575
... C134: -10000000000000 | D134: 0.799995 | E134: 2.2864e-05 | G134: =+E134/100*(EXP(-D134/0.025)) -> 2.896114e-21 | H134: =+G134*5000000000000000/(1.6E-19*100000000000000000000) -> 9.0503562e-07

Sheet Sheet3
